{"text_format":"1","workbook":"xlsx","n_sheets":16,"sheets":["Chrono+Classement","Noms des inscrits","Param","Sauve","45 Scratch","45 Espoirs","45 Hommes","45 Juniors","45 Masters1-2","45 Master3-4","45 Master5","28 Scratch","28 Juniors","28 Dames","28 Masters3-4","28 Masters5"],"not_rendered":{"charts":0,"images":3,"macros":1,"external_links":0,"defined_names":2,"comments":0,"pivot_tables":0},"unopened":[],"bounds":{"document_bytes":16777216,"sheet_cells":100000,"rows_first":2000,"rows_last":500,"rows_between":2000,"halvings":0,"cell_chars":16384,"cell_head_chars":4096},"cells_cut":0,"cells_raw":0,"read":"whole","date_system":"1900"}

{"sheet":"Chrono+Classement","index":0,"n_rows":1004,"n_cols":20,"rows_kept":1004,"cut":false,"hidden":true,"merged":[[0,2,0,14],[3,2,4,2],[3,4,4,4],[3,14,4,14],[3,19,5,25],[3,10,4,12],[6,19,12,25],[1,19,1,21],[0,19,0,21],[0,22,0,25],[1,22,1,25]]}
[59423.890625,null,"La NOBLE'RACE         le 25 Mai 2015",null,null,null,null,null,null,null,null,null,null,null,null,null,null,null,null,"Départ différé"]
[null,null,null,null,null,null,null,null,null,null,null,null,null,null,0.16383101851851856]
[]
[null,null,"Plaque",null,"NOM",null,"Plaque",null,null,null,"Classement",null,null,null,"Temps",null,null,null,null,"Temps écoulé"]
[null,null,null,null,null,null,"arrivée"]
[null,null,1,null,{"$f":"'Noms des inscrits'!B2","v":"VASSAL-Thibaut"},null,403,null,null,null,1,null,{"$f":"IF(G6>0,LOOKUP(G6,C$6:E$22234),\"\")","v":"BIBET-Laurent"},null,"01:26:55"]
[null,null,2,null,{"$f":"'Noms des inscrits'!B3","v":"PERUSIN-Benjamin"},null,407,null,null,null,{"$f":"K6+1","v":2},null,"PASQUET-Daniel",null,"01:28:32",null,null,null,null,{"$f":"O2","v":"03:55:55"}]
[null,null,3,null,{"$f":"'Noms des inscrits'!B4","v":"TAILLEFER-Loïc"},null,402,null,null,null,{"$f":"K7+1","v":3},null,"CONFOLENS-Eric",null,"01:31:55"]
[null,null,4,null,{"$f":"'Noms des inscrits'!B5","v":"LAPEYRE-Martin"},null,413,null,null,null,4,null,"DELAHAYE-Fabrice",null,"01:31:57"]
[null,null,5,null,{"$f":"'Noms des inscrits'!B6","v":"PENDERIES-Frédéric"},null,411,null,null,null,5,null,"LIABAT-Stéphane",null,"01:41:04"]
[null,null,6,null,{"$f":"'Noms des inscrits'!B7","v":"DELFINO-Benjamin"},null,408,null,null,null,6,null,"COSTES-Joel",null,"01:43:05"]
[null,null,7,null,{"$f":"'Noms des inscrits'!B8","v":"PETIT-François"},null,410,null,null,null,7,null,"CUBURY-Thierry",null,"01:49:06"]
[null,null,8,null,{"$f":"'Noms des inscrits'!B9","v":"REMY-Julien"},null,409,null,null,null,8,null,"TEYSSIER-Eric",null,"01:50:53"]
[null,null,9,null,{"$f":"'Noms des inscrits'!B10","v":"RAMOUSSE-Arnaud"},null,406,null,null,null,9,null,"FAGEDET-Pascal",null,"01:53:18"]
[null,null,10,null,{"$f":"'Noms des inscrits'!B11","v":"XIMENES-Thibaut"},null,400,null,null,null,10,null,"SANCHEZ-Mathias",null,"02:07:38"]
[null,null,11,null,{"$f":"'Noms des inscrits'!B12","v":"FOURNALES-Olivier"},null,1,null,null,null,11,null,"VASSAL-Thibaut",null,"02:11:41"]
[null,null,12,null,{"$f":"'Noms des inscrits'!B13","v":"PERRIE-Mathieu"},null,401,null,null,null,12,null,"CHAUVET-Clara",null,"02:11:47"]
[null,null,13,null,{"$f":"'Noms des inscrits'!B14","v":"BLOT-Jean-Baptiste"},null,47,null,null,null,13,null,"BORN-Vivian",null,"02:13:47"]
[null,null,14,null,{"$f":"'Noms des inscrits'!B15","v":"NADEAU-Frédéric"},null,20,null,null,null,14,null,"FALOPPA-Christophe",null,"02:16:59"]
[null,null,15,null,{"$f":"'Noms des inscrits'!B16","v":"METRO-Alex"},null,26,null,null,null,15,null,"COUSTILLERES-Christophe",null,"02:19:11"]
[null,null,16,null,{"$f":"'Noms des inscrits'!B17","v":"VILA-Sébastien"},null,15,null,null,null,16,null,"METRO-Alex",null,"02:20:41"]
[null,null,17,null,{"$f":"'Noms des inscrits'!B18","v":"PECHBERRY-Laurent"},null,21,null,null,null,17,null,"RIVALS-Eric",null,"02:23:08"]
[null,null,18,null,{"$f":"'Noms des inscrits'!B19","v":"DUPIN-Damien"},null,2,null,null,null,{"$f":"K22+1","v":18},null,"PERUSIN-Benjamin",null,"02:23:43"]
[null,null,19,null,{"$f":"'Noms des inscrits'!B20","v":"MONCASSIN-Jonathan"},null,44,null,null,null,{"$f":"K23+1","v":19},null,"MATHIEU-Sebastien",null,"02:25:57"]
[null,null,20,null,{"$f":"'Noms des inscrits'!B21","v":"FALOPPA-Christophe"},null,11,null,null,null,20,null,"FOURNALES-Olivier",null,"02:26:23"]
[null,null,21,null,{"$f":"'Noms des inscrits'!B22","v":"RIVALS-Eric"},null,42,null,null,null,21,null,"JOULIE-Nicolas",null,"02:27:52"]
[null,null,22,null,{"$f":"'Noms des inscrits'!B23","v":"ROUANET-Xavier"},null,17,null,null,null,22,null,"PECHBERRY-Laurent",null,"02:28:21"]
[null,null,23,null,{"$f":"'Noms des inscrits'!B24","v":"SERRES-Benoit"},null,23,null,null,null,23,null,"SERRES-Benoit",null,"02:28:31"]
[null,null,24,null,{"$f":"'Noms des inscrits'!B25","v":"TACHON-Bruno"},null,34,null,null,null,24,null,"GAYRAL-Michael",null,"02:29:56"]
[null,null,25,null,{"$f":"'Noms des inscrits'!B26","v":"AUMAGY-Nicolas"},null,39,null,null,null,25,null,"BARCELO-Thierry",null,"02:32:30"]
[null,null,26,null,{"$f":"'Noms des inscrits'!B27","v":"COUSTILLERES-Christophe"},null,28,null,null,null,26,null,"FENASSE-Damien",null,"02:33:02"]
[null,null,27,null,{"$f":"'Noms des inscrits'!B28","v":"FENASSE-Frederic"},null,22,null,null,null,27,null,"ROUANET-Xavier",null,"02:34:17"]
[null,null,28,null,{"$f":"'Noms des inscrits'!B29","v":"FENASSE-Damien"},null,32,null,null,null,{"$f":"K32+1","v":28},null,"DIAS SOEIRO-Eric",null,"02:34:32"]
[null,null,29,null,{"$f":"'Noms des inscrits'!B30","v":"LARRIPA-Bruno"},null,38,null,null,null,29,null,"PAGES-Yves",null,"02:34:47"]
[null,null,30,null,{"$f":"'Noms des inscrits'!B31","v":"GINESTE-Antony"},null,40,null,null,null,30,null,"GAYRAUD-Cédric",null,"02:35:53"]
[null,null,31,null,{"$f":"'Noms des inscrits'!B32","v":"ROCHE-Damien"},null,14,null,null,null,31,null,"NADEAU-Frédéric",null,"02:36:14"]
[null,null,32,null,{"$f":"'Noms des inscrits'!B33","v":"DIAS SOEIRO-Eric"},null,18,null,null,null,32,null,"DUPIN-Damien",null,"02:36:58"]
[null,null,33,null,{"$f":"'Noms des inscrits'!B34","v":"VIGROOX-Gaetan"},null,8,null,null,null,33,null,{"$f":"IF(G38>0,LOOKUP(G38,C$6:E$22234),\"\")","v":"REMY-Julien"},null,"02:37:01"]
[null,null,34,null,{"$f":"'Noms des inscrits'!B35","v":"GAYRAL-Michael"},null,6,null,null,null,34,null,"DELFINO-Benjamin",null,"02:39:56"]
[null,null,35,null,{"$f":"'Noms des inscrits'!B36","v":"BARBANSON-Xavier"},null,13,null,null,null,35,null,"BLOT-Jean-Baptiste",null,"02:44:45"]
[null,null,36,null,{"$f":"'Noms des inscrits'!B37","v":"RALECHE-Jean-Michel"},null,43,null,null,null,36,null,"SIGOT-François",null,"02:44:53"]
[null,null,37,null,{"$f":"'Noms des inscrits'!B38","v":"CARTRON-Jacques"},null,9,null,null,null,37,null,"RAMOUSSE-Arnaud",null,"02:51:06"]
[null,null,38,null,{"$f":"'Noms des inscrits'!B39","v":"PAGES-Yves"},null,27,null,null,null,38,null,"FENASSE-Frederic",null,"02:51:16"]
[null,null,39,null,{"$f":"'Noms des inscrits'!B40","v":"BARCELO-Thierry"},null,16,null,null,null,39,null,"VILA-Sébastien",null,"02:52:28"]
[null,null,40,null,{"$f":"'Noms des inscrits'!B41","v":"GAYRAUD-Cédric"},null,412,null,null,null,40,null,"TURON-David",null,"03:03:34"]
[null,null,41,null,{"$f":"'Noms des inscrits'!B42","v":"NICE-Stephane"},null,12,null,null,null,41,null,"PERRIE-Mathieu",null,"03:05:32"]
[null,null,42,null,{"$f":"'Noms des inscrits'!B43","v":"JOULIE-Nicolas"},null,30,null,null,null,42,null,"GINESTE-Antony",null,"03:12:48"]
[null,null,43,null,{"$f":"'Noms des inscrits'!B44","v":"SIGOT-François"},null,404,null,null,null,43,null,"SIRVEN-Patrick",null,"03:14:19"]
[null,null,44,null,{"$f":"'Noms des inscrits'!B45","v":"MATHIEU-Sebastien"},null,3,null,null,null,44,null,"TAILLEFER-Loïc",null,"03:14:25"]
[null,null,45,null,{"$f":"'Noms des inscrits'!B46","v":"SIRGUE-Jérome"},null,10,null,null,null,45,null,"XIMENES-Thibaut",null,"03:14:50"]
[null,null,46,null,{"$f":"'Noms des inscrits'!B47","v":"JOUVE-Dominique"},null,37,null,null,null,46,null,"CARTRON-Jacques",null,"03:15:54"]
[null,null,47,null,{"$f":"'Noms des inscrits'!B48","v":"BORN-Vivian"},null,45,null,null,null,47,null,"SIRGUE-Jérome",null,"03:19:02"]
[null,null,48,null,{"$f":"'Noms des inscrits'!B49","v":"-"},null,33,null,null,null,48,null,"VIGROOX-Gaetan",null,"03:19:11"]
[null,null,49,null,{"$f":"'Noms des inscrits'!B50","v":"-"},null,29,null,null,null,49,null,"LARRIPA-Bruno",null,"03:22:24"]
[null,null,50,null,{"$f":"'Noms des inscrits'!B51","v":"-"},null,7,null,null,null,50,null,"PETIT-François",null,"03:23:07"]
[null,null,51,null,{"$f":"'Noms des inscrits'!B52","v":"-"},null,4,null,null,null,51,null,"LAPEYRE-Martin",null,"03:23:41"]
[null,null,52,null,{"$f":"'Noms des inscrits'!B53","v":"-"},null,5,null,null,null,{"$f":"K56+1","v":52},null,"PENDERIES-Frédéric",null,"03:27:23"]
[null,null,53,null,{"$f":"'Noms des inscrits'!B54","v":"-"},null,36,null,null,null,53,null,"RALECHE-Jean-Michel",null,"03:31:07"]
[null,null,54,null,{"$f":"'Noms des inscrits'!B55","v":"-"},null,19,null,null,null,54,null,"MONCASSIN-Jonathan",null,"03:33:39"]
[null,null,55,null,{"$f":"'Noms des inscrits'!B56","v":"-"},null,46,null,null,null,55,null,"JOUVE-Dominique",null,"03:35:57"]
[null,null,56,null,{"$f":"'Noms des inscrits'!B57","v":"-"},null,41,null,null,null,56,null,"NICE-Stephane",null,"03:45:41"]
[null,null,57,null,{"$f":"'Noms des inscrits'!B58","v":"-"},null,24,null,null,null,57,null,"TACHON-Bruno",null,"03:53:11"]
[null,null,58,null,{"$f":"'Noms des inscrits'!B59","v":"-"},null,null,null,null,null,58,null,""]
[null,null,59,null,{"$f":"'Noms des inscrits'!B60","v":"-"},null,null,null,null,null,59,null,""]
[null,null,60,null,{"$f":"'Noms des inscrits'!B61","v":"-"},null,null,null,null,null,60,null,""]
[null,null,61,null,{"$f":"'Noms des inscrits'!B62","v":"-"},null,null,null,null,null,61,null,""]
[null,null,62,null,{"$f":"'Noms des inscrits'!B63","v":"-"},null,null,null,null,null,62,null,""]
[null,null,63,null,{"$f":"'Noms des inscrits'!B64","v":"-"},null,null,null,null,null,63,null,""]
[null,null,64,null,{"$f":"'Noms des inscrits'!B65","v":"-"},null,null,null,null,null,64,null,""]
[null,null,65,null,{"$f":"'Noms des inscrits'!B66","v":"-"},null,null,null,null,null,65,null,{"$f":"IF(G70>0,LOOKUP(G70,C$6:E$22234),\"\")","v":""}]
[null,null,66,null,{"$f":"'Noms des inscrits'!B67","v":"-"},null,null,null,null,null,66,null,""]
[null,null,67,null,{"$f":"'Noms des inscrits'!B68","v":"-"},null,null,null,null,null,67,null,""]
[null,null,68,null,{"$f":"'Noms des inscrits'!B69","v":"-"},null,null,null,null,null,68,null,""]
[null,null,69,null,{"$f":"'Noms des inscrits'!B70","v":"-"},null,null,null,null,null,69,null,""]
[null,null,70,null,{"$f":"'Noms des inscrits'!B71","v":"-"},null,null,null,null,null,70,null,""]
[null,null,71,null,{"$f":"'Noms des inscrits'!B72","v":"-"},null,null,null,null,null,71,null,""]
[null,null,72,null,{"$f":"'Noms des inscrits'!B73","v":"-"},null,null,null,null,null,72,null,""]
[null,null,73,null,{"$f":"'Noms des inscrits'!B74","v":"-"},null,null,null,null,null,73,null,""]
[null,null,74,null,{"$f":"'Noms des inscrits'!B75","v":"-"},null,null,null,null,null,74,null,""]
[null,null,75,null,{"$f":"'Noms des inscrits'!B76","v":"-"},null,null,null,null,null,75,null,""]
[null,null,76,null,{"$f":"'Noms des inscrits'!B77","v":"-"},null,null,null,null,null,76,null,""]
[null,null,77,null,{"$f":"'Noms des inscrits'!B78","v":"-"},null,null,null,null,null,77,null,""]
[null,null,78,null,{"$f":"'Noms des inscrits'!B79","v":"-"},null,null,null,null,null,78,null,""]
[null,null,79,null,{"$f":"'Noms des inscrits'!B80","v":"-"},null,null,null,null,null,79,null,""]
[null,null,80,null,{"$f":"'Noms des inscrits'!B81","v":"-"},null,null,null,null,null,80,null,""]
[null,null,81,null,{"$f":"'Noms des inscrits'!B82","v":"-"},null,null,null,null,null,81,null,""]
[null,null,82,null,{"$f":"'Noms des inscrits'!B83","v":"-"},null,null,null,null,null,82,null,""]
[null,null,83,null,{"$f":"'Noms des inscrits'!B84","v":"-"},null,null,null,null,null,83,null,""]
[null,null,84,null,{"$f":"'Noms des inscrits'!B85","v":"-"},null,null,null,null,null,84,null,""]
[null,null,85,null,{"$f":"'Noms des inscrits'!B86","v":"-"},null,null,null,null,null,85,null,""]
[null,null,86,null,{"$f":"'Noms des inscrits'!B87","v":"-"},null,null,null,null,null,86,null,""]
[null,null,87,null,{"$f":"'Noms des inscrits'!B88","v":"-"},null,null,null,null,null,87,null,""]
[null,null,88,null,{"$f":"'Noms des inscrits'!B89","v":"-"},null,null,null,null,null,88,null,""]
[null,null,89,null,{"$f":"'Noms des inscrits'!B90","v":"-"},null,null,null,null,null,89,null,""]
[null,null,90,null,{"$f":"'Noms des inscrits'!B91","v":"-"},null,null,null,null,null,90,null,""]
[null,null,91,null,{"$f":"'Noms des inscrits'!B92","v":"-"},null,null,null,null,null,91,null,""]
[null,null,92,null,{"$f":"'Noms des inscrits'!B93","v":"-"},null,null,null,null,null,92,null,""]
[null,null,93,null,{"$f":"'Noms des inscrits'!B94","v":"-"},null,null,null,null,null,93,null,""]
[null,null,94,null,{"$f":"'Noms des inscrits'!B95","v":"-"},null,null,null,null,null,94,null,""]
[null,null,95,null,{"$f":"'Noms des inscrits'!B96","v":"-"},null,null,null,null,null,95,null,""]
[null,null,96,null,{"$f":"'Noms des inscrits'!B97","v":"-"},null,null,null,null,null,96,null,""]
[null,null,97,null,{"$f":"'Noms des inscrits'!B98","v":"-"},null,null,null,null,null,97,null,""]
[null,null,98,null,{"$f":"'Noms des inscrits'!B99","v":"-"},null,null,null,null,null,98,null,""]
[null,null,99,null,{"$f":"'Noms des inscrits'!B100","v":"-"},null,null,null,null,null,99,null,""]
[null,null,100,null,{"$f":"'Noms des inscrits'!B101","v":"-"},null,null,null,null,null,100,null,""]
[null,null,101,null,{"$f":"'Noms des inscrits'!B102","v":"-"},null,null,null,null,null,101,null,{"$f":"IF(G106>0,LOOKUP(G106,C$6:E$22234),\"\")","v":""}]
[null,null,102,null,{"$f":"'Noms des inscrits'!B103","v":"-"},null,null,null,null,null,102,null,""]
[null,null,103,null,{"$f":"'Noms des inscrits'!B104","v":"-"},null,null,null,null,null,103,null,""]
[null,null,104,null,{"$f":"'Noms des inscrits'!B105","v":"-"},null,null,null,null,null,104,null,""]
[null,null,105,null,{"$f":"'Noms des inscrits'!B106","v":"-"},null,null,null,null,null,105,null,""]
[null,null,106,null,{"$f":"'Noms des inscrits'!B107","v":"-"},null,null,null,null,null,106,null,""]
[null,null,107,null,{"$f":"'Noms des inscrits'!B108","v":"-"},null,null,null,null,null,107,null,""]
[null,null,108,null,{"$f":"'Noms des inscrits'!B109","v":"-"},null,null,null,null,null,108,null,""]
[null,null,109,null,{"$f":"'Noms des inscrits'!B110","v":"-"},null,null,null,null,null,109,null,""]
[null,null,110,null,{"$f":"'Noms des inscrits'!B111","v":"-"},null,null,null,null,null,110,null,""]
[null,null,111,null,{"$f":"'Noms des inscrits'!B112","v":"-"},null,null,null,null,null,111,null,""]
[null,null,112,null,{"$f":"'Noms des inscrits'!B113","v":"-"},null,null,null,null,null,112,null,""]
[null,null,113,null,{"$f":"'Noms des inscrits'!B114","v":"-"},null,null,null,null,null,113,null,""]
[null,null,114,null,{"$f":"'Noms des inscrits'!B115","v":"-"},null,null,null,null,null,114,null,""]
[null,null,115,null,{"$f":"'Noms des inscrits'!B116","v":"-"},null,null,null,null,null,115,null,""]
[null,null,116,null,{"$f":"'Noms des inscrits'!B117","v":"-"},null,null,null,null,null,{"$f":"K120+1","v":116},null,""]
[null,null,117,null,{"$f":"'Noms des inscrits'!B118","v":"-"},null,null,null,null,null,117,null,""]
[null,null,118,null,{"$f":"'Noms des inscrits'!B119","v":"-"},null,null,null,null,null,118,null,""]
[null,null,119,null,{"$f":"'Noms des inscrits'!B120","v":"-"},null,null,null,null,null,119,null,""]
[null,null,120,null,{"$f":"'Noms des inscrits'!B121","v":"-"},null,null,null,null,null,120,null,""]
[null,null,121,null,{"$f":"'Noms des inscrits'!B122","v":"-"},null,null,null,null,null,121,null,""]
[null,null,122,null,{"$f":"'Noms des inscrits'!B123","v":"-"},null,null,null,null,null,122,null,""]
[null,null,123,null,{"$f":"'Noms des inscrits'!B124","v":"-"},null,null,null,null,null,123,null,""]
[null,null,124,null,{"$f":"'Noms des inscrits'!B125","v":"-"},null,null,null,null,null,124,null,""]
[null,null,125,null,{"$f":"'Noms des inscrits'!B126","v":"-"},null,null,null,null,null,125,null,""]
[null,null,126,null,{"$f":"'Noms des inscrits'!B127","v":"-"},null,null,null,null,null,126,null,""]
[null,null,127,null,{"$f":"'Noms des inscrits'!B128","v":"-"},null,null,null,null,null,127,null,""]
[null,null,128,null,{"$f":"'Noms des inscrits'!B129","v":"-"},null,null,null,null,null,128,null,""]
[null,null,129,null,{"$f":"'Noms des inscrits'!B130","v":"-"},null,null,null,null,null,129,null,""]
[null,null,130,null,{"$f":"'Noms des inscrits'!B131","v":"-"},null,null,null,null,null,130,null,""]
[null,null,131,null,{"$f":"'Noms des inscrits'!B132","v":"-"},null,null,null,null,null,131,null,""]
[null,null,132,null,{"$f":"'Noms des inscrits'!B133","v":"-"},null,null,null,null,null,132,null,""]
[null,null,133,null,{"$f":"'Noms des inscrits'!B134","v":"-"},null,null,null,null,null,133,null,""]
[null,null,134,null,{"$f":"'Noms des inscrits'!B135","v":"-"},null,null,null,null,null,134,null,""]
[null,null,135,null,{"$f":"'Noms des inscrits'!B136","v":"-"},null,null,null,null,null,135,null,""]
[null,null,136,null,{"$f":"'Noms des inscrits'!B137","v":"-"},null,null,null,null,null,136,null,""]
[null,null,137,null,{"$f":"'Noms des inscrits'!B138","v":"-"},null,null,null,null,null,137,null,""]
[null,null,138,null,{"$f":"'Noms des inscrits'!B139","v":"-"},null,null,null,null,null,138,null,""]
[null,null,139,null,{"$f":"'Noms des inscrits'!B140","v":"-"},null,null,null,null,null,139,null,""]
[null,null,140,null,{"$f":"'Noms des inscrits'!B141","v":"-"},null,null,null,null,null,140,null,""]
[null,null,141,null,{"$f":"'Noms des inscrits'!B142","v":"-"},null,null,null,null,null,141,null,""]
[null,null,142,null,{"$f":"'Noms des inscrits'!B143","v":"-"},null,null,null,null,null,142,null,""]
[null,null,143,null,{"$f":"'Noms des inscrits'!B144","v":"-"},null,null,null,null,null,143,null,""]
[null,null,144,null,{"$f":"'Noms des inscrits'!B145","v":"-"},null,null,null,null,null,144,null,""]
[null,null,145,null,{"$f":"'Noms des inscrits'!B146","v":"-"},null,null,null,null,null,145,null,""]
[null,null,146,null,{"$f":"'Noms des inscrits'!B147","v":"-"},null,null,null,null,null,146,null,""]
[null,null,147,null,{"$f":"'Noms des inscrits'!B148","v":"-"},null,null,null,null,null,147,null,""]
[null,null,148,null,{"$f":"'Noms des inscrits'!B149","v":"-"},null,null,null,null,null,148,null,""]
[null,null,149,null,{"$f":"'Noms des inscrits'!B150","v":"-"},null,null,null,null,null,149,null,""]
[null,null,150,null,{"$f":"'Noms des inscrits'!B151","v":"-"},null,null,null,null,null,150,null,""]
[null,null,151,null,{"$f":"'Noms des inscrits'!B152","v":"-"},null,null,null,null,null,151,null,""]
[null,null,152,null,{"$f":"'Noms des inscrits'!B153","v":"-"},null,null,null,null,null,152,null,""]
[null,null,153,null,{"$f":"'Noms des inscrits'!B154","v":"-"},null,null,null,null,null,153,null,""]
[null,null,154,null,{"$f":"'Noms des inscrits'!B155","v":"-"},null,null,null,null,null,154,null,""]
[null,null,155,null,{"$f":"'Noms des inscrits'!B156","v":"-"},null,null,null,null,null,155,null,""]
[null,null,156,null,{"$f":"'Noms des inscrits'!B157","v":"-"},null,null,null,null,null,156,null,""]
[null,null,157,null,{"$f":"'Noms des inscrits'!B158","v":"-"},null,null,null,null,null,157,null,""]
[null,null,158,null,{"$f":"'Noms des inscrits'!B159","v":"-"},null,null,null,null,null,158,null,""]
[null,null,159,null,{"$f":"'Noms des inscrits'!B160","v":"-"},null,null,null,null,null,159,null,""]
[null,null,160,null,{"$f":"'Noms des inscrits'!B161","v":"-"},null,null,null,null,null,160,null,""]
[null,null,161,null,{"$f":"'Noms des inscrits'!B162","v":"-"},null,null,null,null,null,161,null,""]
[null,null,162,null,{"$f":"'Noms des inscrits'!B163","v":"-"},null,null,null,null,null,162,null,""]
[null,null,163,null,{"$f":"'Noms des inscrits'!B164","v":"-"},null,null,null,null,null,163,null,""]
[null,null,164,null,{"$f":"'Noms des inscrits'!B165","v":"-"},null,null,null,null,null,164,null,""]
[null,null,165,null,{"$f":"'Noms des inscrits'!B166","v":"-"},null,null,null,null,null,165,null,{"$f":"IF(G170>0,LOOKUP(G170,C$6:E$22234),\"\")","v":""}]
[null,null,166,null,{"$f":"'Noms des inscrits'!B167","v":"-"},null,null,null,null,null,166,null,""]
[null,null,167,null,{"$f":"'Noms des inscrits'!B168","v":"-"},null,null,null,null,null,167,null,""]
[null,null,168,null,{"$f":"'Noms des inscrits'!B169","v":"-"},null,null,null,null,null,168,null,""]
[null,null,169,null,{"$f":"'Noms des inscrits'!B170","v":"-"},null,null,null,null,null,169,null,""]
[null,null,170,null,{"$f":"'Noms des inscrits'!B171","v":"-"},null,null,null,null,null,170,null,""]
[null,null,171,null,{"$f":"'Noms des inscrits'!B172","v":"-"},null,null,null,null,null,171,null,""]
[null,null,172,null,{"$f":"'Noms des inscrits'!B173","v":"-"},null,null,null,null,null,172,null,""]
[null,null,173,null,{"$f":"'Noms des inscrits'!B174","v":"-"},null,null,null,null,null,173,null,""]
[null,null,174,null,{"$f":"'Noms des inscrits'!B175","v":"-"},null,null,null,null,null,174,null,""]
[null,null,175,null,{"$f":"'Noms des inscrits'!B176","v":"-"},null,null,null,null,null,175,null,""]
[null,null,176,null,{"$f":"'Noms des inscrits'!B177","v":"-"},null,null,null,null,null,176,null,""]
[null,null,177,null,{"$f":"'Noms des inscrits'!B178","v":"-"},null,null,null,null,null,177,null,""]
[null,null,178,null,{"$f":"'Noms des inscrits'!B179","v":"-"},null,null,null,null,null,178,null,""]
[null,null,179,null,{"$f":"'Noms des inscrits'!B180","v":"-"},null,null,null,null,null,179,null,""]
[null,null,180,null,{"$f":"'Noms des inscrits'!B181","v":"-"},null,null,null,null,null,{"$f":"K184+1","v":180},null,""]
[null,null,181,null,{"$f":"'Noms des inscrits'!B182","v":"-"},null,null,null,null,null,181,null,""]
[null,null,182,null,{"$f":"'Noms des inscrits'!B183","v":"-"},null,null,null,null,null,182,null,""]
[null,null,183,null,{"$f":"'Noms des inscrits'!B184","v":"-"},null,null,null,null,null,183,null,""]
[null,null,184,null,{"$f":"'Noms des inscrits'!B185","v":"-"},null,null,null,null,null,184,null,""]
[null,null,185,null,{"$f":"'Noms des inscrits'!B186","v":"-"},null,null,null,null,null,185,null,""]
[null,null,186,null,{"$f":"'Noms des inscrits'!B187","v":"-"},null,null,null,null,null,186,null,""]
[null,null,187,null,{"$f":"'Noms des inscrits'!B188","v":"-"},null,null,null,null,null,187,null,""]
[null,null,188,null,{"$f":"'Noms des inscrits'!B189","v":"-"},null,null,null,null,null,188,null,""]
[null,null,189,null,{"$f":"'Noms des inscrits'!B190","v":"-"},null,null,null,null,null,189,null,""]
[null,null,190,null,{"$f":"'Noms des inscrits'!B191","v":"-"},null,null,null,null,null,190,null,""]
[null,null,191,null,{"$f":"'Noms des inscrits'!B192","v":"-"},null,null,null,null,null,191,null,""]
[null,null,192,null,{"$f":"'Noms des inscrits'!B193","v":"-"},null,null,null,null,null,192,null,""]
[null,null,193,null,{"$f":"'Noms des inscrits'!B194","v":"-"},null,null,null,null,null,193,null,""]
[null,null,194,null,{"$f":"'Noms des inscrits'!B195","v":"-"},null,null,null,null,null,194,null,""]
[null,null,195,null,{"$f":"'Noms des inscrits'!B196","v":"-"},null,null,null,null,null,195,null,""]
[null,null,196,null,{"$f":"'Noms des inscrits'!B197","v":"-"},null,null,null,null,null,196,null,""]
[null,null,197,null,{"$f":"'Noms des inscrits'!B198","v":"-"},null,null,null,null,null,197,null,""]
[null,null,198,null,{"$f":"'Noms des inscrits'!B199","v":"-"},null,null,null,null,null,198,null,""]
[null,null,199,null,{"$f":"'Noms des inscrits'!B200","v":"-"},null,null,null,null,null,199,null,""]
[null,null,200,null,{"$f":"'Noms des inscrits'!B201","v":"-"},null,null,null,null,null,200,null,""]
[null,null,201,null,{"$f":"'Noms des inscrits'!B202","v":"-"},null,null,null,null,null,201,null,""]
[null,null,202,null,{"$f":"'Noms des inscrits'!B203","v":"-"},null,null,null,null,null,202,null,""]
[null,null,203,null,{"$f":"'Noms des inscrits'!B204","v":"-"},null,null,null,null,null,203,null,""]
[null,null,204,null,{"$f":"'Noms des inscrits'!B205","v":"-"},null,null,null,null,null,204,null,""]
[null,null,205,null,{"$f":"'Noms des inscrits'!B206","v":"-"},null,null,null,null,null,205,null,""]
[null,null,206,null,{"$f":"'Noms des inscrits'!B207","v":"-"},null,null,null,null,null,206,null,""]
[null,null,207,null,{"$f":"'Noms des inscrits'!B208","v":"-"},null,null,null,null,null,207,null,""]
[null,null,208,null,{"$f":"'Noms des inscrits'!B209","v":"-"},null,null,null,null,null,208,null,""]
[null,null,209,null,{"$f":"'Noms des inscrits'!B210","v":"-"},null,null,null,null,null,209,null,""]
[null,null,210,null,{"$f":"'Noms des inscrits'!B211","v":"-"},null,null,null,null,null,210,null,""]
[null,null,211,null,{"$f":"'Noms des inscrits'!B212","v":"-"},null,null,null,null,null,211,null,""]
[null,null,212,null,{"$f":"'Noms des inscrits'!B213","v":"-"},null,null,null,null,null,212,null,""]
[null,null,213,null,{"$f":"'Noms des inscrits'!B214","v":"-"},null,null,null,null,null,213,null,""]
[null,null,214,null,{"$f":"'Noms des inscrits'!B215","v":"-"},null,null,null,null,null,214,null,""]
[null,null,215,null,{"$f":"'Noms des inscrits'!B216","v":"-"},null,null,null,null,null,215,null,""]
[null,null,216,null,{"$f":"'Noms des inscrits'!B217","v":"-"},null,null,null,null,null,216,null,""]
[null,null,217,null,{"$f":"'Noms des inscrits'!B218","v":"-"},null,null,null,null,null,217,null,""]
[null,null,218,null,{"$f":"'Noms des inscrits'!B219","v":"-"},null,null,null,null,null,218,null,""]
[null,null,219,null,{"$f":"'Noms des inscrits'!B220","v":"-"},null,null,null,null,null,219,null,""]
[null,null,220,null,{"$f":"'Noms des inscrits'!B221","v":"-"},null,null,null,null,null,220,null,""]
[null,null,221,null,{"$f":"'Noms des inscrits'!B222","v":"-"},null,null,null,null,null,221,null,""]
[null,null,222,null,{"$f":"'Noms des inscrits'!B223","v":"-"},null,null,null,null,null,222,null,""]
[null,null,223,null,{"$f":"'Noms des inscrits'!B224","v":"-"},null,null,null,null,null,223,null,""]
[null,null,224,null,{"$f":"'Noms des inscrits'!B225","v":"-"},null,null,null,null,null,224,null,""]
[null,null,225,null,{"$f":"'Noms des inscrits'!B226","v":"-"},null,null,null,null,null,225,null,""]
[null,null,226,null,{"$f":"'Noms des inscrits'!B227","v":"-"},null,null,null,null,null,226,null,""]
[null,null,227,null,{"$f":"'Noms des inscrits'!B228","v":"-"},null,null,null,null,null,227,null,""]
[null,null,228,null,{"$f":"'Noms des inscrits'!B229","v":"-"},null,null,null,null,null,228,null,""]
[null,null,229,null,{"$f":"'Noms des inscrits'!B230","v":"-"},null,null,null,null,null,229,null,{"$f":"IF(G234>0,LOOKUP(G234,C$6:E$22234),\"\")","v":""}]
[null,null,230,null,{"$f":"'Noms des inscrits'!B231","v":"-"},null,null,null,null,null,230,null,""]
[null,null,231,null,{"$f":"'Noms des inscrits'!B232","v":"-"},null,null,null,null,null,231,null,""]
[null,null,232,null,{"$f":"'Noms des inscrits'!B233","v":"-"},null,null,null,null,null,232,null,""]
[null,null,233,null,{"$f":"'Noms des inscrits'!B234","v":"-"},null,null,null,null,null,233,null,""]
[null,null,234,null,{"$f":"'Noms des inscrits'!B235","v":"-"},null,null,null,null,null,234,null,""]
[null,null,235,null,{"$f":"'Noms des inscrits'!B236","v":"-"},null,null,null,null,null,235,null,""]
[null,null,236,null,{"$f":"'Noms des inscrits'!B237","v":"-"},null,null,null,null,null,236,null,""]
[null,null,237,null,{"$f":"'Noms des inscrits'!B238","v":"-"},null,null,null,null,null,237,null,""]
[null,null,238,null,{"$f":"'Noms des inscrits'!B239","v":"-"},null,null,null,null,null,238,null,""]
[null,null,239,null,{"$f":"'Noms des inscrits'!B240","v":"-"},null,null,null,null,null,239,null,""]
[null,null,240,null,{"$f":"'Noms des inscrits'!B241","v":"-"},null,null,null,null,null,240,null,""]
[null,null,241,null,{"$f":"'Noms des inscrits'!B242","v":"-"},null,null,null,null,null,241,null,""]
[null,null,242,null,{"$f":"'Noms des inscrits'!B243","v":"-"},null,null,null,null,null,242,null,""]
[null,null,243,null,{"$f":"'Noms des inscrits'!B244","v":"-"},null,null,null,null,null,243,null,""]
[null,null,244,null,{"$f":"'Noms des inscrits'!B245","v":"-"},null,null,null,null,null,{"$f":"K248+1","v":244},null,""]
[null,null,245,null,{"$f":"'Noms des inscrits'!B246","v":"-"},null,null,null,null,null,245,null,""]
[null,null,246,null,{"$f":"'Noms des inscrits'!B247","v":"-"},null,null,null,null,null,246,null,""]
[null,null,247,null,{"$f":"'Noms des inscrits'!B248","v":"-"},null,null,null,null,null,247,null,""]
[null,null,248,null,{"$f":"'Noms des inscrits'!B249","v":"-"},null,null,null,null,null,248,null,""]
[null,null,249,null,{"$f":"'Noms des inscrits'!B250","v":"-"},null,null,null,null,null,249,null,""]
[null,null,250,null,{"$f":"'Noms des inscrits'!B251","v":"-"},null,null,null,null,null,250,null,""]
[null,null,251,null,{"$f":"'Noms des inscrits'!B252","v":"-"},null,null,null,null,null,251,null,""]
[null,null,252,null,{"$f":"'Noms des inscrits'!B253","v":"-"},null,null,null,null,null,252,null,""]
[null,null,253,null,{"$f":"'Noms des inscrits'!B254","v":"-"},null,null,null,null,null,253,null,""]
[null,null,254,null,{"$f":"'Noms des inscrits'!B255","v":"-"},null,null,null,null,null,254,null,""]
[null,null,255,null,{"$f":"'Noms des inscrits'!B256","v":"-"},null,null,null,null,null,255,null,""]
[null,null,256,null,{"$f":"'Noms des inscrits'!B257","v":"-"},null,null,null,null,null,256,null,""]
[null,null,257,null,{"$f":"'Noms des inscrits'!B258","v":"-"},null,null,null,null,null,257,null,""]
[null,null,258,null,{"$f":"'Noms des inscrits'!B259","v":"-"},null,null,null,null,null,258,null,""]
[null,null,259,null,{"$f":"'Noms des inscrits'!B260","v":"-"},null,null,null,null,null,259,null,""]
[null,null,260,null,{"$f":"'Noms des inscrits'!B261","v":"-"},null,null,null,null,null,260,null,""]
[null,null,261,null,{"$f":"'Noms des inscrits'!B262","v":"-"},null,null,null,null,null,261,null,""]
[null,null,262,null,{"$f":"'Noms des inscrits'!B263","v":"-"},null,null,null,null,null,262,null,""]
[null,null,263,null,{"$f":"'Noms des inscrits'!B264","v":"-"},null,null,null,null,null,263,null,""]
[null,null,264,null,{"$f":"'Noms des inscrits'!B265","v":"-"},null,null,null,null,null,264,null,""]
[null,null,265,null,{"$f":"'Noms des inscrits'!B266","v":"-"},null,null,null,null,null,265,null,""]
[null,null,266,null,{"$f":"'Noms des inscrits'!B267","v":"-"},null,null,null,null,null,266,null,""]
[null,null,267,null,{"$f":"'Noms des inscrits'!B268","v":"-"},null,null,null,null,null,267,null,""]
[null,null,268,null,{"$f":"'Noms des inscrits'!B269","v":"-"},null,null,null,null,null,268,null,""]
[null,null,269,null,{"$f":"'Noms des inscrits'!B270","v":"-"},null,null,null,null,null,269,null,""]
[null,null,270,null,{"$f":"'Noms des inscrits'!B271","v":"-"},null,null,null,null,null,270,null,""]
[null,null,271,null,{"$f":"'Noms des inscrits'!B272","v":"-"},null,null,null,null,null,271,null,""]
[null,null,272,null,{"$f":"'Noms des inscrits'!B273","v":"-"},null,null,null,null,null,272,null,""]
[null,null,273,null,{"$f":"'Noms des inscrits'!B274","v":"-"},null,null,null,null,null,273,null,""]
[null,null,274,null,{"$f":"'Noms des inscrits'!B275","v":"-"},null,null,null,null,null,274,null,""]
[null,null,275,null,{"$f":"'Noms des inscrits'!B276","v":"-"},null,null,null,null,null,275,null,""]
[null,null,276,null,{"$f":"'Noms des inscrits'!B277","v":"-"},null,null,null,null,null,276,null,""]
[null,null,277,null,{"$f":"'Noms des inscrits'!B278","v":"-"},null,null,null,null,null,277,null,""]
[null,null,278,null,{"$f":"'Noms des inscrits'!B279","v":"-"},null,null,null,null,null,278,null,""]
[null,null,279,null,{"$f":"'Noms des inscrits'!B280","v":"-"},null,null,null,null,null,279,null,""]
[null,null,280,null,{"$f":"'Noms des inscrits'!B281","v":"-"},null,null,null,null,null,280,null,""]
[null,null,281,null,{"$f":"'Noms des inscrits'!B282","v":"-"},null,null,null,null,null,281,null,""]
[null,null,282,null,{"$f":"'Noms des inscrits'!B283","v":"-"},null,null,null,null,null,282,null,""]
[null,null,283,null,{"$f":"'Noms des inscrits'!B284","v":"-"},null,null,null,null,null,283,null,""]
[null,null,284,null,{"$f":"'Noms des inscrits'!B285","v":"-"},null,null,null,null,null,284,null,""]
[null,null,285,null,{"$f":"'Noms des inscrits'!B286","v":"-"},null,null,null,null,null,285,null,""]
[null,null,286,null,{"$f":"'Noms des inscrits'!B287","v":"-"},null,null,null,null,null,286,null,""]
[null,null,287,null,{"$f":"'Noms des inscrits'!B288","v":"-"},null,null,null,null,null,287,null,""]
[null,null,288,null,{"$f":"'Noms des inscrits'!B289","v":"-"},null,null,null,null,null,288,null,""]
[null,null,289,null,{"$f":"'Noms des inscrits'!B290","v":"-"},null,null,null,null,null,289,null,""]
[null,null,290,null,{"$f":"'Noms des inscrits'!B291","v":"-"},null,null,null,null,null,290,null,""]
[null,null,291,null,{"$f":"'Noms des inscrits'!B292","v":"-"},null,null,null,null,null,291,null,""]
[null,null,292,null,{"$f":"'Noms des inscrits'!B293","v":"-"},null,null,null,null,null,292,null,""]
[null,null,293,null,{"$f":"'Noms des inscrits'!B294","v":"-"},null,null,null,null,null,293,null,{"$f":"IF(G298>0,LOOKUP(G298,C$6:E$22234),\"\")","v":""}]
[null,null,294,null,{"$f":"'Noms des inscrits'!B295","v":"-"},null,null,null,null,null,294,null,{"$f":"IF(G299>0,LOOKUP(G299,C$6:E$22234),\"\")","v":""}]
[null,null,295,null,{"$f":"'Noms des inscrits'!B296","v":"-"},null,null,null,null,null,295,null,""]
[null,null,296,null,{"$f":"'Noms des inscrits'!B297","v":"-"},null,null,null,null,null,296,null,""]
[null,null,297,null,{"$f":"'Noms des inscrits'!B298","v":"-"},null,null,null,null,null,297,null,""]
[null,null,298,null,{"$f":"'Noms des inscrits'!B299","v":"-"},null,null,null,null,null,298,null,""]
[null,null,299,null,{"$f":"'Noms des inscrits'!B300","v":"-"},null,null,null,null,null,299,null,""]
[null,null,300,null,{"$f":"'Noms des inscrits'!B301","v":"-"},null,null,null,null,null,300,null,""]
[null,null,301,null,{"$f":"'Noms des inscrits'!B302","v":"-"},null,null,null,null,null,301,null,""]
[null,null,302,null,{"$f":"'Noms des inscrits'!B303","v":"-"},null,null,null,null,null,302,null,""]
[null,null,303,null,{"$f":"'Noms des inscrits'!B304","v":"-"},null,null,null,null,null,303,null,""]
[null,null,304,null,{"$f":"'Noms des inscrits'!B305","v":"-"},null,null,null,null,null,304,null,{"$f":"IF(G309>0,LOOKUP(G309,C$6:E$22234),\"\")","v":""}]
[null,null,305,null,{"$f":"'Noms des inscrits'!B306","v":"-"},null,null,null,null,null,305,null,""]
[null,null,306,null,{"$f":"'Noms des inscrits'!B307","v":"-"},null,null,null,null,null,306,null,""]
[null,null,307,null,{"$f":"'Noms des inscrits'!B308","v":"-"},null,null,null,null,null,307,null,""]
[null,null,308,null,{"$f":"'Noms des inscrits'!B309","v":"-"},null,null,null,null,null,{"$f":"K312+1","v":308},null,""]
[null,null,309,null,{"$f":"'Noms des inscrits'!B310","v":"-"},null,null,null,null,null,309,null,""]
[null,null,310,null,{"$f":"'Noms des inscrits'!B311","v":"-"},null,null,null,null,null,310,null,""]
[null,null,311,null,{"$f":"'Noms des inscrits'!B312","v":"-"},null,null,null,null,null,311,null,""]
[null,null,312,null,{"$f":"'Noms des inscrits'!B313","v":"-"},null,null,null,null,null,312,null,""]
[null,null,313,null,{"$f":"'Noms des inscrits'!B314","v":"-"},null,null,null,null,null,313,null,""]
[null,null,314,null,{"$f":"'Noms des inscrits'!B315","v":"-"},null,null,null,null,null,314,null,""]
[null,null,315,null,{"$f":"'Noms des inscrits'!B316","v":"-"},null,null,null,null,null,315,null,""]
[null,null,316,null,{"$f":"'Noms des inscrits'!B317","v":"-"},null,null,null,null,null,316,null,""]
[null,null,317,null,{"$f":"'Noms des inscrits'!B318","v":"-"},null,null,null,null,null,317,null,""]
[null,null,318,null,{"$f":"'Noms des inscrits'!B319","v":"-"},null,null,null,null,null,318,null,""]
[null,null,319,null,{"$f":"'Noms des inscrits'!B320","v":"-"},null,null,null,null,null,319,null,""]
[null,null,320,null,{"$f":"'Noms des inscrits'!B321","v":"-"},null,null,null,null,null,320,null,""]
[null,null,321,null,{"$f":"'Noms des inscrits'!B322","v":"-"},null,null,null,null,null,321,null,""]
[null,null,322,null,{"$f":"'Noms des inscrits'!B323","v":"-"},null,null,null,null,null,322,null,""]
[null,null,323,null,{"$f":"'Noms des inscrits'!B324","v":"-"},null,null,null,null,null,323,null,""]
[null,null,324,null,{"$f":"'Noms des inscrits'!B325","v":"-"},null,null,null,null,null,324,null,""]
[null,null,325,null,{"$f":"'Noms des inscrits'!B326","v":"-"},null,null,null,null,null,325,null,""]
[null,null,326,null,{"$f":"'Noms des inscrits'!B327","v":"-"},null,null,null,null,null,326,null,""]
[null,null,327,null,{"$f":"'Noms des inscrits'!B328","v":"-"},null,null,null,null,null,327,null,""]
[null,null,328,null,{"$f":"'Noms des inscrits'!B329","v":"-"},null,null,null,null,null,328,null,""]
[null,null,329,null,{"$f":"'Noms des inscrits'!B330","v":"-"},null,null,null,null,null,329,null,""]
[null,null,330,null,{"$f":"'Noms des inscrits'!B331","v":"-"},null,null,null,null,null,330,null,""]
[null,null,331,null,{"$f":"'Noms des inscrits'!B332","v":"-"},null,null,null,null,null,331,null,""]
[null,null,332,null,{"$f":"'Noms des inscrits'!B333","v":"-"},null,null,null,null,null,332,null,""]
[null,null,333,null,{"$f":"'Noms des inscrits'!B334","v":"-"},null,null,null,null,null,333,null,""]
[null,null,334,null,{"$f":"'Noms des inscrits'!B335","v":"-"},null,null,null,null,null,334,null,""]
[null,null,335,null,{"$f":"'Noms des inscrits'!B336","v":"-"},null,null,null,null,null,335,null,""]
[null,null,336,null,{"$f":"'Noms des inscrits'!B337","v":"-"},null,null,null,null,null,336,null,""]
[null,null,337,null,{"$f":"'Noms des inscrits'!B338","v":"-"},null,null,null,null,null,337,null,""]
[null,null,338,null,{"$f":"'Noms des inscrits'!B339","v":"-"},null,null,null,null,null,338,null,""]
[null,null,339,null,{"$f":"'Noms des inscrits'!B340","v":"-"},null,null,null,null,null,339,null,""]
[null,null,340,null,{"$f":"'Noms des inscrits'!B341","v":"-"},null,null,null,null,null,340,null,""]
[null,null,341,null,{"$f":"'Noms des inscrits'!B342","v":"-"},null,null,null,null,null,341,null,""]
[null,null,342,null,{"$f":"'Noms des inscrits'!B343","v":"-"},null,null,null,null,null,342,null,""]
[null,null,343,null,{"$f":"'Noms des inscrits'!B344","v":"-"},null,null,null,null,null,343,null,""]
[null,null,344,null,{"$f":"'Noms des inscrits'!B345","v":"-"},null,null,null,null,null,344,null,""]
[null,null,345,null,{"$f":"'Noms des inscrits'!B346","v":"-"},null,null,null,null,null,345,null,""]
[null,null,346,null,{"$f":"'Noms des inscrits'!B347","v":"-"},null,null,null,null,null,346,null,""]
[null,null,347,null,{"$f":"'Noms des inscrits'!B348","v":"-"},null,null,null,null,null,347,null,""]
[null,null,348,null,{"$f":"'Noms des inscrits'!B349","v":"-"},null,null,null,null,null,348,null,""]
[null,null,349,null,{"$f":"'Noms des inscrits'!B350","v":"-"},null,null,null,null,null,349,null,""]
[null,null,350,null,{"$f":"'Noms des inscrits'!B351","v":"-"},null,null,null,null,null,350,null,""]
[null,null,351,null,{"$f":"'Noms des inscrits'!B352","v":"-"},null,null,null,null,null,351,null,""]
[null,null,352,null,{"$f":"'Noms des inscrits'!B353","v":"-"},null,null,null,null,null,352,null,""]
[null,null,353,null,{"$f":"'Noms des inscrits'!B354","v":"-"},null,null,null,null,null,353,null,""]
[null,null,354,null,{"$f":"'Noms des inscrits'!B355","v":"-"},null,null,null,null,null,354,null,""]
[null,null,355,null,{"$f":"'Noms des inscrits'!B356","v":"-"},null,null,null,null,null,355,null,""]
[null,null,356,null,{"$f":"'Noms des inscrits'!B357","v":"-"},null,null,null,null,null,356,null,""]
[null,null,357,null,{"$f":"'Noms des inscrits'!B358","v":"-"},null,null,null,null,null,357,null,""]
[null,null,358,null,{"$f":"'Noms des inscrits'!B359","v":"-"},null,null,null,null,null,358,null,""]
[null,null,359,null,{"$f":"'Noms des inscrits'!B360","v":"-"},null,null,null,null,null,359,null,""]
[null,null,360,null,{"$f":"'Noms des inscrits'!B361","v":"-"},null,null,null,null,null,360,null,""]
[null,null,361,null,{"$f":"'Noms des inscrits'!B362","v":"-"},null,null,null,null,null,361,null,""]
[null,null,362,null,{"$f":"'Noms des inscrits'!B363","v":"-"},null,null,null,null,null,362,null,""]
[null,null,363,null,{"$f":"'Noms des inscrits'!B364","v":"-"},null,null,null,null,null,363,null,""]
[null,null,364,null,{"$f":"'Noms des inscrits'!B365","v":"-"},null,null,null,null,null,364,null,""]
[null,null,365,null,{"$f":"'Noms des inscrits'!B366","v":"-"},null,null,null,null,null,365,null,""]
[null,null,366,null,{"$f":"'Noms des inscrits'!B367","v":"-"},null,null,null,null,null,366,null,""]
[null,null,367,null,{"$f":"'Noms des inscrits'!B368","v":"-"},null,null,null,null,null,367,null,""]
[null,null,368,null,{"$f":"'Noms des inscrits'!B369","v":"-"},null,null,null,null,null,368,null,{"$f":"IF(G373>0,LOOKUP(G373,C$6:E$22234),\"\")","v":""}]
[null,null,369,null,{"$f":"'Noms des inscrits'!B370","v":"-"},null,null,null,null,null,369,null,""]
[null,null,370,null,{"$f":"'Noms des inscrits'!B371","v":"-"},null,null,null,null,null,370,null,""]
[null,null,371,null,{"$f":"'Noms des inscrits'!B372","v":"-"},null,null,null,null,null,371,null,""]
[null,null,372,null,{"$f":"'Noms des inscrits'!B373","v":"-"},null,null,null,null,null,{"$f":"K376+1","v":372},null,""]
[null,null,373,null,{"$f":"'Noms des inscrits'!B374","v":"-"},null,null,null,null,null,373,null,""]
[null,null,374,null,{"$f":"'Noms des inscrits'!B375","v":"-"},null,null,null,null,null,374,null,""]
[null,null,375,null,{"$f":"'Noms des inscrits'!B376","v":"-"},null,null,null,null,null,375,null,""]
[null,null,376,null,{"$f":"'Noms des inscrits'!B377","v":"-"},null,null,null,null,null,376,null,""]
[null,null,377,null,{"$f":"'Noms des inscrits'!B378","v":"-"},null,null,null,null,null,377,null,""]
[null,null,378,null,{"$f":"'Noms des inscrits'!B379","v":"-"},null,null,null,null,null,378,null,""]
[null,null,379,null,{"$f":"'Noms des inscrits'!B380","v":"-"},null,null,null,null,null,379,null,""]
[null,null,380,null,{"$f":"'Noms des inscrits'!B381","v":"-"},null,null,null,null,null,380,null,""]
[null,null,381,null,{"$f":"'Noms des inscrits'!B382","v":"-"},null,null,null,null,null,381,null,""]
[null,null,382,null,{"$f":"'Noms des inscrits'!B383","v":"-"},null,null,null,null,null,382,null,""]
[null,null,383,null,{"$f":"'Noms des inscrits'!B384","v":"-"},null,null,null,null,null,383,null,""]
[null,null,384,null,{"$f":"'Noms des inscrits'!B385","v":"-"},null,null,null,null,null,384,null,""]
[null,null,385,null,{"$f":"'Noms des inscrits'!B386","v":"-"},null,null,null,null,null,385,null,""]
[null,null,386,null,{"$f":"'Noms des inscrits'!B387","v":"-"},null,null,null,null,null,386,null,""]
[null,null,387,null,{"$f":"'Noms des inscrits'!B388","v":"-"},null,null,null,null,null,387,null,""]
[null,null,388,null,{"$f":"'Noms des inscrits'!B389","v":"-"},null,null,null,null,null,388,null,""]
[null,null,389,null,{"$f":"'Noms des inscrits'!B390","v":"-"},null,null,null,null,null,389,null,""]
[null,null,390,null,{"$f":"'Noms des inscrits'!B391","v":"-"},null,null,null,null,null,390,null,""]
[null,null,391,null,{"$f":"'Noms des inscrits'!B392","v":"-"},null,null,null,null,null,391,null,""]
[null,null,392,null,{"$f":"'Noms des inscrits'!B393","v":"-"},null,null,null,null,null,392,null,""]
[null,null,393,null,{"$f":"'Noms des inscrits'!B394","v":"-"},null,null,null,null,null,393,null,""]
[null,null,394,null,{"$f":"'Noms des inscrits'!B395","v":"-"},null,null,null,null,null,394,null,""]
[null,null,395,null,{"$f":"'Noms des inscrits'!B396","v":"-"},null,null,null,null,null,395,null,""]
[null,null,396,null,{"$f":"'Noms des inscrits'!B397","v":"-"},null,null,null,null,null,396,null,""]
[null,null,397,null,{"$f":"'Noms des inscrits'!B398","v":"-"},null,null,null,null,null,397,null,""]
[null,null,398,null,{"$f":"'Noms des inscrits'!B399","v":"-"},null,null,null,null,null,398,null,""]
[null,null,399,null,{"$f":"'Noms des inscrits'!B400","v":"-"},null,null,null,null,null,399,null,""]
[null,null,400,null,{"$f":"'Noms des inscrits'!B401","v":"SANCHEZ-Mathias"},null,null,null,null,null,400,null,""]
[null,null,401,null,{"$f":"'Noms des inscrits'!B402","v":"CHAUVET-Clara"},null,null,null,null,null,401,null,""]
[null,null,402,null,{"$f":"'Noms des inscrits'!B403","v":"CONFOLENS-Eric"},null,null,null,null,null,402,null,""]
[null,null,403,null,{"$f":"'Noms des inscrits'!B404","v":"BIBET-Laurent"},null,null,null,null,null,403,null,""]
[null,null,404,null,{"$f":"'Noms des inscrits'!B405","v":"SIRVEN-Patrick"},null,null,null,null,null,404,null,""]
[null,null,405,null,{"$f":"'Noms des inscrits'!B406","v":"xxxxx-"},null,null,null,null,null,405,null,""]
[null,null,406,null,{"$f":"'Noms des inscrits'!B407","v":"FAGEDET-Pascal"},null,null,null,null,null,406,null,""]
[null,null,407,null,{"$f":"'Noms des inscrits'!B408","v":"PASQUET-Daniel"},null,null,null,null,null,407,null,""]
[null,null,408,null,{"$f":"'Noms des inscrits'!B409","v":"COSTES-Joel"},null,null,null,null,null,408,null,""]
[null,null,409,null,{"$f":"'Noms des inscrits'!B410","v":"TEYSSIER-Eric"},null,null,null,null,null,409,null,""]
[null,null,410,null,{"$f":"'Noms des inscrits'!B411","v":"CUBURY-Thierry"},null,null,null,null,null,410,null,""]
[null,null,411,null,{"$f":"'Noms des inscrits'!B412","v":"LIABAT-Stéphane"},null,null,null,null,null,411,null,""]
[null,null,412,null,{"$f":"'Noms des inscrits'!B413","v":"TURON-David"},null,null,null,null,null,412,null,""]
[null,null,413,null,{"$f":"'Noms des inscrits'!B414","v":"DELAHAYE-Fabrice"},null,null,null,null,null,413,null,""]
[null,null,414,null,{"$f":"'Noms des inscrits'!B415","v":"-"},null,null,null,null,null,414,null,""]
[null,null,415,null,{"$f":"'Noms des inscrits'!B416","v":"-"},null,null,null,null,null,415,null,""]
[null,null,416,null,{"$f":"'Noms des inscrits'!B417","v":"-"},null,null,null,null,null,416,null,""]
[null,null,417,null,{"$f":"'Noms des inscrits'!B418","v":"-"},null,null,null,null,null,417,null,""]
[null,null,418,null,{"$f":"'Noms des inscrits'!B419","v":"-"},null,null,null,null,null,418,null,""]
[null,null,419,null,{"$f":"'Noms des inscrits'!B420","v":"-"},null,null,null,null,null,419,null,""]
[null,null,420,null,{"$f":"'Noms des inscrits'!B421","v":"-"},null,null,null,null,null,420,null,""]
[null,null,421,null,{"$f":"'Noms des inscrits'!B422","v":"-"},null,null,null,null,null,421,null,""]
[null,null,422,null,{"$f":"'Noms des inscrits'!B423","v":"-"},null,null,null,null,null,422,null,""]
[null,null,423,null,{"$f":"'Noms des inscrits'!B424","v":"-"},null,null,null,null,null,423,null,""]
[null,null,424,null,{"$f":"'Noms des inscrits'!B425","v":"-"},null,null,null,null,null,424,null,""]
[null,null,425,null,{"$f":"'Noms des inscrits'!B426","v":"-"},null,null,null,null,null,425,null,""]
[null,null,426,null,{"$f":"'Noms des inscrits'!B427","v":"-"},null,null,null,null,null,426,null,""]
[null,null,427,null,{"$f":"'Noms des inscrits'!B428","v":"-"},null,null,null,null,null,427,null,""]
[null,null,428,null,{"$f":"'Noms des inscrits'!B429","v":"-"},null,null,null,null,null,428,null,""]
[null,null,429,null,{"$f":"'Noms des inscrits'!B430","v":"-"},null,null,null,null,null,429,null,""]
[null,null,430,null,{"$f":"'Noms des inscrits'!B431","v":"-"},null,null,null,null,null,430,null,""]
[null,null,431,null,{"$f":"'Noms des inscrits'!B432","v":"-"},null,null,null,null,null,431,null,""]
[null,null,432,null,{"$f":"'Noms des inscrits'!B433","v":"-"},null,null,null,null,null,432,null,{"$f":"IF(G437>0,LOOKUP(G437,C$6:E$22234),\"\")","v":""}]
[null,null,433,null,{"$f":"'Noms des inscrits'!B434","v":"-"},null,null,null,null,null,433,null,""]
[null,null,434,null,{"$f":"'Noms des inscrits'!B435","v":"-"},null,null,null,null,null,434,null,""]
[null,null,435,null,{"$f":"'Noms des inscrits'!B436","v":"-"},null,null,null,null,null,435,null,""]
[null,null,436,null,{"$f":"'Noms des inscrits'!B437","v":"-"},null,null,null,null,null,{"$f":"K440+1","v":436},null,""]
[null,null,437,null,{"$f":"'Noms des inscrits'!B438","v":"-"},null,null,null,null,null,437,null,""]
[null,null,438,null,{"$f":"'Noms des inscrits'!B439","v":"-"},null,null,null,null,null,438,null,""]
[null,null,439,null,{"$f":"'Noms des inscrits'!B440","v":"-"},null,null,null,null,null,439,null,""]
[null,null,440,null,{"$f":"'Noms des inscrits'!B441","v":"-"},null,null,null,null,null,440,null,""]
[null,null,441,null,{"$f":"'Noms des inscrits'!B442","v":"-"},null,null,null,null,null,441,null,""]
[null,null,442,null,{"$f":"'Noms des inscrits'!B443","v":"-"},null,null,null,null,null,442,null,""]
[null,null,443,null,{"$f":"'Noms des inscrits'!B444","v":"-"},null,null,null,null,null,443,null,""]
[null,null,444,null,{"$f":"'Noms des inscrits'!B445","v":"-"},null,null,null,null,null,444,null,""]
[null,null,445,null,{"$f":"'Noms des inscrits'!B446","v":"-"},null,null,null,null,null,445,null,""]
[null,null,446,null,{"$f":"'Noms des inscrits'!B447","v":"-"},null,null,null,null,null,446,null,""]
[null,null,447,null,{"$f":"'Noms des inscrits'!B448","v":"-"},null,null,null,null,null,447,null,""]
[null,null,448,null,{"$f":"'Noms des inscrits'!B449","v":"-"},null,null,null,null,null,448,null,""]
[null,null,449,null,{"$f":"'Noms des inscrits'!B450","v":"-"},null,null,null,null,null,449,null,""]
[null,null,450,null,{"$f":"'Noms des inscrits'!B451","v":"-"},null,null,null,null,null,450,null,""]
[null,null,451,null,{"$f":"'Noms des inscrits'!B452","v":"-"},null,null,null,null,null,451,null,""]
[null,null,452,null,{"$f":"'Noms des inscrits'!B453","v":"-"},null,null,null,null,null,452,null,""]
[null,null,453,null,{"$f":"'Noms des inscrits'!B454","v":"-"},null,null,null,null,null,453,null,""]
[null,null,454,null,{"$f":"'Noms des inscrits'!B455","v":"-"},null,null,null,null,null,454,null,""]
[null,null,455,null,{"$f":"'Noms des inscrits'!B456","v":"-"},null,null,null,null,null,455,null,""]
[null,null,456,null,{"$f":"'Noms des inscrits'!B457","v":"-"},null,null,null,null,null,456,null,""]
[null,null,457,null,{"$f":"'Noms des inscrits'!B458","v":"-"},null,null,null,null,null,457,null,""]
[null,null,458,null,{"$f":"'Noms des inscrits'!B459","v":"-"},null,null,null,null,null,458,null,""]
[null,null,459,null,{"$f":"'Noms des inscrits'!B460","v":"-"},null,null,null,null,null,459,null,""]
[null,null,460,null,{"$f":"'Noms des inscrits'!B461","v":"-"},null,null,null,null,null,460,null,""]
[null,null,461,null,{"$f":"'Noms des inscrits'!B462","v":"-"},null,null,null,null,null,461,null,""]
[null,null,462,null,{"$f":"'Noms des inscrits'!B463","v":"-"},null,null,null,null,null,462,null,""]
[null,null,463,null,{"$f":"'Noms des inscrits'!B464","v":"-"},null,null,null,null,null,463,null,""]
[null,null,464,null,{"$f":"'Noms des inscrits'!B465","v":"-"},null,null,null,null,null,464,null,""]
[null,null,465,null,{"$f":"'Noms des inscrits'!B466","v":"-"},null,null,null,null,null,465,null,""]
[null,null,466,null,{"$f":"'Noms des inscrits'!B467","v":"-"},null,null,null,null,null,466,null,""]
[null,null,467,null,{"$f":"'Noms des inscrits'!B468","v":"-"},null,null,null,null,null,467,null,""]
[null,null,468,null,{"$f":"'Noms des inscrits'!B469","v":"-"},null,null,null,null,null,468,null,""]
[null,null,469,null,{"$f":"'Noms des inscrits'!B470","v":"-"},null,null,null,null,null,469,null,""]
[null,null,470,null,{"$f":"'Noms des inscrits'!B471","v":"-"},null,null,null,null,null,470,null,""]
[null,null,471,null,{"$f":"'Noms des inscrits'!B472","v":"-"},null,null,null,null,null,471,null,""]
[null,null,472,null,{"$f":"'Noms des inscrits'!B473","v":"-"},null,null,null,null,null,472,null,""]
[null,null,473,null,{"$f":"'Noms des inscrits'!B474","v":"-"},null,null,null,null,null,473,null,""]
[null,null,474,null,{"$f":"'Noms des inscrits'!B475","v":"-"},null,null,null,null,null,474,null,""]
[null,null,475,null,{"$f":"'Noms des inscrits'!B476","v":"-"},null,null,null,null,null,475,null,""]
[null,null,476,null,{"$f":"'Noms des inscrits'!B477","v":"-"},null,null,null,null,null,476,null,""]
[null,null,477,null,{"$f":"'Noms des inscrits'!B478","v":"-"},null,null,null,null,null,477,null,""]
[null,null,478,null,{"$f":"'Noms des inscrits'!B479","v":"-"},null,null,null,null,null,478,null,""]
[null,null,479,null,{"$f":"'Noms des inscrits'!B480","v":"-"},null,null,null,null,null,479,null,""]
[null,null,480,null,{"$f":"'Noms des inscrits'!B481","v":"-"},null,null,null,null,null,480,null,""]
[null,null,481,null,{"$f":"'Noms des inscrits'!B482","v":"-"},null,null,null,null,null,481,null,""]
[null,null,482,null,{"$f":"'Noms des inscrits'!B483","v":"-"},null,null,null,null,null,482,null,""]
[null,null,483,null,{"$f":"'Noms des inscrits'!B484","v":"-"},null,null,null,null,null,483,null,""]
[null,null,484,null,{"$f":"'Noms des inscrits'!B485","v":"-"},null,null,null,null,null,484,null,""]
[null,null,485,null,{"$f":"'Noms des inscrits'!B486","v":"-"},null,null,null,null,null,485,null,""]
[null,null,486,null,{"$f":"'Noms des inscrits'!B487","v":"-"},null,null,null,null,null,486,null,""]
[null,null,487,null,{"$f":"'Noms des inscrits'!B488","v":"-"},null,null,null,null,null,487,null,""]
[null,null,488,null,{"$f":"'Noms des inscrits'!B489","v":"-"},null,null,null,null,null,488,null,""]
[null,null,489,null,{"$f":"'Noms des inscrits'!B490","v":"-"},null,null,null,null,null,489,null,""]
[null,null,490,null,{"$f":"'Noms des inscrits'!B491","v":"-"},null,null,null,null,null,490,null,""]
[null,null,491,null,{"$f":"'Noms des inscrits'!B492","v":"-"},null,null,null,null,null,491,null,""]
[null,null,492,null,{"$f":"'Noms des inscrits'!B493","v":"-"},null,null,null,null,null,492,null,""]
[null,null,493,null,{"$f":"'Noms des inscrits'!B494","v":"-"},null,null,null,null,null,493,null,""]
[null,null,494,null,{"$f":"'Noms des inscrits'!B495","v":"-"},null,null,null,null,null,494,null,""]
[null,null,495,null,{"$f":"'Noms des inscrits'!B496","v":"-"},null,null,null,null,null,495,null,""]
[null,null,496,null,{"$f":"'Noms des inscrits'!B497","v":"-"},null,null,null,null,null,496,null,{"$f":"IF(G501>0,LOOKUP(G501,C$6:E$22234),\"\")","v":""}]
[null,null,497,null,{"$f":"'Noms des inscrits'!B498","v":"-"},null,null,null,null,null,497,null,""]
[null,null,498,null,{"$f":"'Noms des inscrits'!B499","v":"-"},null,null,null,null,null,498,null,""]
[null,null,499,null,{"$f":"'Noms des inscrits'!B500","v":"-"},null,null,null,null,null,499,null,""]
[null,null,500,null,{"$f":"'Noms des inscrits'!B501","v":"-"},null,null,null,null,null,{"$f":"K504+1","v":500},null,""]
[null,null,501,null,{"$f":"'Noms des inscrits'!B502","v":"-"},null,null,null,null,null,501,null,""]
[null,null,502,null,{"$f":"'Noms des inscrits'!B503","v":"-"},null,null,null,null,null,502,null,""]
[null,null,503,null,{"$f":"'Noms des inscrits'!B504","v":"-"},null,null,null,null,null,503,null,""]
[null,null,504,null,{"$f":"'Noms des inscrits'!B505","v":"-"},null,null,null,null,null,504,null,""]
[null,null,505,null,{"$f":"'Noms des inscrits'!B506","v":"-"},null,null,null,null,null,505,null,""]
[null,null,506,null,{"$f":"'Noms des inscrits'!B507","v":"-"},null,null,null,null,null,506,null,""]
[null,null,507,null,{"$f":"'Noms des inscrits'!B508","v":"-"},null,null,null,null,null,507,null,""]
[null,null,508,null,{"$f":"'Noms des inscrits'!B509","v":"-"},null,null,null,null,null,508,null,""]
[null,null,509,null,{"$f":"'Noms des inscrits'!B510","v":"-"},null,null,null,null,null,509,null,""]
[null,null,510,null,{"$f":"'Noms des inscrits'!B511","v":"-"},null,null,null,null,null,510,null,""]
[null,null,511,null,{"$f":"'Noms des inscrits'!B512","v":"-"},null,null,null,null,null,511,null,""]
[null,null,512,null,{"$f":"'Noms des inscrits'!B513","v":"-"},null,null,null,null,null,512,null,""]
[null,null,513,null,{"$f":"'Noms des inscrits'!B514","v":"-"},null,null,null,null,null,513,null,""]
[null,null,514,null,{"$f":"'Noms des inscrits'!B515","v":"-"},null,null,null,null,null,514,null,""]
[null,null,515,null,{"$f":"'Noms des inscrits'!B516","v":"-"},null,null,null,null,null,515,null,""]
[null,null,516,null,{"$f":"'Noms des inscrits'!B517","v":"-"},null,null,null,null,null,516,null,""]
[null,null,517,null,{"$f":"'Noms des inscrits'!B518","v":"-"},null,null,null,null,null,517,null,""]
[null,null,518,null,{"$f":"'Noms des inscrits'!B519","v":"-"},null,null,null,null,null,518,null,""]
[null,null,519,null,{"$f":"'Noms des inscrits'!B520","v":"-"},null,null,null,null,null,519,null,""]
[null,null,520,null,{"$f":"'Noms des inscrits'!B521","v":"-"},null,null,null,null,null,520,null,""]
[null,null,521,null,{"$f":"'Noms des inscrits'!B522","v":"-"},null,null,null,null,null,521,null,""]
[null,null,522,null,{"$f":"'Noms des inscrits'!B523","v":"-"},null,null,null,null,null,522,null,""]
[null,null,523,null,{"$f":"'Noms des inscrits'!B524","v":"-"},null,null,null,null,null,523,null,""]
[null,null,524,null,{"$f":"'Noms des inscrits'!B525","v":"-"},null,null,null,null,null,524,null,""]
[null,null,525,null,{"$f":"'Noms des inscrits'!B526","v":"-"},null,null,null,null,null,525,null,""]
[null,null,526,null,{"$f":"'Noms des inscrits'!B527","v":"-"},null,null,null,null,null,526,null,""]
[null,null,527,null,{"$f":"'Noms des inscrits'!B528","v":"-"},null,null,null,null,null,527,null,""]
[null,null,528,null,{"$f":"'Noms des inscrits'!B529","v":"-"},null,null,null,null,null,528,null,""]
[null,null,529,null,{"$f":"'Noms des inscrits'!B530","v":"-"},null,null,null,null,null,529,null,""]
[null,null,530,null,{"$f":"'Noms des inscrits'!B531","v":"-"},null,null,null,null,null,530,null,""]
[null,null,531,null,{"$f":"'Noms des inscrits'!B532","v":"-"},null,null,null,null,null,531,null,""]
[null,null,532,null,{"$f":"'Noms des inscrits'!B533","v":"-"},null,null,null,null,null,532,null,""]
[null,null,533,null,{"$f":"'Noms des inscrits'!B534","v":"-"},null,null,null,null,null,533,null,""]
[null,null,534,null,{"$f":"'Noms des inscrits'!B535","v":"-"},null,null,null,null,null,534,null,""]
[null,null,535,null,{"$f":"'Noms des inscrits'!B536","v":"-"},null,null,null,null,null,535,null,""]
[null,null,536,null,{"$f":"'Noms des inscrits'!B537","v":"-"},null,null,null,null,null,536,null,""]
[null,null,537,null,{"$f":"'Noms des inscrits'!B538","v":"-"},null,null,null,null,null,537,null,""]
[null,null,538,null,{"$f":"'Noms des inscrits'!B539","v":"-"},null,null,null,null,null,538,null,""]
[null,null,539,null,{"$f":"'Noms des inscrits'!B540","v":"-"},null,null,null,null,null,539,null,""]
[null,null,540,null,{"$f":"'Noms des inscrits'!B541","v":"-"},null,null,null,null,null,540,null,""]
[null,null,541,null,{"$f":"'Noms des inscrits'!B542","v":"-"},null,null,null,null,null,541,null,""]
[null,null,542,null,{"$f":"'Noms des inscrits'!B543","v":"-"},null,null,null,null,null,542,null,""]
[null,null,543,null,{"$f":"'Noms des inscrits'!B544","v":"-"},null,null,null,null,null,543,null,""]
[null,null,544,null,{"$f":"'Noms des inscrits'!B545","v":"-"},null,null,null,null,null,544,null,""]
[null,null,545,null,{"$f":"'Noms des inscrits'!B546","v":"-"},null,null,null,null,null,545,null,""]
[null,null,546,null,{"$f":"'Noms des inscrits'!B547","v":"-"},null,null,null,null,null,546,null,""]
[null,null,547,null,{"$f":"'Noms des inscrits'!B548","v":"-"},null,null,null,null,null,547,null,""]
[null,null,548,null,{"$f":"'Noms des inscrits'!B549","v":"-"},null,null,null,null,null,548,null,""]
[null,null,549,null,{"$f":"'Noms des inscrits'!B550","v":"-"},null,null,null,null,null,549,null,""]
[null,null,550,null,{"$f":"'Noms des inscrits'!B551","v":"-"},null,null,null,null,null,550,null,""]
[null,null,551,null,{"$f":"'Noms des inscrits'!B552","v":"-"},null,null,null,null,null,551,null,""]
[null,null,552,null,{"$f":"'Noms des inscrits'!B553","v":"-"},null,null,null,null,null,552,null,""]
[null,null,553,null,{"$f":"'Noms des inscrits'!B554","v":"-"},null,null,null,null,null,553,null,""]
[null,null,554,null,{"$f":"'Noms des inscrits'!B555","v":"-"},null,null,null,null,null,554,null,""]
[null,null,555,null,{"$f":"'Noms des inscrits'!B556","v":"-"},null,null,null,null,null,555,null,""]
[null,null,556,null,{"$f":"'Noms des inscrits'!B557","v":"-"},null,null,null,null,null,556,null,""]
[null,null,557,null,{"$f":"'Noms des inscrits'!B558","v":"-"},null,null,null,null,null,557,null,""]
[null,null,558,null,{"$f":"'Noms des inscrits'!B559","v":"-"},null,null,null,null,null,558,null,""]
[null,null,559,null,{"$f":"'Noms des inscrits'!B560","v":"-"},null,null,null,null,null,559,null,""]
[null,null,560,null,{"$f":"'Noms des inscrits'!B561","v":"-"},null,null,null,null,null,560,null,{"$f":"IF(G565>0,LOOKUP(G565,C$6:E$22234),\"\")","v":""}]
[null,null,561,null,{"$f":"'Noms des inscrits'!B562","v":"-"},null,null,null,null,null,561,null,""]
[null,null,562,null,{"$f":"'Noms des inscrits'!B563","v":"-"},null,null,null,null,null,562,null,""]
[null,null,563,null,{"$f":"'Noms des inscrits'!B564","v":"-"},null,null,null,null,null,563,null,""]
[null,null,564,null,{"$f":"'Noms des inscrits'!B565","v":"-"},null,null,null,null,null,{"$f":"K568+1","v":564},null,""]
[null,null,565,null,{"$f":"'Noms des inscrits'!B566","v":"-"},null,null,null,null,null,565,null,""]
[null,null,566,null,{"$f":"'Noms des inscrits'!B567","v":"-"},null,null,null,null,null,566,null,""]
[null,null,567,null,{"$f":"'Noms des inscrits'!B568","v":"-"},null,null,null,null,null,567,null,""]
[null,null,568,null,{"$f":"'Noms des inscrits'!B569","v":"-"},null,null,null,null,null,568,null,""]
[null,null,569,null,{"$f":"'Noms des inscrits'!B570","v":"-"},null,null,null,null,null,569,null,""]
[null,null,570,null,{"$f":"'Noms des inscrits'!B571","v":"-"},null,null,null,null,null,570,null,""]
[null,null,571,null,{"$f":"'Noms des inscrits'!B572","v":"-"},null,null,null,null,null,571,null,""]
[null,null,572,null,{"$f":"'Noms des inscrits'!B573","v":"-"},null,null,null,null,null,572,null,""]
[null,null,573,null,{"$f":"'Noms des inscrits'!B574","v":"-"},null,null,null,null,null,573,null,""]
[null,null,574,null,{"$f":"'Noms des inscrits'!B575","v":"-"},null,null,null,null,null,574,null,""]
[null,null,575,null,{"$f":"'Noms des inscrits'!B576","v":"-"},null,null,null,null,null,575,null,""]
[null,null,576,null,{"$f":"'Noms des inscrits'!B577","v":"-"},null,null,null,null,null,576,null,""]
[null,null,577,null,{"$f":"'Noms des inscrits'!B578","v":"-"},null,null,null,null,null,577,null,""]
[null,null,578,null,{"$f":"'Noms des inscrits'!B579","v":"-"},null,null,null,null,null,578,null,""]
[null,null,579,null,{"$f":"'Noms des inscrits'!B580","v":"-"},null,null,null,null,null,579,null,""]
[null,null,580,null,{"$f":"'Noms des inscrits'!B581","v":"-"},null,null,null,null,null,580,null,""]
[null,null,581,null,{"$f":"'Noms des inscrits'!B582","v":"-"},null,null,null,null,null,581,null,""]
[null,null,582,null,{"$f":"'Noms des inscrits'!B583","v":"-"},null,null,null,null,null,582,null,""]
[null,null,583,null,{"$f":"'Noms des inscrits'!B584","v":"-"},null,null,null,null,null,583,null,""]
[null,null,584,null,{"$f":"'Noms des inscrits'!B585","v":"-"},null,null,null,null,null,584,null,""]
[null,null,585,null,{"$f":"'Noms des inscrits'!B586","v":"-"},null,null,null,null,null,585,null,""]
[null,null,586,null,{"$f":"'Noms des inscrits'!B587","v":"-"},null,null,null,null,null,586,null,""]
[null,null,587,null,{"$f":"'Noms des inscrits'!B588","v":"-"},null,null,null,null,null,587,null,""]
[null,null,588,null,{"$f":"'Noms des inscrits'!B589","v":"-"},null,null,null,null,null,588,null,""]
[null,null,589,null,{"$f":"'Noms des inscrits'!B590","v":"-"},null,null,null,null,null,589,null,""]
[null,null,590,null,{"$f":"'Noms des inscrits'!B591","v":"-"},null,null,null,null,null,590,null,""]
[null,null,591,null,{"$f":"'Noms des inscrits'!B592","v":"-"},null,null,null,null,null,591,null,""]
[null,null,592,null,{"$f":"'Noms des inscrits'!B593","v":"-"},null,null,null,null,null,592,null,""]
[null,null,593,null,{"$f":"'Noms des inscrits'!B594","v":"-"},null,null,null,null,null,593,null,""]
[null,null,594,null,{"$f":"'Noms des inscrits'!B595","v":"-"},null,null,null,null,null,594,null,""]
[null,null,595,null,{"$f":"'Noms des inscrits'!B596","v":"-"},null,null,null,null,null,595,null,""]
[null,null,596,null,{"$f":"'Noms des inscrits'!B597","v":"-"},null,null,null,null,null,596,null,""]
[null,null,597,null,{"$f":"'Noms des inscrits'!B598","v":"-"},null,null,null,null,null,597,null,""]
[null,null,598,null,{"$f":"'Noms des inscrits'!B599","v":"-"},null,null,null,null,null,598,null,""]
[null,null,599,null,{"$f":"'Noms des inscrits'!B600","v":"-"},null,null,null,null,null,599,null,""]
[null,null,600,null,{"$f":"'Noms des inscrits'!B601","v":"-"},null,null,null,null,null,600,null,""]
[null,null,601,null,{"$f":"'Noms des inscrits'!B602","v":"-"},null,null,null,null,null,601,null,""]
[null,null,602,null,{"$f":"'Noms des inscrits'!B603","v":"-"},null,null,null,null,null,602,null,""]
[null,null,603,null,{"$f":"'Noms des inscrits'!B604","v":"-"},null,null,null,null,null,603,null,""]
[null,null,604,null,{"$f":"'Noms des inscrits'!B605","v":"-"},null,null,null,null,null,604,null,""]
[null,null,605,null,{"$f":"'Noms des inscrits'!B606","v":"-"},null,null,null,null,null,605,null,""]
[null,null,606,null,{"$f":"'Noms des inscrits'!B607","v":"-"},null,null,null,null,null,606,null,""]
[null,null,607,null,{"$f":"'Noms des inscrits'!B608","v":"-"},null,null,null,null,null,607,null,""]
[null,null,608,null,{"$f":"'Noms des inscrits'!B609","v":"-"},null,null,null,null,null,608,null,""]
[null,null,609,null,{"$f":"'Noms des inscrits'!B610","v":"-"},null,null,null,null,null,609,null,""]
[null,null,610,null,{"$f":"'Noms des inscrits'!B611","v":"-"},null,null,null,null,null,610,null,""]
[null,null,611,null,{"$f":"'Noms des inscrits'!B612","v":"-"},null,null,null,null,null,611,null,""]
[null,null,612,null,{"$f":"'Noms des inscrits'!B613","v":"-"},null,null,null,null,null,612,null,""]
[null,null,613,null,{"$f":"'Noms des inscrits'!B614","v":"-"},null,null,null,null,null,613,null,""]
[null,null,614,null,{"$f":"'Noms des inscrits'!B615","v":"-"},null,null,null,null,null,614,null,""]
[null,null,615,null,{"$f":"'Noms des inscrits'!B616","v":"-"},null,null,null,null,null,615,null,""]
[null,null,616,null,{"$f":"'Noms des inscrits'!B617","v":"-"},null,null,null,null,null,616,null,""]
[null,null,617,null,{"$f":"'Noms des inscrits'!B618","v":"-"},null,null,null,null,null,617,null,""]
[null,null,618,null,{"$f":"'Noms des inscrits'!B619","v":"-"},null,null,null,null,null,618,null,""]
[null,null,619,null,{"$f":"'Noms des inscrits'!B620","v":"-"},null,null,null,null,null,619,null,""]
[null,null,620,null,{"$f":"'Noms des inscrits'!B621","v":"-"},null,null,null,null,null,620,null,""]
[null,null,621,null,{"$f":"'Noms des inscrits'!B622","v":"-"},null,null,null,null,null,621,null,""]
[null,null,622,null,{"$f":"'Noms des inscrits'!B623","v":"-"},null,null,null,null,null,622,null,""]
[null,null,623,null,{"$f":"'Noms des inscrits'!B624","v":"-"},null,null,null,null,null,623,null,""]
[null,null,624,null,{"$f":"'Noms des inscrits'!B625","v":"-"},null,null,null,null,null,624,null,{"$f":"IF(G629>0,LOOKUP(G629,C$6:E$22234),\"\")","v":""}]
[null,null,625,null,{"$f":"'Noms des inscrits'!B626","v":"-"},null,null,null,null,null,625,null,""]
[null,null,626,null,{"$f":"'Noms des inscrits'!B627","v":"-"},null,null,null,null,null,626,null,""]
[null,null,627,null,{"$f":"'Noms des inscrits'!B628","v":"-"},null,null,null,null,null,627,null,""]
[null,null,628,null,{"$f":"'Noms des inscrits'!B629","v":"-"},null,null,null,null,null,{"$f":"K632+1","v":628},null,""]
[null,null,629,null,{"$f":"'Noms des inscrits'!B630","v":"-"},null,null,null,null,null,629,null,""]
[null,null,630,null,{"$f":"'Noms des inscrits'!B631","v":"-"},null,null,null,null,null,630,null,""]
[null,null,631,null,{"$f":"'Noms des inscrits'!B632","v":"-"},null,null,null,null,null,631,null,""]
[null,null,632,null,{"$f":"'Noms des inscrits'!B633","v":"-"},null,null,null,null,null,632,null,""]
[null,null,633,null,{"$f":"'Noms des inscrits'!B634","v":"-"},null,null,null,null,null,633,null,""]
[null,null,634,null,{"$f":"'Noms des inscrits'!B635","v":"-"},null,null,null,null,null,634,null,""]
[null,null,635,null,{"$f":"'Noms des inscrits'!B636","v":"-"},null,null,null,null,null,635,null,""]
[null,null,636,null,{"$f":"'Noms des inscrits'!B637","v":"-"},null,null,null,null,null,636,null,""]
[null,null,637,null,{"$f":"'Noms des inscrits'!B638","v":"-"},null,null,null,null,null,637,null,""]
[null,null,638,null,{"$f":"'Noms des inscrits'!B639","v":"-"},null,null,null,null,null,638,null,""]
[null,null,639,null,{"$f":"'Noms des inscrits'!B640","v":"-"},null,null,null,null,null,639,null,""]
[null,null,640,null,{"$f":"'Noms des inscrits'!B641","v":"-"},null,null,null,null,null,640,null,""]
[null,null,641,null,{"$f":"'Noms des inscrits'!B642","v":"-"},null,null,null,null,null,641,null,""]
[null,null,642,null,{"$f":"'Noms des inscrits'!B643","v":"-"},null,null,null,null,null,642,null,""]
[null,null,643,null,{"$f":"'Noms des inscrits'!B644","v":"-"},null,null,null,null,null,643,null,""]
[null,null,644,null,{"$f":"'Noms des inscrits'!B645","v":"-"},null,null,null,null,null,644,null,""]
[null,null,645,null,{"$f":"'Noms des inscrits'!B646","v":"-"},null,null,null,null,null,645,null,""]
[null,null,646,null,{"$f":"'Noms des inscrits'!B647","v":"-"},null,null,null,null,null,646,null,""]
[null,null,647,null,{"$f":"'Noms des inscrits'!B648","v":"-"},null,null,null,null,null,647,null,""]
[null,null,648,null,{"$f":"'Noms des inscrits'!B649","v":"-"},null,null,null,null,null,648,null,""]
[null,null,649,null,{"$f":"'Noms des inscrits'!B650","v":"-"},null,null,null,null,null,649,null,""]
[null,null,650,null,{"$f":"'Noms des inscrits'!B651","v":"-"},null,null,null,null,null,650,null,""]
[null,null,651,null,{"$f":"'Noms des inscrits'!B652","v":"-"},null,null,null,null,null,651,null,""]
[null,null,652,null,{"$f":"'Noms des inscrits'!B653","v":"-"},null,null,null,null,null,652,null,""]
[null,null,653,null,{"$f":"'Noms des inscrits'!B654","v":"-"},null,null,null,null,null,653,null,""]
[null,null,654,null,{"$f":"'Noms des inscrits'!B655","v":"-"},null,null,null,null,null,654,null,""]
[null,null,655,null,{"$f":"'Noms des inscrits'!B656","v":"-"},null,null,null,null,null,655,null,""]
[null,null,656,null,{"$f":"'Noms des inscrits'!B657","v":"-"},null,null,null,null,null,656,null,""]
[null,null,657,null,{"$f":"'Noms des inscrits'!B658","v":"-"},null,null,null,null,null,657,null,""]
[null,null,658,null,{"$f":"'Noms des inscrits'!B659","v":"-"},null,null,null,null,null,658,null,""]
[null,null,659,null,{"$f":"'Noms des inscrits'!B660","v":"-"},null,null,null,null,null,659,null,""]
[null,null,660,null,{"$f":"'Noms des inscrits'!B661","v":"-"},null,null,null,null,null,660,null,""]
[null,null,661,null,{"$f":"'Noms des inscrits'!B662","v":"-"},null,null,null,null,null,661,null,""]
[null,null,662,null,{"$f":"'Noms des inscrits'!B663","v":"-"},null,null,null,null,null,662,null,""]
[null,null,663,null,{"$f":"'Noms des inscrits'!B664","v":"-"},null,null,null,null,null,663,null,""]
[null,null,664,null,{"$f":"'Noms des inscrits'!B665","v":"-"},null,null,null,null,null,664,null,""]
[null,null,665,null,{"$f":"'Noms des inscrits'!B666","v":"-"},null,null,null,null,null,665,null,""]
[null,null,666,null,{"$f":"'Noms des inscrits'!B667","v":"-"},null,null,null,null,null,666,null,""]
[null,null,667,null,{"$f":"'Noms des inscrits'!B668","v":"-"},null,null,null,null,null,667,null,""]
[null,null,668,null,{"$f":"'Noms des inscrits'!B669","v":"-"},null,null,null,null,null,668,null,""]
[null,null,669,null,{"$f":"'Noms des inscrits'!B670","v":"-"},null,null,null,null,null,669,null,""]
[null,null,670,null,{"$f":"'Noms des inscrits'!B671","v":"-"},null,null,null,null,null,670,null,""]
[null,null,671,null,{"$f":"'Noms des inscrits'!B672","v":"-"},null,null,null,null,null,671,null,""]
[null,null,672,null,{"$f":"'Noms des inscrits'!B673","v":"-"},null,null,null,null,null,672,null,""]
[null,null,673,null,{"$f":"'Noms des inscrits'!B674","v":"-"},null,null,null,null,null,673,null,""]
[null,null,674,null,{"$f":"'Noms des inscrits'!B675","v":"-"},null,null,null,null,null,674,null,""]
[null,null,675,null,{"$f":"'Noms des inscrits'!B676","v":"-"},null,null,null,null,null,675,null,""]
[null,null,676,null,{"$f":"'Noms des inscrits'!B677","v":"-"},null,null,null,null,null,676,null,""]
[null,null,677,null,{"$f":"'Noms des inscrits'!B678","v":"-"},null,null,null,null,null,677,null,""]
[null,null,678,null,{"$f":"'Noms des inscrits'!B679","v":"-"},null,null,null,null,null,678,null,""]
[null,null,679,null,{"$f":"'Noms des inscrits'!B680","v":"-"},null,null,null,null,null,679,null,""]
[null,null,680,null,{"$f":"'Noms des inscrits'!B681","v":"-"},null,null,null,null,null,680,null,""]
[null,null,681,null,{"$f":"'Noms des inscrits'!B682","v":"-"},null,null,null,null,null,681,null,""]
[null,null,682,null,{"$f":"'Noms des inscrits'!B683","v":"-"},null,null,null,null,null,682,null,""]
[null,null,683,null,{"$f":"'Noms des inscrits'!B684","v":"-"},null,null,null,null,null,683,null,""]
[null,null,684,null,{"$f":"'Noms des inscrits'!B685","v":"-"},null,null,null,null,null,684,null,""]
[null,null,685,null,{"$f":"'Noms des inscrits'!B686","v":"-"},null,null,null,null,null,685,null,""]
[null,null,686,null,{"$f":"'Noms des inscrits'!B687","v":"-"},null,null,null,null,null,686,null,""]
[null,null,687,null,{"$f":"'Noms des inscrits'!B688","v":"-"},null,null,null,null,null,687,null,""]
[null,null,688,null,{"$f":"'Noms des inscrits'!B689","v":"-"},null,null,null,null,null,688,null,{"$f":"IF(G693>0,LOOKUP(G693,C$6:E$22234),\"\")","v":""}]
[null,null,689,null,{"$f":"'Noms des inscrits'!B690","v":"-"},null,null,null,null,null,689,null,""]
[null,null,690,null,{"$f":"'Noms des inscrits'!B691","v":"-"},null,null,null,null,null,690,null,""]
[null,null,691,null,{"$f":"'Noms des inscrits'!B692","v":"-"},null,null,null,null,null,691,null,""]
[null,null,692,null,{"$f":"'Noms des inscrits'!B693","v":"-"},null,null,null,null,null,{"$f":"K696+1","v":692},null,""]
[null,null,693,null,{"$f":"'Noms des inscrits'!B694","v":"-"},null,null,null,null,null,693,null,""]
[null,null,694,null,{"$f":"'Noms des inscrits'!B695","v":"-"},null,null,null,null,null,694,null,""]
[null,null,695,null,{"$f":"'Noms des inscrits'!B696","v":"-"},null,null,null,null,null,695,null,""]
[null,null,696,null,{"$f":"'Noms des inscrits'!B697","v":"-"},null,null,null,null,null,696,null,""]
[null,null,697,null,{"$f":"'Noms des inscrits'!B698","v":"-"},null,null,null,null,null,697,null,""]
[null,null,698,null,{"$f":"'Noms des inscrits'!B699","v":"-"},null,null,null,null,null,698,null,""]
[null,null,699,null,{"$f":"'Noms des inscrits'!B700","v":"-"},null,null,null,null,null,699,null,""]
[null,null,700,null,{"$f":"'Noms des inscrits'!B701","v":"-"},null,null,null,null,null,700,null,""]
[null,null,701,null,{"$f":"'Noms des inscrits'!B702","v":"-"},null,null,null,null,null,701,null,""]
[null,null,702,null,{"$f":"'Noms des inscrits'!B703","v":"-"},null,null,null,null,null,702,null,""]
[null,null,703,null,{"$f":"'Noms des inscrits'!B704","v":"-"},null,null,null,null,null,703,null,""]
[null,null,704,null,{"$f":"'Noms des inscrits'!B705","v":"-"},null,null,null,null,null,704,null,""]
[null,null,705,null,{"$f":"'Noms des inscrits'!B706","v":"-"},null,null,null,null,null,705,null,""]
[null,null,706,null,{"$f":"'Noms des inscrits'!B707","v":"-"},null,null,null,null,null,706,null,""]
[null,null,707,null,{"$f":"'Noms des inscrits'!B708","v":"-"},null,null,null,null,null,707,null,""]
[null,null,708,null,{"$f":"'Noms des inscrits'!B709","v":"-"},null,null,null,null,null,708,null,""]
[null,null,709,null,{"$f":"'Noms des inscrits'!B710","v":"-"},null,null,null,null,null,709,null,""]
[null,null,710,null,{"$f":"'Noms des inscrits'!B711","v":"-"},null,null,null,null,null,710,null,""]
[null,null,711,null,{"$f":"'Noms des inscrits'!B712","v":"-"},null,null,null,null,null,711,null,""]
[null,null,712,null,{"$f":"'Noms des inscrits'!B713","v":"-"},null,null,null,null,null,712,null,""]
[null,null,713,null,{"$f":"'Noms des inscrits'!B714","v":"-"},null,null,null,null,null,713,null,""]
[null,null,714,null,{"$f":"'Noms des inscrits'!B715","v":"-"},null,null,null,null,null,714,null,""]
[null,null,715,null,{"$f":"'Noms des inscrits'!B716","v":"-"},null,null,null,null,null,715,null,""]
[null,null,716,null,{"$f":"'Noms des inscrits'!B717","v":"-"},null,null,null,null,null,716,null,""]
[null,null,717,null,{"$f":"'Noms des inscrits'!B718","v":"-"},null,null,null,null,null,717,null,""]
[null,null,718,null,{"$f":"'Noms des inscrits'!B719","v":"-"},null,null,null,null,null,718,null,""]
[null,null,719,null,{"$f":"'Noms des inscrits'!B720","v":"-"},null,null,null,null,null,719,null,""]
[null,null,720,null,{"$f":"'Noms des inscrits'!B721","v":"-"},null,null,null,null,null,720,null,""]
[null,null,721,null,{"$f":"'Noms des inscrits'!B722","v":"-"},null,null,null,null,null,721,null,""]
[null,null,722,null,{"$f":"'Noms des inscrits'!B723","v":"-"},null,null,null,null,null,722,null,""]
[null,null,723,null,{"$f":"'Noms des inscrits'!B724","v":"-"},null,null,null,null,null,723,null,""]
[null,null,724,null,{"$f":"'Noms des inscrits'!B725","v":"-"},null,null,null,null,null,724,null,""]
[null,null,725,null,{"$f":"'Noms des inscrits'!B726","v":"-"},null,null,null,null,null,725,null,""]
[null,null,726,null,{"$f":"'Noms des inscrits'!B727","v":"-"},null,null,null,null,null,726,null,""]
[null,null,727,null,{"$f":"'Noms des inscrits'!B728","v":"-"},null,null,null,null,null,727,null,""]
[null,null,728,null,{"$f":"'Noms des inscrits'!B729","v":"-"},null,null,null,null,null,728,null,""]
[null,null,729,null,{"$f":"'Noms des inscrits'!B730","v":"-"},null,null,null,null,null,729,null,""]
[null,null,730,null,{"$f":"'Noms des inscrits'!B731","v":"-"},null,null,null,null,null,730,null,""]
[null,null,731,null,{"$f":"'Noms des inscrits'!B732","v":"-"},null,null,null,null,null,731,null,""]
[null,null,732,null,{"$f":"'Noms des inscrits'!B733","v":"-"},null,null,null,null,null,732,null,""]
[null,null,733,null,{"$f":"'Noms des inscrits'!B734","v":"-"},null,null,null,null,null,733,null,""]
[null,null,734,null,{"$f":"'Noms des inscrits'!B735","v":"-"},null,null,null,null,null,734,null,""]
[null,null,735,null,{"$f":"'Noms des inscrits'!B736","v":"-"},null,null,null,null,null,735,null,""]
[null,null,736,null,{"$f":"'Noms des inscrits'!B737","v":"-"},null,null,null,null,null,736,null,""]
[null,null,737,null,{"$f":"'Noms des inscrits'!B738","v":"-"},null,null,null,null,null,737,null,""]
[null,null,738,null,{"$f":"'Noms des inscrits'!B739","v":"-"},null,null,null,null,null,738,null,""]
[null,null,739,null,{"$f":"'Noms des inscrits'!B740","v":"-"},null,null,null,null,null,739,null,""]
[null,null,740,null,{"$f":"'Noms des inscrits'!B741","v":"-"},null,null,null,null,null,740,null,""]
[null,null,741,null,{"$f":"'Noms des inscrits'!B742","v":"-"},null,null,null,null,null,741,null,""]
[null,null,742,null,{"$f":"'Noms des inscrits'!B743","v":"-"},null,null,null,null,null,742,null,""]
[null,null,743,null,{"$f":"'Noms des inscrits'!B744","v":"-"},null,null,null,null,null,743,null,""]
[null,null,744,null,{"$f":"'Noms des inscrits'!B745","v":"-"},null,null,null,null,null,744,null,""]
[null,null,745,null,{"$f":"'Noms des inscrits'!B746","v":"-"},null,null,null,null,null,745,null,""]
[null,null,746,null,{"$f":"'Noms des inscrits'!B747","v":"-"},null,null,null,null,null,746,null,""]
[null,null,747,null,{"$f":"'Noms des inscrits'!B748","v":"-"},null,null,null,null,null,747,null,""]
[null,null,748,null,{"$f":"'Noms des inscrits'!B749","v":"-"},null,null,null,null,null,748,null,""]
[null,null,749,null,{"$f":"'Noms des inscrits'!B750","v":"-"},null,null,null,null,null,749,null,""]
[null,null,750,null,{"$f":"'Noms des inscrits'!B751","v":"-"},null,null,null,null,null,750,null,""]
[null,null,751,null,{"$f":"'Noms des inscrits'!B752","v":"-"},null,null,null,null,null,751,null,""]
[null,null,752,null,{"$f":"'Noms des inscrits'!B753","v":"-"},null,null,null,null,null,752,null,{"$f":"IF(G757>0,LOOKUP(G757,C$6:E$22234),\"\")","v":""}]
[null,null,753,null,{"$f":"'Noms des inscrits'!B754","v":"-"},null,null,null,null,null,753,null,""]
[null,null,754,null,{"$f":"'Noms des inscrits'!B755","v":"-"},null,null,null,null,null,754,null,""]
[null,null,755,null,{"$f":"'Noms des inscrits'!B756","v":"-"},null,null,null,null,null,755,null,""]
[null,null,756,null,{"$f":"'Noms des inscrits'!B757","v":"-"},null,null,null,null,null,{"$f":"K760+1","v":756},null,""]
[null,null,757,null,{"$f":"'Noms des inscrits'!B758","v":"-"},null,null,null,null,null,757,null,""]
[null,null,758,null,{"$f":"'Noms des inscrits'!B759","v":"-"},null,null,null,null,null,758,null,""]
[null,null,759,null,{"$f":"'Noms des inscrits'!B760","v":"-"},null,null,null,null,null,759,null,""]
[null,null,760,null,{"$f":"'Noms des inscrits'!B761","v":"-"},null,null,null,null,null,760,null,""]
[null,null,761,null,{"$f":"'Noms des inscrits'!B762","v":"-"},null,null,null,null,null,761,null,""]
[null,null,762,null,{"$f":"'Noms des inscrits'!B763","v":"-"},null,null,null,null,null,762,null,""]
[null,null,763,null,{"$f":"'Noms des inscrits'!B764","v":"-"},null,null,null,null,null,763,null,""]
[null,null,764,null,{"$f":"'Noms des inscrits'!B765","v":"-"},null,null,null,null,null,764,null,""]
[null,null,765,null,{"$f":"'Noms des inscrits'!B766","v":"-"},null,null,null,null,null,765,null,""]
[null,null,766,null,{"$f":"'Noms des inscrits'!B767","v":"-"},null,null,null,null,null,766,null,""]
[null,null,767,null,{"$f":"'Noms des inscrits'!B768","v":"-"},null,null,null,null,null,767,null,""]
[null,null,768,null,{"$f":"'Noms des inscrits'!B769","v":"-"},null,null,null,null,null,768,null,""]
[null,null,769,null,{"$f":"'Noms des inscrits'!B770","v":"-"},null,null,null,null,null,769,null,""]
[null,null,770,null,{"$f":"'Noms des inscrits'!B771","v":"-"},null,null,null,null,null,770,null,""]
[null,null,771,null,{"$f":"'Noms des inscrits'!B772","v":"-"},null,null,null,null,null,771,null,""]
[null,null,772,null,{"$f":"'Noms des inscrits'!B773","v":"-"},null,null,null,null,null,772,null,""]
[null,null,773,null,{"$f":"'Noms des inscrits'!B774","v":"-"},null,null,null,null,null,773,null,""]
[null,null,774,null,{"$f":"'Noms des inscrits'!B775","v":"-"},null,null,null,null,null,774,null,""]
[null,null,775,null,{"$f":"'Noms des inscrits'!B776","v":"-"},null,null,null,null,null,775,null,""]
[null,null,776,null,{"$f":"'Noms des inscrits'!B777","v":"-"},null,null,null,null,null,776,null,""]
[null,null,777,null,{"$f":"'Noms des inscrits'!B778","v":"-"},null,null,null,null,null,777,null,""]
[null,null,778,null,{"$f":"'Noms des inscrits'!B779","v":"-"},null,null,null,null,null,778,null,""]
[null,null,779,null,{"$f":"'Noms des inscrits'!B780","v":"-"},null,null,null,null,null,779,null,""]
[null,null,780,null,{"$f":"'Noms des inscrits'!B781","v":"-"},null,null,null,null,null,780,null,""]
[null,null,781,null,{"$f":"'Noms des inscrits'!B782","v":"-"},null,null,null,null,null,781,null,""]
[null,null,782,null,{"$f":"'Noms des inscrits'!B783","v":"-"},null,null,null,null,null,782,null,""]
[null,null,783,null,{"$f":"'Noms des inscrits'!B784","v":"-"},null,null,null,null,null,783,null,""]
[null,null,784,null,{"$f":"'Noms des inscrits'!B785","v":"-"},null,null,null,null,null,784,null,""]
[null,null,785,null,{"$f":"'Noms des inscrits'!B786","v":"-"},null,null,null,null,null,785,null,""]
[null,null,786,null,{"$f":"'Noms des inscrits'!B787","v":"-"},null,null,null,null,null,786,null,""]
[null,null,787,null,{"$f":"'Noms des inscrits'!B788","v":"-"},null,null,null,null,null,787,null,""]
[null,null,788,null,{"$f":"'Noms des inscrits'!B789","v":"-"},null,null,null,null,null,788,null,""]
[null,null,789,null,{"$f":"'Noms des inscrits'!B790","v":"-"},null,null,null,null,null,789,null,""]
[null,null,790,null,{"$f":"'Noms des inscrits'!B791","v":"-"},null,null,null,null,null,790,null,""]
[null,null,791,null,{"$f":"'Noms des inscrits'!B792","v":"-"},null,null,null,null,null,791,null,""]
[null,null,792,null,{"$f":"'Noms des inscrits'!B793","v":"-"},null,null,null,null,null,792,null,""]
[null,null,793,null,{"$f":"'Noms des inscrits'!B794","v":"-"},null,null,null,null,null,793,null,""]
[null,null,794,null,{"$f":"'Noms des inscrits'!B795","v":"-"},null,null,null,null,null,794,null,""]
[null,null,795,null,{"$f":"'Noms des inscrits'!B796","v":"-"},null,null,null,null,null,795,null,""]
[null,null,796,null,{"$f":"'Noms des inscrits'!B797","v":"-"},null,null,null,null,null,796,null,""]
[null,null,797,null,{"$f":"'Noms des inscrits'!B798","v":"-"},null,null,null,null,null,797,null,""]
[null,null,798,null,{"$f":"'Noms des inscrits'!B799","v":"-"},null,null,null,null,null,798,null,""]
[null,null,799,null,{"$f":"'Noms des inscrits'!B800","v":"-"},null,null,null,null,null,799,null,""]
[null,null,800,null,{"$f":"'Noms des inscrits'!B801","v":"-"},null,null,null,null,null,800,null,""]
[null,null,801,null,{"$f":"'Noms des inscrits'!B802","v":"-"},null,null,null,null,null,801,null,""]
[null,null,802,null,{"$f":"'Noms des inscrits'!B803","v":"-"},null,null,null,null,null,802,null,""]
[null,null,803,null,{"$f":"'Noms des inscrits'!B804","v":"-"},null,null,null,null,null,803,null,""]
[null,null,804,null,{"$f":"'Noms des inscrits'!B805","v":"-"},null,null,null,null,null,804,null,""]
[null,null,805,null,{"$f":"'Noms des inscrits'!B806","v":"-"},null,null,null,null,null,805,null,""]
[null,null,806,null,{"$f":"'Noms des inscrits'!B807","v":"-"},null,null,null,null,null,806,null,""]
[null,null,807,null,{"$f":"'Noms des inscrits'!B808","v":"-"},null,null,null,null,null,807,null,""]
[null,null,808,null,{"$f":"'Noms des inscrits'!B809","v":"-"},null,null,null,null,null,808,null,""]
[null,null,809,null,{"$f":"'Noms des inscrits'!B810","v":"-"},null,null,null,null,null,809,null,""]
[null,null,810,null,{"$f":"'Noms des inscrits'!B811","v":"-"},null,null,null,null,null,810,null,""]
[null,null,811,null,{"$f":"'Noms des inscrits'!B812","v":"-"},null,null,null,null,null,811,null,""]
[null,null,812,null,{"$f":"'Noms des inscrits'!B813","v":"-"},null,null,null,null,null,812,null,""]
[null,null,813,null,{"$f":"'Noms des inscrits'!B814","v":"-"},null,null,null,null,null,813,null,""]
[null,null,814,null,{"$f":"'Noms des inscrits'!B815","v":"-"},null,null,null,null,null,814,null,""]
[null,null,815,null,{"$f":"'Noms des inscrits'!B816","v":"-"},null,null,null,null,null,815,null,""]
[null,null,816,null,{"$f":"'Noms des inscrits'!B817","v":"-"},null,null,null,null,null,816,null,{"$f":"IF(G821>0,LOOKUP(G821,C$6:E$22234),\"\")","v":""}]
[null,null,817,null,{"$f":"'Noms des inscrits'!B818","v":"-"},null,null,null,null,null,817,null,""]
[null,null,818,null,{"$f":"'Noms des inscrits'!B819","v":"-"},null,null,null,null,null,818,null,""]
[null,null,819,null,{"$f":"'Noms des inscrits'!B820","v":"-"},null,null,null,null,null,819,null,""]
[null,null,820,null,{"$f":"'Noms des inscrits'!B821","v":"-"},null,null,null,null,null,{"$f":"K824+1","v":820},null,""]
[null,null,821,null,{"$f":"'Noms des inscrits'!B822","v":"-"},null,null,null,null,null,821,null,""]
[null,null,822,null,{"$f":"'Noms des inscrits'!B823","v":"-"},null,null,null,null,null,822,null,""]
[null,null,823,null,{"$f":"'Noms des inscrits'!B824","v":"-"},null,null,null,null,null,823,null,""]
[null,null,824,null,{"$f":"'Noms des inscrits'!B825","v":"-"},null,null,null,null,null,824,null,""]
[null,null,825,null,{"$f":"'Noms des inscrits'!B826","v":"-"},null,null,null,null,null,825,null,""]
[null,null,826,null,{"$f":"'Noms des inscrits'!B827","v":"-"},null,null,null,null,null,826,null,""]
[null,null,827,null,{"$f":"'Noms des inscrits'!B828","v":"-"},null,null,null,null,null,827,null,""]
[null,null,828,null,{"$f":"'Noms des inscrits'!B829","v":"-"},null,null,null,null,null,828,null,""]
[null,null,829,null,{"$f":"'Noms des inscrits'!B830","v":"-"},null,null,null,null,null,829,null,""]
[null,null,830,null,{"$f":"'Noms des inscrits'!B831","v":"-"},null,null,null,null,null,830,null,""]
[null,null,831,null,{"$f":"'Noms des inscrits'!B832","v":"-"},null,null,null,null,null,831,null,""]
[null,null,832,null,{"$f":"'Noms des inscrits'!B833","v":"-"},null,null,null,null,null,832,null,""]
[null,null,833,null,{"$f":"'Noms des inscrits'!B834","v":"-"},null,null,null,null,null,833,null,""]
[null,null,834,null,{"$f":"'Noms des inscrits'!B835","v":"-"},null,null,null,null,null,834,null,""]
[null,null,835,null,{"$f":"'Noms des inscrits'!B836","v":"-"},null,null,null,null,null,835,null,""]
[null,null,836,null,{"$f":"'Noms des inscrits'!B837","v":"-"},null,null,null,null,null,836,null,""]
[null,null,837,null,{"$f":"'Noms des inscrits'!B838","v":"-"},null,null,null,null,null,837,null,""]
[null,null,838,null,{"$f":"'Noms des inscrits'!B839","v":"-"},null,null,null,null,null,838,null,""]
[null,null,839,null,{"$f":"'Noms des inscrits'!B840","v":"-"},null,null,null,null,null,839,null,""]
[null,null,840,null,{"$f":"'Noms des inscrits'!B841","v":"-"},null,null,null,null,null,840,null,""]
[null,null,841,null,{"$f":"'Noms des inscrits'!B842","v":"-"},null,null,null,null,null,841,null,""]
[null,null,842,null,{"$f":"'Noms des inscrits'!B843","v":"-"},null,null,null,null,null,842,null,""]
[null,null,843,null,{"$f":"'Noms des inscrits'!B844","v":"-"},null,null,null,null,null,843,null,""]
[null,null,844,null,{"$f":"'Noms des inscrits'!B845","v":"-"},null,null,null,null,null,844,null,""]
[null,null,845,null,{"$f":"'Noms des inscrits'!B846","v":"-"},null,null,null,null,null,845,null,""]
[null,null,846,null,{"$f":"'Noms des inscrits'!B847","v":"-"},null,null,null,null,null,846,null,""]
[null,null,847,null,{"$f":"'Noms des inscrits'!B848","v":"-"},null,null,null,null,null,847,null,""]
[null,null,848,null,{"$f":"'Noms des inscrits'!B849","v":"-"},null,null,null,null,null,848,null,""]
[null,null,849,null,{"$f":"'Noms des inscrits'!B850","v":"-"},null,null,null,null,null,849,null,""]
[null,null,850,null,{"$f":"'Noms des inscrits'!B851","v":"-"},null,null,null,null,null,850,null,""]
[null,null,851,null,{"$f":"'Noms des inscrits'!B852","v":"-"},null,null,null,null,null,851,null,""]
[null,null,852,null,{"$f":"'Noms des inscrits'!B853","v":"-"},null,null,null,null,null,852,null,""]
[null,null,853,null,{"$f":"'Noms des inscrits'!B854","v":"-"},null,null,null,null,null,853,null,""]
[null,null,854,null,{"$f":"'Noms des inscrits'!B855","v":"-"},null,null,null,null,null,854,null,""]
[null,null,855,null,{"$f":"'Noms des inscrits'!B856","v":"-"},null,null,null,null,null,855,null,""]
[null,null,856,null,{"$f":"'Noms des inscrits'!B857","v":"-"},null,null,null,null,null,856,null,""]
[null,null,857,null,{"$f":"'Noms des inscrits'!B858","v":"-"},null,null,null,null,null,857,null,""]
[null,null,858,null,{"$f":"'Noms des inscrits'!B859","v":"-"},null,null,null,null,null,858,null,""]
[null,null,859,null,{"$f":"'Noms des inscrits'!B860","v":"-"},null,null,null,null,null,859,null,""]
[null,null,860,null,{"$f":"'Noms des inscrits'!B861","v":"-"},null,null,null,null,null,860,null,""]
[null,null,861,null,{"$f":"'Noms des inscrits'!B862","v":"-"},null,null,null,null,null,861,null,""]
[null,null,862,null,{"$f":"'Noms des inscrits'!B863","v":"-"},null,null,null,null,null,862,null,""]
[null,null,863,null,{"$f":"'Noms des inscrits'!B864","v":"-"},null,null,null,null,null,863,null,""]
[null,null,864,null,{"$f":"'Noms des inscrits'!B865","v":"-"},null,null,null,null,null,864,null,""]
[null,null,865,null,{"$f":"'Noms des inscrits'!B866","v":"-"},null,null,null,null,null,865,null,""]
[null,null,866,null,{"$f":"'Noms des inscrits'!B867","v":"-"},null,null,null,null,null,866,null,""]
[null,null,867,null,{"$f":"'Noms des inscrits'!B868","v":"-"},null,null,null,null,null,867,null,""]
[null,null,868,null,{"$f":"'Noms des inscrits'!B869","v":"-"},null,null,null,null,null,868,null,""]
[null,null,869,null,{"$f":"'Noms des inscrits'!B870","v":"-"},null,null,null,null,null,869,null,""]
[null,null,870,null,{"$f":"'Noms des inscrits'!B871","v":"-"},null,null,null,null,null,870,null,""]
[null,null,871,null,{"$f":"'Noms des inscrits'!B872","v":"-"},null,null,null,null,null,871,null,""]
[null,null,872,null,{"$f":"'Noms des inscrits'!B873","v":"-"},null,null,null,null,null,872,null,""]
[null,null,873,null,{"$f":"'Noms des inscrits'!B874","v":"-"},null,null,null,null,null,873,null,""]
[null,null,874,null,{"$f":"'Noms des inscrits'!B875","v":"-"},null,null,null,null,null,874,null,""]
[null,null,875,null,{"$f":"'Noms des inscrits'!B876","v":"-"},null,null,null,null,null,875,null,""]
[null,null,876,null,{"$f":"'Noms des inscrits'!B877","v":"-"},null,null,null,null,null,876,null,""]
[null,null,877,null,{"$f":"'Noms des inscrits'!B878","v":"-"},null,null,null,null,null,877,null,""]
[null,null,878,null,{"$f":"'Noms des inscrits'!B879","v":"-"},null,null,null,null,null,878,null,""]
[null,null,879,null,{"$f":"'Noms des inscrits'!B880","v":"-"},null,null,null,null,null,879,null,""]
[null,null,880,null,{"$f":"'Noms des inscrits'!B881","v":"-"},null,null,null,null,null,880,null,{"$f":"IF(G885>0,LOOKUP(G885,C$6:E$22234),\"\")","v":""}]
[null,null,881,null,{"$f":"'Noms des inscrits'!B882","v":"-"},null,null,null,null,null,881,null,""]
[null,null,882,null,{"$f":"'Noms des inscrits'!B883","v":"-"},null,null,null,null,null,882,null,""]
[null,null,883,null,{"$f":"'Noms des inscrits'!B884","v":"-"},null,null,null,null,null,883,null,""]
[null,null,884,null,{"$f":"'Noms des inscrits'!B885","v":"-"},null,null,null,null,null,{"$f":"K888+1","v":884},null,""]
[null,null,885,null,{"$f":"'Noms des inscrits'!B886","v":"-"},null,null,null,null,null,885,null,""]
[null,null,886,null,{"$f":"'Noms des inscrits'!B887","v":"-"},null,null,null,null,null,886,null,""]
[null,null,887,null,{"$f":"'Noms des inscrits'!B888","v":"-"},null,null,null,null,null,887,null,""]
[null,null,888,null,{"$f":"'Noms des inscrits'!B889","v":"-"},null,null,null,null,null,888,null,""]
[null,null,889,null,{"$f":"'Noms des inscrits'!B890","v":"-"},null,null,null,null,null,889,null,""]
[null,null,890,null,{"$f":"'Noms des inscrits'!B891","v":"-"},null,null,null,null,null,890,null,""]
[null,null,891,null,{"$f":"'Noms des inscrits'!B892","v":"-"},null,null,null,null,null,891,null,""]
[null,null,892,null,{"$f":"'Noms des inscrits'!B893","v":"-"},null,null,null,null,null,892,null,""]
[null,null,893,null,{"$f":"'Noms des inscrits'!B894","v":"-"},null,null,null,null,null,893,null,""]
[null,null,894,null,{"$f":"'Noms des inscrits'!B895","v":"-"},null,null,null,null,null,894,null,""]
[null,null,895,null,{"$f":"'Noms des inscrits'!B896","v":"-"},null,null,null,null,null,895,null,""]
[null,null,896,null,{"$f":"'Noms des inscrits'!B897","v":"-"},null,null,null,null,null,896,null,""]
[null,null,897,null,{"$f":"'Noms des inscrits'!B898","v":"-"},null,null,null,null,null,897,null,""]
[null,null,898,null,{"$f":"'Noms des inscrits'!B899","v":"-"},null,null,null,null,null,898,null,""]
[null,null,899,null,{"$f":"'Noms des inscrits'!B900","v":"-"},null,null,null,null,null,899,null,""]
[null,null,900,null,{"$f":"'Noms des inscrits'!B901","v":"-"},null,null,null,null,null,900,null,""]
[null,null,901,null,{"$f":"'Noms des inscrits'!B902","v":"-"},null,null,null,null,null,901,null,""]
[null,null,902,null,{"$f":"'Noms des inscrits'!B903","v":"-"},null,null,null,null,null,902,null,""]
[null,null,903,null,{"$f":"'Noms des inscrits'!B904","v":"-"},null,null,null,null,null,903,null,""]
[null,null,904,null,{"$f":"'Noms des inscrits'!B905","v":"-"},null,null,null,null,null,904,null,""]
[null,null,905,null,{"$f":"'Noms des inscrits'!B906","v":"-"},null,null,null,null,null,905,null,""]
[null,null,906,null,{"$f":"'Noms des inscrits'!B907","v":"-"},null,null,null,null,null,906,null,""]
[null,null,907,null,{"$f":"'Noms des inscrits'!B908","v":"-"},null,null,null,null,null,907,null,""]
[null,null,908,null,{"$f":"'Noms des inscrits'!B909","v":"-"},null,null,null,null,null,908,null,""]
[null,null,909,null,{"$f":"'Noms des inscrits'!B910","v":"-"},null,null,null,null,null,909,null,""]
[null,null,910,null,{"$f":"'Noms des inscrits'!B911","v":"-"},null,null,null,null,null,910,null,""]
[null,null,911,null,{"$f":"'Noms des inscrits'!B912","v":"-"},null,null,null,null,null,911,null,""]
[null,null,912,null,{"$f":"'Noms des inscrits'!B913","v":"-"},null,null,null,null,null,912,null,""]
[null,null,913,null,{"$f":"'Noms des inscrits'!B914","v":"-"},null,null,null,null,null,913,null,""]
[null,null,914,null,{"$f":"'Noms des inscrits'!B915","v":"-"},null,null,null,null,null,914,null,""]
[null,null,915,null,{"$f":"'Noms des inscrits'!B916","v":"-"},null,null,null,null,null,915,null,""]
[null,null,916,null,{"$f":"'Noms des inscrits'!B917","v":"-"},null,null,null,null,null,916,null,""]
[null,null,917,null,{"$f":"'Noms des inscrits'!B918","v":"-"},null,null,null,null,null,917,null,""]
[null,null,918,null,{"$f":"'Noms des inscrits'!B919","v":"-"},null,null,null,null,null,918,null,""]
[null,null,919,null,{"$f":"'Noms des inscrits'!B920","v":"-"},null,null,null,null,null,919,null,""]
[null,null,920,null,{"$f":"'Noms des inscrits'!B921","v":"-"},null,null,null,null,null,920,null,""]
[null,null,921,null,{"$f":"'Noms des inscrits'!B922","v":"-"},null,null,null,null,null,921,null,""]
[null,null,922,null,{"$f":"'Noms des inscrits'!B923","v":"-"},null,null,null,null,null,922,null,""]
[null,null,923,null,{"$f":"'Noms des inscrits'!B924","v":"-"},null,null,null,null,null,923,null,""]
[null,null,924,null,{"$f":"'Noms des inscrits'!B925","v":"-"},null,null,null,null,null,924,null,""]
[null,null,925,null,{"$f":"'Noms des inscrits'!B926","v":"-"},null,null,null,null,null,925,null,""]
[null,null,926,null,{"$f":"'Noms des inscrits'!B927","v":"-"},null,null,null,null,null,926,null,""]
[null,null,927,null,{"$f":"'Noms des inscrits'!B928","v":"-"},null,null,null,null,null,927,null,""]
[null,null,928,null,{"$f":"'Noms des inscrits'!B929","v":"-"},null,null,null,null,null,928,null,""]
[null,null,929,null,{"$f":"'Noms des inscrits'!B930","v":"-"},null,null,null,null,null,929,null,""]
[null,null,930,null,{"$f":"'Noms des inscrits'!B931","v":"-"},null,null,null,null,null,930,null,""]
[null,null,931,null,{"$f":"'Noms des inscrits'!B932","v":"-"},null,null,null,null,null,931,null,""]
[null,null,932,null,{"$f":"'Noms des inscrits'!B933","v":"-"},null,null,null,null,null,932,null,""]
[null,null,933,null,{"$f":"'Noms des inscrits'!B934","v":"-"},null,null,null,null,null,933,null,""]
[null,null,934,null,{"$f":"'Noms des inscrits'!B935","v":"-"},null,null,null,null,null,934,null,""]
[null,null,935,null,{"$f":"'Noms des inscrits'!B936","v":"-"},null,null,null,null,null,935,null,""]
[null,null,936,null,{"$f":"'Noms des inscrits'!B937","v":"-"},null,null,null,null,null,936,null,""]
[null,null,937,null,{"$f":"'Noms des inscrits'!B938","v":"-"},null,null,null,null,null,937,null,""]
[null,null,938,null,{"$f":"'Noms des inscrits'!B939","v":"-"},null,null,null,null,null,938,null,""]
[null,null,939,null,{"$f":"'Noms des inscrits'!B940","v":"-"},null,null,null,null,null,939,null,""]
[null,null,940,null,{"$f":"'Noms des inscrits'!B941","v":"-"},null,null,null,null,null,940,null,""]
[null,null,941,null,{"$f":"'Noms des inscrits'!B942","v":"-"},null,null,null,null,null,941,null,""]
[null,null,942,null,{"$f":"'Noms des inscrits'!B943","v":"-"},null,null,null,null,null,942,null,""]
[null,null,943,null,{"$f":"'Noms des inscrits'!B944","v":"-"},null,null,null,null,null,943,null,""]
[null,null,944,null,{"$f":"'Noms des inscrits'!B945","v":"-"},null,null,null,null,null,944,null,{"$f":"IF(G949>0,LOOKUP(G949,C$6:E$22234),\"\")","v":""}]
[null,null,945,null,{"$f":"'Noms des inscrits'!B946","v":"-"},null,null,null,null,null,945,null,""]
[null,null,946,null,{"$f":"'Noms des inscrits'!B947","v":"-"},null,null,null,null,null,946,null,""]
[null,null,947,null,{"$f":"'Noms des inscrits'!B948","v":"-"},null,null,null,null,null,947,null,""]
[null,null,948,null,{"$f":"'Noms des inscrits'!B949","v":"-"},null,null,null,null,null,{"$f":"K952+1","v":948},null,""]
[null,null,949,null,{"$f":"'Noms des inscrits'!B950","v":"-"},null,null,null,null,null,949,null,""]
[null,null,950,null,{"$f":"'Noms des inscrits'!B951","v":"-"},null,null,null,null,null,950,null,""]
[null,null,951,null,{"$f":"'Noms des inscrits'!B952","v":"-"},null,null,null,null,null,951,null,""]
[null,null,952,null,{"$f":"'Noms des inscrits'!B953","v":"-"},null,null,null,null,null,952,null,""]
[null,null,953,null,{"$f":"'Noms des inscrits'!B954","v":"-"},null,null,null,null,null,953,null,""]
[null,null,954,null,{"$f":"'Noms des inscrits'!B955","v":"-"},null,null,null,null,null,954,null,""]
[null,null,955,null,{"$f":"'Noms des inscrits'!B956","v":"-"},null,null,null,null,null,955,null,""]
[null,null,956,null,{"$f":"'Noms des inscrits'!B957","v":"-"},null,null,null,null,null,956,null,""]
[null,null,957,null,{"$f":"'Noms des inscrits'!B958","v":"-"},null,null,null,null,null,957,null,""]
[null,null,958,null,{"$f":"'Noms des inscrits'!B959","v":"-"},null,null,null,null,null,958,null,""]
[null,null,959,null,{"$f":"'Noms des inscrits'!B960","v":"-"},null,null,null,null,null,959,null,""]
[null,null,960,null,{"$f":"'Noms des inscrits'!B961","v":"-"},null,null,null,null,null,960,null,""]
[null,null,961,null,{"$f":"'Noms des inscrits'!B962","v":"-"},null,null,null,null,null,961,null,""]
[null,null,962,null,{"$f":"'Noms des inscrits'!B963","v":"-"},null,null,null,null,null,962,null,""]
[null,null,963,null,{"$f":"'Noms des inscrits'!B964","v":"-"},null,null,null,null,null,963,null,""]
[null,null,964,null,{"$f":"'Noms des inscrits'!B965","v":"-"},null,null,null,null,null,964,null,""]
[null,null,965,null,{"$f":"'Noms des inscrits'!B966","v":"-"},null,null,null,null,null,965,null,""]
[null,null,966,null,{"$f":"'Noms des inscrits'!B967","v":"-"},null,null,null,null,null,966,null,""]
[null,null,967,null,{"$f":"'Noms des inscrits'!B968","v":"-"},null,null,null,null,null,967,null,""]
[null,null,968,null,{"$f":"'Noms des inscrits'!B969","v":"-"},null,null,null,null,null,968,null,""]
[null,null,969,null,{"$f":"'Noms des inscrits'!B970","v":"-"},null,null,null,null,null,969,null,""]
[null,null,970,null,{"$f":"'Noms des inscrits'!B971","v":"-"},null,null,null,null,null,970,null,""]
[null,null,971,null,{"$f":"'Noms des inscrits'!B972","v":"-"},null,null,null,null,null,971,null,""]
[null,null,972,null,{"$f":"'Noms des inscrits'!B973","v":"-"},null,null,null,null,null,972,null,""]
[null,null,973,null,{"$f":"'Noms des inscrits'!B974","v":"-"},null,null,null,null,null,973,null,""]
[null,null,974,null,{"$f":"'Noms des inscrits'!B975","v":"-"},null,null,null,null,null,974,null,""]
[null,null,975,null,{"$f":"'Noms des inscrits'!B976","v":"-"},null,null,null,null,null,975,null,""]
[null,null,976,null,{"$f":"'Noms des inscrits'!B977","v":"-"},null,null,null,null,null,976,null,""]
[null,null,977,null,{"$f":"'Noms des inscrits'!B978","v":"-"},null,null,null,null,null,977,null,""]
[null,null,978,null,{"$f":"'Noms des inscrits'!B979","v":"-"},null,null,null,null,null,978,null,""]
[null,null,979,null,{"$f":"'Noms des inscrits'!B980","v":"-"},null,null,null,null,null,979,null,""]
[null,null,980,null,{"$f":"'Noms des inscrits'!B981","v":"-"},null,null,null,null,null,980,null,""]
[null,null,981,null,{"$f":"'Noms des inscrits'!B982","v":"-"},null,null,null,null,null,981,null,""]
[null,null,982,null,{"$f":"'Noms des inscrits'!B983","v":"-"},null,null,null,null,null,982,null,""]
[null,null,983,null,{"$f":"'Noms des inscrits'!B984","v":"-"},null,null,null,null,null,983,null,""]
[null,null,984,null,{"$f":"'Noms des inscrits'!B985","v":"-"},null,null,null,null,null,984,null,""]
[null,null,985,null,{"$f":"'Noms des inscrits'!B986","v":"-"},null,null,null,null,null,985,null,""]
[null,null,986,null,{"$f":"'Noms des inscrits'!B987","v":"-"},null,null,null,null,null,986,null,""]
[null,null,987,null,{"$f":"'Noms des inscrits'!B988","v":"-"},null,null,null,null,null,987,null,""]
[null,null,988,null,{"$f":"'Noms des inscrits'!B989","v":"-"},null,null,null,null,null,988,null,""]
[null,null,989,null,{"$f":"'Noms des inscrits'!B990","v":"-"},null,null,null,null,null,989,null,""]
[null,null,990,null,{"$f":"'Noms des inscrits'!B991","v":"-"},null,null,null,null,null,990,null,""]
[null,null,991,null,{"$f":"'Noms des inscrits'!B992","v":"-"},null,null,null,null,null,991,null,""]
[null,null,992,null,{"$f":"'Noms des inscrits'!B993","v":"-"},null,null,null,null,null,992,null,""]
[null,null,993,null,{"$f":"'Noms des inscrits'!B994","v":"-"},null,null,null,null,null,993,null,""]
[null,null,994,null,{"$f":"'Noms des inscrits'!B995","v":"-"},null,null,null,null,null,994,null,""]
[null,null,995,null,{"$f":"'Noms des inscrits'!B996","v":"-"},null,null,null,null,null,995,null,""]
[null,null,996,null,{"$f":"'Noms des inscrits'!B997","v":"-"},null,null,null,null,null,996,null,""]
[null,null,997,null,{"$f":"'Noms des inscrits'!B998","v":"-"},null,null,null,null,null,997,null,""]
[null,null,998,null,{"$f":"'Noms des inscrits'!B999","v":"-"},null,null,null,null,null,998,null,{"$f":"IF(G1003>0,LOOKUP(G1003,C$6:E$22234),\"\")","v":""}]
[null,null,999,null,{"$f":"'Noms des inscrits'!B1000","v":"-"},null,null,null,null,null,999,null,{"$f":"IF(G1004>0,LOOKUP(G1004,C$6:E$22234),\"\")","v":""}]

{"sheet":"Noms des inscrits","index":1,"n_rows":1000,"n_cols":20,"rows_kept":1000,"cut":false,"hidden":true,"merged":[]}
["Plaque","Nom-Prénom","NOM","Prénom","Sexe","Date de naissance","Age fin année","Club","Licence","N° Licence","Categorie","Circuit","Classement","Temps","Ecart Départ","Temps Réel",null,"Année","H","F"]
[1,{"$f":"CONCATENATE(C2,\"-\",D2)","v":"VASSAL-Thibaut"},"VASSAL","Thibaut","M","1975-01-16",{"$f":"(TODAY()-F2)/365.25","v":40.355920602327174},"UV Mazamet","FFC",2281031033,"Masters 3/4",45,{"$f":"VLOOKUP(A2,'Chrono+Classement'!G:O,5,FALSE)","v":11},{"$f":"VLOOKUP(A2,'Chrono+Classement'!G:O,9,FALSE)","v":"02:11:41"},{"$f":"IF(L2=17,Param!G2,IF(L2=28,Param!H2,IF(L2=45,Param!I2)))","v":"00:00:40"},{"$f":"N2-O2","v":"02:11:01"},null,{"$f":"YEAR(F2)","v":1975},{"$f":"IF(E2=\"M\",IF(R2<=1965,\"Masters 5\",IF(R2<=1975,\"Masters 3/4\",IF(R2<=1985,\"Masters 1/2\",IF(R2<=1992,\"Hommes\",IF(R2<=1996,\"Espoirs\",IF(R2<=1998,\"Juniors\",IF(R2<=2000,\"Cadets\",0))))))))","v":"Masters 3/4"},{"$f":"IF(E2=\"F\",IF(R2<=1992,\"Dames\",IF(R2<=1996,\"Espoirs Dames\",IF(R2<=1998,\"Juniors Dames\",IF(R2<=2000,\"Cadettes\",0)))))","v":false}]
[2,"PERUSIN-Benjamin","PERUSIN","Benjamin","M","1986-02-08",29.29226557152635,"UVAGG","FFC",2232048002,"Hommes",45,{"$f":"VLOOKUP(A3,'Chrono+Classement'!G:O,5,FALSE)","v":18},{"$f":"VLOOKUP(A3,'Chrono+Classement'!G:O,9,FALSE)","v":"02:23:43"},{"$f":"IF(L3=17,Param!G3,IF(L3=28,Param!H3,IF(L3=45,Param!I3)))","v":"00:00:40"},"02:23:03",null,1986,"Hommes",false]
[3,"TAILLEFER-Loïc","TAILLEFER","Loïc","M","1990-12-08",24.462696783025326,"TOAC","FFC","2231105036","Hommes",45,{"$f":"VLOOKUP(A4,'Chrono+Classement'!G:O,5,FALSE)","v":44},{"$f":"VLOOKUP(A4,'Chrono+Classement'!G:O,9,FALSE)","v":"03:14:25"},{"$f":"IF(L4=17,Param!G4,IF(L4=28,Param!H4,IF(L4=45,Param!I4)))","v":"00:00:40"},"03:13:45",null,1990,"Hommes",false]
[4,"LAPEYRE-Martin","LAPEYRE","Martin","M","1984-11-11",30.535249828884325,"TOAC","FSGT",null,"Masters 1/2",45,{"$f":"VLOOKUP(A5,'Chrono+Classement'!G:O,5,FALSE)","v":51},{"$f":"VLOOKUP(A5,'Chrono+Classement'!G:O,9,FALSE)","v":"03:23:41"},{"$f":"IF(L5=17,Param!G5,IF(L5=28,Param!H5,IF(L5=45,Param!I5)))","v":"00:00:40"},"03:23:01",null,1984,"Masters 1/2",false]
[5,"PENDERIES-Frédéric","PENDERIES","Frédéric","M","1975-12-30",39.403148528405204,"Team Racing Stephanois","NL",null,"Masters 3/4",45,{"$f":"VLOOKUP(A6,'Chrono+Classement'!G:O,5,FALSE)","v":52},{"$f":"VLOOKUP(A6,'Chrono+Classement'!G:O,9,FALSE)","v":"03:27:23"},{"$f":"IF(L6=17,Param!G6,IF(L6=28,Param!H6,IF(L6=45,Param!I6)))","v":"00:00:40"},"03:26:43",null,1975,"Masters 3/4",false]
[6,"DELFINO-Benjamin","DELFINO","Benjamin","M","1991-04-28",24.076659822039698,"Vélo Club  Moyenne Durance","FFC",2104148039,"Hommes",45,{"$f":"VLOOKUP(A7,'Chrono+Classement'!G:O,5,FALSE)","v":34},{"$f":"VLOOKUP(A7,'Chrono+Classement'!G:O,9,FALSE)","v":"02:39:56"},{"$f":"IF(L7=17,Param!G7,IF(L7=28,Param!H7,IF(L7=45,Param!I7)))","v":"00:00:40"},"02:39:16",null,1991,"Hommes",false]
[7,"PETIT-François","PETIT","François","M","1957-07-02",57.897330595482543,"Les Renardeaux du bas Quercy","FFCT",null,"Masters 5",45,{"$f":"VLOOKUP(A8,'Chrono+Classement'!G:O,5,FALSE)","v":50},{"$f":"VLOOKUP(A8,'Chrono+Classement'!G:O,9,FALSE)","v":"03:23:07"},{"$f":"IF(L8=17,Param!G8,IF(L8=28,Param!H8,IF(L8=45,Param!I8)))","v":"00:00:40"},"03:22:27",null,1957,"Masters 5",false]
[8,"REMY-Julien","REMY","Julien","M","1985-03-30",30.154688569472963,"CA Castelsarasin","FFC",2282043200,"Masters 1/2",45,{"$f":"VLOOKUP(A9,'Chrono+Classement'!G:O,5,FALSE)","v":33},{"$f":"VLOOKUP(A9,'Chrono+Classement'!G:O,9,FALSE)","v":"02:37:01"},{"$f":"IF(L9=17,Param!G9,IF(L9=28,Param!H9,IF(L9=45,Param!I9)))","v":"00:00:40"},"02:36:21",null,1985,"Masters 1/2",false]
[9,"RAMOUSSE-Arnaud","RAMOUSSE","Arnaud","M","1972-07-28",42.82546201232033,"CPRS Pins Justaret","FSGT",null,"Masters 3/4",45,{"$f":"VLOOKUP(A10,'Chrono+Classement'!G:O,5,FALSE)","v":37},{"$f":"VLOOKUP(A10,'Chrono+Classement'!G:O,9,FALSE)","v":"02:51:06"},{"$f":"IF(L10=17,Param!G10,IF(L10=28,Param!H10,IF(L10=45,Param!I10)))","v":"00:00:40"},"02:50:26",null,1972,"Masters 3/4",false]
[10,"XIMENES-Thibaut","XIMENES","Thibaut","M","1988-11-15",26.524298425735797,null,"NL",null,"Hommes",45,{"$f":"VLOOKUP(A11,'Chrono+Classement'!G:O,5,FALSE)","v":45},{"$f":"VLOOKUP(A11,'Chrono+Classement'!G:O,9,FALSE)","v":"03:14:50"},{"$f":"IF(L11=17,Param!G11,IF(L11=28,Param!H11,IF(L11=45,Param!I11)))","v":"00:00:40"},"03:14:10",null,1988,"Hommes",false]
[11,"FOURNALES-Olivier","FOURNALES","Olivier","M","1980-08-02",34.81177275838467,"CAC","FFC",2282043252,"Masters 1/2",45,{"$f":"VLOOKUP(A12,'Chrono+Classement'!G:O,5,FALSE)","v":20},{"$f":"VLOOKUP(A12,'Chrono+Classement'!G:O,9,FALSE)","v":"02:26:23"},{"$f":"IF(L12=17,Param!G12,IF(L12=28,Param!H12,IF(L12=45,Param!I12)))","v":"00:00:40"},"02:25:43",null,1980,"Masters 1/2",false]
[12,"PERRIE-Mathieu","PERRIE","Mathieu","M","1987-05-06",28.054757015742641,"TOAC","FSGT",null,"Hommes",45,{"$f":"VLOOKUP(A13,'Chrono+Classement'!G:O,5,FALSE)","v":41},{"$f":"VLOOKUP(A13,'Chrono+Classement'!G:O,9,FALSE)","v":"03:05:32"},{"$f":"IF(L13=17,Param!G13,IF(L13=28,Param!H13,IF(L13=45,Param!I13)))","v":"00:00:40"},"03:04:52",null,1987,"Hommes",false]
[13,"BLOT-Jean-Baptiste","BLOT","Jean-Baptiste","M","1984-06-22",30.924024640657084,"VTT Cornebarieu","NL",null,"Masters 1/2",45,{"$f":"VLOOKUP(A14,'Chrono+Classement'!G:O,5,FALSE)","v":35},{"$f":"VLOOKUP(A14,'Chrono+Classement'!G:O,9,FALSE)","v":"02:44:45"},{"$f":"IF(L14=17,Param!G14,IF(L14=28,Param!H14,IF(L14=45,Param!I14)))","v":"00:00:40"},"02:44:05",null,1984,"Masters 1/2",false]
[14,"NADEAU-Frédéric","NADEAU","Frédéric","M","1984-12-10",30.455852156057496,"CHEVREUILS VTT","FFC","0233030014","Masters 1/2",45,{"$f":"VLOOKUP(A15,'Chrono+Classement'!G:O,5,FALSE)","v":31},{"$f":"VLOOKUP(A15,'Chrono+Classement'!G:O,9,FALSE)","v":"02:36:14"},{"$f":"IF(L15=17,Param!G15,IF(L15=28,Param!H15,IF(L15=45,Param!I15)))","v":"00:00:40"},"02:35:34",null,1984,"Masters 1/2",false]
[15,"METRO-Alex","METRO","Alex","M","1997-12-02",17.478439425051334,"VILLENEUVE Cycliste","FFC",22311092102,"Juniors",45,{"$f":"VLOOKUP(A16,'Chrono+Classement'!G:O,5,FALSE)","v":16},{"$f":"VLOOKUP(A16,'Chrono+Classement'!G:O,9,FALSE)","v":"02:20:41"},{"$f":"IF(L16=17,Param!G16,IF(L16=28,Param!H16,IF(L16=45,Param!I16)))","v":"00:00:40"},"02:20:01",null,1997,"Juniors",false]
[16,"VILA-Sébastien","VILA","Sébastien","M","1981-09-14",33.694729637234772,"TOAC","FFC","2231105031","Masters 1/2",45,{"$f":"VLOOKUP(A17,'Chrono+Classement'!G:O,5,FALSE)","v":39},{"$f":"VLOOKUP(A17,'Chrono+Classement'!G:O,9,FALSE)","v":"02:52:28"},{"$f":"IF(L17=17,Param!G17,IF(L17=28,Param!H17,IF(L17=45,Param!I17)))","v":"00:00:40"},"02:51:48",null,1981,"Masters 1/2",false]
[17,"PECHBERRY-Laurent","PECHBERRY","Laurent","M","1970-02-01",45.311430527036279,"LOURDES VTT","FFC","2265151274","Masters 3/4",45,{"$f":"VLOOKUP(A18,'Chrono+Classement'!G:O,5,FALSE)","v":22},{"$f":"VLOOKUP(A18,'Chrono+Classement'!G:O,9,FALSE)","v":"02:28:21"},{"$f":"IF(L18=17,Param!G18,IF(L18=28,Param!H18,IF(L18=45,Param!I18)))","v":"00:00:40"},"02:27:41",null,1970,"Masters 3/4",false]
[18,"DUPIN-Damien","DUPIN","Damien","M","1993-09-03",21.724845995893222,"Guidons Quercynois","UFOLEP",null,"Espoirs",45,{"$f":"VLOOKUP(A19,'Chrono+Classement'!G:O,5,FALSE)","v":32},{"$f":"VLOOKUP(A19,'Chrono+Classement'!G:O,9,FALSE)","v":"02:36:58"},{"$f":"IF(L19=17,Param!G19,IF(L19=28,Param!H19,IF(L19=45,Param!I19)))","v":"00:00:40"},"02:36:18",null,1993,"Espoirs",false]
[19,"MONCASSIN-Jonathan","MONCASSIN","Jonathan","M","1984-09-05",30.718685831622178,"Tarbes Pyrennées Cuyclisme","FSGT",null,"Masters 1/2",45,{"$f":"VLOOKUP(A20,'Chrono+Classement'!G:O,5,FALSE)","v":54},{"$f":"VLOOKUP(A20,'Chrono+Classement'!G:O,9,FALSE)","v":"03:33:39"},{"$f":"IF(L20=17,Param!G20,IF(L20=28,Param!H20,IF(L20=45,Param!I20)))","v":"00:00:40"},"03:32:59",null,1984,"Masters 1/2",false]
[20,"FALOPPA-Christophe","FALOPPA","Christophe","M","1981-11-03",33.557837097878163,"TOAC","FFC","2231105074","Masters 1/2",45,{"$f":"VLOOKUP(A21,'Chrono+Classement'!G:O,5,FALSE)","v":14},{"$f":"VLOOKUP(A21,'Chrono+Classement'!G:O,9,FALSE)","v":"02:16:59"},{"$f":"IF(L21=17,Param!G21,IF(L21=28,Param!H21,IF(L21=45,Param!I21)))","v":"00:00:40"},"02:16:19",null,1981,"Masters 1/2",false]
[21,"RIVALS-Eric","RIVALS","Eric","M","1983-05-18",32.021902806297057,"TOAC","FFC","2231105023","Masters 1/2",45,{"$f":"VLOOKUP(A22,'Chrono+Classement'!G:O,5,FALSE)","v":17},{"$f":"VLOOKUP(A22,'Chrono+Classement'!G:O,9,FALSE)","v":"02:23:08"},{"$f":"IF(L22=17,Param!G22,IF(L22=28,Param!H22,IF(L22=45,Param!I22)))","v":"00:00:40"},"02:22:28",null,1983,"Masters 1/2",false]
[22,"ROUANET-Xavier","ROUANET","Xavier","M","1976-02-24",39.249828884325801,"Albi Velo Sport","FFC","2281246105","Masters 1/2",45,{"$f":"VLOOKUP(A23,'Chrono+Classement'!G:O,5,FALSE)","v":27},{"$f":"VLOOKUP(A23,'Chrono+Classement'!G:O,9,FALSE)","v":"02:34:17"},{"$f":"IF(L23=17,Param!G23,IF(L23=28,Param!H23,IF(L23=45,Param!I23)))","v":"00:00:40"},"02:33:37",null,1976,"Masters 1/2",false]
[23,"SERRES-Benoit","SERRES","Benoit","M","1970-11-16",44.522929500342229,"Velo Club Naucelle","UFOLEP",null,"Masters 3/4",45,{"$f":"VLOOKUP(A24,'Chrono+Classement'!G:O,5,FALSE)","v":23},{"$f":"VLOOKUP(A24,'Chrono+Classement'!G:O,9,FALSE)","v":"02:28:31"},{"$f":"IF(L24=17,Param!G24,IF(L24=28,Param!H24,IF(L24=45,Param!I24)))","v":"00:00:40"},"02:27:51",null,1970,"Masters 3/4",false]
[24,"TACHON-Bruno","TACHON","Bruno","M","1967-03-25",48.16974674880219,"Vélo Club Villefranchois","FSGT",null,"Masters 3/4",45,{"$f":"VLOOKUP(A25,'Chrono+Classement'!G:O,5,FALSE)","v":57},{"$f":"VLOOKUP(A25,'Chrono+Classement'!G:O,9,FALSE)","v":"03:53:11"},{"$f":"IF(L25=17,Param!G25,IF(L25=28,Param!H25,IF(L25=45,Param!I25)))","v":"00:00:40"},"03:52:31",null,1967,"Masters 3/4",false]
[25,"AUMAGY-Nicolas","AUMAGY","Nicolas","M","1985-02-04",30.302532511978097,null,"NL",null,"Masters 1/2",45,"ABD","ABD",{"$f":"IF(L26=17,Param!G26,IF(L26=28,Param!H26,IF(L26=45,Param!I26)))","v":"00:00:40"},"ABD",null,1985,"Masters 1/2",false]
[26,"COUSTILLERES-Christophe","COUSTILLERES","Christophe","M","1971-12-13",43.449691991786445,"VC Castelmayran","UFOLEP",null,"Masters 3/4",45,{"$f":"VLOOKUP(A27,'Chrono+Classement'!G:O,5,FALSE)","v":15},{"$f":"VLOOKUP(A27,'Chrono+Classement'!G:O,9,FALSE)","v":"02:19:11"},{"$f":"IF(L27=17,Param!G27,IF(L27=28,Param!H27,IF(L27=45,Param!I27)))","v":"00:00:40"},{"$f":"N27-O27","v":"02:18:31"},null,1971,"Masters 3/4",false]
[27,"FENASSE-Frederic","FENASSE","Frederic","M","1964-12-09",50.458590006844624,"TOAC","FFC","2231105003","Masters 5",45,{"$f":"VLOOKUP(A28,'Chrono+Classement'!G:O,5,FALSE)","v":38},{"$f":"VLOOKUP(A28,'Chrono+Classement'!G:O,9,FALSE)","v":"02:51:16"},{"$f":"IF(L28=17,Param!G28,IF(L28=28,Param!H28,IF(L28=45,Param!I28)))","v":"00:00:40"},{"$f":"N28-O28","v":"02:50:36"},null,1964,"Masters 5",false]
[28,"FENASSE-Damien","FENASSE","Damien","M","1994-11-08",20.544832306639289,"TOAC","FFC","2231105002","Espoirs",45,{"$f":"VLOOKUP(A29,'Chrono+Classement'!G:O,5,FALSE)","v":26},{"$f":"VLOOKUP(A29,'Chrono+Classement'!G:O,9,FALSE)","v":"02:33:02"},{"$f":"IF(L29=17,Param!G29,IF(L29=28,Param!H29,IF(L29=45,Param!I29)))","v":"00:00:40"},{"$f":"N29-O29","v":"02:32:22"},null,1994,"Espoirs",false]
[29,"LARRIPA-Bruno","LARRIPA","Bruno","M","1965-12-06",49.46748802190281,"JURANCON","UFOLEP",null,"Masters 5",45,{"$f":"VLOOKUP(A30,'Chrono+Classement'!G:O,5,FALSE)","v":49},{"$f":"VLOOKUP(A30,'Chrono+Classement'!G:O,9,FALSE)","v":"03:22:24"},{"$f":"IF(L30=17,Param!G30,IF(L30=28,Param!H30,IF(L30=45,Param!I30)))","v":"00:00:40"},{"$f":"N30-O30","v":"03:21:44"},null,1965,"Masters 5",false]
[30,"GINESTE-Antony","GINESTE","Antony","M","1991-06-12",23.953456536618756,"VC Montauban","FFC","2282320015","Hommes",45,{"$f":"VLOOKUP(A31,'Chrono+Classement'!G:O,5,FALSE)","v":42},{"$f":"VLOOKUP(A31,'Chrono+Classement'!G:O,9,FALSE)","v":"03:12:48"},{"$f":"IF(L31=17,Param!G31,IF(L31=28,Param!H31,IF(L31=45,Param!I31)))","v":"00:00:40"},{"$f":"N31-O31","v":"03:12:08"},null,1991,"Hommes",false]
[31,"ROCHE-Damien","ROCHE","Damien","M","1980-12-11",34.453114305270361,"Cahors Cyclisme","FFC","2246018045","Masters 1/2",45,"ABD","ABD",{"$f":"IF(L32=17,Param!G32,IF(L32=28,Param!H32,IF(L32=45,Param!I32)))","v":"00:00:40"},"ABD",null,1980,"Masters 1/2",false]
[32,"DIAS SOEIRO-Eric","DIAS SOEIRO","Eric","M","1977-11-08",37.544147843942504,"Cahors Cyclisme","FFC","2246018208","Masters 1/2",45,{"$f":"VLOOKUP(A33,'Chrono+Classement'!G:O,5,FALSE)","v":28},{"$f":"VLOOKUP(A33,'Chrono+Classement'!G:O,9,FALSE)","v":"02:34:32"},{"$f":"IF(L33=17,Param!G33,IF(L33=28,Param!H33,IF(L33=45,Param!I33)))","v":"00:00:40"},{"$f":"N33-O33","v":"02:33:52"},null,1977,"Masters 1/2",false]
[33,"VIGROOX-Gaetan","VIGROOX","Gaetan","M","1987-05-19",28.019164955509925,"VTT Evasion","FFC","2281800050","Hommes",45,{"$f":"VLOOKUP(A34,'Chrono+Classement'!G:O,5,FALSE)","v":48},{"$f":"VLOOKUP(A34,'Chrono+Classement'!G:O,9,FALSE)","v":"03:19:11"},{"$f":"IF(L34=17,Param!G34,IF(L34=28,Param!H34,IF(L34=45,Param!I34)))","v":"00:00:40"},{"$f":"N34-O34","v":"03:18:31"},null,1987,"Hommes",false]
[34,"GAYRAL-Michael","GAYRAL","Michael","M","1992-08-27",22.743326488706366,"VSM","FFC","2282320010","Hommes",45,{"$f":"VLOOKUP(A35,'Chrono+Classement'!G:O,5,FALSE)","v":24},{"$f":"VLOOKUP(A35,'Chrono+Classement'!G:O,9,FALSE)","v":"02:29:56"},{"$f":"IF(L35=17,Param!G35,IF(L35=28,Param!H35,IF(L35=45,Param!I35)))","v":"00:00:40"},{"$f":"N35-O35","v":"02:29:16"},null,1992,"Hommes",false]
[35,"BARBANSON-Xavier","BARBANSON","Xavier","M","1979-09-27",35.66050650239562,"TOAC","FSGT",null,"Masters 1/2",45,"ABD","ABD",{"$f":"IF(L36=17,Param!G36,IF(L36=28,Param!H36,IF(L36=45,Param!I36)))","v":"00:00:40"},"ABD",null,1979,"Masters 1/2",false]
[36,"RALECHE-Jean-Michel","RALECHE","Jean-Michel","M","1971-04-23",44.090349075975361,null,"NL",null,"Masters 3/4",45,{"$f":"VLOOKUP(A37,'Chrono+Classement'!G:O,5,FALSE)","v":53},{"$f":"VLOOKUP(A37,'Chrono+Classement'!G:O,9,FALSE)","v":"03:31:07"},{"$f":"IF(L37=17,Param!G37,IF(L37=28,Param!H37,IF(L37=45,Param!I37)))","v":"00:00:40"},{"$f":"N37-O37","v":"03:30:27"},null,1971,"Masters 3/4",false]
[37,"CARTRON-Jacques","CARTRON","Jacques","M","1967-07-07",47.885010266940455,"Maillons Libres","NL",null,"Masters 3/4",45,{"$f":"VLOOKUP(A38,'Chrono+Classement'!G:O,5,FALSE)","v":46},{"$f":"VLOOKUP(A38,'Chrono+Classement'!G:O,9,FALSE)","v":"03:15:54"},{"$f":"IF(L38=17,Param!G38,IF(L38=28,Param!H38,IF(L38=45,Param!I38)))","v":"00:00:40"},"03:15:14",null,1967,"Masters 3/4",false]
[38,"PAGES-Yves","PAGES","Yves","M","1967-10-12",47.619438740588635,"VTT Cornebarieu","NL",null,"Masters 3/4",45,{"$f":"VLOOKUP(A39,'Chrono+Classement'!G:O,5,FALSE)","v":29},{"$f":"VLOOKUP(A39,'Chrono+Classement'!G:O,9,FALSE)","v":"02:34:47"},{"$f":"IF(L39=17,Param!G39,IF(L39=28,Param!H39,IF(L39=45,Param!I39)))","v":"00:00:40"},"02:34:07",null,1967,"Masters 3/4",false]
[39,"BARCELO-Thierry","BARCELO","Thierry","M","1963-04-24",52.087611225188226,"CPRS Pins Justaret","FSGT",null,"Masters 5",45,{"$f":"VLOOKUP(A40,'Chrono+Classement'!G:O,5,FALSE)","v":25},{"$f":"VLOOKUP(A40,'Chrono+Classement'!G:O,9,FALSE)","v":"02:32:30"},{"$f":"IF(L40=17,Param!G40,IF(L40=28,Param!H40,IF(L40=45,Param!I40)))","v":"00:00:40"},"02:31:50",null,1963,"Masters 5",false]
[40,"GAYRAUD-Cédric","GAYRAUD","Cédric","M","1983-03-21",32.180698151950722,"APC","UFOLEP",null,"Masters 1/2",45,{"$f":"VLOOKUP(A41,'Chrono+Classement'!G:O,5,FALSE)","v":30},{"$f":"VLOOKUP(A41,'Chrono+Classement'!G:O,9,FALSE)","v":"02:35:53"},{"$f":"IF(L41=17,Param!G41,IF(L41=28,Param!H41,IF(L41=45,Param!I41)))","v":"00:00:40"},"02:35:13",null,1983,"Masters 1/2",false]
[41,"NICE-Stephane","NICE","Stephane","M","1981-05-07",34.050650239561946,null,"NL",null,"Masters 1/2",45,{"$f":"VLOOKUP(A42,'Chrono+Classement'!G:O,5,FALSE)","v":56},{"$f":"VLOOKUP(A42,'Chrono+Classement'!G:O,9,FALSE)","v":"03:45:41"},{"$f":"IF(L42=17,Param!G42,IF(L42=28,Param!H42,IF(L42=45,Param!I42)))","v":"00:00:40"},"03:45:01",null,1981,"Masters 1/2",false]
[42,"JOULIE-Nicolas","JOULIE","Nicolas","M","1973-12-11",41.453798767967143,"Muret","FFC","2231025021","Masters 3/4",45,{"$f":"VLOOKUP(A43,'Chrono+Classement'!G:O,5,FALSE)","v":21},{"$f":"VLOOKUP(A43,'Chrono+Classement'!G:O,9,FALSE)","v":"02:27:52"},{"$f":"IF(L43=17,Param!G43,IF(L43=28,Param!H43,IF(L43=45,Param!I43)))","v":"00:00:40"},"02:27:12",null,1973,"Masters 3/4",false]
[43,"SIGOT-François","SIGOT","François","M","1964-08-17",50.770704996577685,"Muret","FFC","2231025002","Masters 5",45,{"$f":"VLOOKUP(A44,'Chrono+Classement'!G:O,5,FALSE)","v":36},{"$f":"VLOOKUP(A44,'Chrono+Classement'!G:O,9,FALSE)","v":"02:44:53"},{"$f":"IF(L44=17,Param!G44,IF(L44=28,Param!H44,IF(L44=45,Param!I44)))","v":"00:00:40"},"02:44:13",null,1964,"Masters 5",false]
[44,"MATHIEU-Sebastien","MATHIEU","Sebastien","M","1981-10-03",33.642710472279262,"VC Laissac","FFC","2212095078","Masters 1/2",45,{"$f":"VLOOKUP(A45,'Chrono+Classement'!G:O,5,FALSE)","v":19},{"$f":"VLOOKUP(A45,'Chrono+Classement'!G:O,9,FALSE)","v":"02:25:57"},{"$f":"IF(L45=17,Param!G45,IF(L45=28,Param!H45,IF(L45=45,Param!I45)))","v":"00:00:40"},"02:25:17",null,1981,"Masters 1/2",false]
[45,"SIRGUE-Jérome","SIRGUE","Jérome","M","1973-04-11",42.121834360027378,"VC Laissac","FFC","2212095114","Masters 3/4",45,{"$f":"VLOOKUP(A46,'Chrono+Classement'!G:O,5,FALSE)","v":47},{"$f":"VLOOKUP(A46,'Chrono+Classement'!G:O,9,FALSE)","v":"03:19:02"},{"$f":"IF(L46=17,Param!G46,IF(L46=28,Param!H46,IF(L46=45,Param!I46)))","v":"00:00:40"},"03:18:22",null,1973,"Masters 3/4",false]
[46,"JOUVE-Dominique","JOUVE","Dominique","M","1961-08-25",53.74948665297741,null,"NL",null,"Masters 5",45,{"$f":"VLOOKUP(A47,'Chrono+Classement'!G:O,5,FALSE)","v":55},{"$f":"VLOOKUP(A47,'Chrono+Classement'!G:O,9,FALSE)","v":"03:35:57"},{"$f":"IF(L47=17,Param!G47,IF(L47=28,Param!H47,IF(L47=45,Param!I47)))","v":"00:00:40"},"03:35:17",null,1961,"Masters 5",false]
[47,"BORN-Vivian","BORN","Vivian","M","1996-04-19",19.09924709103354,"VILLENEUVE Cycliste","FFC","2233109039","Espoirs",45,{"$f":"VLOOKUP(A48,'Chrono+Classement'!G:O,5,FALSE)","v":13},{"$f":"VLOOKUP(A48,'Chrono+Classement'!G:O,9,FALSE)","v":"02:13:47"},{"$f":"IF(L48=17,Param!G48,IF(L48=28,Param!H48,IF(L48=45,Param!I48)))","v":"00:00:40"},"02:13:07",null,1996,"Espoirs",false]
[48,"-",null,null,null,null,115.40041067761807,null,null,null,null,45,{"$f":"VLOOKUP(A49,'Chrono+Classement'!G:O,5,FALSE)","v":{"$error":"#N/A"}},{"$f":"VLOOKUP(A49,'Chrono+Classement'!G:O,9,FALSE)","v":{"$error":"#N/A"}},{"$f":"IF(L49=17,Param!G49,IF(L49=28,Param!H49,IF(L49=45,Param!I49)))","v":"00:00:40"},{"$error":"#N/A"},null,1900,false,false]
[49,"-",null,null,null,null,115.40041067761807,null,null,null,null,45,{"$f":"VLOOKUP(A50,'Chrono+Classement'!G:O,5,FALSE)","v":{"$error":"#N/A"}},{"$f":"VLOOKUP(A50,'Chrono+Classement'!G:O,9,FALSE)","v":{"$error":"#N/A"}},{"$f":"IF(L50=17,Param!G50,IF(L50=28,Param!H50,IF(L50=45,Param!I50)))","v":"00:00:40"},{"$error":"#N/A"},null,1900,false,false]
[50,"-",null,null,null,null,115.40041067761807,null,null,null,null,45,{"$f":"VLOOKUP(A51,'Chrono+Classement'!G:O,5,FALSE)","v":{"$error":"#N/A"}},{"$f":"VLOOKUP(A51,'Chrono+Classement'!G:O,9,FALSE)","v":{"$error":"#N/A"}},{"$f":"IF(L51=17,Param!G51,IF(L51=28,Param!H51,IF(L51=45,Param!I51)))","v":"00:00:40"},{"$error":"#N/A"},null,1900,false,false]
[51,"-",null,null,null,null,115.40041067761807,null,null,null,null,45,{"$f":"VLOOKUP(A52,'Chrono+Classement'!G:O,5,FALSE)","v":{"$error":"#N/A"}},{"$f":"VLOOKUP(A52,'Chrono+Classement'!G:O,9,FALSE)","v":{"$error":"#N/A"}},{"$f":"IF(L52=17,Param!G52,IF(L52=28,Param!H52,IF(L52=45,Param!I52)))","v":"00:00:40"},{"$error":"#N/A"},null,1900,false,false]
[52,"-",null,null,null,null,115.40041067761807,null,null,null,null,45,{"$f":"VLOOKUP(A53,'Chrono+Classement'!G:O,5,FALSE)","v":{"$error":"#N/A"}},{"$f":"VLOOKUP(A53,'Chrono+Classement'!G:O,9,FALSE)","v":{"$error":"#N/A"}},{"$f":"IF(L53=17,Param!G53,IF(L53=28,Param!H53,IF(L53=45,Param!I53)))","v":"00:00:40"},{"$error":"#N/A"},null,1900,false,false]
[53,"-",null,null,null,null,115.40041067761807,null,null,null,null,45,{"$f":"VLOOKUP(A54,'Chrono+Classement'!G:O,5,FALSE)","v":{"$error":"#N/A"}},{"$f":"VLOOKUP(A54,'Chrono+Classement'!G:O,9,FALSE)","v":{"$error":"#N/A"}},{"$f":"IF(L54=17,Param!G54,IF(L54=28,Param!H54,IF(L54=45,Param!I54)))","v":"00:00:40"},{"$error":"#N/A"},null,1900,false,false]
[54,"-",null,null,null,null,115.40041067761807,null,null,null,null,45,{"$f":"VLOOKUP(A55,'Chrono+Classement'!G:O,5,FALSE)","v":{"$error":"#N/A"}},{"$f":"VLOOKUP(A55,'Chrono+Classement'!G:O,9,FALSE)","v":{"$error":"#N/A"}},{"$f":"IF(L55=17,Param!G55,IF(L55=28,Param!H55,IF(L55=45,Param!I55)))","v":"00:00:40"},{"$error":"#N/A"},null,1900,false,false]
[55,"-",null,null,null,null,115.40041067761807,null,null,null,null,45,{"$f":"VLOOKUP(A56,'Chrono+Classement'!G:O,5,FALSE)","v":{"$error":"#N/A"}},{"$f":"VLOOKUP(A56,'Chrono+Classement'!G:O,9,FALSE)","v":{"$error":"#N/A"}},{"$f":"IF(L56=17,Param!G56,IF(L56=28,Param!H56,IF(L56=45,Param!I56)))","v":"00:00:40"},{"$error":"#N/A"},null,1900,false,false]
[56,"-",null,null,null,null,115.40041067761807,null,null,null,null,45,{"$f":"VLOOKUP(A57,'Chrono+Classement'!G:O,5,FALSE)","v":{"$error":"#N/A"}},{"$f":"VLOOKUP(A57,'Chrono+Classement'!G:O,9,FALSE)","v":{"$error":"#N/A"}},{"$f":"IF(L57=17,Param!G57,IF(L57=28,Param!H57,IF(L57=45,Param!I57)))","v":"00:00:40"},{"$error":"#N/A"},null,1900,false,false]
[57,"-",null,null,null,null,115.40041067761807,null,null,null,null,45,{"$f":"VLOOKUP(A58,'Chrono+Classement'!G:O,5,FALSE)","v":{"$error":"#N/A"}},{"$f":"VLOOKUP(A58,'Chrono+Classement'!G:O,9,FALSE)","v":{"$error":"#N/A"}},{"$f":"IF(L58=17,Param!G58,IF(L58=28,Param!H58,IF(L58=45,Param!I58)))","v":"00:00:40"},{"$error":"#N/A"},null,1900,false,false]
[58,"-",null,null,null,null,115.40041067761807,null,null,null,null,45,{"$f":"VLOOKUP(A59,'Chrono+Classement'!G:O,5,FALSE)","v":{"$error":"#N/A"}},{"$f":"VLOOKUP(A59,'Chrono+Classement'!G:O,9,FALSE)","v":{"$error":"#N/A"}},{"$f":"IF(L59=17,Param!G59,IF(L59=28,Param!H59,IF(L59=45,Param!I59)))","v":"00:00:40"},{"$error":"#N/A"},null,1900,false,false]
[59,"-",null,null,null,null,115.40041067761807,null,null,null,null,45,{"$f":"VLOOKUP(A60,'Chrono+Classement'!G:O,5,FALSE)","v":{"$error":"#N/A"}},{"$f":"VLOOKUP(A60,'Chrono+Classement'!G:O,9,FALSE)","v":{"$error":"#N/A"}},{"$f":"IF(L60=17,Param!G60,IF(L60=28,Param!H60,IF(L60=45,Param!I60)))","v":"00:00:40"},{"$error":"#N/A"},null,1900,false,false]
[60,"-",null,null,null,null,115.40041067761807,null,null,null,null,45,{"$f":"VLOOKUP(A61,'Chrono+Classement'!G:O,5,FALSE)","v":{"$error":"#N/A"}},{"$f":"VLOOKUP(A61,'Chrono+Classement'!G:O,9,FALSE)","v":{"$error":"#N/A"}},{"$f":"IF(L61=17,Param!G61,IF(L61=28,Param!H61,IF(L61=45,Param!I61)))","v":"00:00:40"},{"$error":"#N/A"},null,1900,false,false]
[61,"-",null,null,null,null,115.40041067761807,null,null,null,null,45,{"$f":"VLOOKUP(A62,'Chrono+Classement'!G:O,5,FALSE)","v":{"$error":"#N/A"}},{"$f":"VLOOKUP(A62,'Chrono+Classement'!G:O,9,FALSE)","v":{"$error":"#N/A"}},{"$f":"IF(L62=17,Param!G62,IF(L62=28,Param!H62,IF(L62=45,Param!I62)))","v":"00:00:40"},{"$error":"#N/A"},null,1900,false,false]
[62,"-",null,null,null,null,115.40041067761807,null,null,null,null,45,{"$f":"VLOOKUP(A63,'Chrono+Classement'!G:O,5,FALSE)","v":{"$error":"#N/A"}},{"$f":"VLOOKUP(A63,'Chrono+Classement'!G:O,9,FALSE)","v":{"$error":"#N/A"}},{"$f":"IF(L63=17,Param!G63,IF(L63=28,Param!H63,IF(L63=45,Param!I63)))","v":"00:00:40"},{"$error":"#N/A"},null,1900,false,false]
[63,"-",null,null,null,null,115.40041067761807,null,null,null,null,45,{"$f":"VLOOKUP(A64,'Chrono+Classement'!G:O,5,FALSE)","v":{"$error":"#N/A"}},{"$f":"VLOOKUP(A64,'Chrono+Classement'!G:O,9,FALSE)","v":{"$error":"#N/A"}},{"$f":"IF(L64=17,Param!G64,IF(L64=28,Param!H64,IF(L64=45,Param!I64)))","v":"00:00:40"},{"$error":"#N/A"},null,1900,false,false]
[64,"-",null,null,null,null,115.40041067761807,null,null,null,null,45,{"$f":"VLOOKUP(A65,'Chrono+Classement'!G:O,5,FALSE)","v":{"$error":"#N/A"}},{"$f":"VLOOKUP(A65,'Chrono+Classement'!G:O,9,FALSE)","v":{"$error":"#N/A"}},{"$f":"IF(L65=17,Param!G65,IF(L65=28,Param!H65,IF(L65=45,Param!I65)))","v":"00:00:40"},{"$error":"#N/A"},null,1900,false,false]
[65,{"$f":"CONCATENATE(C66,\"-\",D66)","v":"-"},null,null,null,null,{"$f":"(TODAY()-F66)/365.25","v":115.40041067761807},null,null,null,null,45,{"$f":"VLOOKUP(A66,'Chrono+Classement'!G:O,5,FALSE)","v":{"$error":"#N/A"}},{"$f":"VLOOKUP(A66,'Chrono+Classement'!G:O,9,FALSE)","v":{"$error":"#N/A"}},{"$f":"IF(L66=17,Param!G66,IF(L66=28,Param!H66,IF(L66=45,Param!I66)))","v":"00:00:40"},{"$error":"#N/A"},null,{"$f":"YEAR(F66)","v":1900},{"$f":"IF(E66=\"M\",IF(R66<=1965,\"Masters 5\",IF(R66<=1975,\"Masters 3/4\",IF(R66<=1985,\"Masters 1/2\",IF(R66<=1992,\"Hommes\",IF(R66<=1996,\"Espoirs\",IF(R66<=1998,\"Juniors\",IF(R66<=2000,\"Cadets\",0))))))))","v":false},{"$f":"IF(E66=\"F\",IF(R66<=1992,\"Dames\",IF(R66<=1996,\"Espoirs Dames\",IF(R66<=1998,\"Juniors Dames\",IF(R66<=2000,\"Cadettes\",0)))))","v":false}]
[66,"-",null,null,null,null,115.40041067761807,null,null,null,null,45,{"$f":"VLOOKUP(A67,'Chrono+Classement'!G:O,5,FALSE)","v":{"$error":"#N/A"}},{"$f":"VLOOKUP(A67,'Chrono+Classement'!G:O,9,FALSE)","v":{"$error":"#N/A"}},{"$f":"IF(L67=17,Param!G67,IF(L67=28,Param!H67,IF(L67=45,Param!I67)))","v":"00:00:40"},{"$error":"#N/A"},null,1900,false,false]
[67,"-",null,null,null,null,115.40041067761807,null,null,null,null,45,{"$f":"VLOOKUP(A68,'Chrono+Classement'!G:O,5,FALSE)","v":{"$error":"#N/A"}},{"$f":"VLOOKUP(A68,'Chrono+Classement'!G:O,9,FALSE)","v":{"$error":"#N/A"}},{"$f":"IF(L68=17,Param!G68,IF(L68=28,Param!H68,IF(L68=45,Param!I68)))","v":"00:00:40"},{"$error":"#N/A"},null,1900,false,false]
[68,"-",null,null,null,null,115.40041067761807,null,null,null,null,45,{"$f":"VLOOKUP(A69,'Chrono+Classement'!G:O,5,FALSE)","v":{"$error":"#N/A"}},{"$f":"VLOOKUP(A69,'Chrono+Classement'!G:O,9,FALSE)","v":{"$error":"#N/A"}},{"$f":"IF(L69=17,Param!G69,IF(L69=28,Param!H69,IF(L69=45,Param!I69)))","v":"00:00:40"},{"$error":"#N/A"},null,1900,false,false]
[69,"-",null,null,null,null,115.40041067761807,null,null,null,null,45,{"$f":"VLOOKUP(A70,'Chrono+Classement'!G:O,5,FALSE)","v":{"$error":"#N/A"}},{"$f":"VLOOKUP(A70,'Chrono+Classement'!G:O,9,FALSE)","v":{"$error":"#N/A"}},{"$f":"IF(L70=17,Param!G70,IF(L70=28,Param!H70,IF(L70=45,Param!I70)))","v":"00:00:40"},{"$error":"#N/A"},null,1900,false,false]
[70,"-",null,null,null,null,115.40041067761807,null,null,null,null,45,{"$f":"VLOOKUP(A71,'Chrono+Classement'!G:O,5,FALSE)","v":{"$error":"#N/A"}},{"$f":"VLOOKUP(A71,'Chrono+Classement'!G:O,9,FALSE)","v":{"$error":"#N/A"}},{"$f":"IF(L71=17,Param!G71,IF(L71=28,Param!H71,IF(L71=45,Param!I71)))","v":"00:00:40"},{"$error":"#N/A"},null,1900,false,false]
[71,"-",null,null,null,null,115.40041067761807,null,null,null,null,45,{"$f":"VLOOKUP(A72,'Chrono+Classement'!G:O,5,FALSE)","v":{"$error":"#N/A"}},{"$f":"VLOOKUP(A72,'Chrono+Classement'!G:O,9,FALSE)","v":{"$error":"#N/A"}},{"$f":"IF(L72=17,Param!G72,IF(L72=28,Param!H72,IF(L72=45,Param!I72)))","v":"00:00:40"},{"$error":"#N/A"},null,1900,false,false]
[72,"-",null,null,null,null,115.40041067761807,null,null,null,null,45,{"$f":"VLOOKUP(A73,'Chrono+Classement'!G:O,5,FALSE)","v":{"$error":"#N/A"}},{"$f":"VLOOKUP(A73,'Chrono+Classement'!G:O,9,FALSE)","v":{"$error":"#N/A"}},{"$f":"IF(L73=17,Param!G73,IF(L73=28,Param!H73,IF(L73=45,Param!I73)))","v":"00:00:40"},{"$error":"#N/A"},null,1900,false,false]
[73,"-",null,null,null,null,115.40041067761807,null,null,null,null,45,{"$f":"VLOOKUP(A74,'Chrono+Classement'!G:O,5,FALSE)","v":{"$error":"#N/A"}},{"$f":"VLOOKUP(A74,'Chrono+Classement'!G:O,9,FALSE)","v":{"$error":"#N/A"}},{"$f":"IF(L74=17,Param!G74,IF(L74=28,Param!H74,IF(L74=45,Param!I74)))","v":"00:00:40"},{"$error":"#N/A"},null,1900,false,false]
[74,"-",null,null,null,null,115.40041067761807,null,null,null,null,45,{"$f":"VLOOKUP(A75,'Chrono+Classement'!G:O,5,FALSE)","v":{"$error":"#N/A"}},{"$f":"VLOOKUP(A75,'Chrono+Classement'!G:O,9,FALSE)","v":{"$error":"#N/A"}},{"$f":"IF(L75=17,Param!G75,IF(L75=28,Param!H75,IF(L75=45,Param!I75)))","v":"00:00:40"},{"$error":"#N/A"},null,1900,false,false]
[75,"-",null,null,null,null,115.40041067761807,null,null,null,null,45,{"$f":"VLOOKUP(A76,'Chrono+Classement'!G:O,5,FALSE)","v":{"$error":"#N/A"}},{"$f":"VLOOKUP(A76,'Chrono+Classement'!G:O,9,FALSE)","v":{"$error":"#N/A"}},{"$f":"IF(L76=17,Param!G76,IF(L76=28,Param!H76,IF(L76=45,Param!I76)))","v":"00:00:40"},{"$error":"#N/A"},null,1900,false,false]
[76,"-",null,null,null,null,115.40041067761807,null,null,null,null,45,{"$f":"VLOOKUP(A77,'Chrono+Classement'!G:O,5,FALSE)","v":{"$error":"#N/A"}},{"$f":"VLOOKUP(A77,'Chrono+Classement'!G:O,9,FALSE)","v":{"$error":"#N/A"}},{"$f":"IF(L77=17,Param!G77,IF(L77=28,Param!H77,IF(L77=45,Param!I77)))","v":"00:00:40"},{"$error":"#N/A"},null,1900,false,false]
[77,"-",null,null,null,null,115.40041067761807,null,null,null,null,45,{"$f":"VLOOKUP(A78,'Chrono+Classement'!G:O,5,FALSE)","v":{"$error":"#N/A"}},{"$f":"VLOOKUP(A78,'Chrono+Classement'!G:O,9,FALSE)","v":{"$error":"#N/A"}},{"$f":"IF(L78=17,Param!G78,IF(L78=28,Param!H78,IF(L78=45,Param!I78)))","v":"00:00:40"},{"$error":"#N/A"},null,1900,false,false]
[78,"-",null,null,null,null,115.40041067761807,null,null,null,null,45,{"$f":"VLOOKUP(A79,'Chrono+Classement'!G:O,5,FALSE)","v":{"$error":"#N/A"}},{"$f":"VLOOKUP(A79,'Chrono+Classement'!G:O,9,FALSE)","v":{"$error":"#N/A"}},{"$f":"IF(L79=17,Param!G79,IF(L79=28,Param!H79,IF(L79=45,Param!I79)))","v":"00:00:40"},{"$error":"#N/A"},null,1900,false,false]
[79,"-",null,null,null,null,115.40041067761807,null,null,null,null,45,{"$f":"VLOOKUP(A80,'Chrono+Classement'!G:O,5,FALSE)","v":{"$error":"#N/A"}},{"$f":"VLOOKUP(A80,'Chrono+Classement'!G:O,9,FALSE)","v":{"$error":"#N/A"}},{"$f":"IF(L80=17,Param!G80,IF(L80=28,Param!H80,IF(L80=45,Param!I80)))","v":"00:00:40"},{"$error":"#N/A"},null,1900,false,false]
[80,"-",null,null,null,null,115.40041067761807,null,null,null,null,45,{"$f":"VLOOKUP(A81,'Chrono+Classement'!G:O,5,FALSE)","v":{"$error":"#N/A"}},{"$f":"VLOOKUP(A81,'Chrono+Classement'!G:O,9,FALSE)","v":{"$error":"#N/A"}},{"$f":"IF(L81=17,Param!G81,IF(L81=28,Param!H81,IF(L81=45,Param!I81)))","v":"00:00:40"},{"$error":"#N/A"},null,1900,false,false]
[81,"-",null,null,null,null,115.40041067761807,null,null,null,null,45,{"$f":"VLOOKUP(A82,'Chrono+Classement'!G:O,5,FALSE)","v":{"$error":"#N/A"}},{"$f":"VLOOKUP(A82,'Chrono+Classement'!G:O,9,FALSE)","v":{"$error":"#N/A"}},{"$f":"IF(L82=17,Param!G82,IF(L82=28,Param!H82,IF(L82=45,Param!I82)))","v":"00:00:40"},{"$error":"#N/A"},null,1900,false,false]
[82,"-",null,null,null,null,115.40041067761807,null,null,null,null,45,{"$f":"VLOOKUP(A83,'Chrono+Classement'!G:O,5,FALSE)","v":{"$error":"#N/A"}},{"$f":"VLOOKUP(A83,'Chrono+Classement'!G:O,9,FALSE)","v":{"$error":"#N/A"}},{"$f":"IF(L83=17,Param!G83,IF(L83=28,Param!H83,IF(L83=45,Param!I83)))","v":"00:00:40"},{"$error":"#N/A"},null,1900,false,false]
[83,"-",null,null,null,null,115.40041067761807,null,null,null,null,45,{"$f":"VLOOKUP(A84,'Chrono+Classement'!G:O,5,FALSE)","v":{"$error":"#N/A"}},{"$f":"VLOOKUP(A84,'Chrono+Classement'!G:O,9,FALSE)","v":{"$error":"#N/A"}},{"$f":"IF(L84=17,Param!G84,IF(L84=28,Param!H84,IF(L84=45,Param!I84)))","v":"00:00:40"},{"$error":"#N/A"},null,1900,false,false]
[84,"-",null,null,null,null,115.40041067761807,null,null,null,null,45,{"$f":"VLOOKUP(A85,'Chrono+Classement'!G:O,5,FALSE)","v":{"$error":"#N/A"}},{"$f":"VLOOKUP(A85,'Chrono+Classement'!G:O,9,FALSE)","v":{"$error":"#N/A"}},{"$f":"IF(L85=17,Param!G85,IF(L85=28,Param!H85,IF(L85=45,Param!I85)))","v":"00:00:40"},{"$error":"#N/A"},null,1900,false,false]
[85,"-",null,null,null,null,115.40041067761807,null,null,null,null,45,{"$f":"VLOOKUP(A86,'Chrono+Classement'!G:O,5,FALSE)","v":{"$error":"#N/A"}},{"$f":"VLOOKUP(A86,'Chrono+Classement'!G:O,9,FALSE)","v":{"$error":"#N/A"}},{"$f":"IF(L86=17,Param!G86,IF(L86=28,Param!H86,IF(L86=45,Param!I86)))","v":"00:00:40"},{"$error":"#N/A"},null,1900,false,false]
[86,"-",null,null,null,null,115.40041067761807,null,null,null,null,45,{"$f":"VLOOKUP(A87,'Chrono+Classement'!G:O,5,FALSE)","v":{"$error":"#N/A"}},{"$f":"VLOOKUP(A87,'Chrono+Classement'!G:O,9,FALSE)","v":{"$error":"#N/A"}},{"$f":"IF(L87=17,Param!G87,IF(L87=28,Param!H87,IF(L87=45,Param!I87)))","v":"00:00:40"},{"$error":"#N/A"},null,1900,false,false]
[87,"-",null,null,null,null,115.40041067761807,null,null,null,null,45,{"$f":"VLOOKUP(A88,'Chrono+Classement'!G:O,5,FALSE)","v":{"$error":"#N/A"}},{"$f":"VLOOKUP(A88,'Chrono+Classement'!G:O,9,FALSE)","v":{"$error":"#N/A"}},{"$f":"IF(L88=17,Param!G88,IF(L88=28,Param!H88,IF(L88=45,Param!I88)))","v":"00:00:40"},{"$error":"#N/A"},null,1900,false,false]
[88,"-",null,null,null,null,115.40041067761807,null,null,null,null,45,{"$f":"VLOOKUP(A89,'Chrono+Classement'!G:O,5,FALSE)","v":{"$error":"#N/A"}},{"$f":"VLOOKUP(A89,'Chrono+Classement'!G:O,9,FALSE)","v":{"$error":"#N/A"}},{"$f":"IF(L89=17,Param!G89,IF(L89=28,Param!H89,IF(L89=45,Param!I89)))","v":"00:00:40"},{"$error":"#N/A"},null,1900,false,false]
[89,"-",null,null,null,null,115.40041067761807,null,null,null,null,45,{"$f":"VLOOKUP(A90,'Chrono+Classement'!G:O,5,FALSE)","v":{"$error":"#N/A"}},{"$f":"VLOOKUP(A90,'Chrono+Classement'!G:O,9,FALSE)","v":{"$error":"#N/A"}},{"$f":"IF(L90=17,Param!G90,IF(L90=28,Param!H90,IF(L90=45,Param!I90)))","v":"00:00:40"},{"$error":"#N/A"},null,1900,false,false]
[90,"-",null,null,null,null,115.40041067761807,null,null,null,null,45,{"$f":"VLOOKUP(A91,'Chrono+Classement'!G:O,5,FALSE)","v":{"$error":"#N/A"}},{"$f":"VLOOKUP(A91,'Chrono+Classement'!G:O,9,FALSE)","v":{"$error":"#N/A"}},{"$f":"IF(L91=17,Param!G91,IF(L91=28,Param!H91,IF(L91=45,Param!I91)))","v":"00:00:40"},{"$error":"#N/A"},null,1900,false,false]
[91,"-",null,null,null,null,115.40041067761807,null,null,null,null,45,{"$f":"VLOOKUP(A92,'Chrono+Classement'!G:O,5,FALSE)","v":{"$error":"#N/A"}},{"$f":"VLOOKUP(A92,'Chrono+Classement'!G:O,9,FALSE)","v":{"$error":"#N/A"}},{"$f":"IF(L92=17,Param!G92,IF(L92=28,Param!H92,IF(L92=45,Param!I92)))","v":"00:00:40"},{"$error":"#N/A"},null,1900,false,false]
[92,"-",null,null,null,null,115.40041067761807,null,null,null,null,45,{"$f":"VLOOKUP(A93,'Chrono+Classement'!G:O,5,FALSE)","v":{"$error":"#N/A"}},{"$f":"VLOOKUP(A93,'Chrono+Classement'!G:O,9,FALSE)","v":{"$error":"#N/A"}},{"$f":"IF(L93=17,Param!G93,IF(L93=28,Param!H93,IF(L93=45,Param!I93)))","v":"00:00:40"},{"$error":"#N/A"},null,1900,false,false]
[93,"-",null,null,null,null,115.40041067761807,null,null,null,null,45,{"$f":"VLOOKUP(A94,'Chrono+Classement'!G:O,5,FALSE)","v":{"$error":"#N/A"}},{"$f":"VLOOKUP(A94,'Chrono+Classement'!G:O,9,FALSE)","v":{"$error":"#N/A"}},{"$f":"IF(L94=17,Param!G94,IF(L94=28,Param!H94,IF(L94=45,Param!I94)))","v":"00:00:40"},{"$error":"#N/A"},null,1900,false,false]
[94,"-",null,null,null,null,115.40041067761807,null,null,null,null,45,{"$f":"VLOOKUP(A95,'Chrono+Classement'!G:O,5,FALSE)","v":{"$error":"#N/A"}},{"$f":"VLOOKUP(A95,'Chrono+Classement'!G:O,9,FALSE)","v":{"$error":"#N/A"}},{"$f":"IF(L95=17,Param!G95,IF(L95=28,Param!H95,IF(L95=45,Param!I95)))","v":"00:00:40"},{"$error":"#N/A"},null,1900,false,false]
[95,"-",null,null,null,null,115.40041067761807,null,null,null,null,45,{"$f":"VLOOKUP(A96,'Chrono+Classement'!G:O,5,FALSE)","v":{"$error":"#N/A"}},{"$f":"VLOOKUP(A96,'Chrono+Classement'!G:O,9,FALSE)","v":{"$error":"#N/A"}},{"$f":"IF(L96=17,Param!G96,IF(L96=28,Param!H96,IF(L96=45,Param!I96)))","v":"00:00:40"},{"$error":"#N/A"},null,1900,false,false]
[96,"-",null,null,null,null,115.40041067761807,null,null,null,null,45,{"$f":"VLOOKUP(A97,'Chrono+Classement'!G:O,5,FALSE)","v":{"$error":"#N/A"}},{"$f":"VLOOKUP(A97,'Chrono+Classement'!G:O,9,FALSE)","v":{"$error":"#N/A"}},{"$f":"IF(L97=17,Param!G97,IF(L97=28,Param!H97,IF(L97=45,Param!I97)))","v":"00:00:40"},{"$error":"#N/A"},null,1900,false,false]
[97,"-",null,null,null,null,115.40041067761807,null,null,null,null,45,{"$f":"VLOOKUP(A98,'Chrono+Classement'!G:O,5,FALSE)","v":{"$error":"#N/A"}},{"$f":"VLOOKUP(A98,'Chrono+Classement'!G:O,9,FALSE)","v":{"$error":"#N/A"}},{"$f":"IF(L98=17,Param!G98,IF(L98=28,Param!H98,IF(L98=45,Param!I98)))","v":"00:00:40"},{"$error":"#N/A"},null,1900,false,false]
[98,"-",null,null,null,null,115.40041067761807,null,null,null,null,45,{"$f":"VLOOKUP(A99,'Chrono+Classement'!G:O,5,FALSE)","v":{"$error":"#N/A"}},{"$f":"VLOOKUP(A99,'Chrono+Classement'!G:O,9,FALSE)","v":{"$error":"#N/A"}},{"$f":"IF(L99=17,Param!G99,IF(L99=28,Param!H99,IF(L99=45,Param!I99)))","v":"00:00:40"},{"$error":"#N/A"},null,1900,false,false]
[99,"-",null,null,null,null,115.40041067761807,null,null,null,null,45,{"$f":"VLOOKUP(A100,'Chrono+Classement'!G:O,5,FALSE)","v":{"$error":"#N/A"}},{"$f":"VLOOKUP(A100,'Chrono+Classement'!G:O,9,FALSE)","v":{"$error":"#N/A"}},{"$f":"IF(L100=17,Param!G100,IF(L100=28,Param!H100,IF(L100=45,Param!I100)))","v":"00:00:40"},{"$error":"#N/A"},null,1900,false,false]
[100,"-",null,null,null,null,115.40041067761807,null,null,null,null,45,{"$f":"VLOOKUP(A101,'Chrono+Classement'!G:O,5,FALSE)","v":{"$error":"#N/A"}},{"$f":"VLOOKUP(A101,'Chrono+Classement'!G:O,9,FALSE)","v":{"$error":"#N/A"}},{"$f":"IF(L101=17,Param!G101,IF(L101=28,Param!H101,IF(L101=45,Param!I101)))","v":"00:00:40"},{"$f":"N101-O101","v":{"$error":"#N/A"}},null,1900,false,false]
[101,"-",null,null,null,null,115.40041067761807,null,null,null,null,45,{"$f":"VLOOKUP(A102,'Chrono+Classement'!G:O,5,FALSE)","v":{"$error":"#N/A"}},{"$f":"VLOOKUP(A102,'Chrono+Classement'!G:O,9,FALSE)","v":{"$error":"#N/A"}},{"$f":"IF(L102=17,Param!G102,IF(L102=28,Param!H102,IF(L102=45,Param!I102)))","v":"00:00:40"},{"$error":"#N/A"},null,1900,false,false]
[102,"-",null,null,null,null,115.40041067761807,null,null,null,null,45,{"$f":"VLOOKUP(A103,'Chrono+Classement'!G:O,5,FALSE)","v":{"$error":"#N/A"}},{"$f":"VLOOKUP(A103,'Chrono+Classement'!G:O,9,FALSE)","v":{"$error":"#N/A"}},{"$f":"IF(L103=17,Param!G103,IF(L103=28,Param!H103,IF(L103=45,Param!I103)))","v":"00:00:40"},{"$error":"#N/A"},null,1900,false,false]
[103,"-",null,null,null,null,115.40041067761807,null,null,null,null,45,{"$f":"VLOOKUP(A104,'Chrono+Classement'!G:O,5,FALSE)","v":{"$error":"#N/A"}},{"$f":"VLOOKUP(A104,'Chrono+Classement'!G:O,9,FALSE)","v":{"$error":"#N/A"}},{"$f":"IF(L104=17,Param!G104,IF(L104=28,Param!H104,IF(L104=45,Param!I104)))","v":"00:00:40"},{"$error":"#N/A"},null,1900,false,false]
[104,"-",null,null,null,null,115.40041067761807,null,null,null,null,45,{"$f":"VLOOKUP(A105,'Chrono+Classement'!G:O,5,FALSE)","v":{"$error":"#N/A"}},{"$f":"VLOOKUP(A105,'Chrono+Classement'!G:O,9,FALSE)","v":{"$error":"#N/A"}},{"$f":"IF(L105=17,Param!G105,IF(L105=28,Param!H105,IF(L105=45,Param!I105)))","v":"00:00:40"},{"$error":"#N/A"},null,1900,false,false]
[105,"-",null,null,null,null,115.40041067761807,null,null,null,null,45,{"$f":"VLOOKUP(A106,'Chrono+Classement'!G:O,5,FALSE)","v":{"$error":"#N/A"}},{"$f":"VLOOKUP(A106,'Chrono+Classement'!G:O,9,FALSE)","v":{"$error":"#N/A"}},{"$f":"IF(L106=17,Param!G106,IF(L106=28,Param!H106,IF(L106=45,Param!I106)))","v":"00:00:40"},{"$error":"#N/A"},null,1900,false,false]
[106,"-",null,null,null,null,115.40041067761807,null,null,null,null,45,{"$f":"VLOOKUP(A107,'Chrono+Classement'!G:O,5,FALSE)","v":{"$error":"#N/A"}},{"$f":"VLOOKUP(A107,'Chrono+Classement'!G:O,9,FALSE)","v":{"$error":"#N/A"}},{"$f":"IF(L107=17,Param!G107,IF(L107=28,Param!H107,IF(L107=45,Param!I107)))","v":"00:00:40"},{"$error":"#N/A"},null,1900,false,false]
[107,"-",null,null,null,null,115.40041067761807,null,null,null,null,45,{"$f":"VLOOKUP(A108,'Chrono+Classement'!G:O,5,FALSE)","v":{"$error":"#N/A"}},{"$f":"VLOOKUP(A108,'Chrono+Classement'!G:O,9,FALSE)","v":{"$error":"#N/A"}},{"$f":"IF(L108=17,Param!G108,IF(L108=28,Param!H108,IF(L108=45,Param!I108)))","v":"00:00:40"},{"$error":"#N/A"},null,1900,false,false]
[108,"-",null,null,null,null,115.40041067761807,null,null,null,null,45,{"$f":"VLOOKUP(A109,'Chrono+Classement'!G:O,5,FALSE)","v":{"$error":"#N/A"}},{"$f":"VLOOKUP(A109,'Chrono+Classement'!G:O,9,FALSE)","v":{"$error":"#N/A"}},{"$f":"IF(L109=17,Param!G109,IF(L109=28,Param!H109,IF(L109=45,Param!I109)))","v":"00:00:40"},{"$error":"#N/A"},null,1900,false,false]
[109,"-",null,null,null,null,115.40041067761807,null,null,null,null,45,{"$f":"VLOOKUP(A110,'Chrono+Classement'!G:O,5,FALSE)","v":{"$error":"#N/A"}},{"$f":"VLOOKUP(A110,'Chrono+Classement'!G:O,9,FALSE)","v":{"$error":"#N/A"}},{"$f":"IF(L110=17,Param!G110,IF(L110=28,Param!H110,IF(L110=45,Param!I110)))","v":"00:00:40"},{"$error":"#N/A"},null,1900,false,false]
[110,"-",null,null,null,null,115.40041067761807,null,null,null,null,45,{"$f":"VLOOKUP(A111,'Chrono+Classement'!G:O,5,FALSE)","v":{"$error":"#N/A"}},{"$f":"VLOOKUP(A111,'Chrono+Classement'!G:O,9,FALSE)","v":{"$error":"#N/A"}},{"$f":"IF(L111=17,Param!G111,IF(L111=28,Param!H111,IF(L111=45,Param!I111)))","v":"00:00:40"},{"$error":"#N/A"},null,1900,false,false]
[111,"-",null,null,null,null,115.40041067761807,null,null,null,null,45,{"$f":"VLOOKUP(A112,'Chrono+Classement'!G:O,5,FALSE)","v":{"$error":"#N/A"}},{"$f":"VLOOKUP(A112,'Chrono+Classement'!G:O,9,FALSE)","v":{"$error":"#N/A"}},{"$f":"IF(L112=17,Param!G112,IF(L112=28,Param!H112,IF(L112=45,Param!I112)))","v":"00:00:40"},{"$error":"#N/A"},null,1900,false,false]
[112,"-",null,null,null,null,115.40041067761807,null,null,null,null,45,{"$f":"VLOOKUP(A113,'Chrono+Classement'!G:O,5,FALSE)","v":{"$error":"#N/A"}},{"$f":"VLOOKUP(A113,'Chrono+Classement'!G:O,9,FALSE)","v":{"$error":"#N/A"}},{"$f":"IF(L113=17,Param!G113,IF(L113=28,Param!H113,IF(L113=45,Param!I113)))","v":"00:00:40"},{"$error":"#N/A"},null,1900,false,false]
[113,"-",null,null,null,null,115.40041067761807,null,null,null,null,45,{"$f":"VLOOKUP(A114,'Chrono+Classement'!G:O,5,FALSE)","v":{"$error":"#N/A"}},{"$f":"VLOOKUP(A114,'Chrono+Classement'!G:O,9,FALSE)","v":{"$error":"#N/A"}},{"$f":"IF(L114=17,Param!G114,IF(L114=28,Param!H114,IF(L114=45,Param!I114)))","v":"00:00:40"},{"$error":"#N/A"},null,1900,false,false]
[114,"-",null,null,null,null,115.40041067761807,null,null,null,null,45,{"$f":"VLOOKUP(A115,'Chrono+Classement'!G:O,5,FALSE)","v":{"$error":"#N/A"}},{"$f":"VLOOKUP(A115,'Chrono+Classement'!G:O,9,FALSE)","v":{"$error":"#N/A"}},{"$f":"IF(L115=17,Param!G115,IF(L115=28,Param!H115,IF(L115=45,Param!I115)))","v":"00:00:40"},{"$error":"#N/A"},null,1900,false,false]
[115,"-",null,null,null,null,115.40041067761807,null,null,null,null,45,{"$f":"VLOOKUP(A116,'Chrono+Classement'!G:O,5,FALSE)","v":{"$error":"#N/A"}},{"$f":"VLOOKUP(A116,'Chrono+Classement'!G:O,9,FALSE)","v":{"$error":"#N/A"}},{"$f":"IF(L116=17,Param!G116,IF(L116=28,Param!H116,IF(L116=45,Param!I116)))","v":"00:00:40"},{"$error":"#N/A"},null,1900,false,false]
[116,"-",null,null,null,null,115.40041067761807,null,null,null,null,45,{"$f":"VLOOKUP(A117,'Chrono+Classement'!G:O,5,FALSE)","v":{"$error":"#N/A"}},{"$f":"VLOOKUP(A117,'Chrono+Classement'!G:O,9,FALSE)","v":{"$error":"#N/A"}},{"$f":"IF(L117=17,Param!G117,IF(L117=28,Param!H117,IF(L117=45,Param!I117)))","v":"00:00:40"},{"$error":"#N/A"},null,1900,false,false]
[117,"-",null,null,null,null,115.40041067761807,null,null,null,null,45,{"$f":"VLOOKUP(A118,'Chrono+Classement'!G:O,5,FALSE)","v":{"$error":"#N/A"}},{"$f":"VLOOKUP(A118,'Chrono+Classement'!G:O,9,FALSE)","v":{"$error":"#N/A"}},{"$f":"IF(L118=17,Param!G118,IF(L118=28,Param!H118,IF(L118=45,Param!I118)))","v":"00:00:40"},{"$error":"#N/A"},null,1900,false,false]
[118,"-",null,null,null,null,115.40041067761807,null,null,null,null,45,{"$f":"VLOOKUP(A119,'Chrono+Classement'!G:O,5,FALSE)","v":{"$error":"#N/A"}},{"$f":"VLOOKUP(A119,'Chrono+Classement'!G:O,9,FALSE)","v":{"$error":"#N/A"}},{"$f":"IF(L119=17,Param!G119,IF(L119=28,Param!H119,IF(L119=45,Param!I119)))","v":"00:00:40"},{"$error":"#N/A"},null,1900,false,false]
[119,"-",null,null,null,null,115.40041067761807,null,null,null,null,45,{"$f":"VLOOKUP(A120,'Chrono+Classement'!G:O,5,FALSE)","v":{"$error":"#N/A"}},{"$f":"VLOOKUP(A120,'Chrono+Classement'!G:O,9,FALSE)","v":{"$error":"#N/A"}},{"$f":"IF(L120=17,Param!G120,IF(L120=28,Param!H120,IF(L120=45,Param!I120)))","v":"00:00:40"},{"$error":"#N/A"},null,1900,false,false]
[120,"-",null,null,null,null,115.40041067761807,null,null,null,null,45,{"$f":"VLOOKUP(A121,'Chrono+Classement'!G:O,5,FALSE)","v":{"$error":"#N/A"}},{"$f":"VLOOKUP(A121,'Chrono+Classement'!G:O,9,FALSE)","v":{"$error":"#N/A"}},{"$f":"IF(L121=17,Param!G121,IF(L121=28,Param!H121,IF(L121=45,Param!I121)))","v":"00:00:40"},{"$error":"#N/A"},null,1900,false,false]
[121,"-",null,null,null,null,115.40041067761807,null,null,null,null,45,{"$f":"VLOOKUP(A122,'Chrono+Classement'!G:O,5,FALSE)","v":{"$error":"#N/A"}},{"$f":"VLOOKUP(A122,'Chrono+Classement'!G:O,9,FALSE)","v":{"$error":"#N/A"}},{"$f":"IF(L122=17,Param!G122,IF(L122=28,Param!H122,IF(L122=45,Param!I122)))","v":"00:00:40"},{"$error":"#N/A"},null,1900,false,false]
[122,"-",null,null,null,null,115.40041067761807,null,null,null,null,45,{"$f":"VLOOKUP(A123,'Chrono+Classement'!G:O,5,FALSE)","v":{"$error":"#N/A"}},{"$f":"VLOOKUP(A123,'Chrono+Classement'!G:O,9,FALSE)","v":{"$error":"#N/A"}},{"$f":"IF(L123=17,Param!G123,IF(L123=28,Param!H123,IF(L123=45,Param!I123)))","v":"00:00:40"},{"$error":"#N/A"},null,1900,false,false]
[123,"-",null,null,null,null,115.40041067761807,null,null,null,null,45,{"$f":"VLOOKUP(A124,'Chrono+Classement'!G:O,5,FALSE)","v":{"$error":"#N/A"}},{"$f":"VLOOKUP(A124,'Chrono+Classement'!G:O,9,FALSE)","v":{"$error":"#N/A"}},{"$f":"IF(L124=17,Param!G124,IF(L124=28,Param!H124,IF(L124=45,Param!I124)))","v":"00:00:40"},{"$error":"#N/A"},null,1900,false,false]
[124,"-",null,null,null,null,115.40041067761807,null,null,null,null,45,{"$f":"VLOOKUP(A125,'Chrono+Classement'!G:O,5,FALSE)","v":{"$error":"#N/A"}},{"$f":"VLOOKUP(A125,'Chrono+Classement'!G:O,9,FALSE)","v":{"$error":"#N/A"}},{"$f":"IF(L125=17,Param!G125,IF(L125=28,Param!H125,IF(L125=45,Param!I125)))","v":"00:00:40"},{"$error":"#N/A"},null,1900,false,false]
[125,"-",null,null,null,null,115.40041067761807,null,null,null,null,45,{"$f":"VLOOKUP(A126,'Chrono+Classement'!G:O,5,FALSE)","v":{"$error":"#N/A"}},{"$f":"VLOOKUP(A126,'Chrono+Classement'!G:O,9,FALSE)","v":{"$error":"#N/A"}},{"$f":"IF(L126=17,Param!G126,IF(L126=28,Param!H126,IF(L126=45,Param!I126)))","v":"00:00:40"},{"$error":"#N/A"},null,1900,false,false]
[126,"-",null,null,null,null,115.40041067761807,null,null,null,null,45,{"$f":"VLOOKUP(A127,'Chrono+Classement'!G:O,5,FALSE)","v":{"$error":"#N/A"}},{"$f":"VLOOKUP(A127,'Chrono+Classement'!G:O,9,FALSE)","v":{"$error":"#N/A"}},{"$f":"IF(L127=17,Param!G127,IF(L127=28,Param!H127,IF(L127=45,Param!I127)))","v":"00:00:40"},{"$error":"#N/A"},null,1900,false,false]
[127,"-",null,null,null,null,115.40041067761807,null,null,null,null,45,{"$f":"VLOOKUP(A128,'Chrono+Classement'!G:O,5,FALSE)","v":{"$error":"#N/A"}},{"$f":"VLOOKUP(A128,'Chrono+Classement'!G:O,9,FALSE)","v":{"$error":"#N/A"}},{"$f":"IF(L128=17,Param!G128,IF(L128=28,Param!H128,IF(L128=45,Param!I128)))","v":"00:00:40"},{"$error":"#N/A"},null,1900,false,false]
[128,"-",null,null,null,null,115.40041067761807,null,null,null,null,45,{"$f":"VLOOKUP(A129,'Chrono+Classement'!G:O,5,FALSE)","v":{"$error":"#N/A"}},{"$f":"VLOOKUP(A129,'Chrono+Classement'!G:O,9,FALSE)","v":{"$error":"#N/A"}},{"$f":"IF(L129=17,Param!G129,IF(L129=28,Param!H129,IF(L129=45,Param!I129)))","v":"00:00:40"},{"$error":"#N/A"},null,1900,false,false]
[129,{"$f":"CONCATENATE(C130,\"-\",D130)","v":"-"},null,null,null,null,{"$f":"(TODAY()-F130)/365.25","v":115.40041067761807},null,null,null,null,45,{"$f":"VLOOKUP(A130,'Chrono+Classement'!G:O,5,FALSE)","v":{"$error":"#N/A"}},{"$f":"VLOOKUP(A130,'Chrono+Classement'!G:O,9,FALSE)","v":{"$error":"#N/A"}},{"$f":"IF(L130=17,Param!G130,IF(L130=28,Param!H130,IF(L130=45,Param!I130)))","v":"00:00:40"},{"$error":"#N/A"},null,{"$f":"YEAR(F130)","v":1900},{"$f":"IF(E130=\"M\",IF(R130<=1965,\"Masters 5\",IF(R130<=1975,\"Masters 3/4\",IF(R130<=1985,\"Masters 1/2\",IF(R130<=1992,\"Hommes\",IF(R130<=1996,\"Espoirs\",IF(R130<=1998,\"Juniors\",IF(R130<=2000,\"Cadets\",0))))))))","v":false},{"$f":"IF(E130=\"F\",IF(R130<=1992,\"Dames\",IF(R130<=1996,\"Espoirs Dames\",IF(R130<=1998,\"Juniors Dames\",IF(R130<=2000,\"Cadettes\",0)))))","v":false}]
[130,"-",null,null,null,null,115.40041067761807,null,null,null,null,45,{"$f":"VLOOKUP(A131,'Chrono+Classement'!G:O,5,FALSE)","v":{"$error":"#N/A"}},{"$f":"VLOOKUP(A131,'Chrono+Classement'!G:O,9,FALSE)","v":{"$error":"#N/A"}},{"$f":"IF(L131=17,Param!G131,IF(L131=28,Param!H131,IF(L131=45,Param!I131)))","v":"00:00:40"},{"$error":"#N/A"},null,1900,false,false]
[131,"-",null,null,null,null,115.40041067761807,null,null,null,null,45,{"$f":"VLOOKUP(A132,'Chrono+Classement'!G:O,5,FALSE)","v":{"$error":"#N/A"}},{"$f":"VLOOKUP(A132,'Chrono+Classement'!G:O,9,FALSE)","v":{"$error":"#N/A"}},{"$f":"IF(L132=17,Param!G132,IF(L132=28,Param!H132,IF(L132=45,Param!I132)))","v":"00:00:40"},{"$error":"#N/A"},null,1900,false,false]
[132,"-",null,null,null,null,115.40041067761807,null,null,null,null,45,{"$f":"VLOOKUP(A133,'Chrono+Classement'!G:O,5,FALSE)","v":{"$error":"#N/A"}},{"$f":"VLOOKUP(A133,'Chrono+Classement'!G:O,9,FALSE)","v":{"$error":"#N/A"}},{"$f":"IF(L133=17,Param!G133,IF(L133=28,Param!H133,IF(L133=45,Param!I133)))","v":"00:00:40"},{"$error":"#N/A"},null,1900,false,false]
[133,"-",null,null,null,null,115.40041067761807,null,null,null,null,45,{"$f":"VLOOKUP(A134,'Chrono+Classement'!G:O,5,FALSE)","v":{"$error":"#N/A"}},{"$f":"VLOOKUP(A134,'Chrono+Classement'!G:O,9,FALSE)","v":{"$error":"#N/A"}},{"$f":"IF(L134=17,Param!G134,IF(L134=28,Param!H134,IF(L134=45,Param!I134)))","v":"00:00:40"},{"$error":"#N/A"},null,1900,false,false]
[134,"-",null,null,null,null,115.40041067761807,null,null,null,null,45,{"$f":"VLOOKUP(A135,'Chrono+Classement'!G:O,5,FALSE)","v":{"$error":"#N/A"}},{"$f":"VLOOKUP(A135,'Chrono+Classement'!G:O,9,FALSE)","v":{"$error":"#N/A"}},{"$f":"IF(L135=17,Param!G135,IF(L135=28,Param!H135,IF(L135=45,Param!I135)))","v":"00:00:40"},{"$error":"#N/A"},null,1900,false,false]
[135,"-",null,null,null,null,115.40041067761807,null,null,null,null,45,{"$f":"VLOOKUP(A136,'Chrono+Classement'!G:O,5,FALSE)","v":{"$error":"#N/A"}},{"$f":"VLOOKUP(A136,'Chrono+Classement'!G:O,9,FALSE)","v":{"$error":"#N/A"}},{"$f":"IF(L136=17,Param!G136,IF(L136=28,Param!H136,IF(L136=45,Param!I136)))","v":"00:00:40"},{"$error":"#N/A"},null,1900,false,false]
[136,"-",null,null,null,null,115.40041067761807,null,null,null,null,45,{"$f":"VLOOKUP(A137,'Chrono+Classement'!G:O,5,FALSE)","v":{"$error":"#N/A"}},{"$f":"VLOOKUP(A137,'Chrono+Classement'!G:O,9,FALSE)","v":{"$error":"#N/A"}},{"$f":"IF(L137=17,Param!G137,IF(L137=28,Param!H137,IF(L137=45,Param!I137)))","v":"00:00:40"},{"$error":"#N/A"},null,1900,false,false]
[137,"-",null,null,null,null,115.40041067761807,null,null,null,null,45,{"$f":"VLOOKUP(A138,'Chrono+Classement'!G:O,5,FALSE)","v":{"$error":"#N/A"}},{"$f":"VLOOKUP(A138,'Chrono+Classement'!G:O,9,FALSE)","v":{"$error":"#N/A"}},{"$f":"IF(L138=17,Param!G138,IF(L138=28,Param!H138,IF(L138=45,Param!I138)))","v":"00:00:40"},{"$error":"#N/A"},null,1900,false,false]
[138,"-",null,null,null,null,115.40041067761807,null,null,null,null,45,{"$f":"VLOOKUP(A139,'Chrono+Classement'!G:O,5,FALSE)","v":{"$error":"#N/A"}},{"$f":"VLOOKUP(A139,'Chrono+Classement'!G:O,9,FALSE)","v":{"$error":"#N/A"}},{"$f":"IF(L139=17,Param!G139,IF(L139=28,Param!H139,IF(L139=45,Param!I139)))","v":"00:00:40"},{"$error":"#N/A"},null,1900,false,false]
[139,"-",null,null,null,null,115.40041067761807,null,null,null,null,45,{"$f":"VLOOKUP(A140,'Chrono+Classement'!G:O,5,FALSE)","v":{"$error":"#N/A"}},{"$f":"VLOOKUP(A140,'Chrono+Classement'!G:O,9,FALSE)","v":{"$error":"#N/A"}},{"$f":"IF(L140=17,Param!G140,IF(L140=28,Param!H140,IF(L140=45,Param!I140)))","v":"00:00:40"},{"$error":"#N/A"},null,1900,false,false]
[140,"-",null,null,null,null,115.40041067761807,null,null,null,null,45,{"$f":"VLOOKUP(A141,'Chrono+Classement'!G:O,5,FALSE)","v":{"$error":"#N/A"}},{"$f":"VLOOKUP(A141,'Chrono+Classement'!G:O,9,FALSE)","v":{"$error":"#N/A"}},{"$f":"IF(L141=17,Param!G141,IF(L141=28,Param!H141,IF(L141=45,Param!I141)))","v":"00:00:40"},{"$error":"#N/A"},null,1900,false,false]
[141,"-",null,null,null,null,115.40041067761807,null,null,null,null,45,{"$f":"VLOOKUP(A142,'Chrono+Classement'!G:O,5,FALSE)","v":{"$error":"#N/A"}},{"$f":"VLOOKUP(A142,'Chrono+Classement'!G:O,9,FALSE)","v":{"$error":"#N/A"}},{"$f":"IF(L142=17,Param!G142,IF(L142=28,Param!H142,IF(L142=45,Param!I142)))","v":"00:00:40"},{"$error":"#N/A"},null,1900,false,false]
[142,"-",null,null,null,null,115.40041067761807,null,null,null,null,45,{"$f":"VLOOKUP(A143,'Chrono+Classement'!G:O,5,FALSE)","v":{"$error":"#N/A"}},{"$f":"VLOOKUP(A143,'Chrono+Classement'!G:O,9,FALSE)","v":{"$error":"#N/A"}},{"$f":"IF(L143=17,Param!G143,IF(L143=28,Param!H143,IF(L143=45,Param!I143)))","v":"00:00:40"},{"$error":"#N/A"},null,1900,false,false]
[143,"-",null,null,null,null,115.40041067761807,null,null,null,null,45,{"$f":"VLOOKUP(A144,'Chrono+Classement'!G:O,5,FALSE)","v":{"$error":"#N/A"}},{"$f":"VLOOKUP(A144,'Chrono+Classement'!G:O,9,FALSE)","v":{"$error":"#N/A"}},{"$f":"IF(L144=17,Param!G144,IF(L144=28,Param!H144,IF(L144=45,Param!I144)))","v":"00:00:40"},{"$error":"#N/A"},null,1900,false,false]
[144,"-",null,null,null,null,115.40041067761807,null,null,null,null,45,{"$f":"VLOOKUP(A145,'Chrono+Classement'!G:O,5,FALSE)","v":{"$error":"#N/A"}},{"$f":"VLOOKUP(A145,'Chrono+Classement'!G:O,9,FALSE)","v":{"$error":"#N/A"}},{"$f":"IF(L145=17,Param!G145,IF(L145=28,Param!H145,IF(L145=45,Param!I145)))","v":"00:00:40"},{"$error":"#N/A"},null,1900,false,false]
[145,"-",null,null,null,null,115.40041067761807,null,null,null,null,45,{"$f":"VLOOKUP(A146,'Chrono+Classement'!G:O,5,FALSE)","v":{"$error":"#N/A"}},{"$f":"VLOOKUP(A146,'Chrono+Classement'!G:O,9,FALSE)","v":{"$error":"#N/A"}},{"$f":"IF(L146=17,Param!G146,IF(L146=28,Param!H146,IF(L146=45,Param!I146)))","v":"00:00:40"},{"$error":"#N/A"},null,1900,false,false]
[146,"-",null,null,null,null,115.40041067761807,null,null,null,null,45,{"$f":"VLOOKUP(A147,'Chrono+Classement'!G:O,5,FALSE)","v":{"$error":"#N/A"}},{"$f":"VLOOKUP(A147,'Chrono+Classement'!G:O,9,FALSE)","v":{"$error":"#N/A"}},{"$f":"IF(L147=17,Param!G147,IF(L147=28,Param!H147,IF(L147=45,Param!I147)))","v":"00:00:40"},{"$error":"#N/A"},null,1900,false,false]
[147,"-",null,null,null,null,115.40041067761807,null,null,null,null,45,{"$f":"VLOOKUP(A148,'Chrono+Classement'!G:O,5,FALSE)","v":{"$error":"#N/A"}},{"$f":"VLOOKUP(A148,'Chrono+Classement'!G:O,9,FALSE)","v":{"$error":"#N/A"}},{"$f":"IF(L148=17,Param!G148,IF(L148=28,Param!H148,IF(L148=45,Param!I148)))","v":"00:00:40"},{"$error":"#N/A"},null,1900,false,false]
[148,"-",null,null,null,null,115.40041067761807,null,null,null,null,45,{"$f":"VLOOKUP(A149,'Chrono+Classement'!G:O,5,FALSE)","v":{"$error":"#N/A"}},{"$f":"VLOOKUP(A149,'Chrono+Classement'!G:O,9,FALSE)","v":{"$error":"#N/A"}},{"$f":"IF(L149=17,Param!G149,IF(L149=28,Param!H149,IF(L149=45,Param!I149)))","v":"00:00:40"},{"$error":"#N/A"},null,1900,false,false]
[149,"-",null,null,null,null,115.40041067761807,null,null,null,null,45,{"$f":"VLOOKUP(A150,'Chrono+Classement'!G:O,5,FALSE)","v":{"$error":"#N/A"}},{"$f":"VLOOKUP(A150,'Chrono+Classement'!G:O,9,FALSE)","v":{"$error":"#N/A"}},{"$f":"IF(L150=17,Param!G150,IF(L150=28,Param!H150,IF(L150=45,Param!I150)))","v":"00:00:40"},{"$error":"#N/A"},null,1900,false,false]
[150,"-",null,null,null,null,115.40041067761807,null,null,null,null,45,{"$f":"VLOOKUP(A151,'Chrono+Classement'!G:O,5,FALSE)","v":{"$error":"#N/A"}},{"$f":"VLOOKUP(A151,'Chrono+Classement'!G:O,9,FALSE)","v":{"$error":"#N/A"}},{"$f":"IF(L151=17,Param!G151,IF(L151=28,Param!H151,IF(L151=45,Param!I151)))","v":"00:00:40"},{"$error":"#N/A"},null,1900,false,false]
[151,"-",null,null,null,null,115.40041067761807,null,null,null,null,45,{"$f":"VLOOKUP(A152,'Chrono+Classement'!G:O,5,FALSE)","v":{"$error":"#N/A"}},{"$f":"VLOOKUP(A152,'Chrono+Classement'!G:O,9,FALSE)","v":{"$error":"#N/A"}},{"$f":"IF(L152=17,Param!G152,IF(L152=28,Param!H152,IF(L152=45,Param!I152)))","v":"00:00:40"},{"$error":"#N/A"},null,1900,false,false]
[152,"-",null,null,null,null,115.40041067761807,null,null,null,null,45,{"$f":"VLOOKUP(A153,'Chrono+Classement'!G:O,5,FALSE)","v":{"$error":"#N/A"}},{"$f":"VLOOKUP(A153,'Chrono+Classement'!G:O,9,FALSE)","v":{"$error":"#N/A"}},{"$f":"IF(L153=17,Param!G153,IF(L153=28,Param!H153,IF(L153=45,Param!I153)))","v":"00:00:40"},{"$error":"#N/A"},null,1900,false,false]
[153,"-",null,null,null,null,115.40041067761807,null,null,null,null,45,{"$f":"VLOOKUP(A154,'Chrono+Classement'!G:O,5,FALSE)","v":{"$error":"#N/A"}},{"$f":"VLOOKUP(A154,'Chrono+Classement'!G:O,9,FALSE)","v":{"$error":"#N/A"}},{"$f":"IF(L154=17,Param!G154,IF(L154=28,Param!H154,IF(L154=45,Param!I154)))","v":"00:00:40"},{"$error":"#N/A"},null,1900,false,false]
[154,"-",null,null,null,null,115.40041067761807,null,null,null,null,45,{"$f":"VLOOKUP(A155,'Chrono+Classement'!G:O,5,FALSE)","v":{"$error":"#N/A"}},{"$f":"VLOOKUP(A155,'Chrono+Classement'!G:O,9,FALSE)","v":{"$error":"#N/A"}},{"$f":"IF(L155=17,Param!G155,IF(L155=28,Param!H155,IF(L155=45,Param!I155)))","v":"00:00:40"},{"$error":"#N/A"},null,1900,false,false]
[155,"-",null,null,null,null,115.40041067761807,null,null,null,null,45,{"$f":"VLOOKUP(A156,'Chrono+Classement'!G:O,5,FALSE)","v":{"$error":"#N/A"}},{"$f":"VLOOKUP(A156,'Chrono+Classement'!G:O,9,FALSE)","v":{"$error":"#N/A"}},{"$f":"IF(L156=17,Param!G156,IF(L156=28,Param!H156,IF(L156=45,Param!I156)))","v":"00:00:40"},{"$error":"#N/A"},null,1900,false,false]
[156,"-",null,null,null,null,115.40041067761807,null,null,null,null,45,{"$f":"VLOOKUP(A157,'Chrono+Classement'!G:O,5,FALSE)","v":{"$error":"#N/A"}},{"$f":"VLOOKUP(A157,'Chrono+Classement'!G:O,9,FALSE)","v":{"$error":"#N/A"}},{"$f":"IF(L157=17,Param!G157,IF(L157=28,Param!H157,IF(L157=45,Param!I157)))","v":"00:00:40"},{"$error":"#N/A"},null,1900,false,false]
[157,"-",null,null,null,null,115.40041067761807,null,null,null,null,45,{"$f":"VLOOKUP(A158,'Chrono+Classement'!G:O,5,FALSE)","v":{"$error":"#N/A"}},{"$f":"VLOOKUP(A158,'Chrono+Classement'!G:O,9,FALSE)","v":{"$error":"#N/A"}},{"$f":"IF(L158=17,Param!G158,IF(L158=28,Param!H158,IF(L158=45,Param!I158)))","v":"00:00:40"},{"$error":"#N/A"},null,1900,false,false]
[158,"-",null,null,null,null,115.40041067761807,null,null,null,null,45,{"$f":"VLOOKUP(A159,'Chrono+Classement'!G:O,5,FALSE)","v":{"$error":"#N/A"}},{"$f":"VLOOKUP(A159,'Chrono+Classement'!G:O,9,FALSE)","v":{"$error":"#N/A"}},{"$f":"IF(L159=17,Param!G159,IF(L159=28,Param!H159,IF(L159=45,Param!I159)))","v":"00:00:40"},{"$error":"#N/A"},null,1900,false,false]
[159,"-",null,null,null,null,115.40041067761807,null,null,null,null,45,{"$f":"VLOOKUP(A160,'Chrono+Classement'!G:O,5,FALSE)","v":{"$error":"#N/A"}},{"$f":"VLOOKUP(A160,'Chrono+Classement'!G:O,9,FALSE)","v":{"$error":"#N/A"}},{"$f":"IF(L160=17,Param!G160,IF(L160=28,Param!H160,IF(L160=45,Param!I160)))","v":"00:00:40"},{"$error":"#N/A"},null,1900,false,false]
[160,"-",null,null,null,null,115.40041067761807,null,null,null,null,45,{"$f":"VLOOKUP(A161,'Chrono+Classement'!G:O,5,FALSE)","v":{"$error":"#N/A"}},{"$f":"VLOOKUP(A161,'Chrono+Classement'!G:O,9,FALSE)","v":{"$error":"#N/A"}},{"$f":"IF(L161=17,Param!G161,IF(L161=28,Param!H161,IF(L161=45,Param!I161)))","v":"00:00:40"},{"$error":"#N/A"},null,1900,false,false]
[161,"-",null,null,null,null,115.40041067761807,null,null,null,null,45,{"$f":"VLOOKUP(A162,'Chrono+Classement'!G:O,5,FALSE)","v":{"$error":"#N/A"}},{"$f":"VLOOKUP(A162,'Chrono+Classement'!G:O,9,FALSE)","v":{"$error":"#N/A"}},{"$f":"IF(L162=17,Param!G162,IF(L162=28,Param!H162,IF(L162=45,Param!I162)))","v":"00:00:40"},{"$error":"#N/A"},null,1900,false,false]
[162,"-",null,null,null,null,115.40041067761807,null,null,null,null,45,{"$f":"VLOOKUP(A163,'Chrono+Classement'!G:O,5,FALSE)","v":{"$error":"#N/A"}},{"$f":"VLOOKUP(A163,'Chrono+Classement'!G:O,9,FALSE)","v":{"$error":"#N/A"}},{"$f":"IF(L163=17,Param!G163,IF(L163=28,Param!H163,IF(L163=45,Param!I163)))","v":"00:00:40"},{"$error":"#N/A"},null,1900,false,false]
[163,"-",null,null,null,null,115.40041067761807,null,null,null,null,45,{"$f":"VLOOKUP(A164,'Chrono+Classement'!G:O,5,FALSE)","v":{"$error":"#N/A"}},{"$f":"VLOOKUP(A164,'Chrono+Classement'!G:O,9,FALSE)","v":{"$error":"#N/A"}},{"$f":"IF(L164=17,Param!G164,IF(L164=28,Param!H164,IF(L164=45,Param!I164)))","v":"00:00:40"},{"$error":"#N/A"},null,1900,false,false]
[164,"-",null,null,null,null,115.40041067761807,null,null,null,null,45,{"$f":"VLOOKUP(A165,'Chrono+Classement'!G:O,5,FALSE)","v":{"$error":"#N/A"}},{"$f":"VLOOKUP(A165,'Chrono+Classement'!G:O,9,FALSE)","v":{"$error":"#N/A"}},{"$f":"IF(L165=17,Param!G165,IF(L165=28,Param!H165,IF(L165=45,Param!I165)))","v":"00:00:40"},{"$f":"N165-O165","v":{"$error":"#N/A"}},null,1900,false,false]
[165,"-",null,null,null,null,115.40041067761807,null,null,null,null,45,{"$f":"VLOOKUP(A166,'Chrono+Classement'!G:O,5,FALSE)","v":{"$error":"#N/A"}},{"$f":"VLOOKUP(A166,'Chrono+Classement'!G:O,9,FALSE)","v":{"$error":"#N/A"}},{"$f":"IF(L166=17,Param!G166,IF(L166=28,Param!H166,IF(L166=45,Param!I166)))","v":"00:00:40"},{"$error":"#N/A"},null,1900,false,false]
[166,"-",null,null,null,null,115.40041067761807,null,null,null,null,45,{"$f":"VLOOKUP(A167,'Chrono+Classement'!G:O,5,FALSE)","v":{"$error":"#N/A"}},{"$f":"VLOOKUP(A167,'Chrono+Classement'!G:O,9,FALSE)","v":{"$error":"#N/A"}},{"$f":"IF(L167=17,Param!G167,IF(L167=28,Param!H167,IF(L167=45,Param!I167)))","v":"00:00:40"},{"$error":"#N/A"},null,1900,false,false]
[167,"-",null,null,null,null,115.40041067761807,null,null,null,null,45,{"$f":"VLOOKUP(A168,'Chrono+Classement'!G:O,5,FALSE)","v":{"$error":"#N/A"}},{"$f":"VLOOKUP(A168,'Chrono+Classement'!G:O,9,FALSE)","v":{"$error":"#N/A"}},{"$f":"IF(L168=17,Param!G168,IF(L168=28,Param!H168,IF(L168=45,Param!I168)))","v":"00:00:40"},{"$error":"#N/A"},null,1900,false,false]
[168,"-",null,null,null,null,115.40041067761807,null,null,null,null,45,{"$f":"VLOOKUP(A169,'Chrono+Classement'!G:O,5,FALSE)","v":{"$error":"#N/A"}},{"$f":"VLOOKUP(A169,'Chrono+Classement'!G:O,9,FALSE)","v":{"$error":"#N/A"}},{"$f":"IF(L169=17,Param!G169,IF(L169=28,Param!H169,IF(L169=45,Param!I169)))","v":"00:00:40"},{"$error":"#N/A"},null,1900,false,false]
[169,"-",null,null,null,null,115.40041067761807,null,null,null,null,45,{"$f":"VLOOKUP(A170,'Chrono+Classement'!G:O,5,FALSE)","v":{"$error":"#N/A"}},{"$f":"VLOOKUP(A170,'Chrono+Classement'!G:O,9,FALSE)","v":{"$error":"#N/A"}},{"$f":"IF(L170=17,Param!G170,IF(L170=28,Param!H170,IF(L170=45,Param!I170)))","v":"00:00:40"},{"$error":"#N/A"},null,1900,false,false]
[170,"-",null,null,null,null,115.40041067761807,null,null,null,null,45,{"$f":"VLOOKUP(A171,'Chrono+Classement'!G:O,5,FALSE)","v":{"$error":"#N/A"}},{"$f":"VLOOKUP(A171,'Chrono+Classement'!G:O,9,FALSE)","v":{"$error":"#N/A"}},{"$f":"IF(L171=17,Param!G171,IF(L171=28,Param!H171,IF(L171=45,Param!I171)))","v":"00:00:40"},{"$error":"#N/A"},null,1900,false,false]
[171,"-",null,null,null,null,115.40041067761807,null,null,null,null,45,{"$f":"VLOOKUP(A172,'Chrono+Classement'!G:O,5,FALSE)","v":{"$error":"#N/A"}},{"$f":"VLOOKUP(A172,'Chrono+Classement'!G:O,9,FALSE)","v":{"$error":"#N/A"}},{"$f":"IF(L172=17,Param!G172,IF(L172=28,Param!H172,IF(L172=45,Param!I172)))","v":"00:00:40"},{"$error":"#N/A"},null,1900,false,false]
[172,"-",null,null,null,null,115.40041067761807,null,null,null,null,45,{"$f":"VLOOKUP(A173,'Chrono+Classement'!G:O,5,FALSE)","v":{"$error":"#N/A"}},{"$f":"VLOOKUP(A173,'Chrono+Classement'!G:O,9,FALSE)","v":{"$error":"#N/A"}},{"$f":"IF(L173=17,Param!G173,IF(L173=28,Param!H173,IF(L173=45,Param!I173)))","v":"00:00:40"},{"$error":"#N/A"},null,1900,false,false]
[173,"-",null,null,null,null,115.40041067761807,null,null,null,null,45,{"$f":"VLOOKUP(A174,'Chrono+Classement'!G:O,5,FALSE)","v":{"$error":"#N/A"}},{"$f":"VLOOKUP(A174,'Chrono+Classement'!G:O,9,FALSE)","v":{"$error":"#N/A"}},{"$f":"IF(L174=17,Param!G174,IF(L174=28,Param!H174,IF(L174=45,Param!I174)))","v":"00:00:40"},{"$error":"#N/A"},null,1900,false,false]
[174,"-",null,null,null,null,115.40041067761807,null,null,null,null,45,{"$f":"VLOOKUP(A175,'Chrono+Classement'!G:O,5,FALSE)","v":{"$error":"#N/A"}},{"$f":"VLOOKUP(A175,'Chrono+Classement'!G:O,9,FALSE)","v":{"$error":"#N/A"}},{"$f":"IF(L175=17,Param!G175,IF(L175=28,Param!H175,IF(L175=45,Param!I175)))","v":"00:00:40"},{"$error":"#N/A"},null,1900,false,false]
[175,"-",null,null,null,null,115.40041067761807,null,null,null,null,45,{"$f":"VLOOKUP(A176,'Chrono+Classement'!G:O,5,FALSE)","v":{"$error":"#N/A"}},{"$f":"VLOOKUP(A176,'Chrono+Classement'!G:O,9,FALSE)","v":{"$error":"#N/A"}},{"$f":"IF(L176=17,Param!G176,IF(L176=28,Param!H176,IF(L176=45,Param!I176)))","v":"00:00:40"},{"$error":"#N/A"},null,1900,false,false]
[176,"-",null,null,null,null,115.40041067761807,null,null,null,null,45,{"$f":"VLOOKUP(A177,'Chrono+Classement'!G:O,5,FALSE)","v":{"$error":"#N/A"}},{"$f":"VLOOKUP(A177,'Chrono+Classement'!G:O,9,FALSE)","v":{"$error":"#N/A"}},{"$f":"IF(L177=17,Param!G177,IF(L177=28,Param!H177,IF(L177=45,Param!I177)))","v":"00:00:40"},{"$error":"#N/A"},null,1900,false,false]
[177,"-",null,null,null,null,115.40041067761807,null,null,null,null,45,{"$f":"VLOOKUP(A178,'Chrono+Classement'!G:O,5,FALSE)","v":{"$error":"#N/A"}},{"$f":"VLOOKUP(A178,'Chrono+Classement'!G:O,9,FALSE)","v":{"$error":"#N/A"}},{"$f":"IF(L178=17,Param!G178,IF(L178=28,Param!H178,IF(L178=45,Param!I178)))","v":"00:00:40"},{"$error":"#N/A"},null,1900,false,false]
[178,"-",null,null,null,null,115.40041067761807,null,null,null,null,45,{"$f":"VLOOKUP(A179,'Chrono+Classement'!G:O,5,FALSE)","v":{"$error":"#N/A"}},{"$f":"VLOOKUP(A179,'Chrono+Classement'!G:O,9,FALSE)","v":{"$error":"#N/A"}},{"$f":"IF(L179=17,Param!G179,IF(L179=28,Param!H179,IF(L179=45,Param!I179)))","v":"00:00:40"},{"$error":"#N/A"},null,1900,false,false]
[179,"-",null,null,null,null,115.40041067761807,null,null,null,null,45,{"$f":"VLOOKUP(A180,'Chrono+Classement'!G:O,5,FALSE)","v":{"$error":"#N/A"}},{"$f":"VLOOKUP(A180,'Chrono+Classement'!G:O,9,FALSE)","v":{"$error":"#N/A"}},{"$f":"IF(L180=17,Param!G180,IF(L180=28,Param!H180,IF(L180=45,Param!I180)))","v":"00:00:40"},{"$error":"#N/A"},null,1900,false,false]
[180,"-",null,null,null,null,115.40041067761807,null,null,null,null,45,{"$f":"VLOOKUP(A181,'Chrono+Classement'!G:O,5,FALSE)","v":{"$error":"#N/A"}},{"$f":"VLOOKUP(A181,'Chrono+Classement'!G:O,9,FALSE)","v":{"$error":"#N/A"}},{"$f":"IF(L181=17,Param!G181,IF(L181=28,Param!H181,IF(L181=45,Param!I181)))","v":"00:00:40"},{"$error":"#N/A"},null,1900,false,false]
[181,"-",null,null,null,null,115.40041067761807,null,null,null,null,45,{"$f":"VLOOKUP(A182,'Chrono+Classement'!G:O,5,FALSE)","v":{"$error":"#N/A"}},{"$f":"VLOOKUP(A182,'Chrono+Classement'!G:O,9,FALSE)","v":{"$error":"#N/A"}},{"$f":"IF(L182=17,Param!G182,IF(L182=28,Param!H182,IF(L182=45,Param!I182)))","v":"00:00:40"},{"$error":"#N/A"},null,1900,false,false]
[182,"-",null,null,null,null,115.40041067761807,null,null,null,null,45,{"$f":"VLOOKUP(A183,'Chrono+Classement'!G:O,5,FALSE)","v":{"$error":"#N/A"}},{"$f":"VLOOKUP(A183,'Chrono+Classement'!G:O,9,FALSE)","v":{"$error":"#N/A"}},{"$f":"IF(L183=17,Param!G183,IF(L183=28,Param!H183,IF(L183=45,Param!I183)))","v":"00:00:40"},{"$error":"#N/A"},null,1900,false,false]
[183,"-",null,null,null,null,115.40041067761807,null,null,null,null,45,{"$f":"VLOOKUP(A184,'Chrono+Classement'!G:O,5,FALSE)","v":{"$error":"#N/A"}},{"$f":"VLOOKUP(A184,'Chrono+Classement'!G:O,9,FALSE)","v":{"$error":"#N/A"}},{"$f":"IF(L184=17,Param!G184,IF(L184=28,Param!H184,IF(L184=45,Param!I184)))","v":"00:00:40"},{"$error":"#N/A"},null,1900,false,false]
[184,"-",null,null,null,null,115.40041067761807,null,null,null,null,45,{"$f":"VLOOKUP(A185,'Chrono+Classement'!G:O,5,FALSE)","v":{"$error":"#N/A"}},{"$f":"VLOOKUP(A185,'Chrono+Classement'!G:O,9,FALSE)","v":{"$error":"#N/A"}},{"$f":"IF(L185=17,Param!G185,IF(L185=28,Param!H185,IF(L185=45,Param!I185)))","v":"00:00:40"},{"$error":"#N/A"},null,1900,false,false]
[185,"-",null,null,null,null,115.40041067761807,null,null,null,null,45,{"$f":"VLOOKUP(A186,'Chrono+Classement'!G:O,5,FALSE)","v":{"$error":"#N/A"}},{"$f":"VLOOKUP(A186,'Chrono+Classement'!G:O,9,FALSE)","v":{"$error":"#N/A"}},{"$f":"IF(L186=17,Param!G186,IF(L186=28,Param!H186,IF(L186=45,Param!I186)))","v":"00:00:40"},{"$error":"#N/A"},null,1900,false,false]
[186,"-",null,null,null,null,115.40041067761807,null,null,null,null,45,{"$f":"VLOOKUP(A187,'Chrono+Classement'!G:O,5,FALSE)","v":{"$error":"#N/A"}},{"$f":"VLOOKUP(A187,'Chrono+Classement'!G:O,9,FALSE)","v":{"$error":"#N/A"}},{"$f":"IF(L187=17,Param!G187,IF(L187=28,Param!H187,IF(L187=45,Param!I187)))","v":"00:00:40"},{"$error":"#N/A"},null,1900,false,false]
[187,"-",null,null,null,null,115.40041067761807,null,null,null,null,45,{"$f":"VLOOKUP(A188,'Chrono+Classement'!G:O,5,FALSE)","v":{"$error":"#N/A"}},{"$f":"VLOOKUP(A188,'Chrono+Classement'!G:O,9,FALSE)","v":{"$error":"#N/A"}},{"$f":"IF(L188=17,Param!G188,IF(L188=28,Param!H188,IF(L188=45,Param!I188)))","v":"00:00:40"},{"$error":"#N/A"},null,1900,false,false]
[188,"-",null,null,null,null,115.40041067761807,null,null,null,null,45,{"$f":"VLOOKUP(A189,'Chrono+Classement'!G:O,5,FALSE)","v":{"$error":"#N/A"}},{"$f":"VLOOKUP(A189,'Chrono+Classement'!G:O,9,FALSE)","v":{"$error":"#N/A"}},{"$f":"IF(L189=17,Param!G189,IF(L189=28,Param!H189,IF(L189=45,Param!I189)))","v":"00:00:40"},{"$error":"#N/A"},null,1900,false,false]
[189,"-",null,null,null,null,115.40041067761807,null,null,null,null,45,{"$f":"VLOOKUP(A190,'Chrono+Classement'!G:O,5,FALSE)","v":{"$error":"#N/A"}},{"$f":"VLOOKUP(A190,'Chrono+Classement'!G:O,9,FALSE)","v":{"$error":"#N/A"}},{"$f":"IF(L190=17,Param!G190,IF(L190=28,Param!H190,IF(L190=45,Param!I190)))","v":"00:00:40"},{"$error":"#N/A"},null,1900,false,false]
[190,"-",null,null,null,null,115.40041067761807,null,null,null,null,45,{"$f":"VLOOKUP(A191,'Chrono+Classement'!G:O,5,FALSE)","v":{"$error":"#N/A"}},{"$f":"VLOOKUP(A191,'Chrono+Classement'!G:O,9,FALSE)","v":{"$error":"#N/A"}},{"$f":"IF(L191=17,Param!G191,IF(L191=28,Param!H191,IF(L191=45,Param!I191)))","v":"00:00:40"},{"$error":"#N/A"},null,1900,false,false]
[191,"-",null,null,null,null,115.40041067761807,null,null,null,null,45,{"$f":"VLOOKUP(A192,'Chrono+Classement'!G:O,5,FALSE)","v":{"$error":"#N/A"}},{"$f":"VLOOKUP(A192,'Chrono+Classement'!G:O,9,FALSE)","v":{"$error":"#N/A"}},{"$f":"IF(L192=17,Param!G192,IF(L192=28,Param!H192,IF(L192=45,Param!I192)))","v":"00:00:40"},{"$error":"#N/A"},null,1900,false,false]
[192,"-",null,null,null,null,115.40041067761807,null,null,null,null,45,{"$f":"VLOOKUP(A193,'Chrono+Classement'!G:O,5,FALSE)","v":{"$error":"#N/A"}},{"$f":"VLOOKUP(A193,'Chrono+Classement'!G:O,9,FALSE)","v":{"$error":"#N/A"}},{"$f":"IF(L193=17,Param!G193,IF(L193=28,Param!H193,IF(L193=45,Param!I193)))","v":"00:00:40"},{"$error":"#N/A"},null,1900,false,false]
[193,{"$f":"CONCATENATE(C194,\"-\",D194)","v":"-"},null,null,null,null,{"$f":"(TODAY()-F194)/365.25","v":115.40041067761807},null,null,null,null,45,{"$f":"VLOOKUP(A194,'Chrono+Classement'!G:O,5,FALSE)","v":{"$error":"#N/A"}},{"$f":"VLOOKUP(A194,'Chrono+Classement'!G:O,9,FALSE)","v":{"$error":"#N/A"}},{"$f":"IF(L194=17,Param!G194,IF(L194=28,Param!H194,IF(L194=45,Param!I194)))","v":"00:00:40"},{"$error":"#N/A"},null,{"$f":"YEAR(F194)","v":1900},{"$f":"IF(E194=\"M\",IF(R194<=1965,\"Masters 5\",IF(R194<=1975,\"Masters 3/4\",IF(R194<=1985,\"Masters 1/2\",IF(R194<=1992,\"Hommes\",IF(R194<=1996,\"Espoirs\",IF(R194<=1998,\"Juniors\",IF(R194<=2000,\"Cadets\",0))))))))","v":false},{"$f":"IF(E194=\"F\",IF(R194<=1992,\"Dames\",IF(R194<=1996,\"Espoirs Dames\",IF(R194<=1998,\"Juniors Dames\",IF(R194<=2000,\"Cadettes\",0)))))","v":false}]
[194,"-",null,null,null,null,115.40041067761807,null,null,null,null,45,{"$f":"VLOOKUP(A195,'Chrono+Classement'!G:O,5,FALSE)","v":{"$error":"#N/A"}},{"$f":"VLOOKUP(A195,'Chrono+Classement'!G:O,9,FALSE)","v":{"$error":"#N/A"}},{"$f":"IF(L195=17,Param!G195,IF(L195=28,Param!H195,IF(L195=45,Param!I195)))","v":"00:00:40"},{"$error":"#N/A"},null,1900,false,false]
[195,"-",null,null,null,null,115.40041067761807,null,null,null,null,45,{"$f":"VLOOKUP(A196,'Chrono+Classement'!G:O,5,FALSE)","v":{"$error":"#N/A"}},{"$f":"VLOOKUP(A196,'Chrono+Classement'!G:O,9,FALSE)","v":{"$error":"#N/A"}},{"$f":"IF(L196=17,Param!G196,IF(L196=28,Param!H196,IF(L196=45,Param!I196)))","v":"00:00:40"},{"$error":"#N/A"},null,1900,false,false]
[196,"-",null,null,null,null,115.40041067761807,null,null,null,null,45,{"$f":"VLOOKUP(A197,'Chrono+Classement'!G:O,5,FALSE)","v":{"$error":"#N/A"}},{"$f":"VLOOKUP(A197,'Chrono+Classement'!G:O,9,FALSE)","v":{"$error":"#N/A"}},{"$f":"IF(L197=17,Param!G197,IF(L197=28,Param!H197,IF(L197=45,Param!I197)))","v":"00:00:40"},{"$error":"#N/A"},null,1900,false,false]
[197,"-",null,null,null,null,115.40041067761807,null,null,null,null,45,{"$f":"VLOOKUP(A198,'Chrono+Classement'!G:O,5,FALSE)","v":{"$error":"#N/A"}},{"$f":"VLOOKUP(A198,'Chrono+Classement'!G:O,9,FALSE)","v":{"$error":"#N/A"}},{"$f":"IF(L198=17,Param!G198,IF(L198=28,Param!H198,IF(L198=45,Param!I198)))","v":"00:00:40"},{"$error":"#N/A"},null,1900,false,false]
[198,"-",null,null,null,null,115.40041067761807,null,null,null,null,45,{"$f":"VLOOKUP(A199,'Chrono+Classement'!G:O,5,FALSE)","v":{"$error":"#N/A"}},{"$f":"VLOOKUP(A199,'Chrono+Classement'!G:O,9,FALSE)","v":{"$error":"#N/A"}},{"$f":"IF(L199=17,Param!G199,IF(L199=28,Param!H199,IF(L199=45,Param!I199)))","v":"00:00:40"},{"$error":"#N/A"},null,1900,false,false]
[199,"-",null,null,null,null,115.40041067761807,null,null,null,null,45,{"$f":"VLOOKUP(A200,'Chrono+Classement'!G:O,5,FALSE)","v":{"$error":"#N/A"}},{"$f":"VLOOKUP(A200,'Chrono+Classement'!G:O,9,FALSE)","v":{"$error":"#N/A"}},{"$f":"IF(L200=17,Param!G200,IF(L200=28,Param!H200,IF(L200=45,Param!I200)))","v":"00:00:40"},{"$error":"#N/A"},null,1900,false,false]
[200,"-",null,null,null,null,115.40041067761807,null,null,null,null,45,{"$f":"VLOOKUP(A201,'Chrono+Classement'!G:O,5,FALSE)","v":{"$error":"#N/A"}},{"$f":"VLOOKUP(A201,'Chrono+Classement'!G:O,9,FALSE)","v":{"$error":"#N/A"}},{"$f":"IF(L201=17,Param!G201,IF(L201=28,Param!H201,IF(L201=45,Param!I201)))","v":"00:00:40"},{"$error":"#N/A"},null,1900,false,false]
[201,"-",null,null,null,null,115.40041067761807,null,null,null,null,45,{"$f":"VLOOKUP(A202,'Chrono+Classement'!G:O,5,FALSE)","v":{"$error":"#N/A"}},{"$f":"VLOOKUP(A202,'Chrono+Classement'!G:O,9,FALSE)","v":{"$error":"#N/A"}},{"$f":"IF(L202=17,Param!G202,IF(L202=28,Param!H202,IF(L202=45,Param!I202)))","v":"00:00:40"},{"$error":"#N/A"},null,1900,false,false]
[202,"-",null,null,null,null,115.40041067761807,null,null,null,null,45,{"$f":"VLOOKUP(A203,'Chrono+Classement'!G:O,5,FALSE)","v":{"$error":"#N/A"}},{"$f":"VLOOKUP(A203,'Chrono+Classement'!G:O,9,FALSE)","v":{"$error":"#N/A"}},{"$f":"IF(L203=17,Param!G203,IF(L203=28,Param!H203,IF(L203=45,Param!I203)))","v":"00:00:40"},{"$error":"#N/A"},null,1900,false,false]
[203,"-",null,null,null,null,115.40041067761807,null,null,null,null,45,{"$f":"VLOOKUP(A204,'Chrono+Classement'!G:O,5,FALSE)","v":{"$error":"#N/A"}},{"$f":"VLOOKUP(A204,'Chrono+Classement'!G:O,9,FALSE)","v":{"$error":"#N/A"}},{"$f":"IF(L204=17,Param!G204,IF(L204=28,Param!H204,IF(L204=45,Param!I204)))","v":"00:00:40"},{"$error":"#N/A"},null,1900,false,false]
[204,"-",null,null,null,null,115.40041067761807,null,null,null,null,45,{"$f":"VLOOKUP(A205,'Chrono+Classement'!G:O,5,FALSE)","v":{"$error":"#N/A"}},{"$f":"VLOOKUP(A205,'Chrono+Classement'!G:O,9,FALSE)","v":{"$error":"#N/A"}},{"$f":"IF(L205=17,Param!G205,IF(L205=28,Param!H205,IF(L205=45,Param!I205)))","v":"00:00:40"},{"$error":"#N/A"},null,1900,false,false]
[205,"-",null,null,null,null,115.40041067761807,null,null,null,null,45,{"$f":"VLOOKUP(A206,'Chrono+Classement'!G:O,5,FALSE)","v":{"$error":"#N/A"}},{"$f":"VLOOKUP(A206,'Chrono+Classement'!G:O,9,FALSE)","v":{"$error":"#N/A"}},{"$f":"IF(L206=17,Param!G206,IF(L206=28,Param!H206,IF(L206=45,Param!I206)))","v":"00:00:40"},{"$error":"#N/A"},null,1900,false,false]
[206,"-",null,null,null,null,115.40041067761807,null,null,null,null,45,{"$f":"VLOOKUP(A207,'Chrono+Classement'!G:O,5,FALSE)","v":{"$error":"#N/A"}},{"$f":"VLOOKUP(A207,'Chrono+Classement'!G:O,9,FALSE)","v":{"$error":"#N/A"}},{"$f":"IF(L207=17,Param!G207,IF(L207=28,Param!H207,IF(L207=45,Param!I207)))","v":"00:00:40"},{"$error":"#N/A"},null,1900,false,false]
[207,"-",null,null,null,null,115.40041067761807,null,null,null,null,45,{"$f":"VLOOKUP(A208,'Chrono+Classement'!G:O,5,FALSE)","v":{"$error":"#N/A"}},{"$f":"VLOOKUP(A208,'Chrono+Classement'!G:O,9,FALSE)","v":{"$error":"#N/A"}},{"$f":"IF(L208=17,Param!G208,IF(L208=28,Param!H208,IF(L208=45,Param!I208)))","v":"00:00:40"},{"$error":"#N/A"},null,1900,false,false]
[208,"-",null,null,null,null,115.40041067761807,null,null,null,null,45,{"$f":"VLOOKUP(A209,'Chrono+Classement'!G:O,5,FALSE)","v":{"$error":"#N/A"}},{"$f":"VLOOKUP(A209,'Chrono+Classement'!G:O,9,FALSE)","v":{"$error":"#N/A"}},{"$f":"IF(L209=17,Param!G209,IF(L209=28,Param!H209,IF(L209=45,Param!I209)))","v":"00:00:40"},{"$error":"#N/A"},null,1900,false,false]
[209,"-",null,null,null,null,115.40041067761807,null,null,null,null,45,{"$f":"VLOOKUP(A210,'Chrono+Classement'!G:O,5,FALSE)","v":{"$error":"#N/A"}},{"$f":"VLOOKUP(A210,'Chrono+Classement'!G:O,9,FALSE)","v":{"$error":"#N/A"}},{"$f":"IF(L210=17,Param!G210,IF(L210=28,Param!H210,IF(L210=45,Param!I210)))","v":"00:00:40"},{"$error":"#N/A"},null,1900,false,false]
[210,"-",null,null,null,null,115.40041067761807,null,null,null,null,45,{"$f":"VLOOKUP(A211,'Chrono+Classement'!G:O,5,FALSE)","v":{"$error":"#N/A"}},{"$f":"VLOOKUP(A211,'Chrono+Classement'!G:O,9,FALSE)","v":{"$error":"#N/A"}},{"$f":"IF(L211=17,Param!G211,IF(L211=28,Param!H211,IF(L211=45,Param!I211)))","v":"00:00:40"},{"$error":"#N/A"},null,1900,false,false]
[211,"-",null,null,null,null,115.40041067761807,null,null,null,null,45,{"$f":"VLOOKUP(A212,'Chrono+Classement'!G:O,5,FALSE)","v":{"$error":"#N/A"}},{"$f":"VLOOKUP(A212,'Chrono+Classement'!G:O,9,FALSE)","v":{"$error":"#N/A"}},{"$f":"IF(L212=17,Param!G212,IF(L212=28,Param!H212,IF(L212=45,Param!I212)))","v":"00:00:40"},{"$error":"#N/A"},null,1900,false,false]
[212,"-",null,null,null,null,115.40041067761807,null,null,null,null,45,{"$f":"VLOOKUP(A213,'Chrono+Classement'!G:O,5,FALSE)","v":{"$error":"#N/A"}},{"$f":"VLOOKUP(A213,'Chrono+Classement'!G:O,9,FALSE)","v":{"$error":"#N/A"}},{"$f":"IF(L213=17,Param!G213,IF(L213=28,Param!H213,IF(L213=45,Param!I213)))","v":"00:00:40"},{"$error":"#N/A"},null,1900,false,false]
[213,"-",null,null,null,null,115.40041067761807,null,null,null,null,45,{"$f":"VLOOKUP(A214,'Chrono+Classement'!G:O,5,FALSE)","v":{"$error":"#N/A"}},{"$f":"VLOOKUP(A214,'Chrono+Classement'!G:O,9,FALSE)","v":{"$error":"#N/A"}},{"$f":"IF(L214=17,Param!G214,IF(L214=28,Param!H214,IF(L214=45,Param!I214)))","v":"00:00:40"},{"$error":"#N/A"},null,1900,false,false]
[214,"-",null,null,null,null,115.40041067761807,null,null,null,null,45,{"$f":"VLOOKUP(A215,'Chrono+Classement'!G:O,5,FALSE)","v":{"$error":"#N/A"}},{"$f":"VLOOKUP(A215,'Chrono+Classement'!G:O,9,FALSE)","v":{"$error":"#N/A"}},{"$f":"IF(L215=17,Param!G215,IF(L215=28,Param!H215,IF(L215=45,Param!I215)))","v":"00:00:40"},{"$error":"#N/A"},null,1900,false,false]
[215,"-",null,null,null,null,115.40041067761807,null,null,null,null,45,{"$f":"VLOOKUP(A216,'Chrono+Classement'!G:O,5,FALSE)","v":{"$error":"#N/A"}},{"$f":"VLOOKUP(A216,'Chrono+Classement'!G:O,9,FALSE)","v":{"$error":"#N/A"}},{"$f":"IF(L216=17,Param!G216,IF(L216=28,Param!H216,IF(L216=45,Param!I216)))","v":"00:00:40"},{"$error":"#N/A"},null,1900,false,false]
[216,"-",null,null,null,null,115.40041067761807,null,null,null,null,45,{"$f":"VLOOKUP(A217,'Chrono+Classement'!G:O,5,FALSE)","v":{"$error":"#N/A"}},{"$f":"VLOOKUP(A217,'Chrono+Classement'!G:O,9,FALSE)","v":{"$error":"#N/A"}},{"$f":"IF(L217=17,Param!G217,IF(L217=28,Param!H217,IF(L217=45,Param!I217)))","v":"00:00:40"},{"$error":"#N/A"},null,1900,false,false]
[217,"-",null,null,null,null,115.40041067761807,null,null,null,null,45,{"$f":"VLOOKUP(A218,'Chrono+Classement'!G:O,5,FALSE)","v":{"$error":"#N/A"}},{"$f":"VLOOKUP(A218,'Chrono+Classement'!G:O,9,FALSE)","v":{"$error":"#N/A"}},{"$f":"IF(L218=17,Param!G218,IF(L218=28,Param!H218,IF(L218=45,Param!I218)))","v":"00:00:40"},{"$error":"#N/A"},null,1900,false,false]
[218,"-",null,null,null,null,115.40041067761807,null,null,null,null,45,{"$f":"VLOOKUP(A219,'Chrono+Classement'!G:O,5,FALSE)","v":{"$error":"#N/A"}},{"$f":"VLOOKUP(A219,'Chrono+Classement'!G:O,9,FALSE)","v":{"$error":"#N/A"}},{"$f":"IF(L219=17,Param!G219,IF(L219=28,Param!H219,IF(L219=45,Param!I219)))","v":"00:00:40"},{"$error":"#N/A"},null,1900,false,false]
[219,"-",null,null,null,null,115.40041067761807,null,null,null,null,45,{"$f":"VLOOKUP(A220,'Chrono+Classement'!G:O,5,FALSE)","v":{"$error":"#N/A"}},{"$f":"VLOOKUP(A220,'Chrono+Classement'!G:O,9,FALSE)","v":{"$error":"#N/A"}},{"$f":"IF(L220=17,Param!G220,IF(L220=28,Param!H220,IF(L220=45,Param!I220)))","v":"00:00:40"},{"$error":"#N/A"},null,1900,false,false]
[220,"-",null,null,null,null,115.40041067761807,null,null,null,null,45,{"$f":"VLOOKUP(A221,'Chrono+Classement'!G:O,5,FALSE)","v":{"$error":"#N/A"}},{"$f":"VLOOKUP(A221,'Chrono+Classement'!G:O,9,FALSE)","v":{"$error":"#N/A"}},{"$f":"IF(L221=17,Param!G221,IF(L221=28,Param!H221,IF(L221=45,Param!I221)))","v":"00:00:40"},{"$error":"#N/A"},null,1900,false,false]
[221,"-",null,null,null,null,115.40041067761807,null,null,null,null,45,{"$f":"VLOOKUP(A222,'Chrono+Classement'!G:O,5,FALSE)","v":{"$error":"#N/A"}},{"$f":"VLOOKUP(A222,'Chrono+Classement'!G:O,9,FALSE)","v":{"$error":"#N/A"}},{"$f":"IF(L222=17,Param!G222,IF(L222=28,Param!H222,IF(L222=45,Param!I222)))","v":"00:00:40"},{"$error":"#N/A"},null,1900,false,false]
[222,"-",null,null,null,null,115.40041067761807,null,null,null,null,45,{"$f":"VLOOKUP(A223,'Chrono+Classement'!G:O,5,FALSE)","v":{"$error":"#N/A"}},{"$f":"VLOOKUP(A223,'Chrono+Classement'!G:O,9,FALSE)","v":{"$error":"#N/A"}},{"$f":"IF(L223=17,Param!G223,IF(L223=28,Param!H223,IF(L223=45,Param!I223)))","v":"00:00:40"},{"$error":"#N/A"},null,1900,false,false]
[223,"-",null,null,null,null,115.40041067761807,null,null,null,null,45,{"$f":"VLOOKUP(A224,'Chrono+Classement'!G:O,5,FALSE)","v":{"$error":"#N/A"}},{"$f":"VLOOKUP(A224,'Chrono+Classement'!G:O,9,FALSE)","v":{"$error":"#N/A"}},{"$f":"IF(L224=17,Param!G224,IF(L224=28,Param!H224,IF(L224=45,Param!I224)))","v":"00:00:40"},{"$error":"#N/A"},null,1900,false,false]
[224,"-",null,null,null,null,115.40041067761807,null,null,null,null,45,{"$f":"VLOOKUP(A225,'Chrono+Classement'!G:O,5,FALSE)","v":{"$error":"#N/A"}},{"$f":"VLOOKUP(A225,'Chrono+Classement'!G:O,9,FALSE)","v":{"$error":"#N/A"}},{"$f":"IF(L225=17,Param!G225,IF(L225=28,Param!H225,IF(L225=45,Param!I225)))","v":"00:00:40"},{"$error":"#N/A"},null,1900,false,false]
[225,"-",null,null,null,null,115.40041067761807,null,null,null,null,45,{"$f":"VLOOKUP(A226,'Chrono+Classement'!G:O,5,FALSE)","v":{"$error":"#N/A"}},{"$f":"VLOOKUP(A226,'Chrono+Classement'!G:O,9,FALSE)","v":{"$error":"#N/A"}},{"$f":"IF(L226=17,Param!G226,IF(L226=28,Param!H226,IF(L226=45,Param!I226)))","v":"00:00:40"},{"$error":"#N/A"},null,1900,false,false]
[226,"-",null,null,null,null,115.40041067761807,null,null,null,null,45,{"$f":"VLOOKUP(A227,'Chrono+Classement'!G:O,5,FALSE)","v":{"$error":"#N/A"}},{"$f":"VLOOKUP(A227,'Chrono+Classement'!G:O,9,FALSE)","v":{"$error":"#N/A"}},{"$f":"IF(L227=17,Param!G227,IF(L227=28,Param!H227,IF(L227=45,Param!I227)))","v":"00:00:40"},{"$error":"#N/A"},null,1900,false,false]
[227,"-",null,null,null,null,115.40041067761807,null,null,null,null,45,{"$f":"VLOOKUP(A228,'Chrono+Classement'!G:O,5,FALSE)","v":{"$error":"#N/A"}},{"$f":"VLOOKUP(A228,'Chrono+Classement'!G:O,9,FALSE)","v":{"$error":"#N/A"}},{"$f":"IF(L228=17,Param!G228,IF(L228=28,Param!H228,IF(L228=45,Param!I228)))","v":"00:00:40"},{"$error":"#N/A"},null,1900,false,false]
[228,"-",null,null,null,null,115.40041067761807,null,null,null,null,45,{"$f":"VLOOKUP(A229,'Chrono+Classement'!G:O,5,FALSE)","v":{"$error":"#N/A"}},{"$f":"VLOOKUP(A229,'Chrono+Classement'!G:O,9,FALSE)","v":{"$error":"#N/A"}},{"$f":"IF(L229=17,Param!G229,IF(L229=28,Param!H229,IF(L229=45,Param!I229)))","v":"00:00:40"},{"$f":"N229-O229","v":{"$error":"#N/A"}},null,1900,false,false]
[229,"-",null,null,null,null,115.40041067761807,null,null,null,null,45,{"$f":"VLOOKUP(A230,'Chrono+Classement'!G:O,5,FALSE)","v":{"$error":"#N/A"}},{"$f":"VLOOKUP(A230,'Chrono+Classement'!G:O,9,FALSE)","v":{"$error":"#N/A"}},{"$f":"IF(L230=17,Param!G230,IF(L230=28,Param!H230,IF(L230=45,Param!I230)))","v":"00:00:40"},{"$error":"#N/A"},null,1900,false,false]
[230,"-",null,null,null,null,115.40041067761807,null,null,null,null,45,{"$f":"VLOOKUP(A231,'Chrono+Classement'!G:O,5,FALSE)","v":{"$error":"#N/A"}},{"$f":"VLOOKUP(A231,'Chrono+Classement'!G:O,9,FALSE)","v":{"$error":"#N/A"}},{"$f":"IF(L231=17,Param!G231,IF(L231=28,Param!H231,IF(L231=45,Param!I231)))","v":"00:00:40"},{"$error":"#N/A"},null,1900,false,false]
[231,"-",null,null,null,null,115.40041067761807,null,null,null,null,45,{"$f":"VLOOKUP(A232,'Chrono+Classement'!G:O,5,FALSE)","v":{"$error":"#N/A"}},{"$f":"VLOOKUP(A232,'Chrono+Classement'!G:O,9,FALSE)","v":{"$error":"#N/A"}},{"$f":"IF(L232=17,Param!G232,IF(L232=28,Param!H232,IF(L232=45,Param!I232)))","v":"00:00:40"},{"$error":"#N/A"},null,1900,false,false]
[232,"-",null,null,null,null,115.40041067761807,null,null,null,null,45,{"$f":"VLOOKUP(A233,'Chrono+Classement'!G:O,5,FALSE)","v":{"$error":"#N/A"}},{"$f":"VLOOKUP(A233,'Chrono+Classement'!G:O,9,FALSE)","v":{"$error":"#N/A"}},{"$f":"IF(L233=17,Param!G233,IF(L233=28,Param!H233,IF(L233=45,Param!I233)))","v":"00:00:40"},{"$error":"#N/A"},null,1900,false,false]
[233,"-",null,null,null,null,115.40041067761807,null,null,null,null,45,{"$f":"VLOOKUP(A234,'Chrono+Classement'!G:O,5,FALSE)","v":{"$error":"#N/A"}},{"$f":"VLOOKUP(A234,'Chrono+Classement'!G:O,9,FALSE)","v":{"$error":"#N/A"}},{"$f":"IF(L234=17,Param!G234,IF(L234=28,Param!H234,IF(L234=45,Param!I234)))","v":"00:00:40"},{"$error":"#N/A"},null,1900,false,false]
[234,"-",null,null,null,null,115.40041067761807,null,null,null,null,45,{"$f":"VLOOKUP(A235,'Chrono+Classement'!G:O,5,FALSE)","v":{"$error":"#N/A"}},{"$f":"VLOOKUP(A235,'Chrono+Classement'!G:O,9,FALSE)","v":{"$error":"#N/A"}},{"$f":"IF(L235=17,Param!G235,IF(L235=28,Param!H235,IF(L235=45,Param!I235)))","v":"00:00:40"},{"$error":"#N/A"},null,1900,false,false]
[235,"-",null,null,null,null,115.40041067761807,null,null,null,null,45,{"$f":"VLOOKUP(A236,'Chrono+Classement'!G:O,5,FALSE)","v":{"$error":"#N/A"}},{"$f":"VLOOKUP(A236,'Chrono+Classement'!G:O,9,FALSE)","v":{"$error":"#N/A"}},{"$f":"IF(L236=17,Param!G236,IF(L236=28,Param!H236,IF(L236=45,Param!I236)))","v":"00:00:40"},{"$error":"#N/A"},null,1900,false,false]
[236,"-",null,null,null,null,115.40041067761807,null,null,null,null,45,{"$f":"VLOOKUP(A237,'Chrono+Classement'!G:O,5,FALSE)","v":{"$error":"#N/A"}},{"$f":"VLOOKUP(A237,'Chrono+Classement'!G:O,9,FALSE)","v":{"$error":"#N/A"}},{"$f":"IF(L237=17,Param!G237,IF(L237=28,Param!H237,IF(L237=45,Param!I237)))","v":"00:00:40"},{"$error":"#N/A"},null,1900,false,false]
[237,"-",null,null,null,null,115.40041067761807,null,null,null,null,45,{"$f":"VLOOKUP(A238,'Chrono+Classement'!G:O,5,FALSE)","v":{"$error":"#N/A"}},{"$f":"VLOOKUP(A238,'Chrono+Classement'!G:O,9,FALSE)","v":{"$error":"#N/A"}},{"$f":"IF(L238=17,Param!G238,IF(L238=28,Param!H238,IF(L238=45,Param!I238)))","v":"00:00:40"},{"$error":"#N/A"},null,1900,false,false]
[238,"-",null,null,null,null,115.40041067761807,null,null,null,null,45,{"$f":"VLOOKUP(A239,'Chrono+Classement'!G:O,5,FALSE)","v":{"$error":"#N/A"}},{"$f":"VLOOKUP(A239,'Chrono+Classement'!G:O,9,FALSE)","v":{"$error":"#N/A"}},{"$f":"IF(L239=17,Param!G239,IF(L239=28,Param!H239,IF(L239=45,Param!I239)))","v":"00:00:40"},{"$error":"#N/A"},null,1900,false,false]
[239,"-",null,null,null,null,115.40041067761807,null,null,null,null,45,{"$f":"VLOOKUP(A240,'Chrono+Classement'!G:O,5,FALSE)","v":{"$error":"#N/A"}},{"$f":"VLOOKUP(A240,'Chrono+Classement'!G:O,9,FALSE)","v":{"$error":"#N/A"}},{"$f":"IF(L240=17,Param!G240,IF(L240=28,Param!H240,IF(L240=45,Param!I240)))","v":"00:00:40"},{"$error":"#N/A"},null,1900,false,false]
[240,"-",null,null,null,null,115.40041067761807,null,null,null,null,45,{"$f":"VLOOKUP(A241,'Chrono+Classement'!G:O,5,FALSE)","v":{"$error":"#N/A"}},{"$f":"VLOOKUP(A241,'Chrono+Classement'!G:O,9,FALSE)","v":{"$error":"#N/A"}},{"$f":"IF(L241=17,Param!G241,IF(L241=28,Param!H241,IF(L241=45,Param!I241)))","v":"00:00:40"},{"$error":"#N/A"},null,1900,false,false]
[241,"-",null,null,null,null,115.40041067761807,null,null,null,null,45,{"$f":"VLOOKUP(A242,'Chrono+Classement'!G:O,5,FALSE)","v":{"$error":"#N/A"}},{"$f":"VLOOKUP(A242,'Chrono+Classement'!G:O,9,FALSE)","v":{"$error":"#N/A"}},{"$f":"IF(L242=17,Param!G242,IF(L242=28,Param!H242,IF(L242=45,Param!I242)))","v":"00:00:40"},{"$error":"#N/A"},null,1900,false,false]
[242,"-",null,null,null,null,115.40041067761807,null,null,null,null,45,{"$f":"VLOOKUP(A243,'Chrono+Classement'!G:O,5,FALSE)","v":{"$error":"#N/A"}},{"$f":"VLOOKUP(A243,'Chrono+Classement'!G:O,9,FALSE)","v":{"$error":"#N/A"}},{"$f":"IF(L243=17,Param!G243,IF(L243=28,Param!H243,IF(L243=45,Param!I243)))","v":"00:00:40"},{"$error":"#N/A"},null,1900,false,false]
[243,"-",null,null,null,null,115.40041067761807,null,null,null,null,45,{"$f":"VLOOKUP(A244,'Chrono+Classement'!G:O,5,FALSE)","v":{"$error":"#N/A"}},{"$f":"VLOOKUP(A244,'Chrono+Classement'!G:O,9,FALSE)","v":{"$error":"#N/A"}},{"$f":"IF(L244=17,Param!G244,IF(L244=28,Param!H244,IF(L244=45,Param!I244)))","v":"00:00:40"},{"$error":"#N/A"},null,1900,false,false]
[244,"-",null,null,null,null,115.40041067761807,null,null,null,null,45,{"$f":"VLOOKUP(A245,'Chrono+Classement'!G:O,5,FALSE)","v":{"$error":"#N/A"}},{"$f":"VLOOKUP(A245,'Chrono+Classement'!G:O,9,FALSE)","v":{"$error":"#N/A"}},{"$f":"IF(L245=17,Param!G245,IF(L245=28,Param!H245,IF(L245=45,Param!I245)))","v":"00:00:40"},{"$error":"#N/A"},null,1900,false,false]
[245,"-",null,null,null,null,115.40041067761807,null,null,null,null,45,{"$f":"VLOOKUP(A246,'Chrono+Classement'!G:O,5,FALSE)","v":{"$error":"#N/A"}},{"$f":"VLOOKUP(A246,'Chrono+Classement'!G:O,9,FALSE)","v":{"$error":"#N/A"}},{"$f":"IF(L246=17,Param!G246,IF(L246=28,Param!H246,IF(L246=45,Param!I246)))","v":"00:00:40"},{"$error":"#N/A"},null,1900,false,false]
[246,"-",null,null,null,null,115.40041067761807,null,null,null,null,45,{"$f":"VLOOKUP(A247,'Chrono+Classement'!G:O,5,FALSE)","v":{"$error":"#N/A"}},{"$f":"VLOOKUP(A247,'Chrono+Classement'!G:O,9,FALSE)","v":{"$error":"#N/A"}},{"$f":"IF(L247=17,Param!G247,IF(L247=28,Param!H247,IF(L247=45,Param!I247)))","v":"00:00:40"},{"$error":"#N/A"},null,1900,false,false]
[247,"-",null,null,null,null,115.40041067761807,null,null,null,null,45,{"$f":"VLOOKUP(A248,'Chrono+Classement'!G:O,5,FALSE)","v":{"$error":"#N/A"}},{"$f":"VLOOKUP(A248,'Chrono+Classement'!G:O,9,FALSE)","v":{"$error":"#N/A"}},{"$f":"IF(L248=17,Param!G248,IF(L248=28,Param!H248,IF(L248=45,Param!I248)))","v":"00:00:40"},{"$error":"#N/A"},null,1900,false,false]
[248,"-",null,null,null,null,115.40041067761807,null,null,null,null,45,{"$f":"VLOOKUP(A249,'Chrono+Classement'!G:O,5,FALSE)","v":{"$error":"#N/A"}},{"$f":"VLOOKUP(A249,'Chrono+Classement'!G:O,9,FALSE)","v":{"$error":"#N/A"}},{"$f":"IF(L249=17,Param!G249,IF(L249=28,Param!H249,IF(L249=45,Param!I249)))","v":"00:00:40"},{"$error":"#N/A"},null,1900,false,false]
[249,"-",null,null,null,null,115.40041067761807,null,null,null,null,45,{"$f":"VLOOKUP(A250,'Chrono+Classement'!G:O,5,FALSE)","v":{"$error":"#N/A"}},{"$f":"VLOOKUP(A250,'Chrono+Classement'!G:O,9,FALSE)","v":{"$error":"#N/A"}},{"$f":"IF(L250=17,Param!G250,IF(L250=28,Param!H250,IF(L250=45,Param!I250)))","v":"00:00:40"},{"$error":"#N/A"},null,1900,false,false]
[250,"-",null,null,null,null,115.40041067761807,null,null,null,null,45,{"$f":"VLOOKUP(A251,'Chrono+Classement'!G:O,5,FALSE)","v":{"$error":"#N/A"}},{"$f":"VLOOKUP(A251,'Chrono+Classement'!G:O,9,FALSE)","v":{"$error":"#N/A"}},{"$f":"IF(L251=17,Param!G251,IF(L251=28,Param!H251,IF(L251=45,Param!I251)))","v":"00:00:40"},{"$error":"#N/A"},null,1900,false,false]
[251,"-",null,null,null,null,115.40041067761807,null,null,null,null,45,{"$f":"VLOOKUP(A252,'Chrono+Classement'!G:O,5,FALSE)","v":{"$error":"#N/A"}},{"$f":"VLOOKUP(A252,'Chrono+Classement'!G:O,9,FALSE)","v":{"$error":"#N/A"}},{"$f":"IF(L252=17,Param!G252,IF(L252=28,Param!H252,IF(L252=45,Param!I252)))","v":"00:00:40"},{"$error":"#N/A"},null,1900,false,false]
[252,"-",null,null,null,null,115.40041067761807,null,null,null,null,45,{"$f":"VLOOKUP(A253,'Chrono+Classement'!G:O,5,FALSE)","v":{"$error":"#N/A"}},{"$f":"VLOOKUP(A253,'Chrono+Classement'!G:O,9,FALSE)","v":{"$error":"#N/A"}},{"$f":"IF(L253=17,Param!G253,IF(L253=28,Param!H253,IF(L253=45,Param!I253)))","v":"00:00:40"},{"$error":"#N/A"},null,1900,false,false]
[253,"-",null,null,null,null,115.40041067761807,null,null,null,null,45,{"$f":"VLOOKUP(A254,'Chrono+Classement'!G:O,5,FALSE)","v":{"$error":"#N/A"}},{"$f":"VLOOKUP(A254,'Chrono+Classement'!G:O,9,FALSE)","v":{"$error":"#N/A"}},{"$f":"IF(L254=17,Param!G254,IF(L254=28,Param!H254,IF(L254=45,Param!I254)))","v":"00:00:40"},{"$error":"#N/A"},null,1900,false,false]
[254,"-",null,null,null,null,115.40041067761807,null,null,null,null,45,{"$f":"VLOOKUP(A255,'Chrono+Classement'!G:O,5,FALSE)","v":{"$error":"#N/A"}},{"$f":"VLOOKUP(A255,'Chrono+Classement'!G:O,9,FALSE)","v":{"$error":"#N/A"}},{"$f":"IF(L255=17,Param!G255,IF(L255=28,Param!H255,IF(L255=45,Param!I255)))","v":"00:00:40"},{"$error":"#N/A"},null,1900,false,false]
[255,"-",null,null,null,null,115.40041067761807,null,null,null,null,45,{"$f":"VLOOKUP(A256,'Chrono+Classement'!G:O,5,FALSE)","v":{"$error":"#N/A"}},{"$f":"VLOOKUP(A256,'Chrono+Classement'!G:O,9,FALSE)","v":{"$error":"#N/A"}},{"$f":"IF(L256=17,Param!G256,IF(L256=28,Param!H256,IF(L256=45,Param!I256)))","v":"00:00:40"},{"$error":"#N/A"},null,1900,false,false]
[256,"-",null,null,null,null,115.40041067761807,null,null,null,null,45,{"$f":"VLOOKUP(A257,'Chrono+Classement'!G:O,5,FALSE)","v":{"$error":"#N/A"}},{"$f":"VLOOKUP(A257,'Chrono+Classement'!G:O,9,FALSE)","v":{"$error":"#N/A"}},{"$f":"IF(L257=17,Param!G257,IF(L257=28,Param!H257,IF(L257=45,Param!I257)))","v":"00:00:40"},{"$error":"#N/A"},null,1900,false,false]
[257,{"$f":"CONCATENATE(C258,\"-\",D258)","v":"-"},null,null,null,null,{"$f":"(TODAY()-F258)/365.25","v":115.40041067761807},null,null,null,null,45,{"$f":"VLOOKUP(A258,'Chrono+Classement'!G:O,5,FALSE)","v":{"$error":"#N/A"}},{"$f":"VLOOKUP(A258,'Chrono+Classement'!G:O,9,FALSE)","v":{"$error":"#N/A"}},{"$f":"IF(L258=17,Param!G258,IF(L258=28,Param!H258,IF(L258=45,Param!I258)))","v":"00:00:40"},{"$error":"#N/A"},null,{"$f":"YEAR(F258)","v":1900},{"$f":"IF(E258=\"M\",IF(R258<=1965,\"Masters 5\",IF(R258<=1975,\"Masters 3/4\",IF(R258<=1985,\"Masters 1/2\",IF(R258<=1992,\"Hommes\",IF(R258<=1996,\"Espoirs\",IF(R258<=1998,\"Juniors\",IF(R258<=2000,\"Cadets\",0))))))))","v":false},{"$f":"IF(E258=\"F\",IF(R258<=1992,\"Dames\",IF(R258<=1996,\"Espoirs Dames\",IF(R258<=1998,\"Juniors Dames\",IF(R258<=2000,\"Cadettes\",0)))))","v":false}]
[258,"-",null,null,null,null,115.40041067761807,null,null,null,null,45,{"$f":"VLOOKUP(A259,'Chrono+Classement'!G:O,5,FALSE)","v":{"$error":"#N/A"}},{"$f":"VLOOKUP(A259,'Chrono+Classement'!G:O,9,FALSE)","v":{"$error":"#N/A"}},{"$f":"IF(L259=17,Param!G259,IF(L259=28,Param!H259,IF(L259=45,Param!I259)))","v":"00:00:40"},{"$error":"#N/A"},null,1900,false,false]
[259,"-",null,null,null,null,115.40041067761807,null,null,null,null,45,{"$f":"VLOOKUP(A260,'Chrono+Classement'!G:O,5,FALSE)","v":{"$error":"#N/A"}},{"$f":"VLOOKUP(A260,'Chrono+Classement'!G:O,9,FALSE)","v":{"$error":"#N/A"}},{"$f":"IF(L260=17,Param!G260,IF(L260=28,Param!H260,IF(L260=45,Param!I260)))","v":"00:00:40"},{"$error":"#N/A"},null,1900,false,false]
[260,"-",null,null,null,null,115.40041067761807,null,null,null,null,45,{"$f":"VLOOKUP(A261,'Chrono+Classement'!G:O,5,FALSE)","v":{"$error":"#N/A"}},{"$f":"VLOOKUP(A261,'Chrono+Classement'!G:O,9,FALSE)","v":{"$error":"#N/A"}},{"$f":"IF(L261=17,Param!G261,IF(L261=28,Param!H261,IF(L261=45,Param!I261)))","v":"00:00:40"},{"$error":"#N/A"},null,1900,false,false]
[261,"-",null,null,null,null,115.40041067761807,null,null,null,null,45,{"$f":"VLOOKUP(A262,'Chrono+Classement'!G:O,5,FALSE)","v":{"$error":"#N/A"}},{"$f":"VLOOKUP(A262,'Chrono+Classement'!G:O,9,FALSE)","v":{"$error":"#N/A"}},{"$f":"IF(L262=17,Param!G262,IF(L262=28,Param!H262,IF(L262=45,Param!I262)))","v":"00:00:40"},{"$error":"#N/A"},null,1900,false,false]
[262,"-",null,null,null,null,115.40041067761807,null,null,null,null,45,{"$f":"VLOOKUP(A263,'Chrono+Classement'!G:O,5,FALSE)","v":{"$error":"#N/A"}},{"$f":"VLOOKUP(A263,'Chrono+Classement'!G:O,9,FALSE)","v":{"$error":"#N/A"}},{"$f":"IF(L263=17,Param!G263,IF(L263=28,Param!H263,IF(L263=45,Param!I263)))","v":"00:00:40"},{"$error":"#N/A"},null,1900,false,false]
[263,"-",null,null,null,null,115.40041067761807,null,null,null,null,45,{"$f":"VLOOKUP(A264,'Chrono+Classement'!G:O,5,FALSE)","v":{"$error":"#N/A"}},{"$f":"VLOOKUP(A264,'Chrono+Classement'!G:O,9,FALSE)","v":{"$error":"#N/A"}},{"$f":"IF(L264=17,Param!G264,IF(L264=28,Param!H264,IF(L264=45,Param!I264)))","v":"00:00:40"},{"$error":"#N/A"},null,1900,false,false]
[264,"-",null,null,null,null,115.40041067761807,null,null,null,null,45,{"$f":"VLOOKUP(A265,'Chrono+Classement'!G:O,5,FALSE)","v":{"$error":"#N/A"}},{"$f":"VLOOKUP(A265,'Chrono+Classement'!G:O,9,FALSE)","v":{"$error":"#N/A"}},{"$f":"IF(L265=17,Param!G265,IF(L265=28,Param!H265,IF(L265=45,Param!I265)))","v":"00:00:40"},{"$error":"#N/A"},null,1900,false,false]
[265,"-",null,null,null,null,115.40041067761807,null,null,null,null,45,{"$f":"VLOOKUP(A266,'Chrono+Classement'!G:O,5,FALSE)","v":{"$error":"#N/A"}},{"$f":"VLOOKUP(A266,'Chrono+Classement'!G:O,9,FALSE)","v":{"$error":"#N/A"}},{"$f":"IF(L266=17,Param!G266,IF(L266=28,Param!H266,IF(L266=45,Param!I266)))","v":"00:00:40"},{"$error":"#N/A"},null,1900,false,false]
[266,"-",null,null,null,null,115.40041067761807,null,null,null,null,45,{"$f":"VLOOKUP(A267,'Chrono+Classement'!G:O,5,FALSE)","v":{"$error":"#N/A"}},{"$f":"VLOOKUP(A267,'Chrono+Classement'!G:O,9,FALSE)","v":{"$error":"#N/A"}},{"$f":"IF(L267=17,Param!G267,IF(L267=28,Param!H267,IF(L267=45,Param!I267)))","v":"00:00:40"},{"$error":"#N/A"},null,1900,false,false]
[267,"-",null,null,null,null,115.40041067761807,null,null,null,null,45,{"$f":"VLOOKUP(A268,'Chrono+Classement'!G:O,5,FALSE)","v":{"$error":"#N/A"}},{"$f":"VLOOKUP(A268,'Chrono+Classement'!G:O,9,FALSE)","v":{"$error":"#N/A"}},{"$f":"IF(L268=17,Param!G268,IF(L268=28,Param!H268,IF(L268=45,Param!I268)))","v":"00:00:40"},{"$error":"#N/A"},null,1900,false,false]
[268,"-",null,null,null,null,115.40041067761807,null,null,null,null,45,{"$f":"VLOOKUP(A269,'Chrono+Classement'!G:O,5,FALSE)","v":{"$error":"#N/A"}},{"$f":"VLOOKUP(A269,'Chrono+Classement'!G:O,9,FALSE)","v":{"$error":"#N/A"}},{"$f":"IF(L269=17,Param!G269,IF(L269=28,Param!H269,IF(L269=45,Param!I269)))","v":"00:00:40"},{"$error":"#N/A"},null,1900,false,false]
[269,"-",null,null,null,null,115.40041067761807,null,null,null,null,45,{"$f":"VLOOKUP(A270,'Chrono+Classement'!G:O,5,FALSE)","v":{"$error":"#N/A"}},{"$f":"VLOOKUP(A270,'Chrono+Classement'!G:O,9,FALSE)","v":{"$error":"#N/A"}},{"$f":"IF(L270=17,Param!G270,IF(L270=28,Param!H270,IF(L270=45,Param!I270)))","v":"00:00:40"},{"$error":"#N/A"},null,1900,false,false]
[270,"-",null,null,null,null,115.40041067761807,null,null,null,null,45,{"$f":"VLOOKUP(A271,'Chrono+Classement'!G:O,5,FALSE)","v":{"$error":"#N/A"}},{"$f":"VLOOKUP(A271,'Chrono+Classement'!G:O,9,FALSE)","v":{"$error":"#N/A"}},{"$f":"IF(L271=17,Param!G271,IF(L271=28,Param!H271,IF(L271=45,Param!I271)))","v":"00:00:40"},{"$error":"#N/A"},null,1900,false,false]
[271,"-",null,null,null,null,115.40041067761807,null,null,null,null,45,{"$f":"VLOOKUP(A272,'Chrono+Classement'!G:O,5,FALSE)","v":{"$error":"#N/A"}},{"$f":"VLOOKUP(A272,'Chrono+Classement'!G:O,9,FALSE)","v":{"$error":"#N/A"}},{"$f":"IF(L272=17,Param!G272,IF(L272=28,Param!H272,IF(L272=45,Param!I272)))","v":"00:00:40"},{"$error":"#N/A"},null,1900,false,false]
[272,"-",null,null,null,null,115.40041067761807,null,null,null,null,45,{"$f":"VLOOKUP(A273,'Chrono+Classement'!G:O,5,FALSE)","v":{"$error":"#N/A"}},{"$f":"VLOOKUP(A273,'Chrono+Classement'!G:O,9,FALSE)","v":{"$error":"#N/A"}},{"$f":"IF(L273=17,Param!G273,IF(L273=28,Param!H273,IF(L273=45,Param!I273)))","v":"00:00:40"},{"$error":"#N/A"},null,1900,false,false]
[273,"-",null,null,null,null,115.40041067761807,null,null,null,null,45,{"$f":"VLOOKUP(A274,'Chrono+Classement'!G:O,5,FALSE)","v":{"$error":"#N/A"}},{"$f":"VLOOKUP(A274,'Chrono+Classement'!G:O,9,FALSE)","v":{"$error":"#N/A"}},{"$f":"IF(L274=17,Param!G274,IF(L274=28,Param!H274,IF(L274=45,Param!I274)))","v":"00:00:40"},{"$error":"#N/A"},null,1900,false,false]
[274,"-",null,null,null,null,115.40041067761807,null,null,null,null,45,{"$f":"VLOOKUP(A275,'Chrono+Classement'!G:O,5,FALSE)","v":{"$error":"#N/A"}},{"$f":"VLOOKUP(A275,'Chrono+Classement'!G:O,9,FALSE)","v":{"$error":"#N/A"}},{"$f":"IF(L275=17,Param!G275,IF(L275=28,Param!H275,IF(L275=45,Param!I275)))","v":"00:00:40"},{"$error":"#N/A"},null,1900,false,false]
[275,"-",null,null,null,null,115.40041067761807,null,null,null,null,45,{"$f":"VLOOKUP(A276,'Chrono+Classement'!G:O,5,FALSE)","v":{"$error":"#N/A"}},{"$f":"VLOOKUP(A276,'Chrono+Classement'!G:O,9,FALSE)","v":{"$error":"#N/A"}},{"$f":"IF(L276=17,Param!G276,IF(L276=28,Param!H276,IF(L276=45,Param!I276)))","v":"00:00:40"},{"$error":"#N/A"},null,1900,false,false]
[276,"-",null,null,null,null,115.40041067761807,null,null,null,null,45,{"$f":"VLOOKUP(A277,'Chrono+Classement'!G:O,5,FALSE)","v":{"$error":"#N/A"}},{"$f":"VLOOKUP(A277,'Chrono+Classement'!G:O,9,FALSE)","v":{"$error":"#N/A"}},{"$f":"IF(L277=17,Param!G277,IF(L277=28,Param!H277,IF(L277=45,Param!I277)))","v":"00:00:40"},{"$error":"#N/A"},null,1900,false,false]
[277,"-",null,null,null,null,115.40041067761807,null,null,null,null,45,{"$f":"VLOOKUP(A278,'Chrono+Classement'!G:O,5,FALSE)","v":{"$error":"#N/A"}},{"$f":"VLOOKUP(A278,'Chrono+Classement'!G:O,9,FALSE)","v":{"$error":"#N/A"}},{"$f":"IF(L278=17,Param!G278,IF(L278=28,Param!H278,IF(L278=45,Param!I278)))","v":"00:00:40"},{"$error":"#N/A"},null,1900,false,false]
[278,"-",null,null,null,null,115.40041067761807,null,null,null,null,45,{"$f":"VLOOKUP(A279,'Chrono+Classement'!G:O,5,FALSE)","v":{"$error":"#N/A"}},{"$f":"VLOOKUP(A279,'Chrono+Classement'!G:O,9,FALSE)","v":{"$error":"#N/A"}},{"$f":"IF(L279=17,Param!G279,IF(L279=28,Param!H279,IF(L279=45,Param!I279)))","v":"00:00:40"},{"$error":"#N/A"},null,1900,false,false]
[279,"-",null,null,null,null,115.40041067761807,null,null,null,null,45,{"$f":"VLOOKUP(A280,'Chrono+Classement'!G:O,5,FALSE)","v":{"$error":"#N/A"}},{"$f":"VLOOKUP(A280,'Chrono+Classement'!G:O,9,FALSE)","v":{"$error":"#N/A"}},{"$f":"IF(L280=17,Param!G280,IF(L280=28,Param!H280,IF(L280=45,Param!I280)))","v":"00:00:40"},{"$error":"#N/A"},null,1900,false,false]
[280,"-",null,null,null,null,115.40041067761807,null,null,null,null,45,{"$f":"VLOOKUP(A281,'Chrono+Classement'!G:O,5,FALSE)","v":{"$error":"#N/A"}},{"$f":"VLOOKUP(A281,'Chrono+Classement'!G:O,9,FALSE)","v":{"$error":"#N/A"}},{"$f":"IF(L281=17,Param!G281,IF(L281=28,Param!H281,IF(L281=45,Param!I281)))","v":"00:00:40"},{"$error":"#N/A"},null,1900,false,false]
[281,"-",null,null,null,null,115.40041067761807,null,null,null,null,45,{"$f":"VLOOKUP(A282,'Chrono+Classement'!G:O,5,FALSE)","v":{"$error":"#N/A"}},{"$f":"VLOOKUP(A282,'Chrono+Classement'!G:O,9,FALSE)","v":{"$error":"#N/A"}},{"$f":"IF(L282=17,Param!G282,IF(L282=28,Param!H282,IF(L282=45,Param!I282)))","v":"00:00:40"},{"$error":"#N/A"},null,1900,false,false]
[282,"-",null,null,null,null,115.40041067761807,null,null,null,null,45,{"$f":"VLOOKUP(A283,'Chrono+Classement'!G:O,5,FALSE)","v":{"$error":"#N/A"}},{"$f":"VLOOKUP(A283,'Chrono+Classement'!G:O,9,FALSE)","v":{"$error":"#N/A"}},{"$f":"IF(L283=17,Param!G283,IF(L283=28,Param!H283,IF(L283=45,Param!I283)))","v":"00:00:40"},{"$error":"#N/A"},null,1900,false,false]
[283,"-",null,null,null,null,115.40041067761807,null,null,null,null,45,{"$f":"VLOOKUP(A284,'Chrono+Classement'!G:O,5,FALSE)","v":{"$error":"#N/A"}},{"$f":"VLOOKUP(A284,'Chrono+Classement'!G:O,9,FALSE)","v":{"$error":"#N/A"}},{"$f":"IF(L284=17,Param!G284,IF(L284=28,Param!H284,IF(L284=45,Param!I284)))","v":"00:00:40"},{"$error":"#N/A"},null,1900,false,false]
[284,"-",null,null,null,null,115.40041067761807,null,null,null,null,45,{"$f":"VLOOKUP(A285,'Chrono+Classement'!G:O,5,FALSE)","v":{"$error":"#N/A"}},{"$f":"VLOOKUP(A285,'Chrono+Classement'!G:O,9,FALSE)","v":{"$error":"#N/A"}},{"$f":"IF(L285=17,Param!G285,IF(L285=28,Param!H285,IF(L285=45,Param!I285)))","v":"00:00:40"},{"$error":"#N/A"},null,1900,false,false]
[285,"-",null,null,null,null,115.40041067761807,null,null,null,null,45,{"$f":"VLOOKUP(A286,'Chrono+Classement'!G:O,5,FALSE)","v":{"$error":"#N/A"}},{"$f":"VLOOKUP(A286,'Chrono+Classement'!G:O,9,FALSE)","v":{"$error":"#N/A"}},{"$f":"IF(L286=17,Param!G286,IF(L286=28,Param!H286,IF(L286=45,Param!I286)))","v":"00:00:40"},{"$error":"#N/A"},null,1900,false,false]
[286,"-",null,null,null,null,115.40041067761807,null,null,null,null,45,{"$f":"VLOOKUP(A287,'Chrono+Classement'!G:O,5,FALSE)","v":{"$error":"#N/A"}},{"$f":"VLOOKUP(A287,'Chrono+Classement'!G:O,9,FALSE)","v":{"$error":"#N/A"}},{"$f":"IF(L287=17,Param!G287,IF(L287=28,Param!H287,IF(L287=45,Param!I287)))","v":"00:00:40"},{"$error":"#N/A"},null,1900,false,false]
[287,"-",null,null,null,null,115.40041067761807,null,null,null,null,45,{"$f":"VLOOKUP(A288,'Chrono+Classement'!G:O,5,FALSE)","v":{"$error":"#N/A"}},{"$f":"VLOOKUP(A288,'Chrono+Classement'!G:O,9,FALSE)","v":{"$error":"#N/A"}},{"$f":"IF(L288=17,Param!G288,IF(L288=28,Param!H288,IF(L288=45,Param!I288)))","v":"00:00:40"},{"$error":"#N/A"},null,1900,false,false]
[288,"-",null,null,null,null,115.40041067761807,null,null,null,null,45,{"$f":"VLOOKUP(A289,'Chrono+Classement'!G:O,5,FALSE)","v":{"$error":"#N/A"}},{"$f":"VLOOKUP(A289,'Chrono+Classement'!G:O,9,FALSE)","v":{"$error":"#N/A"}},{"$f":"IF(L289=17,Param!G289,IF(L289=28,Param!H289,IF(L289=45,Param!I289)))","v":"00:00:40"},{"$error":"#N/A"},null,1900,false,false]
[289,"-",null,null,null,null,115.40041067761807,null,null,null,null,45,{"$f":"VLOOKUP(A290,'Chrono+Classement'!G:O,5,FALSE)","v":{"$error":"#N/A"}},{"$f":"VLOOKUP(A290,'Chrono+Classement'!G:O,9,FALSE)","v":{"$error":"#N/A"}},{"$f":"IF(L290=17,Param!G290,IF(L290=28,Param!H290,IF(L290=45,Param!I290)))","v":"00:00:40"},{"$error":"#N/A"},null,1900,false,false]
[290,"-",null,null,null,null,115.40041067761807,null,null,null,null,45,{"$f":"VLOOKUP(A291,'Chrono+Classement'!G:O,5,FALSE)","v":{"$error":"#N/A"}},{"$f":"VLOOKUP(A291,'Chrono+Classement'!G:O,9,FALSE)","v":{"$error":"#N/A"}},{"$f":"IF(L291=17,Param!G291,IF(L291=28,Param!H291,IF(L291=45,Param!I291)))","v":"00:00:40"},{"$error":"#N/A"},null,1900,false,false]
[291,"-",null,null,null,null,115.40041067761807,null,null,null,null,45,{"$f":"VLOOKUP(A292,'Chrono+Classement'!G:O,5,FALSE)","v":{"$error":"#N/A"}},{"$f":"VLOOKUP(A292,'Chrono+Classement'!G:O,9,FALSE)","v":{"$error":"#N/A"}},{"$f":"IF(L292=17,Param!G292,IF(L292=28,Param!H292,IF(L292=45,Param!I292)))","v":"00:00:40"},{"$error":"#N/A"},null,1900,false,false]
[292,"-",null,null,null,null,115.40041067761807,null,null,null,null,45,{"$f":"VLOOKUP(A293,'Chrono+Classement'!G:O,5,FALSE)","v":{"$error":"#N/A"}},{"$f":"VLOOKUP(A293,'Chrono+Classement'!G:O,9,FALSE)","v":{"$error":"#N/A"}},{"$f":"IF(L293=17,Param!G293,IF(L293=28,Param!H293,IF(L293=45,Param!I293)))","v":"00:00:40"},{"$f":"N293-O293","v":{"$error":"#N/A"}},null,1900,false,false]
[293,"-",null,null,null,null,115.40041067761807,null,null,null,null,45,{"$f":"VLOOKUP(A294,'Chrono+Classement'!G:O,5,FALSE)","v":{"$error":"#N/A"}},{"$f":"VLOOKUP(A294,'Chrono+Classement'!G:O,9,FALSE)","v":{"$error":"#N/A"}},{"$f":"IF(L294=17,Param!G294,IF(L294=28,Param!H294,IF(L294=45,Param!I294)))","v":"00:00:40"},{"$error":"#N/A"},null,1900,false,false]
[294,"-",null,null,null,null,115.40041067761807,null,null,null,null,45,{"$f":"VLOOKUP(A295,'Chrono+Classement'!G:O,5,FALSE)","v":{"$error":"#N/A"}},{"$f":"VLOOKUP(A295,'Chrono+Classement'!G:O,9,FALSE)","v":{"$error":"#N/A"}},{"$f":"IF(L295=17,Param!G295,IF(L295=28,Param!H295,IF(L295=45,Param!I295)))","v":"00:00:40"},{"$error":"#N/A"},null,1900,false,false]
[295,"-",null,null,null,null,115.40041067761807,null,null,null,null,45,{"$f":"VLOOKUP(A296,'Chrono+Classement'!G:O,5,FALSE)","v":{"$error":"#N/A"}},{"$f":"VLOOKUP(A296,'Chrono+Classement'!G:O,9,FALSE)","v":{"$error":"#N/A"}},{"$f":"IF(L296=17,Param!G296,IF(L296=28,Param!H296,IF(L296=45,Param!I296)))","v":"00:00:40"},{"$error":"#N/A"},null,1900,false,false]
[296,"-",null,null,null,null,115.40041067761807,null,null,null,null,45,{"$f":"VLOOKUP(A297,'Chrono+Classement'!G:O,5,FALSE)","v":{"$error":"#N/A"}},{"$f":"VLOOKUP(A297,'Chrono+Classement'!G:O,9,FALSE)","v":{"$error":"#N/A"}},{"$f":"IF(L297=17,Param!G297,IF(L297=28,Param!H297,IF(L297=45,Param!I297)))","v":"00:00:40"},{"$error":"#N/A"},null,1900,false,false]
[297,"-",null,null,null,null,115.40041067761807,null,null,null,null,45,{"$f":"VLOOKUP(A298,'Chrono+Classement'!G:O,5,FALSE)","v":{"$error":"#N/A"}},{"$f":"VLOOKUP(A298,'Chrono+Classement'!G:O,9,FALSE)","v":{"$error":"#N/A"}},{"$f":"IF(L298=17,Param!G298,IF(L298=28,Param!H298,IF(L298=45,Param!I298)))","v":"00:00:40"},{"$error":"#N/A"},null,1900,false,false]
[298,"-",null,null,null,null,115.40041067761807,null,null,null,null,45,{"$f":"VLOOKUP(A299,'Chrono+Classement'!G:O,5,FALSE)","v":{"$error":"#N/A"}},{"$f":"VLOOKUP(A299,'Chrono+Classement'!G:O,9,FALSE)","v":{"$error":"#N/A"}},{"$f":"IF(L299=17,Param!G299,IF(L299=28,Param!H299,IF(L299=45,Param!I299)))","v":"00:00:40"},{"$error":"#N/A"},null,1900,false,false]
[299,"-",null,null,null,null,115.40041067761807,null,null,null,null,45,{"$f":"VLOOKUP(A300,'Chrono+Classement'!G:O,5,FALSE)","v":{"$error":"#N/A"}},{"$f":"VLOOKUP(A300,'Chrono+Classement'!G:O,9,FALSE)","v":{"$error":"#N/A"}},{"$f":"IF(L300=17,Param!G300,IF(L300=28,Param!H300,IF(L300=45,Param!I300)))","v":"00:00:40"},{"$error":"#N/A"},null,1900,false,false]
[300,"-",null,null,null,null,115.40041067761807,null,null,null,null,45,{"$f":"VLOOKUP(A301,'Chrono+Classement'!G:O,5,FALSE)","v":{"$error":"#N/A"}},{"$f":"VLOOKUP(A301,'Chrono+Classement'!G:O,9,FALSE)","v":{"$error":"#N/A"}},{"$f":"IF(L301=17,Param!G301,IF(L301=28,Param!H301,IF(L301=45,Param!I301)))","v":"00:00:40"},{"$error":"#N/A"},null,1900,false,false]
[301,"-",null,null,null,null,115.40041067761807,null,null,null,null,45,{"$f":"VLOOKUP(A302,'Chrono+Classement'!G:O,5,FALSE)","v":{"$error":"#N/A"}},{"$f":"VLOOKUP(A302,'Chrono+Classement'!G:O,9,FALSE)","v":{"$error":"#N/A"}},{"$f":"IF(L302=17,Param!G302,IF(L302=28,Param!H302,IF(L302=45,Param!I302)))","v":"00:00:40"},{"$error":"#N/A"},null,1900,false,false]
[302,"-",null,null,null,null,115.40041067761807,null,null,null,null,45,{"$f":"VLOOKUP(A303,'Chrono+Classement'!G:O,5,FALSE)","v":{"$error":"#N/A"}},{"$f":"VLOOKUP(A303,'Chrono+Classement'!G:O,9,FALSE)","v":{"$error":"#N/A"}},{"$f":"IF(L303=17,Param!G303,IF(L303=28,Param!H303,IF(L303=45,Param!I303)))","v":"00:00:40"},{"$error":"#N/A"},null,1900,false,false]
[303,"-",null,null,null,null,115.40041067761807,null,null,null,null,45,{"$f":"VLOOKUP(A304,'Chrono+Classement'!G:O,5,FALSE)","v":{"$error":"#N/A"}},{"$f":"VLOOKUP(A304,'Chrono+Classement'!G:O,9,FALSE)","v":{"$error":"#N/A"}},{"$f":"IF(L304=17,Param!G304,IF(L304=28,Param!H304,IF(L304=45,Param!I304)))","v":"00:00:40"},{"$error":"#N/A"},null,1900,false,false]
[304,"-",null,null,null,null,115.40041067761807,null,null,null,null,45,{"$f":"VLOOKUP(A305,'Chrono+Classement'!G:O,5,FALSE)","v":{"$error":"#N/A"}},{"$f":"VLOOKUP(A305,'Chrono+Classement'!G:O,9,FALSE)","v":{"$error":"#N/A"}},{"$f":"IF(L305=17,Param!G305,IF(L305=28,Param!H305,IF(L305=45,Param!I305)))","v":"00:00:40"},{"$error":"#N/A"},null,1900,false,false]
[305,"-",null,null,null,null,115.40041067761807,null,null,null,null,45,{"$f":"VLOOKUP(A306,'Chrono+Classement'!G:O,5,FALSE)","v":{"$error":"#N/A"}},{"$f":"VLOOKUP(A306,'Chrono+Classement'!G:O,9,FALSE)","v":{"$error":"#N/A"}},{"$f":"IF(L306=17,Param!G306,IF(L306=28,Param!H306,IF(L306=45,Param!I306)))","v":"00:00:40"},{"$error":"#N/A"},null,1900,false,false]
[306,"-",null,null,null,null,115.40041067761807,null,null,null,null,45,{"$f":"VLOOKUP(A307,'Chrono+Classement'!G:O,5,FALSE)","v":{"$error":"#N/A"}},{"$f":"VLOOKUP(A307,'Chrono+Classement'!G:O,9,FALSE)","v":{"$error":"#N/A"}},{"$f":"IF(L307=17,Param!G307,IF(L307=28,Param!H307,IF(L307=45,Param!I307)))","v":"00:00:40"},{"$error":"#N/A"},null,1900,false,false]
[307,"-",null,null,null,null,115.40041067761807,null,null,null,null,45,{"$f":"VLOOKUP(A308,'Chrono+Classement'!G:O,5,FALSE)","v":{"$error":"#N/A"}},{"$f":"VLOOKUP(A308,'Chrono+Classement'!G:O,9,FALSE)","v":{"$error":"#N/A"}},{"$f":"IF(L308=17,Param!G308,IF(L308=28,Param!H308,IF(L308=45,Param!I308)))","v":"00:00:40"},{"$error":"#N/A"},null,1900,false,false]
[308,"-",null,null,null,null,115.40041067761807,null,null,null,null,45,{"$f":"VLOOKUP(A309,'Chrono+Classement'!G:O,5,FALSE)","v":{"$error":"#N/A"}},{"$f":"VLOOKUP(A309,'Chrono+Classement'!G:O,9,FALSE)","v":{"$error":"#N/A"}},{"$f":"IF(L309=17,Param!G309,IF(L309=28,Param!H309,IF(L309=45,Param!I309)))","v":"00:00:40"},{"$error":"#N/A"},null,1900,false,false]
[309,"-",null,null,null,null,115.40041067761807,null,null,null,null,45,{"$f":"VLOOKUP(A310,'Chrono+Classement'!G:O,5,FALSE)","v":{"$error":"#N/A"}},{"$f":"VLOOKUP(A310,'Chrono+Classement'!G:O,9,FALSE)","v":{"$error":"#N/A"}},{"$f":"IF(L310=17,Param!G310,IF(L310=28,Param!H310,IF(L310=45,Param!I310)))","v":"00:00:40"},{"$error":"#N/A"},null,1900,false,false]
[310,"-",null,null,null,null,115.40041067761807,null,null,null,null,45,{"$f":"VLOOKUP(A311,'Chrono+Classement'!G:O,5,FALSE)","v":{"$error":"#N/A"}},{"$f":"VLOOKUP(A311,'Chrono+Classement'!G:O,9,FALSE)","v":{"$error":"#N/A"}},{"$f":"IF(L311=17,Param!G311,IF(L311=28,Param!H311,IF(L311=45,Param!I311)))","v":"00:00:40"},{"$error":"#N/A"},null,1900,false,false]
[311,"-",null,null,null,null,115.40041067761807,null,null,null,null,45,{"$f":"VLOOKUP(A312,'Chrono+Classement'!G:O,5,FALSE)","v":{"$error":"#N/A"}},{"$f":"VLOOKUP(A312,'Chrono+Classement'!G:O,9,FALSE)","v":{"$error":"#N/A"}},{"$f":"IF(L312=17,Param!G312,IF(L312=28,Param!H312,IF(L312=45,Param!I312)))","v":"00:00:40"},{"$error":"#N/A"},null,1900,false,false]
[312,"-",null,null,null,null,115.40041067761807,null,null,null,null,45,{"$f":"VLOOKUP(A313,'Chrono+Classement'!G:O,5,FALSE)","v":{"$error":"#N/A"}},{"$f":"VLOOKUP(A313,'Chrono+Classement'!G:O,9,FALSE)","v":{"$error":"#N/A"}},{"$f":"IF(L313=17,Param!G313,IF(L313=28,Param!H313,IF(L313=45,Param!I313)))","v":"00:00:40"},{"$error":"#N/A"},null,1900,false,false]
[313,"-",null,null,null,null,115.40041067761807,null,null,null,null,45,{"$f":"VLOOKUP(A314,'Chrono+Classement'!G:O,5,FALSE)","v":{"$error":"#N/A"}},{"$f":"VLOOKUP(A314,'Chrono+Classement'!G:O,9,FALSE)","v":{"$error":"#N/A"}},{"$f":"IF(L314=17,Param!G314,IF(L314=28,Param!H314,IF(L314=45,Param!I314)))","v":"00:00:40"},{"$error":"#N/A"},null,1900,false,false]
[314,"-",null,null,null,null,115.40041067761807,null,null,null,null,45,{"$f":"VLOOKUP(A315,'Chrono+Classement'!G:O,5,FALSE)","v":{"$error":"#N/A"}},{"$f":"VLOOKUP(A315,'Chrono+Classement'!G:O,9,FALSE)","v":{"$error":"#N/A"}},{"$f":"IF(L315=17,Param!G315,IF(L315=28,Param!H315,IF(L315=45,Param!I315)))","v":"00:00:40"},{"$error":"#N/A"},null,1900,false,false]
[315,"-",null,null,null,null,115.40041067761807,null,null,null,null,45,{"$f":"VLOOKUP(A316,'Chrono+Classement'!G:O,5,FALSE)","v":{"$error":"#N/A"}},{"$f":"VLOOKUP(A316,'Chrono+Classement'!G:O,9,FALSE)","v":{"$error":"#N/A"}},{"$f":"IF(L316=17,Param!G316,IF(L316=28,Param!H316,IF(L316=45,Param!I316)))","v":"00:00:40"},{"$error":"#N/A"},null,1900,false,false]
[316,"-",null,null,null,null,115.40041067761807,null,null,null,null,45,{"$f":"VLOOKUP(A317,'Chrono+Classement'!G:O,5,FALSE)","v":{"$error":"#N/A"}},{"$f":"VLOOKUP(A317,'Chrono+Classement'!G:O,9,FALSE)","v":{"$error":"#N/A"}},{"$f":"IF(L317=17,Param!G317,IF(L317=28,Param!H317,IF(L317=45,Param!I317)))","v":"00:00:40"},{"$error":"#N/A"},null,1900,false,false]
[317,"-",null,null,null,null,115.40041067761807,null,null,null,null,45,{"$f":"VLOOKUP(A318,'Chrono+Classement'!G:O,5,FALSE)","v":{"$error":"#N/A"}},{"$f":"VLOOKUP(A318,'Chrono+Classement'!G:O,9,FALSE)","v":{"$error":"#N/A"}},{"$f":"IF(L318=17,Param!G318,IF(L318=28,Param!H318,IF(L318=45,Param!I318)))","v":"00:00:40"},{"$error":"#N/A"},null,1900,false,false]
[318,"-",null,null,null,null,115.40041067761807,null,null,null,null,45,{"$f":"VLOOKUP(A319,'Chrono+Classement'!G:O,5,FALSE)","v":{"$error":"#N/A"}},{"$f":"VLOOKUP(A319,'Chrono+Classement'!G:O,9,FALSE)","v":{"$error":"#N/A"}},{"$f":"IF(L319=17,Param!G319,IF(L319=28,Param!H319,IF(L319=45,Param!I319)))","v":"00:00:40"},{"$error":"#N/A"},null,1900,false,false]
[319,"-",null,null,null,null,115.40041067761807,null,null,null,null,45,{"$f":"VLOOKUP(A320,'Chrono+Classement'!G:O,5,FALSE)","v":{"$error":"#N/A"}},{"$f":"VLOOKUP(A320,'Chrono+Classement'!G:O,9,FALSE)","v":{"$error":"#N/A"}},{"$f":"IF(L320=17,Param!G320,IF(L320=28,Param!H320,IF(L320=45,Param!I320)))","v":"00:00:40"},{"$error":"#N/A"},null,1900,false,false]
[320,"-",null,null,null,null,115.40041067761807,null,null,null,null,45,{"$f":"VLOOKUP(A321,'Chrono+Classement'!G:O,5,FALSE)","v":{"$error":"#N/A"}},{"$f":"VLOOKUP(A321,'Chrono+Classement'!G:O,9,FALSE)","v":{"$error":"#N/A"}},{"$f":"IF(L321=17,Param!G321,IF(L321=28,Param!H321,IF(L321=45,Param!I321)))","v":"00:00:40"},{"$error":"#N/A"},null,1900,false,false]
[321,{"$f":"CONCATENATE(C322,\"-\",D322)","v":"-"},null,null,null,null,{"$f":"(TODAY()-F322)/365.25","v":115.40041067761807},null,null,null,null,45,{"$f":"VLOOKUP(A322,'Chrono+Classement'!G:O,5,FALSE)","v":{"$error":"#N/A"}},{"$f":"VLOOKUP(A322,'Chrono+Classement'!G:O,9,FALSE)","v":{"$error":"#N/A"}},{"$f":"IF(L322=17,Param!G322,IF(L322=28,Param!H322,IF(L322=45,Param!I322)))","v":"00:00:40"},{"$error":"#N/A"},null,{"$f":"YEAR(F322)","v":1900},{"$f":"IF(E322=\"M\",IF(R322<=1965,\"Masters 5\",IF(R322<=1975,\"Masters 3/4\",IF(R322<=1985,\"Masters 1/2\",IF(R322<=1992,\"Hommes\",IF(R322<=1996,\"Espoirs\",IF(R322<=1998,\"Juniors\",IF(R322<=2000,\"Cadets\",0))))))))","v":false},{"$f":"IF(E322=\"F\",IF(R322<=1992,\"Dames\",IF(R322<=1996,\"Espoirs Dames\",IF(R322<=1998,\"Juniors Dames\",IF(R322<=2000,\"Cadettes\",0)))))","v":false}]
[322,"-",null,null,null,null,115.40041067761807,null,null,null,null,45,{"$f":"VLOOKUP(A323,'Chrono+Classement'!G:O,5,FALSE)","v":{"$error":"#N/A"}},{"$f":"VLOOKUP(A323,'Chrono+Classement'!G:O,9,FALSE)","v":{"$error":"#N/A"}},{"$f":"IF(L323=17,Param!G323,IF(L323=28,Param!H323,IF(L323=45,Param!I323)))","v":"00:00:40"},{"$error":"#N/A"},null,1900,false,false]
[323,"-",null,null,null,null,115.40041067761807,null,null,null,null,45,{"$f":"VLOOKUP(A324,'Chrono+Classement'!G:O,5,FALSE)","v":{"$error":"#N/A"}},{"$f":"VLOOKUP(A324,'Chrono+Classement'!G:O,9,FALSE)","v":{"$error":"#N/A"}},{"$f":"IF(L324=17,Param!G324,IF(L324=28,Param!H324,IF(L324=45,Param!I324)))","v":"00:00:40"},{"$error":"#N/A"},null,1900,false,false]
[324,"-",null,null,null,null,115.40041067761807,null,null,null,null,45,{"$f":"VLOOKUP(A325,'Chrono+Classement'!G:O,5,FALSE)","v":{"$error":"#N/A"}},{"$f":"VLOOKUP(A325,'Chrono+Classement'!G:O,9,FALSE)","v":{"$error":"#N/A"}},{"$f":"IF(L325=17,Param!G325,IF(L325=28,Param!H325,IF(L325=45,Param!I325)))","v":"00:00:40"},{"$error":"#N/A"},null,1900,false,false]
[325,"-",null,null,null,null,115.40041067761807,null,null,null,null,45,{"$f":"VLOOKUP(A326,'Chrono+Classement'!G:O,5,FALSE)","v":{"$error":"#N/A"}},{"$f":"VLOOKUP(A326,'Chrono+Classement'!G:O,9,FALSE)","v":{"$error":"#N/A"}},{"$f":"IF(L326=17,Param!G326,IF(L326=28,Param!H326,IF(L326=45,Param!I326)))","v":"00:00:40"},{"$error":"#N/A"},null,1900,false,false]
[326,"-",null,null,null,null,115.40041067761807,null,null,null,null,45,{"$f":"VLOOKUP(A327,'Chrono+Classement'!G:O,5,FALSE)","v":{"$error":"#N/A"}},{"$f":"VLOOKUP(A327,'Chrono+Classement'!G:O,9,FALSE)","v":{"$error":"#N/A"}},{"$f":"IF(L327=17,Param!G327,IF(L327=28,Param!H327,IF(L327=45,Param!I327)))","v":"00:00:40"},{"$error":"#N/A"},null,1900,false,false]
[327,"-",null,null,null,null,115.40041067761807,null,null,null,null,45,{"$f":"VLOOKUP(A328,'Chrono+Classement'!G:O,5,FALSE)","v":{"$error":"#N/A"}},{"$f":"VLOOKUP(A328,'Chrono+Classement'!G:O,9,FALSE)","v":{"$error":"#N/A"}},{"$f":"IF(L328=17,Param!G328,IF(L328=28,Param!H328,IF(L328=45,Param!I328)))","v":"00:00:40"},{"$error":"#N/A"},null,1900,false,false]
[328,"-",null,null,null,null,115.40041067761807,null,null,null,null,45,{"$f":"VLOOKUP(A329,'Chrono+Classement'!G:O,5,FALSE)","v":{"$error":"#N/A"}},{"$f":"VLOOKUP(A329,'Chrono+Classement'!G:O,9,FALSE)","v":{"$error":"#N/A"}},{"$f":"IF(L329=17,Param!G329,IF(L329=28,Param!H329,IF(L329=45,Param!I329)))","v":"00:00:40"},{"$error":"#N/A"},null,1900,false,false]
[329,"-",null,null,null,null,115.40041067761807,null,null,null,null,45,{"$f":"VLOOKUP(A330,'Chrono+Classement'!G:O,5,FALSE)","v":{"$error":"#N/A"}},{"$f":"VLOOKUP(A330,'Chrono+Classement'!G:O,9,FALSE)","v":{"$error":"#N/A"}},{"$f":"IF(L330=17,Param!G330,IF(L330=28,Param!H330,IF(L330=45,Param!I330)))","v":"00:00:40"},{"$error":"#N/A"},null,1900,false,false]
[330,"-",null,null,null,null,115.40041067761807,null,null,null,null,45,{"$f":"VLOOKUP(A331,'Chrono+Classement'!G:O,5,FALSE)","v":{"$error":"#N/A"}},{"$f":"VLOOKUP(A331,'Chrono+Classement'!G:O,9,FALSE)","v":{"$error":"#N/A"}},{"$f":"IF(L331=17,Param!G331,IF(L331=28,Param!H331,IF(L331=45,Param!I331)))","v":"00:00:40"},{"$error":"#N/A"},null,1900,false,false]
[331,"-",null,null,null,null,115.40041067761807,null,null,null,null,45,{"$f":"VLOOKUP(A332,'Chrono+Classement'!G:O,5,FALSE)","v":{"$error":"#N/A"}},{"$f":"VLOOKUP(A332,'Chrono+Classement'!G:O,9,FALSE)","v":{"$error":"#N/A"}},{"$f":"IF(L332=17,Param!G332,IF(L332=28,Param!H332,IF(L332=45,Param!I332)))","v":"00:00:40"},{"$error":"#N/A"},null,1900,false,false]
[332,"-",null,null,null,null,115.40041067761807,null,null,null,null,45,{"$f":"VLOOKUP(A333,'Chrono+Classement'!G:O,5,FALSE)","v":{"$error":"#N/A"}},{"$f":"VLOOKUP(A333,'Chrono+Classement'!G:O,9,FALSE)","v":{"$error":"#N/A"}},{"$f":"IF(L333=17,Param!G333,IF(L333=28,Param!H333,IF(L333=45,Param!I333)))","v":"00:00:40"},{"$error":"#N/A"},null,1900,false,false]
[333,"-",null,null,null,null,115.40041067761807,null,null,null,null,45,{"$f":"VLOOKUP(A334,'Chrono+Classement'!G:O,5,FALSE)","v":{"$error":"#N/A"}},{"$f":"VLOOKUP(A334,'Chrono+Classement'!G:O,9,FALSE)","v":{"$error":"#N/A"}},{"$f":"IF(L334=17,Param!G334,IF(L334=28,Param!H334,IF(L334=45,Param!I334)))","v":"00:00:40"},{"$error":"#N/A"},null,1900,false,false]
[334,"-",null,null,null,null,115.40041067761807,null,null,null,null,45,{"$f":"VLOOKUP(A335,'Chrono+Classement'!G:O,5,FALSE)","v":{"$error":"#N/A"}},{"$f":"VLOOKUP(A335,'Chrono+Classement'!G:O,9,FALSE)","v":{"$error":"#N/A"}},{"$f":"IF(L335=17,Param!G335,IF(L335=28,Param!H335,IF(L335=45,Param!I335)))","v":"00:00:40"},{"$error":"#N/A"},null,1900,false,false]
[335,"-",null,null,null,null,115.40041067761807,null,null,null,null,45,{"$f":"VLOOKUP(A336,'Chrono+Classement'!G:O,5,FALSE)","v":{"$error":"#N/A"}},{"$f":"VLOOKUP(A336,'Chrono+Classement'!G:O,9,FALSE)","v":{"$error":"#N/A"}},{"$f":"IF(L336=17,Param!G336,IF(L336=28,Param!H336,IF(L336=45,Param!I336)))","v":"00:00:40"},{"$error":"#N/A"},null,1900,false,false]
[336,"-",null,null,null,null,115.40041067761807,null,null,null,null,45,{"$f":"VLOOKUP(A337,'Chrono+Classement'!G:O,5,FALSE)","v":{"$error":"#N/A"}},{"$f":"VLOOKUP(A337,'Chrono+Classement'!G:O,9,FALSE)","v":{"$error":"#N/A"}},{"$f":"IF(L337=17,Param!G337,IF(L337=28,Param!H337,IF(L337=45,Param!I337)))","v":"00:00:40"},{"$error":"#N/A"},null,1900,false,false]
[337,"-",null,null,null,null,115.40041067761807,null,null,null,null,45,{"$f":"VLOOKUP(A338,'Chrono+Classement'!G:O,5,FALSE)","v":{"$error":"#N/A"}},{"$f":"VLOOKUP(A338,'Chrono+Classement'!G:O,9,FALSE)","v":{"$error":"#N/A"}},{"$f":"IF(L338=17,Param!G338,IF(L338=28,Param!H338,IF(L338=45,Param!I338)))","v":"00:00:40"},{"$error":"#N/A"},null,1900,false,false]
[338,"-",null,null,null,null,115.40041067761807,null,null,null,null,45,{"$f":"VLOOKUP(A339,'Chrono+Classement'!G:O,5,FALSE)","v":{"$error":"#N/A"}},{"$f":"VLOOKUP(A339,'Chrono+Classement'!G:O,9,FALSE)","v":{"$error":"#N/A"}},{"$f":"IF(L339=17,Param!G339,IF(L339=28,Param!H339,IF(L339=45,Param!I339)))","v":"00:00:40"},{"$error":"#N/A"},null,1900,false,false]
[339,"-",null,null,null,null,115.40041067761807,null,null,null,null,45,{"$f":"VLOOKUP(A340,'Chrono+Classement'!G:O,5,FALSE)","v":{"$error":"#N/A"}},{"$f":"VLOOKUP(A340,'Chrono+Classement'!G:O,9,FALSE)","v":{"$error":"#N/A"}},{"$f":"IF(L340=17,Param!G340,IF(L340=28,Param!H340,IF(L340=45,Param!I340)))","v":"00:00:40"},{"$error":"#N/A"},null,1900,false,false]
[340,"-",null,null,null,null,115.40041067761807,null,null,null,null,45,{"$f":"VLOOKUP(A341,'Chrono+Classement'!G:O,5,FALSE)","v":{"$error":"#N/A"}},{"$f":"VLOOKUP(A341,'Chrono+Classement'!G:O,9,FALSE)","v":{"$error":"#N/A"}},{"$f":"IF(L341=17,Param!G341,IF(L341=28,Param!H341,IF(L341=45,Param!I341)))","v":"00:00:40"},{"$error":"#N/A"},null,1900,false,false]
[341,"-",null,null,null,null,115.40041067761807,null,null,null,null,45,{"$f":"VLOOKUP(A342,'Chrono+Classement'!G:O,5,FALSE)","v":{"$error":"#N/A"}},{"$f":"VLOOKUP(A342,'Chrono+Classement'!G:O,9,FALSE)","v":{"$error":"#N/A"}},{"$f":"IF(L342=17,Param!G342,IF(L342=28,Param!H342,IF(L342=45,Param!I342)))","v":"00:00:40"},{"$error":"#N/A"},null,1900,false,false]
[342,"-",null,null,null,null,115.40041067761807,null,null,null,null,45,{"$f":"VLOOKUP(A343,'Chrono+Classement'!G:O,5,FALSE)","v":{"$error":"#N/A"}},{"$f":"VLOOKUP(A343,'Chrono+Classement'!G:O,9,FALSE)","v":{"$error":"#N/A"}},{"$f":"IF(L343=17,Param!G343,IF(L343=28,Param!H343,IF(L343=45,Param!I343)))","v":"00:00:40"},{"$error":"#N/A"},null,1900,false,false]
[343,"-",null,null,null,null,115.40041067761807,null,null,null,null,45,{"$f":"VLOOKUP(A344,'Chrono+Classement'!G:O,5,FALSE)","v":{"$error":"#N/A"}},{"$f":"VLOOKUP(A344,'Chrono+Classement'!G:O,9,FALSE)","v":{"$error":"#N/A"}},{"$f":"IF(L344=17,Param!G344,IF(L344=28,Param!H344,IF(L344=45,Param!I344)))","v":"00:00:40"},{"$error":"#N/A"},null,1900,false,false]
[344,"-",null,null,null,null,115.40041067761807,null,null,null,null,45,{"$f":"VLOOKUP(A345,'Chrono+Classement'!G:O,5,FALSE)","v":{"$error":"#N/A"}},{"$f":"VLOOKUP(A345,'Chrono+Classement'!G:O,9,FALSE)","v":{"$error":"#N/A"}},{"$f":"IF(L345=17,Param!G345,IF(L345=28,Param!H345,IF(L345=45,Param!I345)))","v":"00:00:40"},{"$error":"#N/A"},null,1900,false,false]
[345,"-",null,null,null,null,115.40041067761807,null,null,null,null,45,{"$f":"VLOOKUP(A346,'Chrono+Classement'!G:O,5,FALSE)","v":{"$error":"#N/A"}},{"$f":"VLOOKUP(A346,'Chrono+Classement'!G:O,9,FALSE)","v":{"$error":"#N/A"}},{"$f":"IF(L346=17,Param!G346,IF(L346=28,Param!H346,IF(L346=45,Param!I346)))","v":"00:00:40"},{"$error":"#N/A"},null,1900,false,false]
[346,"-",null,null,null,null,115.40041067761807,null,null,null,null,45,{"$f":"VLOOKUP(A347,'Chrono+Classement'!G:O,5,FALSE)","v":{"$error":"#N/A"}},{"$f":"VLOOKUP(A347,'Chrono+Classement'!G:O,9,FALSE)","v":{"$error":"#N/A"}},{"$f":"IF(L347=17,Param!G347,IF(L347=28,Param!H347,IF(L347=45,Param!I347)))","v":"00:00:40"},{"$error":"#N/A"},null,1900,false,false]
[347,"-",null,null,null,null,115.40041067761807,null,null,null,null,45,{"$f":"VLOOKUP(A348,'Chrono+Classement'!G:O,5,FALSE)","v":{"$error":"#N/A"}},{"$f":"VLOOKUP(A348,'Chrono+Classement'!G:O,9,FALSE)","v":{"$error":"#N/A"}},{"$f":"IF(L348=17,Param!G348,IF(L348=28,Param!H348,IF(L348=45,Param!I348)))","v":"00:00:40"},{"$error":"#N/A"},null,1900,false,false]
[348,"-",null,null,null,null,115.40041067761807,null,null,null,null,45,{"$f":"VLOOKUP(A349,'Chrono+Classement'!G:O,5,FALSE)","v":{"$error":"#N/A"}},{"$f":"VLOOKUP(A349,'Chrono+Classement'!G:O,9,FALSE)","v":{"$error":"#N/A"}},{"$f":"IF(L349=17,Param!G349,IF(L349=28,Param!H349,IF(L349=45,Param!I349)))","v":"00:00:40"},{"$error":"#N/A"},null,1900,false,false]
[349,"-",null,null,null,null,115.40041067761807,null,null,null,null,45,{"$f":"VLOOKUP(A350,'Chrono+Classement'!G:O,5,FALSE)","v":{"$error":"#N/A"}},{"$f":"VLOOKUP(A350,'Chrono+Classement'!G:O,9,FALSE)","v":{"$error":"#N/A"}},{"$f":"IF(L350=17,Param!G350,IF(L350=28,Param!H350,IF(L350=45,Param!I350)))","v":"00:00:40"},{"$error":"#N/A"},null,1900,false,false]
[350,"-",null,null,null,null,115.40041067761807,null,null,null,null,45,{"$f":"VLOOKUP(A351,'Chrono+Classement'!G:O,5,FALSE)","v":{"$error":"#N/A"}},{"$f":"VLOOKUP(A351,'Chrono+Classement'!G:O,9,FALSE)","v":{"$error":"#N/A"}},{"$f":"IF(L351=17,Param!G351,IF(L351=28,Param!H351,IF(L351=45,Param!I351)))","v":"00:00:40"},{"$error":"#N/A"},null,1900,false,false]
[351,"-",null,null,null,null,115.40041067761807,null,null,null,null,45,{"$f":"VLOOKUP(A352,'Chrono+Classement'!G:O,5,FALSE)","v":{"$error":"#N/A"}},{"$f":"VLOOKUP(A352,'Chrono+Classement'!G:O,9,FALSE)","v":{"$error":"#N/A"}},{"$f":"IF(L352=17,Param!G352,IF(L352=28,Param!H352,IF(L352=45,Param!I352)))","v":"00:00:40"},{"$error":"#N/A"},null,1900,false,false]
[352,"-",null,null,null,null,115.40041067761807,null,null,null,null,45,{"$f":"VLOOKUP(A353,'Chrono+Classement'!G:O,5,FALSE)","v":{"$error":"#N/A"}},{"$f":"VLOOKUP(A353,'Chrono+Classement'!G:O,9,FALSE)","v":{"$error":"#N/A"}},{"$f":"IF(L353=17,Param!G353,IF(L353=28,Param!H353,IF(L353=45,Param!I353)))","v":"00:00:40"},{"$error":"#N/A"},null,1900,false,false]
[353,"-",null,null,null,null,115.40041067761807,null,null,null,null,45,{"$f":"VLOOKUP(A354,'Chrono+Classement'!G:O,5,FALSE)","v":{"$error":"#N/A"}},{"$f":"VLOOKUP(A354,'Chrono+Classement'!G:O,9,FALSE)","v":{"$error":"#N/A"}},{"$f":"IF(L354=17,Param!G354,IF(L354=28,Param!H354,IF(L354=45,Param!I354)))","v":"00:00:40"},{"$error":"#N/A"},null,1900,false,false]
[354,"-",null,null,null,null,115.40041067761807,null,null,null,null,45,{"$f":"VLOOKUP(A355,'Chrono+Classement'!G:O,5,FALSE)","v":{"$error":"#N/A"}},{"$f":"VLOOKUP(A355,'Chrono+Classement'!G:O,9,FALSE)","v":{"$error":"#N/A"}},{"$f":"IF(L355=17,Param!G355,IF(L355=28,Param!H355,IF(L355=45,Param!I355)))","v":"00:00:40"},{"$error":"#N/A"},null,1900,false,false]
[355,"-",null,null,null,null,115.40041067761807,null,null,null,null,45,{"$f":"VLOOKUP(A356,'Chrono+Classement'!G:O,5,FALSE)","v":{"$error":"#N/A"}},{"$f":"VLOOKUP(A356,'Chrono+Classement'!G:O,9,FALSE)","v":{"$error":"#N/A"}},{"$f":"IF(L356=17,Param!G356,IF(L356=28,Param!H356,IF(L356=45,Param!I356)))","v":"00:00:40"},{"$error":"#N/A"},null,1900,false,false]
[356,"-",null,null,null,null,115.40041067761807,null,null,null,null,45,{"$f":"VLOOKUP(A357,'Chrono+Classement'!G:O,5,FALSE)","v":{"$error":"#N/A"}},{"$f":"VLOOKUP(A357,'Chrono+Classement'!G:O,9,FALSE)","v":{"$error":"#N/A"}},{"$f":"IF(L357=17,Param!G357,IF(L357=28,Param!H357,IF(L357=45,Param!I357)))","v":"00:00:40"},{"$f":"N357-O357","v":{"$error":"#N/A"}},null,1900,false,false]
[357,"-",null,null,null,null,115.40041067761807,null,null,null,null,45,{"$f":"VLOOKUP(A358,'Chrono+Classement'!G:O,5,FALSE)","v":{"$error":"#N/A"}},{"$f":"VLOOKUP(A358,'Chrono+Classement'!G:O,9,FALSE)","v":{"$error":"#N/A"}},{"$f":"IF(L358=17,Param!G358,IF(L358=28,Param!H358,IF(L358=45,Param!I358)))","v":"00:00:40"},{"$error":"#N/A"},null,1900,false,false]
[358,"-",null,null,null,null,115.40041067761807,null,null,null,null,45,{"$f":"VLOOKUP(A359,'Chrono+Classement'!G:O,5,FALSE)","v":{"$error":"#N/A"}},{"$f":"VLOOKUP(A359,'Chrono+Classement'!G:O,9,FALSE)","v":{"$error":"#N/A"}},{"$f":"IF(L359=17,Param!G359,IF(L359=28,Param!H359,IF(L359=45,Param!I359)))","v":"00:00:40"},{"$error":"#N/A"},null,1900,false,false]
[359,"-",null,null,null,null,115.40041067761807,null,null,null,null,45,{"$f":"VLOOKUP(A360,'Chrono+Classement'!G:O,5,FALSE)","v":{"$error":"#N/A"}},{"$f":"VLOOKUP(A360,'Chrono+Classement'!G:O,9,FALSE)","v":{"$error":"#N/A"}},{"$f":"IF(L360=17,Param!G360,IF(L360=28,Param!H360,IF(L360=45,Param!I360)))","v":"00:00:40"},{"$error":"#N/A"},null,1900,false,false]
[360,"-",null,null,null,null,115.40041067761807,null,null,null,null,45,{"$f":"VLOOKUP(A361,'Chrono+Classement'!G:O,5,FALSE)","v":{"$error":"#N/A"}},{"$f":"VLOOKUP(A361,'Chrono+Classement'!G:O,9,FALSE)","v":{"$error":"#N/A"}},{"$f":"IF(L361=17,Param!G361,IF(L361=28,Param!H361,IF(L361=45,Param!I361)))","v":"00:00:40"},{"$error":"#N/A"},null,1900,false,false]
[361,"-",null,null,null,null,115.40041067761807,null,null,null,null,45,{"$f":"VLOOKUP(A362,'Chrono+Classement'!G:O,5,FALSE)","v":{"$error":"#N/A"}},{"$f":"VLOOKUP(A362,'Chrono+Classement'!G:O,9,FALSE)","v":{"$error":"#N/A"}},{"$f":"IF(L362=17,Param!G362,IF(L362=28,Param!H362,IF(L362=45,Param!I362)))","v":"00:00:40"},{"$error":"#N/A"},null,1900,false,false]
[362,"-",null,null,null,null,115.40041067761807,null,null,null,null,45,{"$f":"VLOOKUP(A363,'Chrono+Classement'!G:O,5,FALSE)","v":{"$error":"#N/A"}},{"$f":"VLOOKUP(A363,'Chrono+Classement'!G:O,9,FALSE)","v":{"$error":"#N/A"}},{"$f":"IF(L363=17,Param!G363,IF(L363=28,Param!H363,IF(L363=45,Param!I363)))","v":"00:00:40"},{"$error":"#N/A"},null,1900,false,false]
[363,"-",null,null,null,null,115.40041067761807,null,null,null,null,45,{"$f":"VLOOKUP(A364,'Chrono+Classement'!G:O,5,FALSE)","v":{"$error":"#N/A"}},{"$f":"VLOOKUP(A364,'Chrono+Classement'!G:O,9,FALSE)","v":{"$error":"#N/A"}},{"$f":"IF(L364=17,Param!G364,IF(L364=28,Param!H364,IF(L364=45,Param!I364)))","v":"00:00:40"},{"$error":"#N/A"},null,1900,false,false]
[364,"-",null,null,null,null,115.40041067761807,null,null,null,null,45,{"$f":"VLOOKUP(A365,'Chrono+Classement'!G:O,5,FALSE)","v":{"$error":"#N/A"}},{"$f":"VLOOKUP(A365,'Chrono+Classement'!G:O,9,FALSE)","v":{"$error":"#N/A"}},{"$f":"IF(L365=17,Param!G365,IF(L365=28,Param!H365,IF(L365=45,Param!I365)))","v":"00:00:40"},{"$error":"#N/A"},null,1900,false,false]
[365,"-",null,null,null,null,115.40041067761807,null,null,null,null,45,{"$f":"VLOOKUP(A366,'Chrono+Classement'!G:O,5,FALSE)","v":{"$error":"#N/A"}},{"$f":"VLOOKUP(A366,'Chrono+Classement'!G:O,9,FALSE)","v":{"$error":"#N/A"}},{"$f":"IF(L366=17,Param!G366,IF(L366=28,Param!H366,IF(L366=45,Param!I366)))","v":"00:00:40"},{"$error":"#N/A"},null,1900,false,false]
[366,"-",null,null,null,null,115.40041067761807,null,null,null,null,45,{"$f":"VLOOKUP(A367,'Chrono+Classement'!G:O,5,FALSE)","v":{"$error":"#N/A"}},{"$f":"VLOOKUP(A367,'Chrono+Classement'!G:O,9,FALSE)","v":{"$error":"#N/A"}},{"$f":"IF(L367=17,Param!G367,IF(L367=28,Param!H367,IF(L367=45,Param!I367)))","v":"00:00:40"},{"$error":"#N/A"},null,1900,false,false]
[367,"-",null,null,null,null,115.40041067761807,null,null,null,null,45,{"$f":"VLOOKUP(A368,'Chrono+Classement'!G:O,5,FALSE)","v":{"$error":"#N/A"}},{"$f":"VLOOKUP(A368,'Chrono+Classement'!G:O,9,FALSE)","v":{"$error":"#N/A"}},{"$f":"IF(L368=17,Param!G368,IF(L368=28,Param!H368,IF(L368=45,Param!I368)))","v":"00:00:40"},{"$error":"#N/A"},null,1900,false,false]
[368,"-",null,null,null,null,115.40041067761807,null,null,null,null,45,{"$f":"VLOOKUP(A369,'Chrono+Classement'!G:O,5,FALSE)","v":{"$error":"#N/A"}},{"$f":"VLOOKUP(A369,'Chrono+Classement'!G:O,9,FALSE)","v":{"$error":"#N/A"}},{"$f":"IF(L369=17,Param!G369,IF(L369=28,Param!H369,IF(L369=45,Param!I369)))","v":"00:00:40"},{"$error":"#N/A"},null,1900,false,false]
[369,"-",null,null,null,null,115.40041067761807,null,null,null,null,45,{"$f":"VLOOKUP(A370,'Chrono+Classement'!G:O,5,FALSE)","v":{"$error":"#N/A"}},{"$f":"VLOOKUP(A370,'Chrono+Classement'!G:O,9,FALSE)","v":{"$error":"#N/A"}},{"$f":"IF(L370=17,Param!G370,IF(L370=28,Param!H370,IF(L370=45,Param!I370)))","v":"00:00:40"},{"$error":"#N/A"},null,1900,false,false]
[370,"-",null,null,null,null,115.40041067761807,null,null,null,null,45,{"$f":"VLOOKUP(A371,'Chrono+Classement'!G:O,5,FALSE)","v":{"$error":"#N/A"}},{"$f":"VLOOKUP(A371,'Chrono+Classement'!G:O,9,FALSE)","v":{"$error":"#N/A"}},{"$f":"IF(L371=17,Param!G371,IF(L371=28,Param!H371,IF(L371=45,Param!I371)))","v":"00:00:40"},{"$error":"#N/A"},null,1900,false,false]
[371,"-",null,null,null,null,115.40041067761807,null,null,null,null,45,{"$f":"VLOOKUP(A372,'Chrono+Classement'!G:O,5,FALSE)","v":{"$error":"#N/A"}},{"$f":"VLOOKUP(A372,'Chrono+Classement'!G:O,9,FALSE)","v":{"$error":"#N/A"}},{"$f":"IF(L372=17,Param!G372,IF(L372=28,Param!H372,IF(L372=45,Param!I372)))","v":"00:00:40"},{"$error":"#N/A"},null,1900,false,false]
[372,"-",null,null,null,null,115.40041067761807,null,null,null,null,45,{"$f":"VLOOKUP(A373,'Chrono+Classement'!G:O,5,FALSE)","v":{"$error":"#N/A"}},{"$f":"VLOOKUP(A373,'Chrono+Classement'!G:O,9,FALSE)","v":{"$error":"#N/A"}},{"$f":"IF(L373=17,Param!G373,IF(L373=28,Param!H373,IF(L373=45,Param!I373)))","v":"00:00:40"},{"$error":"#N/A"},null,1900,false,false]
[373,"-",null,null,null,null,115.40041067761807,null,null,null,null,45,{"$f":"VLOOKUP(A374,'Chrono+Classement'!G:O,5,FALSE)","v":{"$error":"#N/A"}},{"$f":"VLOOKUP(A374,'Chrono+Classement'!G:O,9,FALSE)","v":{"$error":"#N/A"}},{"$f":"IF(L374=17,Param!G374,IF(L374=28,Param!H374,IF(L374=45,Param!I374)))","v":"00:00:40"},{"$error":"#N/A"},null,1900,false,false]
[374,"-",null,null,null,null,115.40041067761807,null,null,null,null,45,{"$f":"VLOOKUP(A375,'Chrono+Classement'!G:O,5,FALSE)","v":{"$error":"#N/A"}},{"$f":"VLOOKUP(A375,'Chrono+Classement'!G:O,9,FALSE)","v":{"$error":"#N/A"}},{"$f":"IF(L375=17,Param!G375,IF(L375=28,Param!H375,IF(L375=45,Param!I375)))","v":"00:00:40"},{"$error":"#N/A"},null,1900,false,false]
[375,"-",null,null,null,null,115.40041067761807,null,null,null,null,45,{"$f":"VLOOKUP(A376,'Chrono+Classement'!G:O,5,FALSE)","v":{"$error":"#N/A"}},{"$f":"VLOOKUP(A376,'Chrono+Classement'!G:O,9,FALSE)","v":{"$error":"#N/A"}},{"$f":"IF(L376=17,Param!G376,IF(L376=28,Param!H376,IF(L376=45,Param!I376)))","v":"00:00:40"},{"$error":"#N/A"},null,1900,false,false]
[376,"-",null,null,null,null,115.40041067761807,null,null,null,null,45,{"$f":"VLOOKUP(A377,'Chrono+Classement'!G:O,5,FALSE)","v":{"$error":"#N/A"}},{"$f":"VLOOKUP(A377,'Chrono+Classement'!G:O,9,FALSE)","v":{"$error":"#N/A"}},{"$f":"IF(L377=17,Param!G377,IF(L377=28,Param!H377,IF(L377=45,Param!I377)))","v":"00:00:40"},{"$error":"#N/A"},null,1900,false,false]
[377,"-",null,null,null,null,115.40041067761807,null,null,null,null,45,{"$f":"VLOOKUP(A378,'Chrono+Classement'!G:O,5,FALSE)","v":{"$error":"#N/A"}},{"$f":"VLOOKUP(A378,'Chrono+Classement'!G:O,9,FALSE)","v":{"$error":"#N/A"}},{"$f":"IF(L378=17,Param!G378,IF(L378=28,Param!H378,IF(L378=45,Param!I378)))","v":"00:00:40"},{"$error":"#N/A"},null,1900,false,false]
[378,"-",null,null,null,null,115.40041067761807,null,null,null,null,45,{"$f":"VLOOKUP(A379,'Chrono+Classement'!G:O,5,FALSE)","v":{"$error":"#N/A"}},{"$f":"VLOOKUP(A379,'Chrono+Classement'!G:O,9,FALSE)","v":{"$error":"#N/A"}},{"$f":"IF(L379=17,Param!G379,IF(L379=28,Param!H379,IF(L379=45,Param!I379)))","v":"00:00:40"},{"$error":"#N/A"},null,1900,false,false]
[379,"-",null,null,null,null,115.40041067761807,null,null,null,null,45,{"$f":"VLOOKUP(A380,'Chrono+Classement'!G:O,5,FALSE)","v":{"$error":"#N/A"}},{"$f":"VLOOKUP(A380,'Chrono+Classement'!G:O,9,FALSE)","v":{"$error":"#N/A"}},{"$f":"IF(L380=17,Param!G380,IF(L380=28,Param!H380,IF(L380=45,Param!I380)))","v":"00:00:40"},{"$error":"#N/A"},null,1900,false,false]
[380,"-",null,null,null,null,115.40041067761807,null,null,null,null,45,{"$f":"VLOOKUP(A381,'Chrono+Classement'!G:O,5,FALSE)","v":{"$error":"#N/A"}},{"$f":"VLOOKUP(A381,'Chrono+Classement'!G:O,9,FALSE)","v":{"$error":"#N/A"}},{"$f":"IF(L381=17,Param!G381,IF(L381=28,Param!H381,IF(L381=45,Param!I381)))","v":"00:00:40"},{"$error":"#N/A"},null,1900,false,false]
[381,"-",null,null,null,null,115.40041067761807,null,null,null,null,45,{"$f":"VLOOKUP(A382,'Chrono+Classement'!G:O,5,FALSE)","v":{"$error":"#N/A"}},{"$f":"VLOOKUP(A382,'Chrono+Classement'!G:O,9,FALSE)","v":{"$error":"#N/A"}},{"$f":"IF(L382=17,Param!G382,IF(L382=28,Param!H382,IF(L382=45,Param!I382)))","v":"00:00:40"},{"$error":"#N/A"},null,1900,false,false]
[382,"-",null,null,null,null,115.40041067761807,null,null,null,null,45,{"$f":"VLOOKUP(A383,'Chrono+Classement'!G:O,5,FALSE)","v":{"$error":"#N/A"}},{"$f":"VLOOKUP(A383,'Chrono+Classement'!G:O,9,FALSE)","v":{"$error":"#N/A"}},{"$f":"IF(L383=17,Param!G383,IF(L383=28,Param!H383,IF(L383=45,Param!I383)))","v":"00:00:40"},{"$error":"#N/A"},null,1900,false,false]
[383,"-",null,null,null,null,115.40041067761807,null,null,null,null,45,{"$f":"VLOOKUP(A384,'Chrono+Classement'!G:O,5,FALSE)","v":{"$error":"#N/A"}},{"$f":"VLOOKUP(A384,'Chrono+Classement'!G:O,9,FALSE)","v":{"$error":"#N/A"}},{"$f":"IF(L384=17,Param!G384,IF(L384=28,Param!H384,IF(L384=45,Param!I384)))","v":"00:00:40"},{"$error":"#N/A"},null,1900,false,false]
[384,"-",null,null,null,null,115.40041067761807,null,null,null,null,45,{"$f":"VLOOKUP(A385,'Chrono+Classement'!G:O,5,FALSE)","v":{"$error":"#N/A"}},{"$f":"VLOOKUP(A385,'Chrono+Classement'!G:O,9,FALSE)","v":{"$error":"#N/A"}},{"$f":"IF(L385=17,Param!G385,IF(L385=28,Param!H385,IF(L385=45,Param!I385)))","v":"00:00:40"},{"$error":"#N/A"},null,1900,false,false]
[385,{"$f":"CONCATENATE(C386,\"-\",D386)","v":"-"},null,null,null,null,{"$f":"(TODAY()-F386)/365.25","v":115.40041067761807},null,null,null,null,45,{"$f":"VLOOKUP(A386,'Chrono+Classement'!G:O,5,FALSE)","v":{"$error":"#N/A"}},{"$f":"VLOOKUP(A386,'Chrono+Classement'!G:O,9,FALSE)","v":{"$error":"#N/A"}},{"$f":"IF(L386=17,Param!G386,IF(L386=28,Param!H386,IF(L386=45,Param!I386)))","v":"00:00:40"},{"$error":"#N/A"},null,{"$f":"YEAR(F386)","v":1900},{"$f":"IF(E386=\"M\",IF(R386<=1965,\"Masters 5\",IF(R386<=1975,\"Masters 3/4\",IF(R386<=1985,\"Masters 1/2\",IF(R386<=1992,\"Hommes\",IF(R386<=1996,\"Espoirs\",IF(R386<=1998,\"Juniors\",IF(R386<=2000,\"Cadets\",0))))))))","v":false},{"$f":"IF(E386=\"F\",IF(R386<=1992,\"Dames\",IF(R386<=1996,\"Espoirs Dames\",IF(R386<=1998,\"Juniors Dames\",IF(R386<=2000,\"Cadettes\",0)))))","v":false}]
[386,"-",null,null,null,null,115.40041067761807,null,null,null,null,45,{"$f":"VLOOKUP(A387,'Chrono+Classement'!G:O,5,FALSE)","v":{"$error":"#N/A"}},{"$f":"VLOOKUP(A387,'Chrono+Classement'!G:O,9,FALSE)","v":{"$error":"#N/A"}},{"$f":"IF(L387=17,Param!G387,IF(L387=28,Param!H387,IF(L387=45,Param!I387)))","v":"00:00:40"},{"$error":"#N/A"},null,1900,false,false]
[387,"-",null,null,null,null,115.40041067761807,null,null,null,null,45,{"$f":"VLOOKUP(A388,'Chrono+Classement'!G:O,5,FALSE)","v":{"$error":"#N/A"}},{"$f":"VLOOKUP(A388,'Chrono+Classement'!G:O,9,FALSE)","v":{"$error":"#N/A"}},{"$f":"IF(L388=17,Param!G388,IF(L388=28,Param!H388,IF(L388=45,Param!I388)))","v":"00:00:40"},{"$error":"#N/A"},null,1900,false,false]
[388,"-",null,null,null,null,115.40041067761807,null,null,null,null,45,{"$f":"VLOOKUP(A389,'Chrono+Classement'!G:O,5,FALSE)","v":{"$error":"#N/A"}},{"$f":"VLOOKUP(A389,'Chrono+Classement'!G:O,9,FALSE)","v":{"$error":"#N/A"}},{"$f":"IF(L389=17,Param!G389,IF(L389=28,Param!H389,IF(L389=45,Param!I389)))","v":"00:00:40"},{"$error":"#N/A"},null,1900,false,false]
[389,"-",null,null,null,null,115.40041067761807,null,null,null,null,45,{"$f":"VLOOKUP(A390,'Chrono+Classement'!G:O,5,FALSE)","v":{"$error":"#N/A"}},{"$f":"VLOOKUP(A390,'Chrono+Classement'!G:O,9,FALSE)","v":{"$error":"#N/A"}},{"$f":"IF(L390=17,Param!G390,IF(L390=28,Param!H390,IF(L390=45,Param!I390)))","v":"00:00:40"},{"$error":"#N/A"},null,1900,false,false]
[390,"-",null,null,null,null,115.40041067761807,null,null,null,null,45,{"$f":"VLOOKUP(A391,'Chrono+Classement'!G:O,5,FALSE)","v":{"$error":"#N/A"}},{"$f":"VLOOKUP(A391,'Chrono+Classement'!G:O,9,FALSE)","v":{"$error":"#N/A"}},{"$f":"IF(L391=17,Param!G391,IF(L391=28,Param!H391,IF(L391=45,Param!I391)))","v":"00:00:40"},{"$error":"#N/A"},null,1900,false,false]
[391,"-",null,null,null,null,115.40041067761807,null,null,null,null,45,{"$f":"VLOOKUP(A392,'Chrono+Classement'!G:O,5,FALSE)","v":{"$error":"#N/A"}},{"$f":"VLOOKUP(A392,'Chrono+Classement'!G:O,9,FALSE)","v":{"$error":"#N/A"}},{"$f":"IF(L392=17,Param!G392,IF(L392=28,Param!H392,IF(L392=45,Param!I392)))","v":"00:00:40"},{"$error":"#N/A"},null,1900,false,false]
[392,"-",null,null,null,null,115.40041067761807,null,null,null,null,45,{"$f":"VLOOKUP(A393,'Chrono+Classement'!G:O,5,FALSE)","v":{"$error":"#N/A"}},{"$f":"VLOOKUP(A393,'Chrono+Classement'!G:O,9,FALSE)","v":{"$error":"#N/A"}},{"$f":"IF(L393=17,Param!G393,IF(L393=28,Param!H393,IF(L393=45,Param!I393)))","v":"00:00:40"},{"$error":"#N/A"},null,1900,false,false]
[393,"-",null,null,null,null,115.40041067761807,null,null,null,null,45,{"$f":"VLOOKUP(A394,'Chrono+Classement'!G:O,5,FALSE)","v":{"$error":"#N/A"}},{"$f":"VLOOKUP(A394,'Chrono+Classement'!G:O,9,FALSE)","v":{"$error":"#N/A"}},{"$f":"IF(L394=17,Param!G394,IF(L394=28,Param!H394,IF(L394=45,Param!I394)))","v":"00:00:40"},{"$error":"#N/A"},null,1900,false,false]
[394,"-",null,null,null,null,115.40041067761807,null,null,null,null,45,{"$f":"VLOOKUP(A395,'Chrono+Classement'!G:O,5,FALSE)","v":{"$error":"#N/A"}},{"$f":"VLOOKUP(A395,'Chrono+Classement'!G:O,9,FALSE)","v":{"$error":"#N/A"}},{"$f":"IF(L395=17,Param!G395,IF(L395=28,Param!H395,IF(L395=45,Param!I395)))","v":"00:00:40"},{"$error":"#N/A"},null,1900,false,false]
[395,"-",null,null,null,null,115.40041067761807,null,null,null,null,45,{"$f":"VLOOKUP(A396,'Chrono+Classement'!G:O,5,FALSE)","v":{"$error":"#N/A"}},{"$f":"VLOOKUP(A396,'Chrono+Classement'!G:O,9,FALSE)","v":{"$error":"#N/A"}},{"$f":"IF(L396=17,Param!G396,IF(L396=28,Param!H396,IF(L396=45,Param!I396)))","v":"00:00:40"},{"$error":"#N/A"},null,1900,false,false]
[396,"-",null,null,null,null,115.40041067761807,null,null,null,null,45,{"$f":"VLOOKUP(A397,'Chrono+Classement'!G:O,5,FALSE)","v":{"$error":"#N/A"}},{"$f":"VLOOKUP(A397,'Chrono+Classement'!G:O,9,FALSE)","v":{"$error":"#N/A"}},{"$f":"IF(L397=17,Param!G397,IF(L397=28,Param!H397,IF(L397=45,Param!I397)))","v":"00:00:40"},{"$error":"#N/A"},null,1900,false,false]
[397,"-",null,null,null,null,115.40041067761807,null,null,null,null,45,{"$f":"VLOOKUP(A398,'Chrono+Classement'!G:O,5,FALSE)","v":{"$error":"#N/A"}},{"$f":"VLOOKUP(A398,'Chrono+Classement'!G:O,9,FALSE)","v":{"$error":"#N/A"}},{"$f":"IF(L398=17,Param!G398,IF(L398=28,Param!H398,IF(L398=45,Param!I398)))","v":"00:00:40"},{"$error":"#N/A"},null,1900,false,false]
[398,"-",null,null,null,null,115.40041067761807,null,null,null,null,45,{"$f":"VLOOKUP(A399,'Chrono+Classement'!G:O,5,FALSE)","v":{"$error":"#N/A"}},{"$f":"VLOOKUP(A399,'Chrono+Classement'!G:O,9,FALSE)","v":{"$error":"#N/A"}},{"$f":"IF(L399=17,Param!G399,IF(L399=28,Param!H399,IF(L399=45,Param!I399)))","v":"00:00:40"},{"$error":"#N/A"},null,1900,false,false]
[399,"-",null,null,null,null,115.40041067761807,null,null,null,null,45,{"$f":"VLOOKUP(A400,'Chrono+Classement'!G:O,5,FALSE)","v":{"$error":"#N/A"}},{"$f":"VLOOKUP(A400,'Chrono+Classement'!G:O,9,FALSE)","v":{"$error":"#N/A"}},{"$f":"IF(L400=17,Param!G400,IF(L400=28,Param!H400,IF(L400=45,Param!I400)))","v":"00:00:40"},{"$error":"#N/A"},null,1900,false,false]
[400,"SANCHEZ-Mathias","SANCHEZ","Mathias","M","1997-12-18",17.434633812457221,"US Fronton","FFC",2231044062,"Juniors",28,{"$f":"VLOOKUP(A401,'Chrono+Classement'!G:O,5,FALSE)","v":10},{"$f":"VLOOKUP(A401,'Chrono+Classement'!G:O,9,FALSE)","v":"02:07:38"},{"$f":"IF(L401=17,Param!G401,IF(L401=28,Param!H401,IF(L401=45,Param!I401)))","v":"00:00:42"},"02:06:56",null,1997,"Juniors",false]
[401,"CHAUVET-Clara","CHAUVET","Clara","F","1989-02-22",26.253251197809718,null,"NL",null,"Dames",28,{"$f":"VLOOKUP(A402,'Chrono+Classement'!G:O,5,FALSE)","v":12},{"$f":"VLOOKUP(A402,'Chrono+Classement'!G:O,9,FALSE)","v":"02:11:47"},{"$f":"IF(L402=17,Param!G402,IF(L402=28,Param!H402,IF(L402=45,Param!I402)))","v":"00:00:42"},"02:11:05",null,1989,false,"Dames"]
[402,"CONFOLENS-Eric","CONFOLENS","Eric","M","1972-04-09",43.126625598904859,"CHEVREUILS VTT","FFC","0233030003","Masters 3/4",28,{"$f":"VLOOKUP(A403,'Chrono+Classement'!G:O,5,FALSE)","v":3},{"$f":"VLOOKUP(A403,'Chrono+Classement'!G:O,9,FALSE)","v":"01:31:55"},{"$f":"IF(L403=17,Param!G403,IF(L403=28,Param!H403,IF(L403=45,Param!I403)))","v":"00:00:42"},"01:31:13",null,1972,"Masters 3/4",false]
[403,"BIBET-Laurent","BIBET","Laurent","M","1972-11-22",42.505133470225871,"ALBI Velo Sport","FFC","2281246117","Masters 3/4",28,{"$f":"VLOOKUP(A404,'Chrono+Classement'!G:O,5,FALSE)","v":1},{"$f":"VLOOKUP(A404,'Chrono+Classement'!G:O,9,FALSE)","v":"01:26:55"},{"$f":"IF(L404=17,Param!G404,IF(L404=28,Param!H404,IF(L404=45,Param!I404)))","v":"00:00:42"},"01:26:13",null,1972,"Masters 3/4",false]
[404,"SIRVEN-Patrick","SIRVEN","Patrick","M","1963-12-10",51.457905544147842,null,"NL",null,"Masters 5",28,{"$f":"VLOOKUP(A405,'Chrono+Classement'!G:O,5,FALSE)","v":43},{"$f":"VLOOKUP(A405,'Chrono+Classement'!G:O,9,FALSE)","v":"03:14:19"},{"$f":"IF(L405=17,Param!G405,IF(L405=28,Param!H405,IF(L405=45,Param!I405)))","v":"00:00:42"},"03:13:37",null,1963,"Masters 5",false]
[405,"xxxxx-","xxxxx",null,null,null,115.40041067761807,null,null,null,null,28,{"$f":"VLOOKUP(A406,'Chrono+Classement'!G:O,5,FALSE)","v":{"$error":"#N/A"}},{"$f":"VLOOKUP(A406,'Chrono+Classement'!G:O,9,FALSE)","v":{"$error":"#N/A"}},{"$f":"IF(L406=17,Param!G406,IF(L406=28,Param!H406,IF(L406=45,Param!I406)))","v":"00:00:42"},{"$error":"#N/A"},null,1900,false,false]
[406,"FAGEDET-Pascal","FAGEDET","Pascal","M","1965-08-29",49.738535249828885,"CASTELNAU Cyclo  Club","FSGT",null,"Masters 5",28,{"$f":"VLOOKUP(A407,'Chrono+Classement'!G:O,5,FALSE)","v":9},{"$f":"VLOOKUP(A407,'Chrono+Classement'!G:O,9,FALSE)","v":"01:53:18"},{"$f":"IF(L407=17,Param!G407,IF(L407=28,Param!H407,IF(L407=45,Param!I407)))","v":"00:00:42"},"01:52:36",null,1965,"Masters 5",false]
[407,"PASQUET-Daniel","PASQUET","Daniel","M","1964-08-30",50.735112936344969,"Les ZACCROS","FFC","0224283008","Masters 5",28,{"$f":"VLOOKUP(A408,'Chrono+Classement'!G:O,5,FALSE)","v":2},{"$f":"VLOOKUP(A408,'Chrono+Classement'!G:O,9,FALSE)","v":"01:28:32"},{"$f":"IF(L408=17,Param!G408,IF(L408=28,Param!H408,IF(L408=45,Param!I408)))","v":"00:00:42"},"01:27:50",null,1964,"Masters 5",false]
[408,"COSTES-Joel","COSTES","Joel","M","1965-05-26",49.998631074606436,"Marssac Aventure","FFC","2281800040","Masters 5",28,{"$f":"VLOOKUP(A409,'Chrono+Classement'!G:O,5,FALSE)","v":6},{"$f":"VLOOKUP(A409,'Chrono+Classement'!G:O,9,FALSE)","v":"01:43:05"},{"$f":"IF(L409=17,Param!G409,IF(L409=28,Param!H409,IF(L409=45,Param!I409)))","v":"00:00:42"},"01:42:23",null,1965,"Masters 5",false]
[409,"TEYSSIER-Eric","TEYSSIER","Eric","M","1967-09-13",47.698836413415471,null,"NL",null,"Masters 3/4",28,{"$f":"VLOOKUP(A410,'Chrono+Classement'!G:O,5,FALSE)","v":8},{"$f":"VLOOKUP(A410,'Chrono+Classement'!G:O,9,FALSE)","v":"01:50:53"},{"$f":"IF(L410=17,Param!G410,IF(L410=28,Param!H410,IF(L410=45,Param!I410)))","v":"00:00:42"},"01:50:11",null,1967,"Masters 3/4",false]
[410,"CUBURY-Thierry","CUBURY","Thierry","M","1965-12-13",49.448323066392881,"TOAC","FFC","2231105049","Masters 5",28,{"$f":"VLOOKUP(A411,'Chrono+Classement'!G:O,5,FALSE)","v":7},{"$f":"VLOOKUP(A411,'Chrono+Classement'!G:O,9,FALSE)","v":"01:49:06"},{"$f":"IF(L411=17,Param!G411,IF(L411=28,Param!H411,IF(L411=45,Param!I411)))","v":"00:00:42"},"01:48:24",null,1965,"Masters 5",false]
[411,"LIABAT-Stéphane","LIABAT","Stéphane","M","1973-06-18",41.935660506502394,"VC Graulhet","FFC","2281017001","Masters 3/4",28,{"$f":"VLOOKUP(A412,'Chrono+Classement'!G:O,5,FALSE)","v":5},{"$f":"VLOOKUP(A412,'Chrono+Classement'!G:O,9,FALSE)","v":"01:41:04"},{"$f":"IF(L412=17,Param!G412,IF(L412=28,Param!H412,IF(L412=45,Param!I412)))","v":"00:00:42"},"01:40:22",null,1973,"Masters 3/4",false]
[412,"TURON-David","TURON","David","M","1974-05-09",41.045859000684466,null,"NL",null,"Masters 3/4",28,{"$f":"VLOOKUP(A413,'Chrono+Classement'!G:O,5,FALSE)","v":40},{"$f":"VLOOKUP(A413,'Chrono+Classement'!G:O,9,FALSE)","v":"03:03:34"},{"$f":"IF(L413=17,Param!G413,IF(L413=28,Param!H413,IF(L413=45,Param!I413)))","v":"00:00:42"},"03:02:52",null,1974,"Masters 3/4",false]
[413,"DELAHAYE-Fabrice","DELAHAYE","Fabrice","M","1975-10-24",39.586584531143053,"VCRO","FSGT",null,"Masters 3/4",28,{"$f":"VLOOKUP(A414,'Chrono+Classement'!G:O,5,FALSE)","v":4},{"$f":"VLOOKUP(A414,'Chrono+Classement'!G:O,9,FALSE)","v":"01:31:57"},{"$f":"IF(L414=17,Param!G414,IF(L414=28,Param!H414,IF(L414=45,Param!I414)))","v":"00:00:42"},"01:31:15",null,1975,"Masters 3/4",false]
[414,"-",null,null,null,null,115.40041067761807,null,null,null,null,28,{"$f":"VLOOKUP(A415,'Chrono+Classement'!G:O,5,FALSE)","v":{"$error":"#N/A"}},{"$f":"VLOOKUP(A415,'Chrono+Classement'!G:O,9,FALSE)","v":{"$error":"#N/A"}},{"$f":"IF(L415=17,Param!G415,IF(L415=28,Param!H415,IF(L415=45,Param!I415)))","v":"00:00:42"},{"$error":"#N/A"},null,1900,false,false]
[415,"-",null,null,null,null,115.40041067761807,null,null,null,null,28,{"$f":"VLOOKUP(A416,'Chrono+Classement'!G:O,5,FALSE)","v":{"$error":"#N/A"}},{"$f":"VLOOKUP(A416,'Chrono+Classement'!G:O,9,FALSE)","v":{"$error":"#N/A"}},{"$f":"IF(L416=17,Param!G416,IF(L416=28,Param!H416,IF(L416=45,Param!I416)))","v":"00:00:42"},{"$error":"#N/A"},null,1900,false,false]
[416,"-",null,null,null,null,115.40041067761807,null,null,null,null,28,{"$f":"VLOOKUP(A417,'Chrono+Classement'!G:O,5,FALSE)","v":{"$error":"#N/A"}},{"$f":"VLOOKUP(A417,'Chrono+Classement'!G:O,9,FALSE)","v":{"$error":"#N/A"}},{"$f":"IF(L417=17,Param!G417,IF(L417=28,Param!H417,IF(L417=45,Param!I417)))","v":"00:00:42"},{"$error":"#N/A"},null,1900,false,false]
[417,"-",null,null,null,null,115.40041067761807,null,null,null,null,28,{"$f":"VLOOKUP(A418,'Chrono+Classement'!G:O,5,FALSE)","v":{"$error":"#N/A"}},{"$f":"VLOOKUP(A418,'Chrono+Classement'!G:O,9,FALSE)","v":{"$error":"#N/A"}},{"$f":"IF(L418=17,Param!G418,IF(L418=28,Param!H418,IF(L418=45,Param!I418)))","v":"00:00:42"},{"$error":"#N/A"},null,1900,false,false]
[418,"-",null,null,null,null,115.40041067761807,null,null,null,null,28,{"$f":"VLOOKUP(A419,'Chrono+Classement'!G:O,5,FALSE)","v":{"$error":"#N/A"}},{"$f":"VLOOKUP(A419,'Chrono+Classement'!G:O,9,FALSE)","v":{"$error":"#N/A"}},{"$f":"IF(L419=17,Param!G419,IF(L419=28,Param!H419,IF(L419=45,Param!I419)))","v":"00:00:42"},{"$error":"#N/A"},null,1900,false,false]
[419,"-",null,null,null,null,115.40041067761807,null,null,null,null,28,{"$f":"VLOOKUP(A420,'Chrono+Classement'!G:O,5,FALSE)","v":{"$error":"#N/A"}},{"$f":"VLOOKUP(A420,'Chrono+Classement'!G:O,9,FALSE)","v":{"$error":"#N/A"}},{"$f":"IF(L420=17,Param!G420,IF(L420=28,Param!H420,IF(L420=45,Param!I420)))","v":"00:00:42"},{"$error":"#N/A"},null,1900,false,false]
[420,"-",null,null,null,null,115.40041067761807,null,null,null,null,28,{"$f":"VLOOKUP(A421,'Chrono+Classement'!G:O,5,FALSE)","v":{"$error":"#N/A"}},{"$f":"VLOOKUP(A421,'Chrono+Classement'!G:O,9,FALSE)","v":{"$error":"#N/A"}},{"$f":"IF(L421=17,Param!G421,IF(L421=28,Param!H421,IF(L421=45,Param!I421)))","v":"00:00:42"},{"$f":"N421-O421","v":{"$error":"#N/A"}},null,1900,false,false]
[421,"-",null,null,null,null,115.40041067761807,null,null,null,null,28,{"$f":"VLOOKUP(A422,'Chrono+Classement'!G:O,5,FALSE)","v":{"$error":"#N/A"}},{"$f":"VLOOKUP(A422,'Chrono+Classement'!G:O,9,FALSE)","v":{"$error":"#N/A"}},{"$f":"IF(L422=17,Param!G422,IF(L422=28,Param!H422,IF(L422=45,Param!I422)))","v":"00:00:42"},{"$error":"#N/A"},null,1900,false,false]
[422,"-",null,null,null,null,115.40041067761807,null,null,null,null,28,{"$f":"VLOOKUP(A423,'Chrono+Classement'!G:O,5,FALSE)","v":{"$error":"#N/A"}},{"$f":"VLOOKUP(A423,'Chrono+Classement'!G:O,9,FALSE)","v":{"$error":"#N/A"}},{"$f":"IF(L423=17,Param!G423,IF(L423=28,Param!H423,IF(L423=45,Param!I423)))","v":"00:00:42"},{"$error":"#N/A"},null,1900,false,false]
[423,"-",null,null,null,null,115.40041067761807,null,null,null,null,28,{"$f":"VLOOKUP(A424,'Chrono+Classement'!G:O,5,FALSE)","v":{"$error":"#N/A"}},{"$f":"VLOOKUP(A424,'Chrono+Classement'!G:O,9,FALSE)","v":{"$error":"#N/A"}},{"$f":"IF(L424=17,Param!G424,IF(L424=28,Param!H424,IF(L424=45,Param!I424)))","v":"00:00:42"},{"$error":"#N/A"},null,1900,false,false]
[424,"-",null,null,null,null,115.40041067761807,null,null,null,null,28,{"$f":"VLOOKUP(A425,'Chrono+Classement'!G:O,5,FALSE)","v":{"$error":"#N/A"}},{"$f":"VLOOKUP(A425,'Chrono+Classement'!G:O,9,FALSE)","v":{"$error":"#N/A"}},{"$f":"IF(L425=17,Param!G425,IF(L425=28,Param!H425,IF(L425=45,Param!I425)))","v":"00:00:42"},{"$error":"#N/A"},null,1900,false,false]
[425,"-",null,null,null,null,115.40041067761807,null,null,null,null,28,{"$f":"VLOOKUP(A426,'Chrono+Classement'!G:O,5,FALSE)","v":{"$error":"#N/A"}},{"$f":"VLOOKUP(A426,'Chrono+Classement'!G:O,9,FALSE)","v":{"$error":"#N/A"}},{"$f":"IF(L426=17,Param!G426,IF(L426=28,Param!H426,IF(L426=45,Param!I426)))","v":"00:00:42"},{"$error":"#N/A"},null,1900,false,false]
[426,"-",null,null,null,null,115.40041067761807,null,null,null,null,28,{"$f":"VLOOKUP(A427,'Chrono+Classement'!G:O,5,FALSE)","v":{"$error":"#N/A"}},{"$f":"VLOOKUP(A427,'Chrono+Classement'!G:O,9,FALSE)","v":{"$error":"#N/A"}},{"$f":"IF(L427=17,Param!G427,IF(L427=28,Param!H427,IF(L427=45,Param!I427)))","v":"00:00:42"},{"$error":"#N/A"},null,1900,false,false]
[427,"-",null,null,null,null,115.40041067761807,null,null,null,null,28,{"$f":"VLOOKUP(A428,'Chrono+Classement'!G:O,5,FALSE)","v":{"$error":"#N/A"}},{"$f":"VLOOKUP(A428,'Chrono+Classement'!G:O,9,FALSE)","v":{"$error":"#N/A"}},{"$f":"IF(L428=17,Param!G428,IF(L428=28,Param!H428,IF(L428=45,Param!I428)))","v":"00:00:42"},{"$error":"#N/A"},null,1900,false,false]
[428,"-",null,null,null,null,115.40041067761807,null,null,null,null,28,{"$f":"VLOOKUP(A429,'Chrono+Classement'!G:O,5,FALSE)","v":{"$error":"#N/A"}},{"$f":"VLOOKUP(A429,'Chrono+Classement'!G:O,9,FALSE)","v":{"$error":"#N/A"}},{"$f":"IF(L429=17,Param!G429,IF(L429=28,Param!H429,IF(L429=45,Param!I429)))","v":"00:00:42"},{"$error":"#N/A"},null,1900,false,false]
[429,"-",null,null,null,null,115.40041067761807,null,null,null,null,28,{"$f":"VLOOKUP(A430,'Chrono+Classement'!G:O,5,FALSE)","v":{"$error":"#N/A"}},{"$f":"VLOOKUP(A430,'Chrono+Classement'!G:O,9,FALSE)","v":{"$error":"#N/A"}},{"$f":"IF(L430=17,Param!G430,IF(L430=28,Param!H430,IF(L430=45,Param!I430)))","v":"00:00:42"},{"$error":"#N/A"},null,1900,false,false]
[430,"-",null,null,null,null,115.40041067761807,null,null,null,null,28,{"$f":"VLOOKUP(A431,'Chrono+Classement'!G:O,5,FALSE)","v":{"$error":"#N/A"}},{"$f":"VLOOKUP(A431,'Chrono+Classement'!G:O,9,FALSE)","v":{"$error":"#N/A"}},{"$f":"IF(L431=17,Param!G431,IF(L431=28,Param!H431,IF(L431=45,Param!I431)))","v":"00:00:42"},{"$error":"#N/A"},null,1900,false,false]
[431,"-",null,null,null,null,115.40041067761807,null,null,null,null,28,{"$f":"VLOOKUP(A432,'Chrono+Classement'!G:O,5,FALSE)","v":{"$error":"#N/A"}},{"$f":"VLOOKUP(A432,'Chrono+Classement'!G:O,9,FALSE)","v":{"$error":"#N/A"}},{"$f":"IF(L432=17,Param!G432,IF(L432=28,Param!H432,IF(L432=45,Param!I432)))","v":"00:00:42"},{"$error":"#N/A"},null,1900,false,false]
[432,"-",null,null,null,null,115.40041067761807,null,null,null,null,28,{"$f":"VLOOKUP(A433,'Chrono+Classement'!G:O,5,FALSE)","v":{"$error":"#N/A"}},{"$f":"VLOOKUP(A433,'Chrono+Classement'!G:O,9,FALSE)","v":{"$error":"#N/A"}},{"$f":"IF(L433=17,Param!G433,IF(L433=28,Param!H433,IF(L433=45,Param!I433)))","v":"00:00:42"},{"$error":"#N/A"},null,1900,false,false]
[433,"-",null,null,null,null,115.40041067761807,null,null,null,null,28,{"$f":"VLOOKUP(A434,'Chrono+Classement'!G:O,5,FALSE)","v":{"$error":"#N/A"}},{"$f":"VLOOKUP(A434,'Chrono+Classement'!G:O,9,FALSE)","v":{"$error":"#N/A"}},{"$f":"IF(L434=17,Param!G434,IF(L434=28,Param!H434,IF(L434=45,Param!I434)))","v":"00:00:42"},{"$error":"#N/A"},null,1900,false,false]
[434,"-",null,null,null,null,115.40041067761807,null,null,null,null,28,{"$f":"VLOOKUP(A435,'Chrono+Classement'!G:O,5,FALSE)","v":{"$error":"#N/A"}},{"$f":"VLOOKUP(A435,'Chrono+Classement'!G:O,9,FALSE)","v":{"$error":"#N/A"}},{"$f":"IF(L435=17,Param!G435,IF(L435=28,Param!H435,IF(L435=45,Param!I435)))","v":"00:00:42"},{"$error":"#N/A"},null,1900,false,false]
[435,"-",null,null,null,null,115.40041067761807,null,null,null,null,28,{"$f":"VLOOKUP(A436,'Chrono+Classement'!G:O,5,FALSE)","v":{"$error":"#N/A"}},{"$f":"VLOOKUP(A436,'Chrono+Classement'!G:O,9,FALSE)","v":{"$error":"#N/A"}},{"$f":"IF(L436=17,Param!G436,IF(L436=28,Param!H436,IF(L436=45,Param!I436)))","v":"00:00:42"},{"$error":"#N/A"},null,1900,false,false]
[436,"-",null,null,null,null,115.40041067761807,null,null,null,null,28,{"$f":"VLOOKUP(A437,'Chrono+Classement'!G:O,5,FALSE)","v":{"$error":"#N/A"}},{"$f":"VLOOKUP(A437,'Chrono+Classement'!G:O,9,FALSE)","v":{"$error":"#N/A"}},{"$f":"IF(L437=17,Param!G437,IF(L437=28,Param!H437,IF(L437=45,Param!I437)))","v":"00:00:42"},{"$error":"#N/A"},null,1900,false,false]
[437,"-",null,null,null,null,115.40041067761807,null,null,null,null,28,{"$f":"VLOOKUP(A438,'Chrono+Classement'!G:O,5,FALSE)","v":{"$error":"#N/A"}},{"$f":"VLOOKUP(A438,'Chrono+Classement'!G:O,9,FALSE)","v":{"$error":"#N/A"}},{"$f":"IF(L438=17,Param!G438,IF(L438=28,Param!H438,IF(L438=45,Param!I438)))","v":"00:00:42"},{"$error":"#N/A"},null,1900,false,false]
[438,"-",null,null,null,null,115.40041067761807,null,null,null,null,28,{"$f":"VLOOKUP(A439,'Chrono+Classement'!G:O,5,FALSE)","v":{"$error":"#N/A"}},{"$f":"VLOOKUP(A439,'Chrono+Classement'!G:O,9,FALSE)","v":{"$error":"#N/A"}},{"$f":"IF(L439=17,Param!G439,IF(L439=28,Param!H439,IF(L439=45,Param!I439)))","v":"00:00:42"},{"$error":"#N/A"},null,1900,false,false]
[439,"-",null,null,null,null,115.40041067761807,null,null,null,null,28,{"$f":"VLOOKUP(A440,'Chrono+Classement'!G:O,5,FALSE)","v":{"$error":"#N/A"}},{"$f":"VLOOKUP(A440,'Chrono+Classement'!G:O,9,FALSE)","v":{"$error":"#N/A"}},{"$f":"IF(L440=17,Param!G440,IF(L440=28,Param!H440,IF(L440=45,Param!I440)))","v":"00:00:42"},{"$error":"#N/A"},null,1900,false,false]
[440,"-",null,null,null,null,115.40041067761807,null,null,null,null,28,{"$f":"VLOOKUP(A441,'Chrono+Classement'!G:O,5,FALSE)","v":{"$error":"#N/A"}},{"$f":"VLOOKUP(A441,'Chrono+Classement'!G:O,9,FALSE)","v":{"$error":"#N/A"}},{"$f":"IF(L441=17,Param!G441,IF(L441=28,Param!H441,IF(L441=45,Param!I441)))","v":"00:00:42"},{"$error":"#N/A"},null,1900,false,false]
[441,"-",null,null,null,null,115.40041067761807,null,null,null,null,28,{"$f":"VLOOKUP(A442,'Chrono+Classement'!G:O,5,FALSE)","v":{"$error":"#N/A"}},{"$f":"VLOOKUP(A442,'Chrono+Classement'!G:O,9,FALSE)","v":{"$error":"#N/A"}},{"$f":"IF(L442=17,Param!G442,IF(L442=28,Param!H442,IF(L442=45,Param!I442)))","v":"00:00:42"},{"$error":"#N/A"},null,1900,false,false]
[442,"-",null,null,null,null,115.40041067761807,null,null,null,null,28,{"$f":"VLOOKUP(A443,'Chrono+Classement'!G:O,5,FALSE)","v":{"$error":"#N/A"}},{"$f":"VLOOKUP(A443,'Chrono+Classement'!G:O,9,FALSE)","v":{"$error":"#N/A"}},{"$f":"IF(L443=17,Param!G443,IF(L443=28,Param!H443,IF(L443=45,Param!I443)))","v":"00:00:42"},{"$error":"#N/A"},null,1900,false,false]
[443,"-",null,null,null,null,115.40041067761807,null,null,null,null,28,{"$f":"VLOOKUP(A444,'Chrono+Classement'!G:O,5,FALSE)","v":{"$error":"#N/A"}},{"$f":"VLOOKUP(A444,'Chrono+Classement'!G:O,9,FALSE)","v":{"$error":"#N/A"}},{"$f":"IF(L444=17,Param!G444,IF(L444=28,Param!H444,IF(L444=45,Param!I444)))","v":"00:00:42"},{"$error":"#N/A"},null,1900,false,false]
[444,"-",null,null,null,null,115.40041067761807,null,null,null,null,28,{"$f":"VLOOKUP(A445,'Chrono+Classement'!G:O,5,FALSE)","v":{"$error":"#N/A"}},{"$f":"VLOOKUP(A445,'Chrono+Classement'!G:O,9,FALSE)","v":{"$error":"#N/A"}},{"$f":"IF(L445=17,Param!G445,IF(L445=28,Param!H445,IF(L445=45,Param!I445)))","v":"00:00:42"},{"$error":"#N/A"},null,1900,false,false]
[445,"-",null,null,null,null,115.40041067761807,null,null,null,null,28,{"$f":"VLOOKUP(A446,'Chrono+Classement'!G:O,5,FALSE)","v":{"$error":"#N/A"}},{"$f":"VLOOKUP(A446,'Chrono+Classement'!G:O,9,FALSE)","v":{"$error":"#N/A"}},{"$f":"IF(L446=17,Param!G446,IF(L446=28,Param!H446,IF(L446=45,Param!I446)))","v":"00:00:42"},{"$error":"#N/A"},null,1900,false,false]
[446,"-",null,null,null,null,115.40041067761807,null,null,null,null,28,{"$f":"VLOOKUP(A447,'Chrono+Classement'!G:O,5,FALSE)","v":{"$error":"#N/A"}},{"$f":"VLOOKUP(A447,'Chrono+Classement'!G:O,9,FALSE)","v":{"$error":"#N/A"}},{"$f":"IF(L447=17,Param!G447,IF(L447=28,Param!H447,IF(L447=45,Param!I447)))","v":"00:00:42"},{"$error":"#N/A"},null,1900,false,false]
[447,"-",null,null,null,null,115.40041067761807,null,null,null,null,28,{"$f":"VLOOKUP(A448,'Chrono+Classement'!G:O,5,FALSE)","v":{"$error":"#N/A"}},{"$f":"VLOOKUP(A448,'Chrono+Classement'!G:O,9,FALSE)","v":{"$error":"#N/A"}},{"$f":"IF(L448=17,Param!G448,IF(L448=28,Param!H448,IF(L448=45,Param!I448)))","v":"00:00:42"},{"$error":"#N/A"},null,1900,false,false]
[448,"-",null,null,null,null,115.40041067761807,null,null,null,null,28,{"$f":"VLOOKUP(A449,'Chrono+Classement'!G:O,5,FALSE)","v":{"$error":"#N/A"}},{"$f":"VLOOKUP(A449,'Chrono+Classement'!G:O,9,FALSE)","v":{"$error":"#N/A"}},{"$f":"IF(L449=17,Param!G449,IF(L449=28,Param!H449,IF(L449=45,Param!I449)))","v":"00:00:42"},{"$error":"#N/A"},null,1900,false,false]
[449,{"$f":"CONCATENATE(C450,\"-\",D450)","v":"-"},null,null,null,null,{"$f":"(TODAY()-F450)/365.25","v":115.40041067761807},null,null,null,null,28,{"$f":"VLOOKUP(A450,'Chrono+Classement'!G:O,5,FALSE)","v":{"$error":"#N/A"}},{"$f":"VLOOKUP(A450,'Chrono+Classement'!G:O,9,FALSE)","v":{"$error":"#N/A"}},{"$f":"IF(L450=17,Param!G450,IF(L450=28,Param!H450,IF(L450=45,Param!I450)))","v":"00:00:42"},{"$error":"#N/A"},null,{"$f":"YEAR(F450)","v":1900},{"$f":"IF(E450=\"M\",IF(R450<=1965,\"Masters 5\",IF(R450<=1975,\"Masters 3/4\",IF(R450<=1985,\"Masters 1/2\",IF(R450<=1992,\"Hommes\",IF(R450<=1996,\"Espoirs\",IF(R450<=1998,\"Juniors\",IF(R450<=2000,\"Cadets\",0))))))))","v":false},{"$f":"IF(E450=\"F\",IF(R450<=1992,\"Dames\",IF(R450<=1996,\"Espoirs Dames\",IF(R450<=1998,\"Juniors Dames\",IF(R450<=2000,\"Cadettes\",0)))))","v":false}]
[450,"-",null,null,null,null,115.40041067761807,null,null,null,null,28,{"$f":"VLOOKUP(A451,'Chrono+Classement'!G:O,5,FALSE)","v":{"$error":"#N/A"}},{"$f":"VLOOKUP(A451,'Chrono+Classement'!G:O,9,FALSE)","v":{"$error":"#N/A"}},{"$f":"IF(L451=17,Param!G451,IF(L451=28,Param!H451,IF(L451=45,Param!I451)))","v":"00:00:42"},{"$error":"#N/A"},null,1900,false,false]
[451,"-",null,null,null,null,115.40041067761807,null,null,null,null,28,{"$f":"VLOOKUP(A452,'Chrono+Classement'!G:O,5,FALSE)","v":{"$error":"#N/A"}},{"$f":"VLOOKUP(A452,'Chrono+Classement'!G:O,9,FALSE)","v":{"$error":"#N/A"}},{"$f":"IF(L452=17,Param!G452,IF(L452=28,Param!H452,IF(L452=45,Param!I452)))","v":"00:00:42"},{"$error":"#N/A"},null,1900,false,false]
[452,"-",null,null,null,null,115.40041067761807,null,null,null,null,28,{"$f":"VLOOKUP(A453,'Chrono+Classement'!G:O,5,FALSE)","v":{"$error":"#N/A"}},{"$f":"VLOOKUP(A453,'Chrono+Classement'!G:O,9,FALSE)","v":{"$error":"#N/A"}},{"$f":"IF(L453=17,Param!G453,IF(L453=28,Param!H453,IF(L453=45,Param!I453)))","v":"00:00:42"},{"$error":"#N/A"},null,1900,false,false]
[453,"-",null,null,null,null,115.40041067761807,null,null,null,null,28,{"$f":"VLOOKUP(A454,'Chrono+Classement'!G:O,5,FALSE)","v":{"$error":"#N/A"}},{"$f":"VLOOKUP(A454,'Chrono+Classement'!G:O,9,FALSE)","v":{"$error":"#N/A"}},{"$f":"IF(L454=17,Param!G454,IF(L454=28,Param!H454,IF(L454=45,Param!I454)))","v":"00:00:42"},{"$error":"#N/A"},null,1900,false,false]
[454,"-",null,null,null,null,115.40041067761807,null,null,null,null,28,{"$f":"VLOOKUP(A455,'Chrono+Classement'!G:O,5,FALSE)","v":{"$error":"#N/A"}},{"$f":"VLOOKUP(A455,'Chrono+Classement'!G:O,9,FALSE)","v":{"$error":"#N/A"}},{"$f":"IF(L455=17,Param!G455,IF(L455=28,Param!H455,IF(L455=45,Param!I455)))","v":"00:00:42"},{"$error":"#N/A"},null,1900,false,false]
[455,"-",null,null,null,null,115.40041067761807,null,null,null,null,28,{"$f":"VLOOKUP(A456,'Chrono+Classement'!G:O,5,FALSE)","v":{"$error":"#N/A"}},{"$f":"VLOOKUP(A456,'Chrono+Classement'!G:O,9,FALSE)","v":{"$error":"#N/A"}},{"$f":"IF(L456=17,Param!G456,IF(L456=28,Param!H456,IF(L456=45,Param!I456)))","v":"00:00:42"},{"$error":"#N/A"},null,1900,false,false]
[456,"-",null,null,null,null,115.40041067761807,null,null,null,null,28,{"$f":"VLOOKUP(A457,'Chrono+Classement'!G:O,5,FALSE)","v":{"$error":"#N/A"}},{"$f":"VLOOKUP(A457,'Chrono+Classement'!G:O,9,FALSE)","v":{"$error":"#N/A"}},{"$f":"IF(L457=17,Param!G457,IF(L457=28,Param!H457,IF(L457=45,Param!I457)))","v":"00:00:42"},{"$error":"#N/A"},null,1900,false,false]
[457,"-",null,null,null,null,115.40041067761807,null,null,null,null,28,{"$f":"VLOOKUP(A458,'Chrono+Classement'!G:O,5,FALSE)","v":{"$error":"#N/A"}},{"$f":"VLOOKUP(A458,'Chrono+Classement'!G:O,9,FALSE)","v":{"$error":"#N/A"}},{"$f":"IF(L458=17,Param!G458,IF(L458=28,Param!H458,IF(L458=45,Param!I458)))","v":"00:00:42"},{"$error":"#N/A"},null,1900,false,false]
[458,"-",null,null,null,null,115.40041067761807,null,null,null,null,28,{"$f":"VLOOKUP(A459,'Chrono+Classement'!G:O,5,FALSE)","v":{"$error":"#N/A"}},{"$f":"VLOOKUP(A459,'Chrono+Classement'!G:O,9,FALSE)","v":{"$error":"#N/A"}},{"$f":"IF(L459=17,Param!G459,IF(L459=28,Param!H459,IF(L459=45,Param!I459)))","v":"00:00:42"},{"$error":"#N/A"},null,1900,false,false]
[459,"-",null,null,null,null,115.40041067761807,null,null,null,null,28,{"$f":"VLOOKUP(A460,'Chrono+Classement'!G:O,5,FALSE)","v":{"$error":"#N/A"}},{"$f":"VLOOKUP(A460,'Chrono+Classement'!G:O,9,FALSE)","v":{"$error":"#N/A"}},{"$f":"IF(L460=17,Param!G460,IF(L460=28,Param!H460,IF(L460=45,Param!I460)))","v":"00:00:42"},{"$error":"#N/A"},null,1900,false,false]
[460,"-",null,null,null,null,115.40041067761807,null,null,null,null,28,{"$f":"VLOOKUP(A461,'Chrono+Classement'!G:O,5,FALSE)","v":{"$error":"#N/A"}},{"$f":"VLOOKUP(A461,'Chrono+Classement'!G:O,9,FALSE)","v":{"$error":"#N/A"}},{"$f":"IF(L461=17,Param!G461,IF(L461=28,Param!H461,IF(L461=45,Param!I461)))","v":"00:00:42"},{"$error":"#N/A"},null,1900,false,false]
[461,"-",null,null,null,null,115.40041067761807,null,null,null,null,28,{"$f":"VLOOKUP(A462,'Chrono+Classement'!G:O,5,FALSE)","v":{"$error":"#N/A"}},{"$f":"VLOOKUP(A462,'Chrono+Classement'!G:O,9,FALSE)","v":{"$error":"#N/A"}},{"$f":"IF(L462=17,Param!G462,IF(L462=28,Param!H462,IF(L462=45,Param!I462)))","v":"00:00:42"},{"$error":"#N/A"},null,1900,false,false]
[462,"-",null,null,null,null,115.40041067761807,null,null,null,null,28,{"$f":"VLOOKUP(A463,'Chrono+Classement'!G:O,5,FALSE)","v":{"$error":"#N/A"}},{"$f":"VLOOKUP(A463,'Chrono+Classement'!G:O,9,FALSE)","v":{"$error":"#N/A"}},{"$f":"IF(L463=17,Param!G463,IF(L463=28,Param!H463,IF(L463=45,Param!I463)))","v":"00:00:42"},{"$error":"#N/A"},null,1900,false,false]
[463,"-",null,null,null,null,115.40041067761807,null,null,null,null,28,{"$f":"VLOOKUP(A464,'Chrono+Classement'!G:O,5,FALSE)","v":{"$error":"#N/A"}},{"$f":"VLOOKUP(A464,'Chrono+Classement'!G:O,9,FALSE)","v":{"$error":"#N/A"}},{"$f":"IF(L464=17,Param!G464,IF(L464=28,Param!H464,IF(L464=45,Param!I464)))","v":"00:00:42"},{"$error":"#N/A"},null,1900,false,false]
[464,"-",null,null,null,null,115.40041067761807,null,null,null,null,28,{"$f":"VLOOKUP(A465,'Chrono+Classement'!G:O,5,FALSE)","v":{"$error":"#N/A"}},{"$f":"VLOOKUP(A465,'Chrono+Classement'!G:O,9,FALSE)","v":{"$error":"#N/A"}},{"$f":"IF(L465=17,Param!G465,IF(L465=28,Param!H465,IF(L465=45,Param!I465)))","v":"00:00:42"},{"$error":"#N/A"},null,1900,false,false]
[465,"-",null,null,null,null,115.40041067761807,null,null,null,null,28,{"$f":"VLOOKUP(A466,'Chrono+Classement'!G:O,5,FALSE)","v":{"$error":"#N/A"}},{"$f":"VLOOKUP(A466,'Chrono+Classement'!G:O,9,FALSE)","v":{"$error":"#N/A"}},{"$f":"IF(L466=17,Param!G466,IF(L466=28,Param!H466,IF(L466=45,Param!I466)))","v":"00:00:42"},{"$error":"#N/A"},null,1900,false,false]
[466,"-",null,null,null,null,115.40041067761807,null,null,null,null,28,{"$f":"VLOOKUP(A467,'Chrono+Classement'!G:O,5,FALSE)","v":{"$error":"#N/A"}},{"$f":"VLOOKUP(A467,'Chrono+Classement'!G:O,9,FALSE)","v":{"$error":"#N/A"}},{"$f":"IF(L467=17,Param!G467,IF(L467=28,Param!H467,IF(L467=45,Param!I467)))","v":"00:00:42"},{"$error":"#N/A"},null,1900,false,false]
[467,"-",null,null,null,null,115.40041067761807,null,null,null,null,28,{"$f":"VLOOKUP(A468,'Chrono+Classement'!G:O,5,FALSE)","v":{"$error":"#N/A"}},{"$f":"VLOOKUP(A468,'Chrono+Classement'!G:O,9,FALSE)","v":{"$error":"#N/A"}},{"$f":"IF(L468=17,Param!G468,IF(L468=28,Param!H468,IF(L468=45,Param!I468)))","v":"00:00:42"},{"$error":"#N/A"},null,1900,false,false]
[468,"-",null,null,null,null,115.40041067761807,null,null,null,null,28,{"$f":"VLOOKUP(A469,'Chrono+Classement'!G:O,5,FALSE)","v":{"$error":"#N/A"}},{"$f":"VLOOKUP(A469,'Chrono+Classement'!G:O,9,FALSE)","v":{"$error":"#N/A"}},{"$f":"IF(L469=17,Param!G469,IF(L469=28,Param!H469,IF(L469=45,Param!I469)))","v":"00:00:42"},{"$error":"#N/A"},null,1900,false,false]
[469,"-",null,null,null,null,115.40041067761807,null,null,null,null,28,{"$f":"VLOOKUP(A470,'Chrono+Classement'!G:O,5,FALSE)","v":{"$error":"#N/A"}},{"$f":"VLOOKUP(A470,'Chrono+Classement'!G:O,9,FALSE)","v":{"$error":"#N/A"}},{"$f":"IF(L470=17,Param!G470,IF(L470=28,Param!H470,IF(L470=45,Param!I470)))","v":"00:00:42"},{"$error":"#N/A"},null,1900,false,false]
[470,"-",null,null,null,null,115.40041067761807,null,null,null,null,28,{"$f":"VLOOKUP(A471,'Chrono+Classement'!G:O,5,FALSE)","v":{"$error":"#N/A"}},{"$f":"VLOOKUP(A471,'Chrono+Classement'!G:O,9,FALSE)","v":{"$error":"#N/A"}},{"$f":"IF(L471=17,Param!G471,IF(L471=28,Param!H471,IF(L471=45,Param!I471)))","v":"00:00:42"},{"$error":"#N/A"},null,1900,false,false]
[471,"-",null,null,null,null,115.40041067761807,null,null,null,null,28,{"$f":"VLOOKUP(A472,'Chrono+Classement'!G:O,5,FALSE)","v":{"$error":"#N/A"}},{"$f":"VLOOKUP(A472,'Chrono+Classement'!G:O,9,FALSE)","v":{"$error":"#N/A"}},{"$f":"IF(L472=17,Param!G472,IF(L472=28,Param!H472,IF(L472=45,Param!I472)))","v":"00:00:42"},{"$error":"#N/A"},null,1900,false,false]
[472,"-",null,null,null,null,115.40041067761807,null,null,null,null,28,{"$f":"VLOOKUP(A473,'Chrono+Classement'!G:O,5,FALSE)","v":{"$error":"#N/A"}},{"$f":"VLOOKUP(A473,'Chrono+Classement'!G:O,9,FALSE)","v":{"$error":"#N/A"}},{"$f":"IF(L473=17,Param!G473,IF(L473=28,Param!H473,IF(L473=45,Param!I473)))","v":"00:00:42"},{"$error":"#N/A"},null,1900,false,false]
[473,"-",null,null,null,null,115.40041067761807,null,null,null,null,28,{"$f":"VLOOKUP(A474,'Chrono+Classement'!G:O,5,FALSE)","v":{"$error":"#N/A"}},{"$f":"VLOOKUP(A474,'Chrono+Classement'!G:O,9,FALSE)","v":{"$error":"#N/A"}},{"$f":"IF(L474=17,Param!G474,IF(L474=28,Param!H474,IF(L474=45,Param!I474)))","v":"00:00:42"},{"$error":"#N/A"},null,1900,false,false]
[474,"-",null,null,null,null,115.40041067761807,null,null,null,null,28,{"$f":"VLOOKUP(A475,'Chrono+Classement'!G:O,5,FALSE)","v":{"$error":"#N/A"}},{"$f":"VLOOKUP(A475,'Chrono+Classement'!G:O,9,FALSE)","v":{"$error":"#N/A"}},{"$f":"IF(L475=17,Param!G475,IF(L475=28,Param!H475,IF(L475=45,Param!I475)))","v":"00:00:42"},{"$error":"#N/A"},null,1900,false,false]
[475,"-",null,null,null,null,115.40041067761807,null,null,null,null,28,{"$f":"VLOOKUP(A476,'Chrono+Classement'!G:O,5,FALSE)","v":{"$error":"#N/A"}},{"$f":"VLOOKUP(A476,'Chrono+Classement'!G:O,9,FALSE)","v":{"$error":"#N/A"}},{"$f":"IF(L476=17,Param!G476,IF(L476=28,Param!H476,IF(L476=45,Param!I476)))","v":"00:00:42"},{"$error":"#N/A"},null,1900,false,false]
[476,"-",null,null,null,null,115.40041067761807,null,null,null,null,28,{"$f":"VLOOKUP(A477,'Chrono+Classement'!G:O,5,FALSE)","v":{"$error":"#N/A"}},{"$f":"VLOOKUP(A477,'Chrono+Classement'!G:O,9,FALSE)","v":{"$error":"#N/A"}},{"$f":"IF(L477=17,Param!G477,IF(L477=28,Param!H477,IF(L477=45,Param!I477)))","v":"00:00:42"},{"$error":"#N/A"},null,1900,false,false]
[477,"-",null,null,null,null,115.40041067761807,null,null,null,null,28,{"$f":"VLOOKUP(A478,'Chrono+Classement'!G:O,5,FALSE)","v":{"$error":"#N/A"}},{"$f":"VLOOKUP(A478,'Chrono+Classement'!G:O,9,FALSE)","v":{"$error":"#N/A"}},{"$f":"IF(L478=17,Param!G478,IF(L478=28,Param!H478,IF(L478=45,Param!I478)))","v":"00:00:42"},{"$error":"#N/A"},null,1900,false,false]
[478,"-",null,null,null,null,115.40041067761807,null,null,null,null,28,{"$f":"VLOOKUP(A479,'Chrono+Classement'!G:O,5,FALSE)","v":{"$error":"#N/A"}},{"$f":"VLOOKUP(A479,'Chrono+Classement'!G:O,9,FALSE)","v":{"$error":"#N/A"}},{"$f":"IF(L479=17,Param!G479,IF(L479=28,Param!H479,IF(L479=45,Param!I479)))","v":"00:00:42"},{"$error":"#N/A"},null,1900,false,false]
[479,"-",null,null,null,null,115.40041067761807,null,null,null,null,28,{"$f":"VLOOKUP(A480,'Chrono+Classement'!G:O,5,FALSE)","v":{"$error":"#N/A"}},{"$f":"VLOOKUP(A480,'Chrono+Classement'!G:O,9,FALSE)","v":{"$error":"#N/A"}},{"$f":"IF(L480=17,Param!G480,IF(L480=28,Param!H480,IF(L480=45,Param!I480)))","v":"00:00:42"},{"$error":"#N/A"},null,1900,false,false]
[480,"-",null,null,null,null,115.40041067761807,null,null,null,null,28,{"$f":"VLOOKUP(A481,'Chrono+Classement'!G:O,5,FALSE)","v":{"$error":"#N/A"}},{"$f":"VLOOKUP(A481,'Chrono+Classement'!G:O,9,FALSE)","v":{"$error":"#N/A"}},{"$f":"IF(L481=17,Param!G481,IF(L481=28,Param!H481,IF(L481=45,Param!I481)))","v":"00:00:42"},{"$error":"#N/A"},null,1900,false,false]
[481,"-",null,null,null,null,115.40041067761807,null,null,null,null,28,{"$f":"VLOOKUP(A482,'Chrono+Classement'!G:O,5,FALSE)","v":{"$error":"#N/A"}},{"$f":"VLOOKUP(A482,'Chrono+Classement'!G:O,9,FALSE)","v":{"$error":"#N/A"}},{"$f":"IF(L482=17,Param!G482,IF(L482=28,Param!H482,IF(L482=45,Param!I482)))","v":"00:00:42"},{"$error":"#N/A"},null,1900,false,false]
[482,"-",null,null,null,null,115.40041067761807,null,null,null,null,28,{"$f":"VLOOKUP(A483,'Chrono+Classement'!G:O,5,FALSE)","v":{"$error":"#N/A"}},{"$f":"VLOOKUP(A483,'Chrono+Classement'!G:O,9,FALSE)","v":{"$error":"#N/A"}},{"$f":"IF(L483=17,Param!G483,IF(L483=28,Param!H483,IF(L483=45,Param!I483)))","v":"00:00:42"},{"$error":"#N/A"},null,1900,false,false]
[483,"-",null,null,null,null,115.40041067761807,null,null,null,null,28,{"$f":"VLOOKUP(A484,'Chrono+Classement'!G:O,5,FALSE)","v":{"$error":"#N/A"}},{"$f":"VLOOKUP(A484,'Chrono+Classement'!G:O,9,FALSE)","v":{"$error":"#N/A"}},{"$f":"IF(L484=17,Param!G484,IF(L484=28,Param!H484,IF(L484=45,Param!I484)))","v":"00:00:42"},{"$error":"#N/A"},null,1900,false,false]
[484,"-",null,null,null,null,115.40041067761807,null,null,null,null,28,{"$f":"VLOOKUP(A485,'Chrono+Classement'!G:O,5,FALSE)","v":{"$error":"#N/A"}},{"$f":"VLOOKUP(A485,'Chrono+Classement'!G:O,9,FALSE)","v":{"$error":"#N/A"}},{"$f":"IF(L485=17,Param!G485,IF(L485=28,Param!H485,IF(L485=45,Param!I485)))","v":"00:00:42"},{"$f":"N485-O485","v":{"$error":"#N/A"}},null,1900,false,false]
[485,"-",null,null,null,null,115.40041067761807,null,null,null,null,28,{"$f":"VLOOKUP(A486,'Chrono+Classement'!G:O,5,FALSE)","v":{"$error":"#N/A"}},{"$f":"VLOOKUP(A486,'Chrono+Classement'!G:O,9,FALSE)","v":{"$error":"#N/A"}},{"$f":"IF(L486=17,Param!G486,IF(L486=28,Param!H486,IF(L486=45,Param!I486)))","v":"00:00:42"},{"$error":"#N/A"},null,1900,false,false]
[486,"-",null,null,null,null,115.40041067761807,null,null,null,null,28,{"$f":"VLOOKUP(A487,'Chrono+Classement'!G:O,5,FALSE)","v":{"$error":"#N/A"}},{"$f":"VLOOKUP(A487,'Chrono+Classement'!G:O,9,FALSE)","v":{"$error":"#N/A"}},{"$f":"IF(L487=17,Param!G487,IF(L487=28,Param!H487,IF(L487=45,Param!I487)))","v":"00:00:42"},{"$error":"#N/A"},null,1900,false,false]
[487,"-",null,null,null,null,115.40041067761807,null,null,null,null,28,{"$f":"VLOOKUP(A488,'Chrono+Classement'!G:O,5,FALSE)","v":{"$error":"#N/A"}},{"$f":"VLOOKUP(A488,'Chrono+Classement'!G:O,9,FALSE)","v":{"$error":"#N/A"}},{"$f":"IF(L488=17,Param!G488,IF(L488=28,Param!H488,IF(L488=45,Param!I488)))","v":"00:00:42"},{"$error":"#N/A"},null,1900,false,false]
[488,"-",null,null,null,null,115.40041067761807,null,null,null,null,28,{"$f":"VLOOKUP(A489,'Chrono+Classement'!G:O,5,FALSE)","v":{"$error":"#N/A"}},{"$f":"VLOOKUP(A489,'Chrono+Classement'!G:O,9,FALSE)","v":{"$error":"#N/A"}},{"$f":"IF(L489=17,Param!G489,IF(L489=28,Param!H489,IF(L489=45,Param!I489)))","v":"00:00:42"},{"$error":"#N/A"},null,1900,false,false]
[489,"-",null,null,null,null,115.40041067761807,null,null,null,null,28,{"$f":"VLOOKUP(A490,'Chrono+Classement'!G:O,5,FALSE)","v":{"$error":"#N/A"}},{"$f":"VLOOKUP(A490,'Chrono+Classement'!G:O,9,FALSE)","v":{"$error":"#N/A"}},{"$f":"IF(L490=17,Param!G490,IF(L490=28,Param!H490,IF(L490=45,Param!I490)))","v":"00:00:42"},{"$error":"#N/A"},null,1900,false,false]
[490,"-",null,null,null,null,115.40041067761807,null,null,null,null,28,{"$f":"VLOOKUP(A491,'Chrono+Classement'!G:O,5,FALSE)","v":{"$error":"#N/A"}},{"$f":"VLOOKUP(A491,'Chrono+Classement'!G:O,9,FALSE)","v":{"$error":"#N/A"}},{"$f":"IF(L491=17,Param!G491,IF(L491=28,Param!H491,IF(L491=45,Param!I491)))","v":"00:00:42"},{"$error":"#N/A"},null,1900,false,false]
[491,"-",null,null,null,null,115.40041067761807,null,null,null,null,28,{"$f":"VLOOKUP(A492,'Chrono+Classement'!G:O,5,FALSE)","v":{"$error":"#N/A"}},{"$f":"VLOOKUP(A492,'Chrono+Classement'!G:O,9,FALSE)","v":{"$error":"#N/A"}},{"$f":"IF(L492=17,Param!G492,IF(L492=28,Param!H492,IF(L492=45,Param!I492)))","v":"00:00:42"},{"$error":"#N/A"},null,1900,false,false]
[492,"-",null,null,null,null,115.40041067761807,null,null,null,null,28,{"$f":"VLOOKUP(A493,'Chrono+Classement'!G:O,5,FALSE)","v":{"$error":"#N/A"}},{"$f":"VLOOKUP(A493,'Chrono+Classement'!G:O,9,FALSE)","v":{"$error":"#N/A"}},{"$f":"IF(L493=17,Param!G493,IF(L493=28,Param!H493,IF(L493=45,Param!I493)))","v":"00:00:42"},{"$error":"#N/A"},null,1900,false,false]
[493,"-",null,null,null,null,115.40041067761807,null,null,null,null,28,{"$f":"VLOOKUP(A494,'Chrono+Classement'!G:O,5,FALSE)","v":{"$error":"#N/A"}},{"$f":"VLOOKUP(A494,'Chrono+Classement'!G:O,9,FALSE)","v":{"$error":"#N/A"}},{"$f":"IF(L494=17,Param!G494,IF(L494=28,Param!H494,IF(L494=45,Param!I494)))","v":"00:00:42"},{"$error":"#N/A"},null,1900,false,false]
[494,"-",null,null,null,null,115.40041067761807,null,null,null,null,28,{"$f":"VLOOKUP(A495,'Chrono+Classement'!G:O,5,FALSE)","v":{"$error":"#N/A"}},{"$f":"VLOOKUP(A495,'Chrono+Classement'!G:O,9,FALSE)","v":{"$error":"#N/A"}},{"$f":"IF(L495=17,Param!G495,IF(L495=28,Param!H495,IF(L495=45,Param!I495)))","v":"00:00:42"},{"$error":"#N/A"},null,1900,false,false]
[495,"-",null,null,null,null,115.40041067761807,null,null,null,null,28,{"$f":"VLOOKUP(A496,'Chrono+Classement'!G:O,5,FALSE)","v":{"$error":"#N/A"}},{"$f":"VLOOKUP(A496,'Chrono+Classement'!G:O,9,FALSE)","v":{"$error":"#N/A"}},{"$f":"IF(L496=17,Param!G496,IF(L496=28,Param!H496,IF(L496=45,Param!I496)))","v":"00:00:42"},{"$error":"#N/A"},null,1900,false,false]
[496,"-",null,null,null,null,115.40041067761807,null,null,null,null,28,{"$f":"VLOOKUP(A497,'Chrono+Classement'!G:O,5,FALSE)","v":{"$error":"#N/A"}},{"$f":"VLOOKUP(A497,'Chrono+Classement'!G:O,9,FALSE)","v":{"$error":"#N/A"}},{"$f":"IF(L497=17,Param!G497,IF(L497=28,Param!H497,IF(L497=45,Param!I497)))","v":"00:00:42"},{"$error":"#N/A"},null,1900,false,false]
[497,"-",null,null,null,null,115.40041067761807,null,null,null,null,28,{"$f":"VLOOKUP(A498,'Chrono+Classement'!G:O,5,FALSE)","v":{"$error":"#N/A"}},{"$f":"VLOOKUP(A498,'Chrono+Classement'!G:O,9,FALSE)","v":{"$error":"#N/A"}},{"$f":"IF(L498=17,Param!G498,IF(L498=28,Param!H498,IF(L498=45,Param!I498)))","v":"00:00:42"},{"$error":"#N/A"},null,1900,false,false]
[498,"-",null,null,null,null,115.40041067761807,null,null,null,null,28,{"$f":"VLOOKUP(A499,'Chrono+Classement'!G:O,5,FALSE)","v":{"$error":"#N/A"}},{"$f":"VLOOKUP(A499,'Chrono+Classement'!G:O,9,FALSE)","v":{"$error":"#N/A"}},{"$f":"IF(L499=17,Param!G499,IF(L499=28,Param!H499,IF(L499=45,Param!I499)))","v":"00:00:42"},{"$error":"#N/A"},null,1900,false,false]
[499,"-",null,null,null,null,115.40041067761807,null,null,null,null,28,{"$f":"VLOOKUP(A500,'Chrono+Classement'!G:O,5,FALSE)","v":{"$error":"#N/A"}},{"$f":"VLOOKUP(A500,'Chrono+Classement'!G:O,9,FALSE)","v":{"$error":"#N/A"}},{"$f":"IF(L500=17,Param!G500,IF(L500=28,Param!H500,IF(L500=45,Param!I500)))","v":"00:00:42"},{"$error":"#N/A"},null,1900,false,false]
[500,"-",null,null,null,null,115.40041067761807,null,null,null,null,28,{"$f":"VLOOKUP(A501,'Chrono+Classement'!G:O,5,FALSE)","v":{"$error":"#N/A"}},{"$f":"VLOOKUP(A501,'Chrono+Classement'!G:O,9,FALSE)","v":{"$error":"#N/A"}},{"$f":"IF(L501=17,Param!G501,IF(L501=28,Param!H501,IF(L501=45,Param!I501)))","v":"00:00:42"},{"$error":"#N/A"},null,1900,false,false]
[501,"-",null,null,null,null,115.40041067761807,null,null,null,null,28,{"$f":"VLOOKUP(A502,'Chrono+Classement'!G:O,5,FALSE)","v":{"$error":"#N/A"}},{"$f":"VLOOKUP(A502,'Chrono+Classement'!G:O,9,FALSE)","v":{"$error":"#N/A"}},{"$f":"IF(L502=17,Param!G502,IF(L502=28,Param!H502,IF(L502=45,Param!I502)))","v":"00:00:42"},{"$error":"#N/A"},null,1900,false,false]
[502,"-",null,null,null,null,115.40041067761807,null,null,null,null,28,{"$f":"VLOOKUP(A503,'Chrono+Classement'!G:O,5,FALSE)","v":{"$error":"#N/A"}},{"$f":"VLOOKUP(A503,'Chrono+Classement'!G:O,9,FALSE)","v":{"$error":"#N/A"}},{"$f":"IF(L503=17,Param!G503,IF(L503=28,Param!H503,IF(L503=45,Param!I503)))","v":"00:00:42"},{"$error":"#N/A"},null,1900,false,false]
[503,"-",null,null,null,null,115.40041067761807,null,null,null,null,28,{"$f":"VLOOKUP(A504,'Chrono+Classement'!G:O,5,FALSE)","v":{"$error":"#N/A"}},{"$f":"VLOOKUP(A504,'Chrono+Classement'!G:O,9,FALSE)","v":{"$error":"#N/A"}},{"$f":"IF(L504=17,Param!G504,IF(L504=28,Param!H504,IF(L504=45,Param!I504)))","v":"00:00:42"},{"$error":"#N/A"},null,1900,false,false]
[504,"-",null,null,null,null,115.40041067761807,null,null,null,null,28,{"$f":"VLOOKUP(A505,'Chrono+Classement'!G:O,5,FALSE)","v":{"$error":"#N/A"}},{"$f":"VLOOKUP(A505,'Chrono+Classement'!G:O,9,FALSE)","v":{"$error":"#N/A"}},{"$f":"IF(L505=17,Param!G505,IF(L505=28,Param!H505,IF(L505=45,Param!I505)))","v":"00:00:42"},{"$error":"#N/A"},null,1900,false,false]
[505,"-",null,null,null,null,115.40041067761807,null,null,null,null,28,{"$f":"VLOOKUP(A506,'Chrono+Classement'!G:O,5,FALSE)","v":{"$error":"#N/A"}},{"$f":"VLOOKUP(A506,'Chrono+Classement'!G:O,9,FALSE)","v":{"$error":"#N/A"}},{"$f":"IF(L506=17,Param!G506,IF(L506=28,Param!H506,IF(L506=45,Param!I506)))","v":"00:00:42"},{"$error":"#N/A"},null,1900,false,false]
[506,"-",null,null,null,null,115.40041067761807,null,null,null,null,28,{"$f":"VLOOKUP(A507,'Chrono+Classement'!G:O,5,FALSE)","v":{"$error":"#N/A"}},{"$f":"VLOOKUP(A507,'Chrono+Classement'!G:O,9,FALSE)","v":{"$error":"#N/A"}},{"$f":"IF(L507=17,Param!G507,IF(L507=28,Param!H507,IF(L507=45,Param!I507)))","v":"00:00:42"},{"$error":"#N/A"},null,1900,false,false]
[507,"-",null,null,null,null,115.40041067761807,null,null,null,null,28,{"$f":"VLOOKUP(A508,'Chrono+Classement'!G:O,5,FALSE)","v":{"$error":"#N/A"}},{"$f":"VLOOKUP(A508,'Chrono+Classement'!G:O,9,FALSE)","v":{"$error":"#N/A"}},{"$f":"IF(L508=17,Param!G508,IF(L508=28,Param!H508,IF(L508=45,Param!I508)))","v":"00:00:42"},{"$error":"#N/A"},null,1900,false,false]
[508,"-",null,null,null,null,115.40041067761807,null,null,null,null,28,{"$f":"VLOOKUP(A509,'Chrono+Classement'!G:O,5,FALSE)","v":{"$error":"#N/A"}},{"$f":"VLOOKUP(A509,'Chrono+Classement'!G:O,9,FALSE)","v":{"$error":"#N/A"}},{"$f":"IF(L509=17,Param!G509,IF(L509=28,Param!H509,IF(L509=45,Param!I509)))","v":"00:00:42"},{"$error":"#N/A"},null,1900,false,false]
[509,"-",null,null,null,null,115.40041067761807,null,null,null,null,28,{"$f":"VLOOKUP(A510,'Chrono+Classement'!G:O,5,FALSE)","v":{"$error":"#N/A"}},{"$f":"VLOOKUP(A510,'Chrono+Classement'!G:O,9,FALSE)","v":{"$error":"#N/A"}},{"$f":"IF(L510=17,Param!G510,IF(L510=28,Param!H510,IF(L510=45,Param!I510)))","v":"00:00:42"},{"$error":"#N/A"},null,1900,false,false]
[510,"-",null,null,null,null,115.40041067761807,null,null,null,null,28,{"$f":"VLOOKUP(A511,'Chrono+Classement'!G:O,5,FALSE)","v":{"$error":"#N/A"}},{"$f":"VLOOKUP(A511,'Chrono+Classement'!G:O,9,FALSE)","v":{"$error":"#N/A"}},{"$f":"IF(L511=17,Param!G511,IF(L511=28,Param!H511,IF(L511=45,Param!I511)))","v":"00:00:42"},{"$error":"#N/A"},null,1900,false,false]
[511,"-",null,null,null,null,115.40041067761807,null,null,null,null,28,{"$f":"VLOOKUP(A512,'Chrono+Classement'!G:O,5,FALSE)","v":{"$error":"#N/A"}},{"$f":"VLOOKUP(A512,'Chrono+Classement'!G:O,9,FALSE)","v":{"$error":"#N/A"}},{"$f":"IF(L512=17,Param!G512,IF(L512=28,Param!H512,IF(L512=45,Param!I512)))","v":"00:00:42"},{"$error":"#N/A"},null,1900,false,false]
[512,"-",null,null,null,null,115.40041067761807,null,null,null,null,28,{"$f":"VLOOKUP(A513,'Chrono+Classement'!G:O,5,FALSE)","v":{"$error":"#N/A"}},{"$f":"VLOOKUP(A513,'Chrono+Classement'!G:O,9,FALSE)","v":{"$error":"#N/A"}},{"$f":"IF(L513=17,Param!G513,IF(L513=28,Param!H513,IF(L513=45,Param!I513)))","v":"00:00:42"},{"$error":"#N/A"},null,1900,false,false]
[513,{"$f":"CONCATENATE(C514,\"-\",D514)","v":"-"},null,null,null,null,{"$f":"(TODAY()-F514)/365.25","v":115.40041067761807},null,null,null,null,28,{"$f":"VLOOKUP(A514,'Chrono+Classement'!G:O,5,FALSE)","v":{"$error":"#N/A"}},{"$f":"VLOOKUP(A514,'Chrono+Classement'!G:O,9,FALSE)","v":{"$error":"#N/A"}},{"$f":"IF(L514=17,Param!G514,IF(L514=28,Param!H514,IF(L514=45,Param!I514)))","v":"00:00:42"},{"$error":"#N/A"},null,{"$f":"YEAR(F514)","v":1900},{"$f":"IF(E514=\"M\",IF(R514<=1965,\"Masters 5\",IF(R514<=1975,\"Masters 3/4\",IF(R514<=1985,\"Masters 1/2\",IF(R514<=1992,\"Hommes\",IF(R514<=1996,\"Espoirs\",IF(R514<=1998,\"Juniors\",IF(R514<=2000,\"Cadets\",0))))))))","v":false},{"$f":"IF(E514=\"F\",IF(R514<=1992,\"Dames\",IF(R514<=1996,\"Espoirs Dames\",IF(R514<=1998,\"Juniors Dames\",IF(R514<=2000,\"Cadettes\",0)))))","v":false}]
[514,"-",null,null,null,null,115.40041067761807,null,null,null,null,28,{"$f":"VLOOKUP(A515,'Chrono+Classement'!G:O,5,FALSE)","v":{"$error":"#N/A"}},{"$f":"VLOOKUP(A515,'Chrono+Classement'!G:O,9,FALSE)","v":{"$error":"#N/A"}},{"$f":"IF(L515=17,Param!G515,IF(L515=28,Param!H515,IF(L515=45,Param!I515)))","v":"00:00:42"},{"$error":"#N/A"},null,1900,false,false]
[515,"-",null,null,null,null,115.40041067761807,null,null,null,null,28,{"$f":"VLOOKUP(A516,'Chrono+Classement'!G:O,5,FALSE)","v":{"$error":"#N/A"}},{"$f":"VLOOKUP(A516,'Chrono+Classement'!G:O,9,FALSE)","v":{"$error":"#N/A"}},{"$f":"IF(L516=17,Param!G516,IF(L516=28,Param!H516,IF(L516=45,Param!I516)))","v":"00:00:42"},{"$error":"#N/A"},null,1900,false,false]
[516,"-",null,null,null,null,115.40041067761807,null,null,null,null,28,{"$f":"VLOOKUP(A517,'Chrono+Classement'!G:O,5,FALSE)","v":{"$error":"#N/A"}},{"$f":"VLOOKUP(A517,'Chrono+Classement'!G:O,9,FALSE)","v":{"$error":"#N/A"}},{"$f":"IF(L517=17,Param!G517,IF(L517=28,Param!H517,IF(L517=45,Param!I517)))","v":"00:00:42"},{"$error":"#N/A"},null,1900,false,false]
[517,"-",null,null,null,null,115.40041067761807,null,null,null,null,28,{"$f":"VLOOKUP(A518,'Chrono+Classement'!G:O,5,FALSE)","v":{"$error":"#N/A"}},{"$f":"VLOOKUP(A518,'Chrono+Classement'!G:O,9,FALSE)","v":{"$error":"#N/A"}},{"$f":"IF(L518=17,Param!G518,IF(L518=28,Param!H518,IF(L518=45,Param!I518)))","v":"00:00:42"},{"$error":"#N/A"},null,1900,false,false]
[518,"-",null,null,null,null,115.40041067761807,null,null,null,null,28,{"$f":"VLOOKUP(A519,'Chrono+Classement'!G:O,5,FALSE)","v":{"$error":"#N/A"}},{"$f":"VLOOKUP(A519,'Chrono+Classement'!G:O,9,FALSE)","v":{"$error":"#N/A"}},{"$f":"IF(L519=17,Param!G519,IF(L519=28,Param!H519,IF(L519=45,Param!I519)))","v":"00:00:42"},{"$error":"#N/A"},null,1900,false,false]
[519,"-",null,null,null,null,115.40041067761807,null,null,null,null,28,{"$f":"VLOOKUP(A520,'Chrono+Classement'!G:O,5,FALSE)","v":{"$error":"#N/A"}},{"$f":"VLOOKUP(A520,'Chrono+Classement'!G:O,9,FALSE)","v":{"$error":"#N/A"}},{"$f":"IF(L520=17,Param!G520,IF(L520=28,Param!H520,IF(L520=45,Param!I520)))","v":"00:00:42"},{"$error":"#N/A"},null,1900,false,false]
[520,"-",null,null,null,null,115.40041067761807,null,null,null,null,28,{"$f":"VLOOKUP(A521,'Chrono+Classement'!G:O,5,FALSE)","v":{"$error":"#N/A"}},{"$f":"VLOOKUP(A521,'Chrono+Classement'!G:O,9,FALSE)","v":{"$error":"#N/A"}},{"$f":"IF(L521=17,Param!G521,IF(L521=28,Param!H521,IF(L521=45,Param!I521)))","v":"00:00:42"},{"$error":"#N/A"},null,1900,false,false]
[521,"-",null,null,null,null,115.40041067761807,null,null,null,null,28,{"$f":"VLOOKUP(A522,'Chrono+Classement'!G:O,5,FALSE)","v":{"$error":"#N/A"}},{"$f":"VLOOKUP(A522,'Chrono+Classement'!G:O,9,FALSE)","v":{"$error":"#N/A"}},{"$f":"IF(L522=17,Param!G522,IF(L522=28,Param!H522,IF(L522=45,Param!I522)))","v":"00:00:42"},{"$error":"#N/A"},null,1900,false,false]
[522,"-",null,null,null,null,115.40041067761807,null,null,null,null,28,{"$f":"VLOOKUP(A523,'Chrono+Classement'!G:O,5,FALSE)","v":{"$error":"#N/A"}},{"$f":"VLOOKUP(A523,'Chrono+Classement'!G:O,9,FALSE)","v":{"$error":"#N/A"}},{"$f":"IF(L523=17,Param!G523,IF(L523=28,Param!H523,IF(L523=45,Param!I523)))","v":"00:00:42"},{"$error":"#N/A"},null,1900,false,false]
[523,"-",null,null,null,null,115.40041067761807,null,null,null,null,28,{"$f":"VLOOKUP(A524,'Chrono+Classement'!G:O,5,FALSE)","v":{"$error":"#N/A"}},{"$f":"VLOOKUP(A524,'Chrono+Classement'!G:O,9,FALSE)","v":{"$error":"#N/A"}},{"$f":"IF(L524=17,Param!G524,IF(L524=28,Param!H524,IF(L524=45,Param!I524)))","v":"00:00:42"},{"$error":"#N/A"},null,1900,false,false]
[524,"-",null,null,null,null,115.40041067761807,null,null,null,null,28,{"$f":"VLOOKUP(A525,'Chrono+Classement'!G:O,5,FALSE)","v":{"$error":"#N/A"}},{"$f":"VLOOKUP(A525,'Chrono+Classement'!G:O,9,FALSE)","v":{"$error":"#N/A"}},{"$f":"IF(L525=17,Param!G525,IF(L525=28,Param!H525,IF(L525=45,Param!I525)))","v":"00:00:42"},{"$error":"#N/A"},null,1900,false,false]
[525,"-",null,null,null,null,115.40041067761807,null,null,null,null,28,{"$f":"VLOOKUP(A526,'Chrono+Classement'!G:O,5,FALSE)","v":{"$error":"#N/A"}},{"$f":"VLOOKUP(A526,'Chrono+Classement'!G:O,9,FALSE)","v":{"$error":"#N/A"}},{"$f":"IF(L526=17,Param!G526,IF(L526=28,Param!H526,IF(L526=45,Param!I526)))","v":"00:00:42"},{"$error":"#N/A"},null,1900,false,false]
[526,"-",null,null,null,null,115.40041067761807,null,null,null,null,28,{"$f":"VLOOKUP(A527,'Chrono+Classement'!G:O,5,FALSE)","v":{"$error":"#N/A"}},{"$f":"VLOOKUP(A527,'Chrono+Classement'!G:O,9,FALSE)","v":{"$error":"#N/A"}},{"$f":"IF(L527=17,Param!G527,IF(L527=28,Param!H527,IF(L527=45,Param!I527)))","v":"00:00:42"},{"$error":"#N/A"},null,1900,false,false]
[527,"-",null,null,null,null,115.40041067761807,null,null,null,null,28,{"$f":"VLOOKUP(A528,'Chrono+Classement'!G:O,5,FALSE)","v":{"$error":"#N/A"}},{"$f":"VLOOKUP(A528,'Chrono+Classement'!G:O,9,FALSE)","v":{"$error":"#N/A"}},{"$f":"IF(L528=17,Param!G528,IF(L528=28,Param!H528,IF(L528=45,Param!I528)))","v":"00:00:42"},{"$error":"#N/A"},null,1900,false,false]
[528,"-",null,null,null,null,115.40041067761807,null,null,null,null,28,{"$f":"VLOOKUP(A529,'Chrono+Classement'!G:O,5,FALSE)","v":{"$error":"#N/A"}},{"$f":"VLOOKUP(A529,'Chrono+Classement'!G:O,9,FALSE)","v":{"$error":"#N/A"}},{"$f":"IF(L529=17,Param!G529,IF(L529=28,Param!H529,IF(L529=45,Param!I529)))","v":"00:00:42"},{"$error":"#N/A"},null,1900,false,false]
[529,"-",null,null,null,null,115.40041067761807,null,null,null,null,28,{"$f":"VLOOKUP(A530,'Chrono+Classement'!G:O,5,FALSE)","v":{"$error":"#N/A"}},{"$f":"VLOOKUP(A530,'Chrono+Classement'!G:O,9,FALSE)","v":{"$error":"#N/A"}},{"$f":"IF(L530=17,Param!G530,IF(L530=28,Param!H530,IF(L530=45,Param!I530)))","v":"00:00:42"},{"$error":"#N/A"},null,1900,false,false]
[530,"-",null,null,null,null,115.40041067761807,null,null,null,null,28,{"$f":"VLOOKUP(A531,'Chrono+Classement'!G:O,5,FALSE)","v":{"$error":"#N/A"}},{"$f":"VLOOKUP(A531,'Chrono+Classement'!G:O,9,FALSE)","v":{"$error":"#N/A"}},{"$f":"IF(L531=17,Param!G531,IF(L531=28,Param!H531,IF(L531=45,Param!I531)))","v":"00:00:42"},{"$error":"#N/A"},null,1900,false,false]
[531,"-",null,null,null,null,115.40041067761807,null,null,null,null,28,{"$f":"VLOOKUP(A532,'Chrono+Classement'!G:O,5,FALSE)","v":{"$error":"#N/A"}},{"$f":"VLOOKUP(A532,'Chrono+Classement'!G:O,9,FALSE)","v":{"$error":"#N/A"}},{"$f":"IF(L532=17,Param!G532,IF(L532=28,Param!H532,IF(L532=45,Param!I532)))","v":"00:00:42"},{"$error":"#N/A"},null,1900,false,false]
[532,"-",null,null,null,null,115.40041067761807,null,null,null,null,28,{"$f":"VLOOKUP(A533,'Chrono+Classement'!G:O,5,FALSE)","v":{"$error":"#N/A"}},{"$f":"VLOOKUP(A533,'Chrono+Classement'!G:O,9,FALSE)","v":{"$error":"#N/A"}},{"$f":"IF(L533=17,Param!G533,IF(L533=28,Param!H533,IF(L533=45,Param!I533)))","v":"00:00:42"},{"$error":"#N/A"},null,1900,false,false]
[533,"-",null,null,null,null,115.40041067761807,null,null,null,null,28,{"$f":"VLOOKUP(A534,'Chrono+Classement'!G:O,5,FALSE)","v":{"$error":"#N/A"}},{"$f":"VLOOKUP(A534,'Chrono+Classement'!G:O,9,FALSE)","v":{"$error":"#N/A"}},{"$f":"IF(L534=17,Param!G534,IF(L534=28,Param!H534,IF(L534=45,Param!I534)))","v":"00:00:42"},{"$error":"#N/A"},null,1900,false,false]
[534,"-",null,null,null,null,115.40041067761807,null,null,null,null,28,{"$f":"VLOOKUP(A535,'Chrono+Classement'!G:O,5,FALSE)","v":{"$error":"#N/A"}},{"$f":"VLOOKUP(A535,'Chrono+Classement'!G:O,9,FALSE)","v":{"$error":"#N/A"}},{"$f":"IF(L535=17,Param!G535,IF(L535=28,Param!H535,IF(L535=45,Param!I535)))","v":"00:00:42"},{"$error":"#N/A"},null,1900,false,false]
[535,"-",null,null,null,null,115.40041067761807,null,null,null,null,28,{"$f":"VLOOKUP(A536,'Chrono+Classement'!G:O,5,FALSE)","v":{"$error":"#N/A"}},{"$f":"VLOOKUP(A536,'Chrono+Classement'!G:O,9,FALSE)","v":{"$error":"#N/A"}},{"$f":"IF(L536=17,Param!G536,IF(L536=28,Param!H536,IF(L536=45,Param!I536)))","v":"00:00:42"},{"$error":"#N/A"},null,1900,false,false]
[536,"-",null,null,null,null,115.40041067761807,null,null,null,null,28,{"$f":"VLOOKUP(A537,'Chrono+Classement'!G:O,5,FALSE)","v":{"$error":"#N/A"}},{"$f":"VLOOKUP(A537,'Chrono+Classement'!G:O,9,FALSE)","v":{"$error":"#N/A"}},{"$f":"IF(L537=17,Param!G537,IF(L537=28,Param!H537,IF(L537=45,Param!I537)))","v":"00:00:42"},{"$error":"#N/A"},null,1900,false,false]
[537,"-",null,null,null,null,115.40041067761807,null,null,null,null,28,{"$f":"VLOOKUP(A538,'Chrono+Classement'!G:O,5,FALSE)","v":{"$error":"#N/A"}},{"$f":"VLOOKUP(A538,'Chrono+Classement'!G:O,9,FALSE)","v":{"$error":"#N/A"}},{"$f":"IF(L538=17,Param!G538,IF(L538=28,Param!H538,IF(L538=45,Param!I538)))","v":"00:00:42"},{"$error":"#N/A"},null,1900,false,false]
[538,"-",null,null,null,null,115.40041067761807,null,null,null,null,28,{"$f":"VLOOKUP(A539,'Chrono+Classement'!G:O,5,FALSE)","v":{"$error":"#N/A"}},{"$f":"VLOOKUP(A539,'Chrono+Classement'!G:O,9,FALSE)","v":{"$error":"#N/A"}},{"$f":"IF(L539=17,Param!G539,IF(L539=28,Param!H539,IF(L539=45,Param!I539)))","v":"00:00:42"},{"$error":"#N/A"},null,1900,false,false]
[539,"-",null,null,null,null,115.40041067761807,null,null,null,null,28,{"$f":"VLOOKUP(A540,'Chrono+Classement'!G:O,5,FALSE)","v":{"$error":"#N/A"}},{"$f":"VLOOKUP(A540,'Chrono+Classement'!G:O,9,FALSE)","v":{"$error":"#N/A"}},{"$f":"IF(L540=17,Param!G540,IF(L540=28,Param!H540,IF(L540=45,Param!I540)))","v":"00:00:42"},{"$error":"#N/A"},null,1900,false,false]
[540,"-",null,null,null,null,115.40041067761807,null,null,null,null,28,{"$f":"VLOOKUP(A541,'Chrono+Classement'!G:O,5,FALSE)","v":{"$error":"#N/A"}},{"$f":"VLOOKUP(A541,'Chrono+Classement'!G:O,9,FALSE)","v":{"$error":"#N/A"}},{"$f":"IF(L541=17,Param!G541,IF(L541=28,Param!H541,IF(L541=45,Param!I541)))","v":"00:00:42"},{"$error":"#N/A"},null,1900,false,false]
[541,"-",null,null,null,null,115.40041067761807,null,null,null,null,28,{"$f":"VLOOKUP(A542,'Chrono+Classement'!G:O,5,FALSE)","v":{"$error":"#N/A"}},{"$f":"VLOOKUP(A542,'Chrono+Classement'!G:O,9,FALSE)","v":{"$error":"#N/A"}},{"$f":"IF(L542=17,Param!G542,IF(L542=28,Param!H542,IF(L542=45,Param!I542)))","v":"00:00:42"},{"$error":"#N/A"},null,1900,false,false]
[542,"-",null,null,null,null,115.40041067761807,null,null,null,null,28,{"$f":"VLOOKUP(A543,'Chrono+Classement'!G:O,5,FALSE)","v":{"$error":"#N/A"}},{"$f":"VLOOKUP(A543,'Chrono+Classement'!G:O,9,FALSE)","v":{"$error":"#N/A"}},{"$f":"IF(L543=17,Param!G543,IF(L543=28,Param!H543,IF(L543=45,Param!I543)))","v":"00:00:42"},{"$error":"#N/A"},null,1900,false,false]
[543,"-",null,null,null,null,115.40041067761807,null,null,null,null,28,{"$f":"VLOOKUP(A544,'Chrono+Classement'!G:O,5,FALSE)","v":{"$error":"#N/A"}},{"$f":"VLOOKUP(A544,'Chrono+Classement'!G:O,9,FALSE)","v":{"$error":"#N/A"}},{"$f":"IF(L544=17,Param!G544,IF(L544=28,Param!H544,IF(L544=45,Param!I544)))","v":"00:00:42"},{"$error":"#N/A"},null,1900,false,false]
[544,"-",null,null,null,null,115.40041067761807,null,null,null,null,28,{"$f":"VLOOKUP(A545,'Chrono+Classement'!G:O,5,FALSE)","v":{"$error":"#N/A"}},{"$f":"VLOOKUP(A545,'Chrono+Classement'!G:O,9,FALSE)","v":{"$error":"#N/A"}},{"$f":"IF(L545=17,Param!G545,IF(L545=28,Param!H545,IF(L545=45,Param!I545)))","v":"00:00:42"},{"$error":"#N/A"},null,1900,false,false]
[545,"-",null,null,null,null,115.40041067761807,null,null,null,null,28,{"$f":"VLOOKUP(A546,'Chrono+Classement'!G:O,5,FALSE)","v":{"$error":"#N/A"}},{"$f":"VLOOKUP(A546,'Chrono+Classement'!G:O,9,FALSE)","v":{"$error":"#N/A"}},{"$f":"IF(L546=17,Param!G546,IF(L546=28,Param!H546,IF(L546=45,Param!I546)))","v":"00:00:42"},{"$error":"#N/A"},null,1900,false,false]
[546,"-",null,null,null,null,115.40041067761807,null,null,null,null,28,{"$f":"VLOOKUP(A547,'Chrono+Classement'!G:O,5,FALSE)","v":{"$error":"#N/A"}},{"$f":"VLOOKUP(A547,'Chrono+Classement'!G:O,9,FALSE)","v":{"$error":"#N/A"}},{"$f":"IF(L547=17,Param!G547,IF(L547=28,Param!H547,IF(L547=45,Param!I547)))","v":"00:00:42"},{"$error":"#N/A"},null,1900,false,false]
[547,"-",null,null,null,null,115.40041067761807,null,null,null,null,28,{"$f":"VLOOKUP(A548,'Chrono+Classement'!G:O,5,FALSE)","v":{"$error":"#N/A"}},{"$f":"VLOOKUP(A548,'Chrono+Classement'!G:O,9,FALSE)","v":{"$error":"#N/A"}},{"$f":"IF(L548=17,Param!G548,IF(L548=28,Param!H548,IF(L548=45,Param!I548)))","v":"00:00:42"},{"$error":"#N/A"},null,1900,false,false]
[548,"-",null,null,null,null,115.40041067761807,null,null,null,null,28,{"$f":"VLOOKUP(A549,'Chrono+Classement'!G:O,5,FALSE)","v":{"$error":"#N/A"}},{"$f":"VLOOKUP(A549,'Chrono+Classement'!G:O,9,FALSE)","v":{"$error":"#N/A"}},{"$f":"IF(L549=17,Param!G549,IF(L549=28,Param!H549,IF(L549=45,Param!I549)))","v":"00:00:42"},{"$f":"N549-O549","v":{"$error":"#N/A"}},null,1900,false,false]
[549,"-",null,null,null,null,115.40041067761807,null,null,null,null,28,{"$f":"VLOOKUP(A550,'Chrono+Classement'!G:O,5,FALSE)","v":{"$error":"#N/A"}},{"$f":"VLOOKUP(A550,'Chrono+Classement'!G:O,9,FALSE)","v":{"$error":"#N/A"}},{"$f":"IF(L550=17,Param!G550,IF(L550=28,Param!H550,IF(L550=45,Param!I550)))","v":"00:00:42"},{"$error":"#N/A"},null,1900,false,false]
[550,"-",null,null,null,null,115.40041067761807,null,null,null,null,28,{"$f":"VLOOKUP(A551,'Chrono+Classement'!G:O,5,FALSE)","v":{"$error":"#N/A"}},{"$f":"VLOOKUP(A551,'Chrono+Classement'!G:O,9,FALSE)","v":{"$error":"#N/A"}},{"$f":"IF(L551=17,Param!G551,IF(L551=28,Param!H551,IF(L551=45,Param!I551)))","v":"00:00:42"},{"$error":"#N/A"},null,1900,false,false]
[551,"-",null,null,null,null,115.40041067761807,null,null,null,null,28,{"$f":"VLOOKUP(A552,'Chrono+Classement'!G:O,5,FALSE)","v":{"$error":"#N/A"}},{"$f":"VLOOKUP(A552,'Chrono+Classement'!G:O,9,FALSE)","v":{"$error":"#N/A"}},{"$f":"IF(L552=17,Param!G552,IF(L552=28,Param!H552,IF(L552=45,Param!I552)))","v":"00:00:42"},{"$error":"#N/A"},null,1900,false,false]
[552,"-",null,null,null,null,115.40041067761807,null,null,null,null,28,{"$f":"VLOOKUP(A553,'Chrono+Classement'!G:O,5,FALSE)","v":{"$error":"#N/A"}},{"$f":"VLOOKUP(A553,'Chrono+Classement'!G:O,9,FALSE)","v":{"$error":"#N/A"}},{"$f":"IF(L553=17,Param!G553,IF(L553=28,Param!H553,IF(L553=45,Param!I553)))","v":"00:00:42"},{"$error":"#N/A"},null,1900,false,false]
[553,"-",null,null,null,null,115.40041067761807,null,null,null,null,28,{"$f":"VLOOKUP(A554,'Chrono+Classement'!G:O,5,FALSE)","v":{"$error":"#N/A"}},{"$f":"VLOOKUP(A554,'Chrono+Classement'!G:O,9,FALSE)","v":{"$error":"#N/A"}},{"$f":"IF(L554=17,Param!G554,IF(L554=28,Param!H554,IF(L554=45,Param!I554)))","v":"00:00:42"},{"$error":"#N/A"},null,1900,false,false]
[554,"-",null,null,null,null,115.40041067761807,null,null,null,null,28,{"$f":"VLOOKUP(A555,'Chrono+Classement'!G:O,5,FALSE)","v":{"$error":"#N/A"}},{"$f":"VLOOKUP(A555,'Chrono+Classement'!G:O,9,FALSE)","v":{"$error":"#N/A"}},{"$f":"IF(L555=17,Param!G555,IF(L555=28,Param!H555,IF(L555=45,Param!I555)))","v":"00:00:42"},{"$error":"#N/A"},null,1900,false,false]
[555,"-",null,null,null,null,115.40041067761807,null,null,null,null,28,{"$f":"VLOOKUP(A556,'Chrono+Classement'!G:O,5,FALSE)","v":{"$error":"#N/A"}},{"$f":"VLOOKUP(A556,'Chrono+Classement'!G:O,9,FALSE)","v":{"$error":"#N/A"}},{"$f":"IF(L556=17,Param!G556,IF(L556=28,Param!H556,IF(L556=45,Param!I556)))","v":"00:00:42"},{"$error":"#N/A"},null,1900,false,false]
[556,"-",null,null,null,null,115.40041067761807,null,null,null,null,28,{"$f":"VLOOKUP(A557,'Chrono+Classement'!G:O,5,FALSE)","v":{"$error":"#N/A"}},{"$f":"VLOOKUP(A557,'Chrono+Classement'!G:O,9,FALSE)","v":{"$error":"#N/A"}},{"$f":"IF(L557=17,Param!G557,IF(L557=28,Param!H557,IF(L557=45,Param!I557)))","v":"00:00:42"},{"$error":"#N/A"},null,1900,false,false]
[557,"-",null,null,null,null,115.40041067761807,null,null,null,null,28,{"$f":"VLOOKUP(A558,'Chrono+Classement'!G:O,5,FALSE)","v":{"$error":"#N/A"}},{"$f":"VLOOKUP(A558,'Chrono+Classement'!G:O,9,FALSE)","v":{"$error":"#N/A"}},{"$f":"IF(L558=17,Param!G558,IF(L558=28,Param!H558,IF(L558=45,Param!I558)))","v":"00:00:42"},{"$error":"#N/A"},null,1900,false,false]
[558,"-",null,null,null,null,115.40041067761807,null,null,null,null,28,{"$f":"VLOOKUP(A559,'Chrono+Classement'!G:O,5,FALSE)","v":{"$error":"#N/A"}},{"$f":"VLOOKUP(A559,'Chrono+Classement'!G:O,9,FALSE)","v":{"$error":"#N/A"}},{"$f":"IF(L559=17,Param!G559,IF(L559=28,Param!H559,IF(L559=45,Param!I559)))","v":"00:00:42"},{"$error":"#N/A"},null,1900,false,false]
[559,"-",null,null,null,null,115.40041067761807,null,null,null,null,28,{"$f":"VLOOKUP(A560,'Chrono+Classement'!G:O,5,FALSE)","v":{"$error":"#N/A"}},{"$f":"VLOOKUP(A560,'Chrono+Classement'!G:O,9,FALSE)","v":{"$error":"#N/A"}},{"$f":"IF(L560=17,Param!G560,IF(L560=28,Param!H560,IF(L560=45,Param!I560)))","v":"00:00:42"},{"$error":"#N/A"},null,1900,false,false]
[560,"-",null,null,null,null,115.40041067761807,null,null,null,null,28,{"$f":"VLOOKUP(A561,'Chrono+Classement'!G:O,5,FALSE)","v":{"$error":"#N/A"}},{"$f":"VLOOKUP(A561,'Chrono+Classement'!G:O,9,FALSE)","v":{"$error":"#N/A"}},{"$f":"IF(L561=17,Param!G561,IF(L561=28,Param!H561,IF(L561=45,Param!I561)))","v":"00:00:42"},{"$error":"#N/A"},null,1900,false,false]
[561,"-",null,null,null,null,115.40041067761807,null,null,null,null,28,{"$f":"VLOOKUP(A562,'Chrono+Classement'!G:O,5,FALSE)","v":{"$error":"#N/A"}},{"$f":"VLOOKUP(A562,'Chrono+Classement'!G:O,9,FALSE)","v":{"$error":"#N/A"}},{"$f":"IF(L562=17,Param!G562,IF(L562=28,Param!H562,IF(L562=45,Param!I562)))","v":"00:00:42"},{"$error":"#N/A"},null,1900,false,false]
[562,"-",null,null,null,null,115.40041067761807,null,null,null,null,28,{"$f":"VLOOKUP(A563,'Chrono+Classement'!G:O,5,FALSE)","v":{"$error":"#N/A"}},{"$f":"VLOOKUP(A563,'Chrono+Classement'!G:O,9,FALSE)","v":{"$error":"#N/A"}},{"$f":"IF(L563=17,Param!G563,IF(L563=28,Param!H563,IF(L563=45,Param!I563)))","v":"00:00:42"},{"$error":"#N/A"},null,1900,false,false]
[563,"-",null,null,null,null,115.40041067761807,null,null,null,null,28,{"$f":"VLOOKUP(A564,'Chrono+Classement'!G:O,5,FALSE)","v":{"$error":"#N/A"}},{"$f":"VLOOKUP(A564,'Chrono+Classement'!G:O,9,FALSE)","v":{"$error":"#N/A"}},{"$f":"IF(L564=17,Param!G564,IF(L564=28,Param!H564,IF(L564=45,Param!I564)))","v":"00:00:42"},{"$error":"#N/A"},null,1900,false,false]
[564,"-",null,null,null,null,115.40041067761807,null,null,null,null,28,{"$f":"VLOOKUP(A565,'Chrono+Classement'!G:O,5,FALSE)","v":{"$error":"#N/A"}},{"$f":"VLOOKUP(A565,'Chrono+Classement'!G:O,9,FALSE)","v":{"$error":"#N/A"}},{"$f":"IF(L565=17,Param!G565,IF(L565=28,Param!H565,IF(L565=45,Param!I565)))","v":"00:00:42"},{"$error":"#N/A"},null,1900,false,false]
[565,"-",null,null,null,null,115.40041067761807,null,null,null,null,28,{"$f":"VLOOKUP(A566,'Chrono+Classement'!G:O,5,FALSE)","v":{"$error":"#N/A"}},{"$f":"VLOOKUP(A566,'Chrono+Classement'!G:O,9,FALSE)","v":{"$error":"#N/A"}},{"$f":"IF(L566=17,Param!G566,IF(L566=28,Param!H566,IF(L566=45,Param!I566)))","v":"00:00:42"},{"$error":"#N/A"},null,1900,false,false]
[566,"-",null,null,null,null,115.40041067761807,null,null,null,null,28,{"$f":"VLOOKUP(A567,'Chrono+Classement'!G:O,5,FALSE)","v":{"$error":"#N/A"}},{"$f":"VLOOKUP(A567,'Chrono+Classement'!G:O,9,FALSE)","v":{"$error":"#N/A"}},{"$f":"IF(L567=17,Param!G567,IF(L567=28,Param!H567,IF(L567=45,Param!I567)))","v":"00:00:42"},{"$error":"#N/A"},null,1900,false,false]
[567,"-",null,null,null,null,115.40041067761807,null,null,null,null,28,{"$f":"VLOOKUP(A568,'Chrono+Classement'!G:O,5,FALSE)","v":{"$error":"#N/A"}},{"$f":"VLOOKUP(A568,'Chrono+Classement'!G:O,9,FALSE)","v":{"$error":"#N/A"}},{"$f":"IF(L568=17,Param!G568,IF(L568=28,Param!H568,IF(L568=45,Param!I568)))","v":"00:00:42"},{"$error":"#N/A"},null,1900,false,false]
[568,"-",null,null,null,null,115.40041067761807,null,null,null,null,28,{"$f":"VLOOKUP(A569,'Chrono+Classement'!G:O,5,FALSE)","v":{"$error":"#N/A"}},{"$f":"VLOOKUP(A569,'Chrono+Classement'!G:O,9,FALSE)","v":{"$error":"#N/A"}},{"$f":"IF(L569=17,Param!G569,IF(L569=28,Param!H569,IF(L569=45,Param!I569)))","v":"00:00:42"},{"$error":"#N/A"},null,1900,false,false]
[569,"-",null,null,null,null,115.40041067761807,null,null,null,null,28,{"$f":"VLOOKUP(A570,'Chrono+Classement'!G:O,5,FALSE)","v":{"$error":"#N/A"}},{"$f":"VLOOKUP(A570,'Chrono+Classement'!G:O,9,FALSE)","v":{"$error":"#N/A"}},{"$f":"IF(L570=17,Param!G570,IF(L570=28,Param!H570,IF(L570=45,Param!I570)))","v":"00:00:42"},{"$error":"#N/A"},null,1900,false,false]
[570,"-",null,null,null,null,115.40041067761807,null,null,null,null,28,{"$f":"VLOOKUP(A571,'Chrono+Classement'!G:O,5,FALSE)","v":{"$error":"#N/A"}},{"$f":"VLOOKUP(A571,'Chrono+Classement'!G:O,9,FALSE)","v":{"$error":"#N/A"}},{"$f":"IF(L571=17,Param!G571,IF(L571=28,Param!H571,IF(L571=45,Param!I571)))","v":"00:00:42"},{"$error":"#N/A"},null,1900,false,false]
[571,"-",null,null,null,null,115.40041067761807,null,null,null,null,28,{"$f":"VLOOKUP(A572,'Chrono+Classement'!G:O,5,FALSE)","v":{"$error":"#N/A"}},{"$f":"VLOOKUP(A572,'Chrono+Classement'!G:O,9,FALSE)","v":{"$error":"#N/A"}},{"$f":"IF(L572=17,Param!G572,IF(L572=28,Param!H572,IF(L572=45,Param!I572)))","v":"00:00:42"},{"$error":"#N/A"},null,1900,false,false]
[572,"-",null,null,null,null,115.40041067761807,null,null,null,null,28,{"$f":"VLOOKUP(A573,'Chrono+Classement'!G:O,5,FALSE)","v":{"$error":"#N/A"}},{"$f":"VLOOKUP(A573,'Chrono+Classement'!G:O,9,FALSE)","v":{"$error":"#N/A"}},{"$f":"IF(L573=17,Param!G573,IF(L573=28,Param!H573,IF(L573=45,Param!I573)))","v":"00:00:42"},{"$error":"#N/A"},null,1900,false,false]
[573,"-",null,null,null,null,115.40041067761807,null,null,null,null,28,{"$f":"VLOOKUP(A574,'Chrono+Classement'!G:O,5,FALSE)","v":{"$error":"#N/A"}},{"$f":"VLOOKUP(A574,'Chrono+Classement'!G:O,9,FALSE)","v":{"$error":"#N/A"}},{"$f":"IF(L574=17,Param!G574,IF(L574=28,Param!H574,IF(L574=45,Param!I574)))","v":"00:00:42"},{"$error":"#N/A"},null,1900,false,false]
[574,"-",null,null,null,null,115.40041067761807,null,null,null,null,28,{"$f":"VLOOKUP(A575,'Chrono+Classement'!G:O,5,FALSE)","v":{"$error":"#N/A"}},{"$f":"VLOOKUP(A575,'Chrono+Classement'!G:O,9,FALSE)","v":{"$error":"#N/A"}},{"$f":"IF(L575=17,Param!G575,IF(L575=28,Param!H575,IF(L575=45,Param!I575)))","v":"00:00:42"},{"$error":"#N/A"},null,1900,false,false]
[575,"-",null,null,null,null,115.40041067761807,null,null,null,null,28,{"$f":"VLOOKUP(A576,'Chrono+Classement'!G:O,5,FALSE)","v":{"$error":"#N/A"}},{"$f":"VLOOKUP(A576,'Chrono+Classement'!G:O,9,FALSE)","v":{"$error":"#N/A"}},{"$f":"IF(L576=17,Param!G576,IF(L576=28,Param!H576,IF(L576=45,Param!I576)))","v":"00:00:42"},{"$error":"#N/A"},null,1900,false,false]
[576,"-",null,null,null,null,115.40041067761807,null,null,null,null,28,{"$f":"VLOOKUP(A577,'Chrono+Classement'!G:O,5,FALSE)","v":{"$error":"#N/A"}},{"$f":"VLOOKUP(A577,'Chrono+Classement'!G:O,9,FALSE)","v":{"$error":"#N/A"}},{"$f":"IF(L577=17,Param!G577,IF(L577=28,Param!H577,IF(L577=45,Param!I577)))","v":"00:00:42"},{"$error":"#N/A"},null,1900,false,false]
[577,{"$f":"CONCATENATE(C578,\"-\",D578)","v":"-"},null,null,null,null,{"$f":"(TODAY()-F578)/365.25","v":115.40041067761807},null,null,null,null,28,{"$f":"VLOOKUP(A578,'Chrono+Classement'!G:O,5,FALSE)","v":{"$error":"#N/A"}},{"$f":"VLOOKUP(A578,'Chrono+Classement'!G:O,9,FALSE)","v":{"$error":"#N/A"}},{"$f":"IF(L578=17,Param!G578,IF(L578=28,Param!H578,IF(L578=45,Param!I578)))","v":"00:00:42"},{"$error":"#N/A"},null,{"$f":"YEAR(F578)","v":1900},{"$f":"IF(E578=\"M\",IF(R578<=1965,\"Masters 5\",IF(R578<=1975,\"Masters 3/4\",IF(R578<=1985,\"Masters 1/2\",IF(R578<=1992,\"Hommes\",IF(R578<=1996,\"Espoirs\",IF(R578<=1998,\"Juniors\",IF(R578<=2000,\"Cadets\",0))))))))","v":false},{"$f":"IF(E578=\"F\",IF(R578<=1992,\"Dames\",IF(R578<=1996,\"Espoirs Dames\",IF(R578<=1998,\"Juniors Dames\",IF(R578<=2000,\"Cadettes\",0)))))","v":false}]
[578,"-",null,null,null,null,115.40041067761807,null,null,null,null,28,{"$f":"VLOOKUP(A579,'Chrono+Classement'!G:O,5,FALSE)","v":{"$error":"#N/A"}},{"$f":"VLOOKUP(A579,'Chrono+Classement'!G:O,9,FALSE)","v":{"$error":"#N/A"}},{"$f":"IF(L579=17,Param!G579,IF(L579=28,Param!H579,IF(L579=45,Param!I579)))","v":"00:00:42"},{"$error":"#N/A"},null,1900,false,false]
[579,"-",null,null,null,null,115.40041067761807,null,null,null,null,28,{"$f":"VLOOKUP(A580,'Chrono+Classement'!G:O,5,FALSE)","v":{"$error":"#N/A"}},{"$f":"VLOOKUP(A580,'Chrono+Classement'!G:O,9,FALSE)","v":{"$error":"#N/A"}},{"$f":"IF(L580=17,Param!G580,IF(L580=28,Param!H580,IF(L580=45,Param!I580)))","v":"00:00:42"},{"$error":"#N/A"},null,1900,false,false]
[580,"-",null,null,null,null,115.40041067761807,null,null,null,null,28,{"$f":"VLOOKUP(A581,'Chrono+Classement'!G:O,5,FALSE)","v":{"$error":"#N/A"}},{"$f":"VLOOKUP(A581,'Chrono+Classement'!G:O,9,FALSE)","v":{"$error":"#N/A"}},{"$f":"IF(L581=17,Param!G581,IF(L581=28,Param!H581,IF(L581=45,Param!I581)))","v":"00:00:42"},{"$error":"#N/A"},null,1900,false,false]
[581,"-",null,null,null,null,115.40041067761807,null,null,null,null,28,{"$f":"VLOOKUP(A582,'Chrono+Classement'!G:O,5,FALSE)","v":{"$error":"#N/A"}},{"$f":"VLOOKUP(A582,'Chrono+Classement'!G:O,9,FALSE)","v":{"$error":"#N/A"}},{"$f":"IF(L582=17,Param!G582,IF(L582=28,Param!H582,IF(L582=45,Param!I582)))","v":"00:00:42"},{"$error":"#N/A"},null,1900,false,false]
[582,"-",null,null,null,null,115.40041067761807,null,null,null,null,28,{"$f":"VLOOKUP(A583,'Chrono+Classement'!G:O,5,FALSE)","v":{"$error":"#N/A"}},{"$f":"VLOOKUP(A583,'Chrono+Classement'!G:O,9,FALSE)","v":{"$error":"#N/A"}},{"$f":"IF(L583=17,Param!G583,IF(L583=28,Param!H583,IF(L583=45,Param!I583)))","v":"00:00:42"},{"$error":"#N/A"},null,1900,false,false]
[583,"-",null,null,null,null,115.40041067761807,null,null,null,null,28,{"$f":"VLOOKUP(A584,'Chrono+Classement'!G:O,5,FALSE)","v":{"$error":"#N/A"}},{"$f":"VLOOKUP(A584,'Chrono+Classement'!G:O,9,FALSE)","v":{"$error":"#N/A"}},{"$f":"IF(L584=17,Param!G584,IF(L584=28,Param!H584,IF(L584=45,Param!I584)))","v":"00:00:42"},{"$error":"#N/A"},null,1900,false,false]
[584,"-",null,null,null,null,115.40041067761807,null,null,null,null,28,{"$f":"VLOOKUP(A585,'Chrono+Classement'!G:O,5,FALSE)","v":{"$error":"#N/A"}},{"$f":"VLOOKUP(A585,'Chrono+Classement'!G:O,9,FALSE)","v":{"$error":"#N/A"}},{"$f":"IF(L585=17,Param!G585,IF(L585=28,Param!H585,IF(L585=45,Param!I585)))","v":"00:00:42"},{"$error":"#N/A"},null,1900,false,false]
[585,"-",null,null,null,null,115.40041067761807,null,null,null,null,28,{"$f":"VLOOKUP(A586,'Chrono+Classement'!G:O,5,FALSE)","v":{"$error":"#N/A"}},{"$f":"VLOOKUP(A586,'Chrono+Classement'!G:O,9,FALSE)","v":{"$error":"#N/A"}},{"$f":"IF(L586=17,Param!G586,IF(L586=28,Param!H586,IF(L586=45,Param!I586)))","v":"00:00:42"},{"$error":"#N/A"},null,1900,false,false]
[586,"-",null,null,null,null,115.40041067761807,null,null,null,null,28,{"$f":"VLOOKUP(A587,'Chrono+Classement'!G:O,5,FALSE)","v":{"$error":"#N/A"}},{"$f":"VLOOKUP(A587,'Chrono+Classement'!G:O,9,FALSE)","v":{"$error":"#N/A"}},{"$f":"IF(L587=17,Param!G587,IF(L587=28,Param!H587,IF(L587=45,Param!I587)))","v":"00:00:42"},{"$error":"#N/A"},null,1900,false,false]
[587,"-",null,null,null,null,115.40041067761807,null,null,null,null,28,{"$f":"VLOOKUP(A588,'Chrono+Classement'!G:O,5,FALSE)","v":{"$error":"#N/A"}},{"$f":"VLOOKUP(A588,'Chrono+Classement'!G:O,9,FALSE)","v":{"$error":"#N/A"}},{"$f":"IF(L588=17,Param!G588,IF(L588=28,Param!H588,IF(L588=45,Param!I588)))","v":"00:00:42"},{"$error":"#N/A"},null,1900,false,false]
[588,"-",null,null,null,null,115.40041067761807,null,null,null,null,28,{"$f":"VLOOKUP(A589,'Chrono+Classement'!G:O,5,FALSE)","v":{"$error":"#N/A"}},{"$f":"VLOOKUP(A589,'Chrono+Classement'!G:O,9,FALSE)","v":{"$error":"#N/A"}},{"$f":"IF(L589=17,Param!G589,IF(L589=28,Param!H589,IF(L589=45,Param!I589)))","v":"00:00:42"},{"$error":"#N/A"},null,1900,false,false]
[589,"-",null,null,null,null,115.40041067761807,null,null,null,null,28,{"$f":"VLOOKUP(A590,'Chrono+Classement'!G:O,5,FALSE)","v":{"$error":"#N/A"}},{"$f":"VLOOKUP(A590,'Chrono+Classement'!G:O,9,FALSE)","v":{"$error":"#N/A"}},{"$f":"IF(L590=17,Param!G590,IF(L590=28,Param!H590,IF(L590=45,Param!I590)))","v":"00:00:42"},{"$error":"#N/A"},null,1900,false,false]
[590,"-",null,null,null,null,115.40041067761807,null,null,null,null,28,{"$f":"VLOOKUP(A591,'Chrono+Classement'!G:O,5,FALSE)","v":{"$error":"#N/A"}},{"$f":"VLOOKUP(A591,'Chrono+Classement'!G:O,9,FALSE)","v":{"$error":"#N/A"}},{"$f":"IF(L591=17,Param!G591,IF(L591=28,Param!H591,IF(L591=45,Param!I591)))","v":"00:00:42"},{"$error":"#N/A"},null,1900,false,false]
[591,"-",null,null,null,null,115.40041067761807,null,null,null,null,28,{"$f":"VLOOKUP(A592,'Chrono+Classement'!G:O,5,FALSE)","v":{"$error":"#N/A"}},{"$f":"VLOOKUP(A592,'Chrono+Classement'!G:O,9,FALSE)","v":{"$error":"#N/A"}},{"$f":"IF(L592=17,Param!G592,IF(L592=28,Param!H592,IF(L592=45,Param!I592)))","v":"00:00:42"},{"$error":"#N/A"},null,1900,false,false]
[592,"-",null,null,null,null,115.40041067761807,null,null,null,null,28,{"$f":"VLOOKUP(A593,'Chrono+Classement'!G:O,5,FALSE)","v":{"$error":"#N/A"}},{"$f":"VLOOKUP(A593,'Chrono+Classement'!G:O,9,FALSE)","v":{"$error":"#N/A"}},{"$f":"IF(L593=17,Param!G593,IF(L593=28,Param!H593,IF(L593=45,Param!I593)))","v":"00:00:42"},{"$error":"#N/A"},null,1900,false,false]
[593,"-",null,null,null,null,115.40041067761807,null,null,null,null,28,{"$f":"VLOOKUP(A594,'Chrono+Classement'!G:O,5,FALSE)","v":{"$error":"#N/A"}},{"$f":"VLOOKUP(A594,'Chrono+Classement'!G:O,9,FALSE)","v":{"$error":"#N/A"}},{"$f":"IF(L594=17,Param!G594,IF(L594=28,Param!H594,IF(L594=45,Param!I594)))","v":"00:00:42"},{"$error":"#N/A"},null,1900,false,false]
[594,"-",null,null,null,null,115.40041067761807,null,null,null,null,28,{"$f":"VLOOKUP(A595,'Chrono+Classement'!G:O,5,FALSE)","v":{"$error":"#N/A"}},{"$f":"VLOOKUP(A595,'Chrono+Classement'!G:O,9,FALSE)","v":{"$error":"#N/A"}},{"$f":"IF(L595=17,Param!G595,IF(L595=28,Param!H595,IF(L595=45,Param!I595)))","v":"00:00:42"},{"$error":"#N/A"},null,1900,false,false]
[595,"-",null,null,null,null,115.40041067761807,null,null,null,null,28,{"$f":"VLOOKUP(A596,'Chrono+Classement'!G:O,5,FALSE)","v":{"$error":"#N/A"}},{"$f":"VLOOKUP(A596,'Chrono+Classement'!G:O,9,FALSE)","v":{"$error":"#N/A"}},{"$f":"IF(L596=17,Param!G596,IF(L596=28,Param!H596,IF(L596=45,Param!I596)))","v":"00:00:42"},{"$error":"#N/A"},null,1900,false,false]
[596,"-",null,null,null,null,115.40041067761807,null,null,null,null,28,{"$f":"VLOOKUP(A597,'Chrono+Classement'!G:O,5,FALSE)","v":{"$error":"#N/A"}},{"$f":"VLOOKUP(A597,'Chrono+Classement'!G:O,9,FALSE)","v":{"$error":"#N/A"}},{"$f":"IF(L597=17,Param!G597,IF(L597=28,Param!H597,IF(L597=45,Param!I597)))","v":"00:00:42"},{"$error":"#N/A"},null,1900,false,false]
[597,"-",null,null,null,null,115.40041067761807,null,null,null,null,28,{"$f":"VLOOKUP(A598,'Chrono+Classement'!G:O,5,FALSE)","v":{"$error":"#N/A"}},{"$f":"VLOOKUP(A598,'Chrono+Classement'!G:O,9,FALSE)","v":{"$error":"#N/A"}},{"$f":"IF(L598=17,Param!G598,IF(L598=28,Param!H598,IF(L598=45,Param!I598)))","v":"00:00:42"},{"$error":"#N/A"},null,1900,false,false]
[598,"-",null,null,null,null,115.40041067761807,null,null,null,null,28,{"$f":"VLOOKUP(A599,'Chrono+Classement'!G:O,5,FALSE)","v":{"$error":"#N/A"}},{"$f":"VLOOKUP(A599,'Chrono+Classement'!G:O,9,FALSE)","v":{"$error":"#N/A"}},{"$f":"IF(L599=17,Param!G599,IF(L599=28,Param!H599,IF(L599=45,Param!I599)))","v":"00:00:42"},{"$error":"#N/A"},null,1900,false,false]
[599,"-",null,null,null,null,115.40041067761807,null,null,null,null,28,{"$f":"VLOOKUP(A600,'Chrono+Classement'!G:O,5,FALSE)","v":{"$error":"#N/A"}},{"$f":"VLOOKUP(A600,'Chrono+Classement'!G:O,9,FALSE)","v":{"$error":"#N/A"}},{"$f":"IF(L600=17,Param!G600,IF(L600=28,Param!H600,IF(L600=45,Param!I600)))","v":"00:00:42"},{"$error":"#N/A"},null,1900,false,false]
[600,"-",null,null,null,null,115.40041067761807,null,null,null,null,28,{"$f":"VLOOKUP(A601,'Chrono+Classement'!G:O,5,FALSE)","v":{"$error":"#N/A"}},{"$f":"VLOOKUP(A601,'Chrono+Classement'!G:O,9,FALSE)","v":{"$error":"#N/A"}},{"$f":"IF(L601=17,Param!G601,IF(L601=28,Param!H601,IF(L601=45,Param!I601)))","v":"00:00:42"},{"$error":"#N/A"},null,1900,false,false]
[601,"-",null,null,null,null,115.40041067761807,null,null,null,null,28,{"$f":"VLOOKUP(A602,'Chrono+Classement'!G:O,5,FALSE)","v":{"$error":"#N/A"}},{"$f":"VLOOKUP(A602,'Chrono+Classement'!G:O,9,FALSE)","v":{"$error":"#N/A"}},{"$f":"IF(L602=17,Param!G602,IF(L602=28,Param!H602,IF(L602=45,Param!I602)))","v":"00:00:42"},{"$error":"#N/A"},null,1900,false,false]
[602,"-",null,null,null,null,115.40041067761807,null,null,null,null,28,{"$f":"VLOOKUP(A603,'Chrono+Classement'!G:O,5,FALSE)","v":{"$error":"#N/A"}},{"$f":"VLOOKUP(A603,'Chrono+Classement'!G:O,9,FALSE)","v":{"$error":"#N/A"}},{"$f":"IF(L603=17,Param!G603,IF(L603=28,Param!H603,IF(L603=45,Param!I603)))","v":"00:00:42"},{"$error":"#N/A"},null,1900,false,false]
[603,"-",null,null,null,null,115.40041067761807,null,null,null,null,28,{"$f":"VLOOKUP(A604,'Chrono+Classement'!G:O,5,FALSE)","v":{"$error":"#N/A"}},{"$f":"VLOOKUP(A604,'Chrono+Classement'!G:O,9,FALSE)","v":{"$error":"#N/A"}},{"$f":"IF(L604=17,Param!G604,IF(L604=28,Param!H604,IF(L604=45,Param!I604)))","v":"00:00:42"},{"$error":"#N/A"},null,1900,false,false]
[604,"-",null,null,null,null,115.40041067761807,null,null,null,null,28,{"$f":"VLOOKUP(A605,'Chrono+Classement'!G:O,5,FALSE)","v":{"$error":"#N/A"}},{"$f":"VLOOKUP(A605,'Chrono+Classement'!G:O,9,FALSE)","v":{"$error":"#N/A"}},{"$f":"IF(L605=17,Param!G605,IF(L605=28,Param!H605,IF(L605=45,Param!I605)))","v":"00:00:42"},{"$error":"#N/A"},null,1900,false,false]
[605,"-",null,null,null,null,115.40041067761807,null,null,null,null,28,{"$f":"VLOOKUP(A606,'Chrono+Classement'!G:O,5,FALSE)","v":{"$error":"#N/A"}},{"$f":"VLOOKUP(A606,'Chrono+Classement'!G:O,9,FALSE)","v":{"$error":"#N/A"}},{"$f":"IF(L606=17,Param!G606,IF(L606=28,Param!H606,IF(L606=45,Param!I606)))","v":"00:00:42"},{"$error":"#N/A"},null,1900,false,false]
[606,"-",null,null,null,null,115.40041067761807,null,null,null,null,28,{"$f":"VLOOKUP(A607,'Chrono+Classement'!G:O,5,FALSE)","v":{"$error":"#N/A"}},{"$f":"VLOOKUP(A607,'Chrono+Classement'!G:O,9,FALSE)","v":{"$error":"#N/A"}},{"$f":"IF(L607=17,Param!G607,IF(L607=28,Param!H607,IF(L607=45,Param!I607)))","v":"00:00:42"},{"$error":"#N/A"},null,1900,false,false]
[607,"-",null,null,null,null,115.40041067761807,null,null,null,null,28,{"$f":"VLOOKUP(A608,'Chrono+Classement'!G:O,5,FALSE)","v":{"$error":"#N/A"}},{"$f":"VLOOKUP(A608,'Chrono+Classement'!G:O,9,FALSE)","v":{"$error":"#N/A"}},{"$f":"IF(L608=17,Param!G608,IF(L608=28,Param!H608,IF(L608=45,Param!I608)))","v":"00:00:42"},{"$error":"#N/A"},null,1900,false,false]
[608,"-",null,null,null,null,115.40041067761807,null,null,null,null,28,{"$f":"VLOOKUP(A609,'Chrono+Classement'!G:O,5,FALSE)","v":{"$error":"#N/A"}},{"$f":"VLOOKUP(A609,'Chrono+Classement'!G:O,9,FALSE)","v":{"$error":"#N/A"}},{"$f":"IF(L609=17,Param!G609,IF(L609=28,Param!H609,IF(L609=45,Param!I609)))","v":"00:00:42"},{"$error":"#N/A"},null,1900,false,false]
[609,"-",null,null,null,null,115.40041067761807,null,null,null,null,28,{"$f":"VLOOKUP(A610,'Chrono+Classement'!G:O,5,FALSE)","v":{"$error":"#N/A"}},{"$f":"VLOOKUP(A610,'Chrono+Classement'!G:O,9,FALSE)","v":{"$error":"#N/A"}},{"$f":"IF(L610=17,Param!G610,IF(L610=28,Param!H610,IF(L610=45,Param!I610)))","v":"00:00:42"},{"$error":"#N/A"},null,1900,false,false]
[610,"-",null,null,null,null,115.40041067761807,null,null,null,null,28,{"$f":"VLOOKUP(A611,'Chrono+Classement'!G:O,5,FALSE)","v":{"$error":"#N/A"}},{"$f":"VLOOKUP(A611,'Chrono+Classement'!G:O,9,FALSE)","v":{"$error":"#N/A"}},{"$f":"IF(L611=17,Param!G611,IF(L611=28,Param!H611,IF(L611=45,Param!I611)))","v":"00:00:42"},{"$error":"#N/A"},null,1900,false,false]
[611,"-",null,null,null,null,115.40041067761807,null,null,null,null,28,{"$f":"VLOOKUP(A612,'Chrono+Classement'!G:O,5,FALSE)","v":{"$error":"#N/A"}},{"$f":"VLOOKUP(A612,'Chrono+Classement'!G:O,9,FALSE)","v":{"$error":"#N/A"}},{"$f":"IF(L612=17,Param!G612,IF(L612=28,Param!H612,IF(L612=45,Param!I612)))","v":"00:00:42"},{"$error":"#N/A"},null,1900,false,false]
[612,"-",null,null,null,null,115.40041067761807,null,null,null,null,28,{"$f":"VLOOKUP(A613,'Chrono+Classement'!G:O,5,FALSE)","v":{"$error":"#N/A"}},{"$f":"VLOOKUP(A613,'Chrono+Classement'!G:O,9,FALSE)","v":{"$error":"#N/A"}},{"$f":"IF(L613=17,Param!G613,IF(L613=28,Param!H613,IF(L613=45,Param!I613)))","v":"00:00:42"},{"$f":"N613-O613","v":{"$error":"#N/A"}},null,1900,false,false]
[613,"-",null,null,null,null,115.40041067761807,null,null,null,null,28,{"$f":"VLOOKUP(A614,'Chrono+Classement'!G:O,5,FALSE)","v":{"$error":"#N/A"}},{"$f":"VLOOKUP(A614,'Chrono+Classement'!G:O,9,FALSE)","v":{"$error":"#N/A"}},{"$f":"IF(L614=17,Param!G614,IF(L614=28,Param!H614,IF(L614=45,Param!I614)))","v":"00:00:42"},{"$error":"#N/A"},null,1900,false,false]
[614,"-",null,null,null,null,115.40041067761807,null,null,null,null,28,{"$f":"VLOOKUP(A615,'Chrono+Classement'!G:O,5,FALSE)","v":{"$error":"#N/A"}},{"$f":"VLOOKUP(A615,'Chrono+Classement'!G:O,9,FALSE)","v":{"$error":"#N/A"}},{"$f":"IF(L615=17,Param!G615,IF(L615=28,Param!H615,IF(L615=45,Param!I615)))","v":"00:00:42"},{"$error":"#N/A"},null,1900,false,false]
[615,"-",null,null,null,null,115.40041067761807,null,null,null,null,28,{"$f":"VLOOKUP(A616,'Chrono+Classement'!G:O,5,FALSE)","v":{"$error":"#N/A"}},{"$f":"VLOOKUP(A616,'Chrono+Classement'!G:O,9,FALSE)","v":{"$error":"#N/A"}},{"$f":"IF(L616=17,Param!G616,IF(L616=28,Param!H616,IF(L616=45,Param!I616)))","v":"00:00:42"},{"$error":"#N/A"},null,1900,false,false]
[616,"-",null,null,null,null,115.40041067761807,null,null,null,null,28,{"$f":"VLOOKUP(A617,'Chrono+Classement'!G:O,5,FALSE)","v":{"$error":"#N/A"}},{"$f":"VLOOKUP(A617,'Chrono+Classement'!G:O,9,FALSE)","v":{"$error":"#N/A"}},{"$f":"IF(L617=17,Param!G617,IF(L617=28,Param!H617,IF(L617=45,Param!I617)))","v":"00:00:42"},{"$error":"#N/A"},null,1900,false,false]
[617,"-",null,null,null,null,115.40041067761807,null,null,null,null,28,{"$f":"VLOOKUP(A618,'Chrono+Classement'!G:O,5,FALSE)","v":{"$error":"#N/A"}},{"$f":"VLOOKUP(A618,'Chrono+Classement'!G:O,9,FALSE)","v":{"$error":"#N/A"}},{"$f":"IF(L618=17,Param!G618,IF(L618=28,Param!H618,IF(L618=45,Param!I618)))","v":"00:00:42"},{"$error":"#N/A"},null,1900,false,false]
[618,"-",null,null,null,null,115.40041067761807,null,null,null,null,28,{"$f":"VLOOKUP(A619,'Chrono+Classement'!G:O,5,FALSE)","v":{"$error":"#N/A"}},{"$f":"VLOOKUP(A619,'Chrono+Classement'!G:O,9,FALSE)","v":{"$error":"#N/A"}},{"$f":"IF(L619=17,Param!G619,IF(L619=28,Param!H619,IF(L619=45,Param!I619)))","v":"00:00:42"},{"$error":"#N/A"},null,1900,false,false]
[619,"-",null,null,null,null,115.40041067761807,null,null,null,null,28,{"$f":"VLOOKUP(A620,'Chrono+Classement'!G:O,5,FALSE)","v":{"$error":"#N/A"}},{"$f":"VLOOKUP(A620,'Chrono+Classement'!G:O,9,FALSE)","v":{"$error":"#N/A"}},{"$f":"IF(L620=17,Param!G620,IF(L620=28,Param!H620,IF(L620=45,Param!I620)))","v":"00:00:42"},{"$error":"#N/A"},null,1900,false,false]
[620,"-",null,null,null,null,115.40041067761807,null,null,null,null,28,{"$f":"VLOOKUP(A621,'Chrono+Classement'!G:O,5,FALSE)","v":{"$error":"#N/A"}},{"$f":"VLOOKUP(A621,'Chrono+Classement'!G:O,9,FALSE)","v":{"$error":"#N/A"}},{"$f":"IF(L621=17,Param!G621,IF(L621=28,Param!H621,IF(L621=45,Param!I621)))","v":"00:00:42"},{"$error":"#N/A"},null,1900,false,false]
[621,"-",null,null,null,null,115.40041067761807,null,null,null,null,28,{"$f":"VLOOKUP(A622,'Chrono+Classement'!G:O,5,FALSE)","v":{"$error":"#N/A"}},{"$f":"VLOOKUP(A622,'Chrono+Classement'!G:O,9,FALSE)","v":{"$error":"#N/A"}},{"$f":"IF(L622=17,Param!G622,IF(L622=28,Param!H622,IF(L622=45,Param!I622)))","v":"00:00:42"},{"$error":"#N/A"},null,1900,false,false]
[622,"-",null,null,null,null,115.40041067761807,null,null,null,null,28,{"$f":"VLOOKUP(A623,'Chrono+Classement'!G:O,5,FALSE)","v":{"$error":"#N/A"}},{"$f":"VLOOKUP(A623,'Chrono+Classement'!G:O,9,FALSE)","v":{"$error":"#N/A"}},{"$f":"IF(L623=17,Param!G623,IF(L623=28,Param!H623,IF(L623=45,Param!I623)))","v":"00:00:42"},{"$error":"#N/A"},null,1900,false,false]
[623,"-",null,null,null,null,115.40041067761807,null,null,null,null,28,{"$f":"VLOOKUP(A624,'Chrono+Classement'!G:O,5,FALSE)","v":{"$error":"#N/A"}},{"$f":"VLOOKUP(A624,'Chrono+Classement'!G:O,9,FALSE)","v":{"$error":"#N/A"}},{"$f":"IF(L624=17,Param!G624,IF(L624=28,Param!H624,IF(L624=45,Param!I624)))","v":"00:00:42"},{"$error":"#N/A"},null,1900,false,false]
[624,"-",null,null,null,null,115.40041067761807,null,null,null,null,28,{"$f":"VLOOKUP(A625,'Chrono+Classement'!G:O,5,FALSE)","v":{"$error":"#N/A"}},{"$f":"VLOOKUP(A625,'Chrono+Classement'!G:O,9,FALSE)","v":{"$error":"#N/A"}},{"$f":"IF(L625=17,Param!G625,IF(L625=28,Param!H625,IF(L625=45,Param!I625)))","v":"00:00:42"},{"$error":"#N/A"},null,1900,false,false]
[625,"-",null,null,null,null,115.40041067761807,null,null,null,null,28,{"$f":"VLOOKUP(A626,'Chrono+Classement'!G:O,5,FALSE)","v":{"$error":"#N/A"}},{"$f":"VLOOKUP(A626,'Chrono+Classement'!G:O,9,FALSE)","v":{"$error":"#N/A"}},{"$f":"IF(L626=17,Param!G626,IF(L626=28,Param!H626,IF(L626=45,Param!I626)))","v":"00:00:42"},{"$error":"#N/A"},null,1900,false,false]
[626,"-",null,null,null,null,115.40041067761807,null,null,null,null,28,{"$f":"VLOOKUP(A627,'Chrono+Classement'!G:O,5,FALSE)","v":{"$error":"#N/A"}},{"$f":"VLOOKUP(A627,'Chrono+Classement'!G:O,9,FALSE)","v":{"$error":"#N/A"}},{"$f":"IF(L627=17,Param!G627,IF(L627=28,Param!H627,IF(L627=45,Param!I627)))","v":"00:00:42"},{"$error":"#N/A"},null,1900,false,false]
[627,"-",null,null,null,null,115.40041067761807,null,null,null,null,28,{"$f":"VLOOKUP(A628,'Chrono+Classement'!G:O,5,FALSE)","v":{"$error":"#N/A"}},{"$f":"VLOOKUP(A628,'Chrono+Classement'!G:O,9,FALSE)","v":{"$error":"#N/A"}},{"$f":"IF(L628=17,Param!G628,IF(L628=28,Param!H628,IF(L628=45,Param!I628)))","v":"00:00:42"},{"$error":"#N/A"},null,1900,false,false]
[628,"-",null,null,null,null,115.40041067761807,null,null,null,null,28,{"$f":"VLOOKUP(A629,'Chrono+Classement'!G:O,5,FALSE)","v":{"$error":"#N/A"}},{"$f":"VLOOKUP(A629,'Chrono+Classement'!G:O,9,FALSE)","v":{"$error":"#N/A"}},{"$f":"IF(L629=17,Param!G629,IF(L629=28,Param!H629,IF(L629=45,Param!I629)))","v":"00:00:42"},{"$error":"#N/A"},null,1900,false,false]
[629,"-",null,null,null,null,115.40041067761807,null,null,null,null,28,{"$f":"VLOOKUP(A630,'Chrono+Classement'!G:O,5,FALSE)","v":{"$error":"#N/A"}},{"$f":"VLOOKUP(A630,'Chrono+Classement'!G:O,9,FALSE)","v":{"$error":"#N/A"}},{"$f":"IF(L630=17,Param!G630,IF(L630=28,Param!H630,IF(L630=45,Param!I630)))","v":"00:00:42"},{"$error":"#N/A"},null,1900,false,false]
[630,"-",null,null,null,null,115.40041067761807,null,null,null,null,28,{"$f":"VLOOKUP(A631,'Chrono+Classement'!G:O,5,FALSE)","v":{"$error":"#N/A"}},{"$f":"VLOOKUP(A631,'Chrono+Classement'!G:O,9,FALSE)","v":{"$error":"#N/A"}},{"$f":"IF(L631=17,Param!G631,IF(L631=28,Param!H631,IF(L631=45,Param!I631)))","v":"00:00:42"},{"$error":"#N/A"},null,1900,false,false]
[631,"-",null,null,null,null,115.40041067761807,null,null,null,null,28,{"$f":"VLOOKUP(A632,'Chrono+Classement'!G:O,5,FALSE)","v":{"$error":"#N/A"}},{"$f":"VLOOKUP(A632,'Chrono+Classement'!G:O,9,FALSE)","v":{"$error":"#N/A"}},{"$f":"IF(L632=17,Param!G632,IF(L632=28,Param!H632,IF(L632=45,Param!I632)))","v":"00:00:42"},{"$error":"#N/A"},null,1900,false,false]
[632,"-",null,null,null,null,115.40041067761807,null,null,null,null,28,{"$f":"VLOOKUP(A633,'Chrono+Classement'!G:O,5,FALSE)","v":{"$error":"#N/A"}},{"$f":"VLOOKUP(A633,'Chrono+Classement'!G:O,9,FALSE)","v":{"$error":"#N/A"}},{"$f":"IF(L633=17,Param!G633,IF(L633=28,Param!H633,IF(L633=45,Param!I633)))","v":"00:00:42"},{"$error":"#N/A"},null,1900,false,false]
[633,"-",null,null,null,null,115.40041067761807,null,null,null,null,28,{"$f":"VLOOKUP(A634,'Chrono+Classement'!G:O,5,FALSE)","v":{"$error":"#N/A"}},{"$f":"VLOOKUP(A634,'Chrono+Classement'!G:O,9,FALSE)","v":{"$error":"#N/A"}},{"$f":"IF(L634=17,Param!G634,IF(L634=28,Param!H634,IF(L634=45,Param!I634)))","v":"00:00:42"},{"$error":"#N/A"},null,1900,false,false]
[634,"-",null,null,null,null,115.40041067761807,null,null,null,null,28,{"$f":"VLOOKUP(A635,'Chrono+Classement'!G:O,5,FALSE)","v":{"$error":"#N/A"}},{"$f":"VLOOKUP(A635,'Chrono+Classement'!G:O,9,FALSE)","v":{"$error":"#N/A"}},{"$f":"IF(L635=17,Param!G635,IF(L635=28,Param!H635,IF(L635=45,Param!I635)))","v":"00:00:42"},{"$error":"#N/A"},null,1900,false,false]
[635,"-",null,null,null,null,115.40041067761807,null,null,null,null,28,{"$f":"VLOOKUP(A636,'Chrono+Classement'!G:O,5,FALSE)","v":{"$error":"#N/A"}},{"$f":"VLOOKUP(A636,'Chrono+Classement'!G:O,9,FALSE)","v":{"$error":"#N/A"}},{"$f":"IF(L636=17,Param!G636,IF(L636=28,Param!H636,IF(L636=45,Param!I636)))","v":"00:00:42"},{"$error":"#N/A"},null,1900,false,false]
[636,"-",null,null,null,null,115.40041067761807,null,null,null,null,28,{"$f":"VLOOKUP(A637,'Chrono+Classement'!G:O,5,FALSE)","v":{"$error":"#N/A"}},{"$f":"VLOOKUP(A637,'Chrono+Classement'!G:O,9,FALSE)","v":{"$error":"#N/A"}},{"$f":"IF(L637=17,Param!G637,IF(L637=28,Param!H637,IF(L637=45,Param!I637)))","v":"00:00:42"},{"$error":"#N/A"},null,1900,false,false]
[637,"-",null,null,null,null,115.40041067761807,null,null,null,null,28,{"$f":"VLOOKUP(A638,'Chrono+Classement'!G:O,5,FALSE)","v":{"$error":"#N/A"}},{"$f":"VLOOKUP(A638,'Chrono+Classement'!G:O,9,FALSE)","v":{"$error":"#N/A"}},{"$f":"IF(L638=17,Param!G638,IF(L638=28,Param!H638,IF(L638=45,Param!I638)))","v":"00:00:42"},{"$error":"#N/A"},null,1900,false,false]
[638,"-",null,null,null,null,115.40041067761807,null,null,null,null,28,{"$f":"VLOOKUP(A639,'Chrono+Classement'!G:O,5,FALSE)","v":{"$error":"#N/A"}},{"$f":"VLOOKUP(A639,'Chrono+Classement'!G:O,9,FALSE)","v":{"$error":"#N/A"}},{"$f":"IF(L639=17,Param!G639,IF(L639=28,Param!H639,IF(L639=45,Param!I639)))","v":"00:00:42"},{"$error":"#N/A"},null,1900,false,false]
[639,"-",null,null,null,null,115.40041067761807,null,null,null,null,28,{"$f":"VLOOKUP(A640,'Chrono+Classement'!G:O,5,FALSE)","v":{"$error":"#N/A"}},{"$f":"VLOOKUP(A640,'Chrono+Classement'!G:O,9,FALSE)","v":{"$error":"#N/A"}},{"$f":"IF(L640=17,Param!G640,IF(L640=28,Param!H640,IF(L640=45,Param!I640)))","v":"00:00:42"},{"$error":"#N/A"},null,1900,false,false]
[640,"-",null,null,null,null,115.40041067761807,null,null,null,null,28,{"$f":"VLOOKUP(A641,'Chrono+Classement'!G:O,5,FALSE)","v":{"$error":"#N/A"}},{"$f":"VLOOKUP(A641,'Chrono+Classement'!G:O,9,FALSE)","v":{"$error":"#N/A"}},{"$f":"IF(L641=17,Param!G641,IF(L641=28,Param!H641,IF(L641=45,Param!I641)))","v":"00:00:42"},{"$error":"#N/A"},null,1900,false,false]
[641,{"$f":"CONCATENATE(C642,\"-\",D642)","v":"-"},null,null,null,null,{"$f":"(TODAY()-F642)/365.25","v":115.40041067761807},null,null,null,null,28,{"$f":"VLOOKUP(A642,'Chrono+Classement'!G:O,5,FALSE)","v":{"$error":"#N/A"}},{"$f":"VLOOKUP(A642,'Chrono+Classement'!G:O,9,FALSE)","v":{"$error":"#N/A"}},{"$f":"IF(L642=17,Param!G642,IF(L642=28,Param!H642,IF(L642=45,Param!I642)))","v":"00:00:42"},{"$error":"#N/A"},null,{"$f":"YEAR(F642)","v":1900},{"$f":"IF(E642=\"M\",IF(R642<=1965,\"Masters 5\",IF(R642<=1975,\"Masters 3/4\",IF(R642<=1985,\"Masters 1/2\",IF(R642<=1992,\"Hommes\",IF(R642<=1996,\"Espoirs\",IF(R642<=1998,\"Juniors\",IF(R642<=2000,\"Cadets\",0))))))))","v":false},{"$f":"IF(E642=\"F\",IF(R642<=1992,\"Dames\",IF(R642<=1996,\"Espoirs Dames\",IF(R642<=1998,\"Juniors Dames\",IF(R642<=2000,\"Cadettes\",0)))))","v":false}]
[642,"-",null,null,null,null,115.40041067761807,null,null,null,null,28,{"$f":"VLOOKUP(A643,'Chrono+Classement'!G:O,5,FALSE)","v":{"$error":"#N/A"}},{"$f":"VLOOKUP(A643,'Chrono+Classement'!G:O,9,FALSE)","v":{"$error":"#N/A"}},{"$f":"IF(L643=17,Param!G643,IF(L643=28,Param!H643,IF(L643=45,Param!I643)))","v":"00:00:42"},{"$error":"#N/A"},null,1900,false,false]
[643,"-",null,null,null,null,115.40041067761807,null,null,null,null,28,{"$f":"VLOOKUP(A644,'Chrono+Classement'!G:O,5,FALSE)","v":{"$error":"#N/A"}},{"$f":"VLOOKUP(A644,'Chrono+Classement'!G:O,9,FALSE)","v":{"$error":"#N/A"}},{"$f":"IF(L644=17,Param!G644,IF(L644=28,Param!H644,IF(L644=45,Param!I644)))","v":"00:00:42"},{"$error":"#N/A"},null,1900,false,false]
[644,"-",null,null,null,null,115.40041067761807,null,null,null,null,28,{"$f":"VLOOKUP(A645,'Chrono+Classement'!G:O,5,FALSE)","v":{"$error":"#N/A"}},{"$f":"VLOOKUP(A645,'Chrono+Classement'!G:O,9,FALSE)","v":{"$error":"#N/A"}},{"$f":"IF(L645=17,Param!G645,IF(L645=28,Param!H645,IF(L645=45,Param!I645)))","v":"00:00:42"},{"$error":"#N/A"},null,1900,false,false]
[645,"-",null,null,null,null,115.40041067761807,null,null,null,null,28,{"$f":"VLOOKUP(A646,'Chrono+Classement'!G:O,5,FALSE)","v":{"$error":"#N/A"}},{"$f":"VLOOKUP(A646,'Chrono+Classement'!G:O,9,FALSE)","v":{"$error":"#N/A"}},{"$f":"IF(L646=17,Param!G646,IF(L646=28,Param!H646,IF(L646=45,Param!I646)))","v":"00:00:42"},{"$error":"#N/A"},null,1900,false,false]
[646,"-",null,null,null,null,115.40041067761807,null,null,null,null,28,{"$f":"VLOOKUP(A647,'Chrono+Classement'!G:O,5,FALSE)","v":{"$error":"#N/A"}},{"$f":"VLOOKUP(A647,'Chrono+Classement'!G:O,9,FALSE)","v":{"$error":"#N/A"}},{"$f":"IF(L647=17,Param!G647,IF(L647=28,Param!H647,IF(L647=45,Param!I647)))","v":"00:00:42"},{"$error":"#N/A"},null,1900,false,false]
[647,"-",null,null,null,null,115.40041067761807,null,null,null,null,28,{"$f":"VLOOKUP(A648,'Chrono+Classement'!G:O,5,FALSE)","v":{"$error":"#N/A"}},{"$f":"VLOOKUP(A648,'Chrono+Classement'!G:O,9,FALSE)","v":{"$error":"#N/A"}},{"$f":"IF(L648=17,Param!G648,IF(L648=28,Param!H648,IF(L648=45,Param!I648)))","v":"00:00:42"},{"$error":"#N/A"},null,1900,false,false]
[648,"-",null,null,null,null,115.40041067761807,null,null,null,null,28,{"$f":"VLOOKUP(A649,'Chrono+Classement'!G:O,5,FALSE)","v":{"$error":"#N/A"}},{"$f":"VLOOKUP(A649,'Chrono+Classement'!G:O,9,FALSE)","v":{"$error":"#N/A"}},{"$f":"IF(L649=17,Param!G649,IF(L649=28,Param!H649,IF(L649=45,Param!I649)))","v":"00:00:42"},{"$error":"#N/A"},null,1900,false,false]
[649,"-",null,null,null,null,115.40041067761807,null,null,null,null,28,{"$f":"VLOOKUP(A650,'Chrono+Classement'!G:O,5,FALSE)","v":{"$error":"#N/A"}},{"$f":"VLOOKUP(A650,'Chrono+Classement'!G:O,9,FALSE)","v":{"$error":"#N/A"}},{"$f":"IF(L650=17,Param!G650,IF(L650=28,Param!H650,IF(L650=45,Param!I650)))","v":"00:00:42"},{"$error":"#N/A"},null,1900,false,false]
[650,"-",null,null,null,null,115.40041067761807,null,null,null,null,28,{"$f":"VLOOKUP(A651,'Chrono+Classement'!G:O,5,FALSE)","v":{"$error":"#N/A"}},{"$f":"VLOOKUP(A651,'Chrono+Classement'!G:O,9,FALSE)","v":{"$error":"#N/A"}},{"$f":"IF(L651=17,Param!G651,IF(L651=28,Param!H651,IF(L651=45,Param!I651)))","v":"00:00:42"},{"$error":"#N/A"},null,1900,false,false]
[651,"-",null,null,null,null,115.40041067761807,null,null,null,null,28,{"$f":"VLOOKUP(A652,'Chrono+Classement'!G:O,5,FALSE)","v":{"$error":"#N/A"}},{"$f":"VLOOKUP(A652,'Chrono+Classement'!G:O,9,FALSE)","v":{"$error":"#N/A"}},{"$f":"IF(L652=17,Param!G652,IF(L652=28,Param!H652,IF(L652=45,Param!I652)))","v":"00:00:42"},{"$error":"#N/A"},null,1900,false,false]
[652,"-",null,null,null,null,115.40041067761807,null,null,null,null,28,{"$f":"VLOOKUP(A653,'Chrono+Classement'!G:O,5,FALSE)","v":{"$error":"#N/A"}},{"$f":"VLOOKUP(A653,'Chrono+Classement'!G:O,9,FALSE)","v":{"$error":"#N/A"}},{"$f":"IF(L653=17,Param!G653,IF(L653=28,Param!H653,IF(L653=45,Param!I653)))","v":"00:00:42"},{"$error":"#N/A"},null,1900,false,false]
[653,"-",null,null,null,null,115.40041067761807,null,null,null,null,28,{"$f":"VLOOKUP(A654,'Chrono+Classement'!G:O,5,FALSE)","v":{"$error":"#N/A"}},{"$f":"VLOOKUP(A654,'Chrono+Classement'!G:O,9,FALSE)","v":{"$error":"#N/A"}},{"$f":"IF(L654=17,Param!G654,IF(L654=28,Param!H654,IF(L654=45,Param!I654)))","v":"00:00:42"},{"$error":"#N/A"},null,1900,false,false]
[654,"-",null,null,null,null,115.40041067761807,null,null,null,null,28,{"$f":"VLOOKUP(A655,'Chrono+Classement'!G:O,5,FALSE)","v":{"$error":"#N/A"}},{"$f":"VLOOKUP(A655,'Chrono+Classement'!G:O,9,FALSE)","v":{"$error":"#N/A"}},{"$f":"IF(L655=17,Param!G655,IF(L655=28,Param!H655,IF(L655=45,Param!I655)))","v":"00:00:42"},{"$error":"#N/A"},null,1900,false,false]
[655,"-",null,null,null,null,115.40041067761807,null,null,null,null,28,{"$f":"VLOOKUP(A656,'Chrono+Classement'!G:O,5,FALSE)","v":{"$error":"#N/A"}},{"$f":"VLOOKUP(A656,'Chrono+Classement'!G:O,9,FALSE)","v":{"$error":"#N/A"}},{"$f":"IF(L656=17,Param!G656,IF(L656=28,Param!H656,IF(L656=45,Param!I656)))","v":"00:00:42"},{"$error":"#N/A"},null,1900,false,false]
[656,"-",null,null,null,null,115.40041067761807,null,null,null,null,28,{"$f":"VLOOKUP(A657,'Chrono+Classement'!G:O,5,FALSE)","v":{"$error":"#N/A"}},{"$f":"VLOOKUP(A657,'Chrono+Classement'!G:O,9,FALSE)","v":{"$error":"#N/A"}},{"$f":"IF(L657=17,Param!G657,IF(L657=28,Param!H657,IF(L657=45,Param!I657)))","v":"00:00:42"},{"$error":"#N/A"},null,1900,false,false]
[657,"-",null,null,null,null,115.40041067761807,null,null,null,null,28,{"$f":"VLOOKUP(A658,'Chrono+Classement'!G:O,5,FALSE)","v":{"$error":"#N/A"}},{"$f":"VLOOKUP(A658,'Chrono+Classement'!G:O,9,FALSE)","v":{"$error":"#N/A"}},{"$f":"IF(L658=17,Param!G658,IF(L658=28,Param!H658,IF(L658=45,Param!I658)))","v":"00:00:42"},{"$error":"#N/A"},null,1900,false,false]
[658,"-",null,null,null,null,115.40041067761807,null,null,null,null,28,{"$f":"VLOOKUP(A659,'Chrono+Classement'!G:O,5,FALSE)","v":{"$error":"#N/A"}},{"$f":"VLOOKUP(A659,'Chrono+Classement'!G:O,9,FALSE)","v":{"$error":"#N/A"}},{"$f":"IF(L659=17,Param!G659,IF(L659=28,Param!H659,IF(L659=45,Param!I659)))","v":"00:00:42"},{"$error":"#N/A"},null,1900,false,false]
[659,"-",null,null,null,null,115.40041067761807,null,null,null,null,28,{"$f":"VLOOKUP(A660,'Chrono+Classement'!G:O,5,FALSE)","v":{"$error":"#N/A"}},{"$f":"VLOOKUP(A660,'Chrono+Classement'!G:O,9,FALSE)","v":{"$error":"#N/A"}},{"$f":"IF(L660=17,Param!G660,IF(L660=28,Param!H660,IF(L660=45,Param!I660)))","v":"00:00:42"},{"$error":"#N/A"},null,1900,false,false]
[660,"-",null,null,null,null,115.40041067761807,null,null,null,null,28,{"$f":"VLOOKUP(A661,'Chrono+Classement'!G:O,5,FALSE)","v":{"$error":"#N/A"}},{"$f":"VLOOKUP(A661,'Chrono+Classement'!G:O,9,FALSE)","v":{"$error":"#N/A"}},{"$f":"IF(L661=17,Param!G661,IF(L661=28,Param!H661,IF(L661=45,Param!I661)))","v":"00:00:42"},{"$error":"#N/A"},null,1900,false,false]
[661,"-",null,null,null,null,115.40041067761807,null,null,null,null,28,{"$f":"VLOOKUP(A662,'Chrono+Classement'!G:O,5,FALSE)","v":{"$error":"#N/A"}},{"$f":"VLOOKUP(A662,'Chrono+Classement'!G:O,9,FALSE)","v":{"$error":"#N/A"}},{"$f":"IF(L662=17,Param!G662,IF(L662=28,Param!H662,IF(L662=45,Param!I662)))","v":"00:00:42"},{"$error":"#N/A"},null,1900,false,false]
[662,"-",null,null,null,null,115.40041067761807,null,null,null,null,28,{"$f":"VLOOKUP(A663,'Chrono+Classement'!G:O,5,FALSE)","v":{"$error":"#N/A"}},{"$f":"VLOOKUP(A663,'Chrono+Classement'!G:O,9,FALSE)","v":{"$error":"#N/A"}},{"$f":"IF(L663=17,Param!G663,IF(L663=28,Param!H663,IF(L663=45,Param!I663)))","v":"00:00:42"},{"$error":"#N/A"},null,1900,false,false]
[663,"-",null,null,null,null,115.40041067761807,null,null,null,null,28,{"$f":"VLOOKUP(A664,'Chrono+Classement'!G:O,5,FALSE)","v":{"$error":"#N/A"}},{"$f":"VLOOKUP(A664,'Chrono+Classement'!G:O,9,FALSE)","v":{"$error":"#N/A"}},{"$f":"IF(L664=17,Param!G664,IF(L664=28,Param!H664,IF(L664=45,Param!I664)))","v":"00:00:42"},{"$error":"#N/A"},null,1900,false,false]
[664,"-",null,null,null,null,115.40041067761807,null,null,null,null,28,{"$f":"VLOOKUP(A665,'Chrono+Classement'!G:O,5,FALSE)","v":{"$error":"#N/A"}},{"$f":"VLOOKUP(A665,'Chrono+Classement'!G:O,9,FALSE)","v":{"$error":"#N/A"}},{"$f":"IF(L665=17,Param!G665,IF(L665=28,Param!H665,IF(L665=45,Param!I665)))","v":"00:00:42"},{"$error":"#N/A"},null,1900,false,false]
[665,"-",null,null,null,null,115.40041067761807,null,null,null,null,28,{"$f":"VLOOKUP(A666,'Chrono+Classement'!G:O,5,FALSE)","v":{"$error":"#N/A"}},{"$f":"VLOOKUP(A666,'Chrono+Classement'!G:O,9,FALSE)","v":{"$error":"#N/A"}},{"$f":"IF(L666=17,Param!G666,IF(L666=28,Param!H666,IF(L666=45,Param!I666)))","v":"00:00:42"},{"$error":"#N/A"},null,1900,false,false]
[666,"-",null,null,null,null,115.40041067761807,null,null,null,null,28,{"$f":"VLOOKUP(A667,'Chrono+Classement'!G:O,5,FALSE)","v":{"$error":"#N/A"}},{"$f":"VLOOKUP(A667,'Chrono+Classement'!G:O,9,FALSE)","v":{"$error":"#N/A"}},{"$f":"IF(L667=17,Param!G667,IF(L667=28,Param!H667,IF(L667=45,Param!I667)))","v":"00:00:42"},{"$error":"#N/A"},null,1900,false,false]
[667,"-",null,null,null,null,115.40041067761807,null,null,null,null,28,{"$f":"VLOOKUP(A668,'Chrono+Classement'!G:O,5,FALSE)","v":{"$error":"#N/A"}},{"$f":"VLOOKUP(A668,'Chrono+Classement'!G:O,9,FALSE)","v":{"$error":"#N/A"}},{"$f":"IF(L668=17,Param!G668,IF(L668=28,Param!H668,IF(L668=45,Param!I668)))","v":"00:00:42"},{"$error":"#N/A"},null,1900,false,false]
[668,"-",null,null,null,null,115.40041067761807,null,null,null,null,28,{"$f":"VLOOKUP(A669,'Chrono+Classement'!G:O,5,FALSE)","v":{"$error":"#N/A"}},{"$f":"VLOOKUP(A669,'Chrono+Classement'!G:O,9,FALSE)","v":{"$error":"#N/A"}},{"$f":"IF(L669=17,Param!G669,IF(L669=28,Param!H669,IF(L669=45,Param!I669)))","v":"00:00:42"},{"$error":"#N/A"},null,1900,false,false]
[669,"-",null,null,null,null,115.40041067761807,null,null,null,null,28,{"$f":"VLOOKUP(A670,'Chrono+Classement'!G:O,5,FALSE)","v":{"$error":"#N/A"}},{"$f":"VLOOKUP(A670,'Chrono+Classement'!G:O,9,FALSE)","v":{"$error":"#N/A"}},{"$f":"IF(L670=17,Param!G670,IF(L670=28,Param!H670,IF(L670=45,Param!I670)))","v":"00:00:42"},{"$error":"#N/A"},null,1900,false,false]
[670,"-",null,null,null,null,115.40041067761807,null,null,null,null,28,{"$f":"VLOOKUP(A671,'Chrono+Classement'!G:O,5,FALSE)","v":{"$error":"#N/A"}},{"$f":"VLOOKUP(A671,'Chrono+Classement'!G:O,9,FALSE)","v":{"$error":"#N/A"}},{"$f":"IF(L671=17,Param!G671,IF(L671=28,Param!H671,IF(L671=45,Param!I671)))","v":"00:00:42"},{"$error":"#N/A"},null,1900,false,false]
[671,"-",null,null,null,null,115.40041067761807,null,null,null,null,28,{"$f":"VLOOKUP(A672,'Chrono+Classement'!G:O,5,FALSE)","v":{"$error":"#N/A"}},{"$f":"VLOOKUP(A672,'Chrono+Classement'!G:O,9,FALSE)","v":{"$error":"#N/A"}},{"$f":"IF(L672=17,Param!G672,IF(L672=28,Param!H672,IF(L672=45,Param!I672)))","v":"00:00:42"},{"$error":"#N/A"},null,1900,false,false]
[672,"-",null,null,null,null,115.40041067761807,null,null,null,null,28,{"$f":"VLOOKUP(A673,'Chrono+Classement'!G:O,5,FALSE)","v":{"$error":"#N/A"}},{"$f":"VLOOKUP(A673,'Chrono+Classement'!G:O,9,FALSE)","v":{"$error":"#N/A"}},{"$f":"IF(L673=17,Param!G673,IF(L673=28,Param!H673,IF(L673=45,Param!I673)))","v":"00:00:42"},{"$error":"#N/A"},null,1900,false,false]
[673,"-",null,null,null,null,115.40041067761807,null,null,null,null,28,{"$f":"VLOOKUP(A674,'Chrono+Classement'!G:O,5,FALSE)","v":{"$error":"#N/A"}},{"$f":"VLOOKUP(A674,'Chrono+Classement'!G:O,9,FALSE)","v":{"$error":"#N/A"}},{"$f":"IF(L674=17,Param!G674,IF(L674=28,Param!H674,IF(L674=45,Param!I674)))","v":"00:00:42"},{"$error":"#N/A"},null,1900,false,false]
[674,"-",null,null,null,null,115.40041067761807,null,null,null,null,28,{"$f":"VLOOKUP(A675,'Chrono+Classement'!G:O,5,FALSE)","v":{"$error":"#N/A"}},{"$f":"VLOOKUP(A675,'Chrono+Classement'!G:O,9,FALSE)","v":{"$error":"#N/A"}},{"$f":"IF(L675=17,Param!G675,IF(L675=28,Param!H675,IF(L675=45,Param!I675)))","v":"00:00:42"},{"$error":"#N/A"},null,1900,false,false]
[675,"-",null,null,null,null,115.40041067761807,null,null,null,null,28,{"$f":"VLOOKUP(A676,'Chrono+Classement'!G:O,5,FALSE)","v":{"$error":"#N/A"}},{"$f":"VLOOKUP(A676,'Chrono+Classement'!G:O,9,FALSE)","v":{"$error":"#N/A"}},{"$f":"IF(L676=17,Param!G676,IF(L676=28,Param!H676,IF(L676=45,Param!I676)))","v":"00:00:42"},{"$error":"#N/A"},null,1900,false,false]
[676,"-",null,null,null,null,115.40041067761807,null,null,null,null,28,{"$f":"VLOOKUP(A677,'Chrono+Classement'!G:O,5,FALSE)","v":{"$error":"#N/A"}},{"$f":"VLOOKUP(A677,'Chrono+Classement'!G:O,9,FALSE)","v":{"$error":"#N/A"}},{"$f":"IF(L677=17,Param!G677,IF(L677=28,Param!H677,IF(L677=45,Param!I677)))","v":"00:00:42"},{"$f":"N677-O677","v":{"$error":"#N/A"}},null,1900,false,false]
[677,"-",null,null,null,null,115.40041067761807,null,null,null,null,28,{"$f":"VLOOKUP(A678,'Chrono+Classement'!G:O,5,FALSE)","v":{"$error":"#N/A"}},{"$f":"VLOOKUP(A678,'Chrono+Classement'!G:O,9,FALSE)","v":{"$error":"#N/A"}},{"$f":"IF(L678=17,Param!G678,IF(L678=28,Param!H678,IF(L678=45,Param!I678)))","v":"00:00:42"},{"$error":"#N/A"},null,1900,false,false]
[678,"-",null,null,null,null,115.40041067761807,null,null,null,null,28,{"$f":"VLOOKUP(A679,'Chrono+Classement'!G:O,5,FALSE)","v":{"$error":"#N/A"}},{"$f":"VLOOKUP(A679,'Chrono+Classement'!G:O,9,FALSE)","v":{"$error":"#N/A"}},{"$f":"IF(L679=17,Param!G679,IF(L679=28,Param!H679,IF(L679=45,Param!I679)))","v":"00:00:42"},{"$error":"#N/A"},null,1900,false,false]
[679,"-",null,null,null,null,115.40041067761807,null,null,null,null,28,{"$f":"VLOOKUP(A680,'Chrono+Classement'!G:O,5,FALSE)","v":{"$error":"#N/A"}},{"$f":"VLOOKUP(A680,'Chrono+Classement'!G:O,9,FALSE)","v":{"$error":"#N/A"}},{"$f":"IF(L680=17,Param!G680,IF(L680=28,Param!H680,IF(L680=45,Param!I680)))","v":"00:00:42"},{"$error":"#N/A"},null,1900,false,false]
[680,"-",null,null,null,null,115.40041067761807,null,null,null,null,28,{"$f":"VLOOKUP(A681,'Chrono+Classement'!G:O,5,FALSE)","v":{"$error":"#N/A"}},{"$f":"VLOOKUP(A681,'Chrono+Classement'!G:O,9,FALSE)","v":{"$error":"#N/A"}},{"$f":"IF(L681=17,Param!G681,IF(L681=28,Param!H681,IF(L681=45,Param!I681)))","v":"00:00:42"},{"$error":"#N/A"},null,1900,false,false]
[681,"-",null,null,null,null,115.40041067761807,null,null,null,null,28,{"$f":"VLOOKUP(A682,'Chrono+Classement'!G:O,5,FALSE)","v":{"$error":"#N/A"}},{"$f":"VLOOKUP(A682,'Chrono+Classement'!G:O,9,FALSE)","v":{"$error":"#N/A"}},{"$f":"IF(L682=17,Param!G682,IF(L682=28,Param!H682,IF(L682=45,Param!I682)))","v":"00:00:42"},{"$error":"#N/A"},null,1900,false,false]
[682,"-",null,null,null,null,115.40041067761807,null,null,null,null,28,{"$f":"VLOOKUP(A683,'Chrono+Classement'!G:O,5,FALSE)","v":{"$error":"#N/A"}},{"$f":"VLOOKUP(A683,'Chrono+Classement'!G:O,9,FALSE)","v":{"$error":"#N/A"}},{"$f":"IF(L683=17,Param!G683,IF(L683=28,Param!H683,IF(L683=45,Param!I683)))","v":"00:00:42"},{"$error":"#N/A"},null,1900,false,false]
[683,"-",null,null,null,null,115.40041067761807,null,null,null,null,28,{"$f":"VLOOKUP(A684,'Chrono+Classement'!G:O,5,FALSE)","v":{"$error":"#N/A"}},{"$f":"VLOOKUP(A684,'Chrono+Classement'!G:O,9,FALSE)","v":{"$error":"#N/A"}},{"$f":"IF(L684=17,Param!G684,IF(L684=28,Param!H684,IF(L684=45,Param!I684)))","v":"00:00:42"},{"$error":"#N/A"},null,1900,false,false]
[684,"-",null,null,null,null,115.40041067761807,null,null,null,null,28,{"$f":"VLOOKUP(A685,'Chrono+Classement'!G:O,5,FALSE)","v":{"$error":"#N/A"}},{"$f":"VLOOKUP(A685,'Chrono+Classement'!G:O,9,FALSE)","v":{"$error":"#N/A"}},{"$f":"IF(L685=17,Param!G685,IF(L685=28,Param!H685,IF(L685=45,Param!I685)))","v":"00:00:42"},{"$error":"#N/A"},null,1900,false,false]
[685,"-",null,null,null,null,115.40041067761807,null,null,null,null,28,{"$f":"VLOOKUP(A686,'Chrono+Classement'!G:O,5,FALSE)","v":{"$error":"#N/A"}},{"$f":"VLOOKUP(A686,'Chrono+Classement'!G:O,9,FALSE)","v":{"$error":"#N/A"}},{"$f":"IF(L686=17,Param!G686,IF(L686=28,Param!H686,IF(L686=45,Param!I686)))","v":"00:00:42"},{"$error":"#N/A"},null,1900,false,false]
[686,"-",null,null,null,null,115.40041067761807,null,null,null,null,28,{"$f":"VLOOKUP(A687,'Chrono+Classement'!G:O,5,FALSE)","v":{"$error":"#N/A"}},{"$f":"VLOOKUP(A687,'Chrono+Classement'!G:O,9,FALSE)","v":{"$error":"#N/A"}},{"$f":"IF(L687=17,Param!G687,IF(L687=28,Param!H687,IF(L687=45,Param!I687)))","v":"00:00:42"},{"$error":"#N/A"},null,1900,false,false]
[687,"-",null,null,null,null,115.40041067761807,null,null,null,null,28,{"$f":"VLOOKUP(A688,'Chrono+Classement'!G:O,5,FALSE)","v":{"$error":"#N/A"}},{"$f":"VLOOKUP(A688,'Chrono+Classement'!G:O,9,FALSE)","v":{"$error":"#N/A"}},{"$f":"IF(L688=17,Param!G688,IF(L688=28,Param!H688,IF(L688=45,Param!I688)))","v":"00:00:42"},{"$error":"#N/A"},null,1900,false,false]
[688,"-",null,null,null,null,115.40041067761807,null,null,null,null,28,{"$f":"VLOOKUP(A689,'Chrono+Classement'!G:O,5,FALSE)","v":{"$error":"#N/A"}},{"$f":"VLOOKUP(A689,'Chrono+Classement'!G:O,9,FALSE)","v":{"$error":"#N/A"}},{"$f":"IF(L689=17,Param!G689,IF(L689=28,Param!H689,IF(L689=45,Param!I689)))","v":"00:00:42"},{"$error":"#N/A"},null,1900,false,false]
[689,"-",null,null,null,null,115.40041067761807,null,null,null,null,28,{"$f":"VLOOKUP(A690,'Chrono+Classement'!G:O,5,FALSE)","v":{"$error":"#N/A"}},{"$f":"VLOOKUP(A690,'Chrono+Classement'!G:O,9,FALSE)","v":{"$error":"#N/A"}},{"$f":"IF(L690=17,Param!G690,IF(L690=28,Param!H690,IF(L690=45,Param!I690)))","v":"00:00:42"},{"$error":"#N/A"},null,1900,false,false]
[690,"-",null,null,null,null,115.40041067761807,null,null,null,null,28,{"$f":"VLOOKUP(A691,'Chrono+Classement'!G:O,5,FALSE)","v":{"$error":"#N/A"}},{"$f":"VLOOKUP(A691,'Chrono+Classement'!G:O,9,FALSE)","v":{"$error":"#N/A"}},{"$f":"IF(L691=17,Param!G691,IF(L691=28,Param!H691,IF(L691=45,Param!I691)))","v":"00:00:42"},{"$error":"#N/A"},null,1900,false,false]
[691,"-",null,null,null,null,115.40041067761807,null,null,null,null,28,{"$f":"VLOOKUP(A692,'Chrono+Classement'!G:O,5,FALSE)","v":{"$error":"#N/A"}},{"$f":"VLOOKUP(A692,'Chrono+Classement'!G:O,9,FALSE)","v":{"$error":"#N/A"}},{"$f":"IF(L692=17,Param!G692,IF(L692=28,Param!H692,IF(L692=45,Param!I692)))","v":"00:00:42"},{"$error":"#N/A"},null,1900,false,false]
[692,"-",null,null,null,null,115.40041067761807,null,null,null,null,28,{"$f":"VLOOKUP(A693,'Chrono+Classement'!G:O,5,FALSE)","v":{"$error":"#N/A"}},{"$f":"VLOOKUP(A693,'Chrono+Classement'!G:O,9,FALSE)","v":{"$error":"#N/A"}},{"$f":"IF(L693=17,Param!G693,IF(L693=28,Param!H693,IF(L693=45,Param!I693)))","v":"00:00:42"},{"$error":"#N/A"},null,1900,false,false]
[693,"-",null,null,null,null,115.40041067761807,null,null,null,null,28,{"$f":"VLOOKUP(A694,'Chrono+Classement'!G:O,5,FALSE)","v":{"$error":"#N/A"}},{"$f":"VLOOKUP(A694,'Chrono+Classement'!G:O,9,FALSE)","v":{"$error":"#N/A"}},{"$f":"IF(L694=17,Param!G694,IF(L694=28,Param!H694,IF(L694=45,Param!I694)))","v":"00:00:42"},{"$error":"#N/A"},null,1900,false,false]
[694,"-",null,null,null,null,115.40041067761807,null,null,null,null,28,{"$f":"VLOOKUP(A695,'Chrono+Classement'!G:O,5,FALSE)","v":{"$error":"#N/A"}},{"$f":"VLOOKUP(A695,'Chrono+Classement'!G:O,9,FALSE)","v":{"$error":"#N/A"}},{"$f":"IF(L695=17,Param!G695,IF(L695=28,Param!H695,IF(L695=45,Param!I695)))","v":"00:00:42"},{"$error":"#N/A"},null,1900,false,false]
[695,"-",null,null,null,null,115.40041067761807,null,null,null,null,28,{"$f":"VLOOKUP(A696,'Chrono+Classement'!G:O,5,FALSE)","v":{"$error":"#N/A"}},{"$f":"VLOOKUP(A696,'Chrono+Classement'!G:O,9,FALSE)","v":{"$error":"#N/A"}},{"$f":"IF(L696=17,Param!G696,IF(L696=28,Param!H696,IF(L696=45,Param!I696)))","v":"00:00:42"},{"$error":"#N/A"},null,1900,false,false]
[696,"-",null,null,null,null,115.40041067761807,null,null,null,null,28,{"$f":"VLOOKUP(A697,'Chrono+Classement'!G:O,5,FALSE)","v":{"$error":"#N/A"}},{"$f":"VLOOKUP(A697,'Chrono+Classement'!G:O,9,FALSE)","v":{"$error":"#N/A"}},{"$f":"IF(L697=17,Param!G697,IF(L697=28,Param!H697,IF(L697=45,Param!I697)))","v":"00:00:42"},{"$error":"#N/A"},null,1900,false,false]
[697,"-",null,null,null,null,115.40041067761807,null,null,null,null,28,{"$f":"VLOOKUP(A698,'Chrono+Classement'!G:O,5,FALSE)","v":{"$error":"#N/A"}},{"$f":"VLOOKUP(A698,'Chrono+Classement'!G:O,9,FALSE)","v":{"$error":"#N/A"}},{"$f":"IF(L698=17,Param!G698,IF(L698=28,Param!H698,IF(L698=45,Param!I698)))","v":"00:00:42"},{"$error":"#N/A"},null,1900,false,false]
[698,"-",null,null,null,null,115.40041067761807,null,null,null,null,28,{"$f":"VLOOKUP(A699,'Chrono+Classement'!G:O,5,FALSE)","v":{"$error":"#N/A"}},{"$f":"VLOOKUP(A699,'Chrono+Classement'!G:O,9,FALSE)","v":{"$error":"#N/A"}},{"$f":"IF(L699=17,Param!G699,IF(L699=28,Param!H699,IF(L699=45,Param!I699)))","v":"00:00:42"},{"$error":"#N/A"},null,1900,false,false]
[699,"-",null,null,null,null,115.40041067761807,null,null,null,null,28,{"$f":"VLOOKUP(A700,'Chrono+Classement'!G:O,5,FALSE)","v":{"$error":"#N/A"}},{"$f":"VLOOKUP(A700,'Chrono+Classement'!G:O,9,FALSE)","v":{"$error":"#N/A"}},{"$f":"IF(L700=17,Param!G700,IF(L700=28,Param!H700,IF(L700=45,Param!I700)))","v":"00:00:42"},{"$error":"#N/A"},null,1900,false,false]
[700,"-",null,null,null,null,115.40041067761807,null,null,null,null,28,{"$f":"VLOOKUP(A701,'Chrono+Classement'!G:O,5,FALSE)","v":{"$error":"#N/A"}},{"$f":"VLOOKUP(A701,'Chrono+Classement'!G:O,9,FALSE)","v":{"$error":"#N/A"}},{"$f":"IF(L701=17,Param!G701,IF(L701=28,Param!H701,IF(L701=45,Param!I701)))","v":"00:00:42"},{"$error":"#N/A"},null,1900,false,false]
[701,"-",null,null,null,null,115.40041067761807,null,null,null,null,28,{"$f":"VLOOKUP(A702,'Chrono+Classement'!G:O,5,FALSE)","v":{"$error":"#N/A"}},{"$f":"VLOOKUP(A702,'Chrono+Classement'!G:O,9,FALSE)","v":{"$error":"#N/A"}},{"$f":"IF(L702=17,Param!G702,IF(L702=28,Param!H702,IF(L702=45,Param!I702)))","v":"00:00:42"},{"$error":"#N/A"},null,1900,false,false]
[702,"-",null,null,null,null,115.40041067761807,null,null,null,null,28,{"$f":"VLOOKUP(A703,'Chrono+Classement'!G:O,5,FALSE)","v":{"$error":"#N/A"}},{"$f":"VLOOKUP(A703,'Chrono+Classement'!G:O,9,FALSE)","v":{"$error":"#N/A"}},{"$f":"IF(L703=17,Param!G703,IF(L703=28,Param!H703,IF(L703=45,Param!I703)))","v":"00:00:42"},{"$error":"#N/A"},null,1900,false,false]
[703,"-",null,null,null,null,115.40041067761807,null,null,null,null,28,{"$f":"VLOOKUP(A704,'Chrono+Classement'!G:O,5,FALSE)","v":{"$error":"#N/A"}},{"$f":"VLOOKUP(A704,'Chrono+Classement'!G:O,9,FALSE)","v":{"$error":"#N/A"}},{"$f":"IF(L704=17,Param!G704,IF(L704=28,Param!H704,IF(L704=45,Param!I704)))","v":"00:00:42"},{"$error":"#N/A"},null,1900,false,false]
[704,"-",null,null,null,null,115.40041067761807,null,null,null,null,28,{"$f":"VLOOKUP(A705,'Chrono+Classement'!G:O,5,FALSE)","v":{"$error":"#N/A"}},{"$f":"VLOOKUP(A705,'Chrono+Classement'!G:O,9,FALSE)","v":{"$error":"#N/A"}},{"$f":"IF(L705=17,Param!G705,IF(L705=28,Param!H705,IF(L705=45,Param!I705)))","v":"00:00:42"},{"$error":"#N/A"},null,1900,false,false]
[705,{"$f":"CONCATENATE(C706,\"-\",D706)","v":"-"},null,null,null,null,{"$f":"(TODAY()-F706)/365.25","v":115.40041067761807},null,null,null,null,28,{"$f":"VLOOKUP(A706,'Chrono+Classement'!G:O,5,FALSE)","v":{"$error":"#N/A"}},{"$f":"VLOOKUP(A706,'Chrono+Classement'!G:O,9,FALSE)","v":{"$error":"#N/A"}},{"$f":"IF(L706=17,Param!G706,IF(L706=28,Param!H706,IF(L706=45,Param!I706)))","v":"00:00:42"},{"$error":"#N/A"},null,{"$f":"YEAR(F706)","v":1900},{"$f":"IF(E706=\"M\",IF(R706<=1965,\"Masters 5\",IF(R706<=1975,\"Masters 3/4\",IF(R706<=1985,\"Masters 1/2\",IF(R706<=1992,\"Hommes\",IF(R706<=1996,\"Espoirs\",IF(R706<=1998,\"Juniors\",IF(R706<=2000,\"Cadets\",0))))))))","v":false},{"$f":"IF(E706=\"F\",IF(R706<=1992,\"Dames\",IF(R706<=1996,\"Espoirs Dames\",IF(R706<=1998,\"Juniors Dames\",IF(R706<=2000,\"Cadettes\",0)))))","v":false}]
[706,"-",null,null,null,null,115.40041067761807,null,null,null,null,28,{"$f":"VLOOKUP(A707,'Chrono+Classement'!G:O,5,FALSE)","v":{"$error":"#N/A"}},{"$f":"VLOOKUP(A707,'Chrono+Classement'!G:O,9,FALSE)","v":{"$error":"#N/A"}},{"$f":"IF(L707=17,Param!G707,IF(L707=28,Param!H707,IF(L707=45,Param!I707)))","v":"00:00:42"},{"$error":"#N/A"},null,1900,false,false]
[707,"-",null,null,null,null,115.40041067761807,null,null,null,null,28,{"$f":"VLOOKUP(A708,'Chrono+Classement'!G:O,5,FALSE)","v":{"$error":"#N/A"}},{"$f":"VLOOKUP(A708,'Chrono+Classement'!G:O,9,FALSE)","v":{"$error":"#N/A"}},{"$f":"IF(L708=17,Param!G708,IF(L708=28,Param!H708,IF(L708=45,Param!I708)))","v":"00:00:42"},{"$error":"#N/A"},null,1900,false,false]
[708,"-",null,null,null,null,115.40041067761807,null,null,null,null,28,{"$f":"VLOOKUP(A709,'Chrono+Classement'!G:O,5,FALSE)","v":{"$error":"#N/A"}},{"$f":"VLOOKUP(A709,'Chrono+Classement'!G:O,9,FALSE)","v":{"$error":"#N/A"}},{"$f":"IF(L709=17,Param!G709,IF(L709=28,Param!H709,IF(L709=45,Param!I709)))","v":"00:00:42"},{"$error":"#N/A"},null,1900,false,false]
[709,"-",null,null,null,null,115.40041067761807,null,null,null,null,28,{"$f":"VLOOKUP(A710,'Chrono+Classement'!G:O,5,FALSE)","v":{"$error":"#N/A"}},{"$f":"VLOOKUP(A710,'Chrono+Classement'!G:O,9,FALSE)","v":{"$error":"#N/A"}},{"$f":"IF(L710=17,Param!G710,IF(L710=28,Param!H710,IF(L710=45,Param!I710)))","v":"00:00:42"},{"$error":"#N/A"},null,1900,false,false]
[710,"-",null,null,null,null,115.40041067761807,null,null,null,null,28,{"$f":"VLOOKUP(A711,'Chrono+Classement'!G:O,5,FALSE)","v":{"$error":"#N/A"}},{"$f":"VLOOKUP(A711,'Chrono+Classement'!G:O,9,FALSE)","v":{"$error":"#N/A"}},{"$f":"IF(L711=17,Param!G711,IF(L711=28,Param!H711,IF(L711=45,Param!I711)))","v":"00:00:42"},{"$error":"#N/A"},null,1900,false,false]
[711,"-",null,null,null,null,115.40041067761807,null,null,null,null,28,{"$f":"VLOOKUP(A712,'Chrono+Classement'!G:O,5,FALSE)","v":{"$error":"#N/A"}},{"$f":"VLOOKUP(A712,'Chrono+Classement'!G:O,9,FALSE)","v":{"$error":"#N/A"}},{"$f":"IF(L712=17,Param!G712,IF(L712=28,Param!H712,IF(L712=45,Param!I712)))","v":"00:00:42"},{"$error":"#N/A"},null,1900,false,false]
[712,"-",null,null,null,null,115.40041067761807,null,null,null,null,28,{"$f":"VLOOKUP(A713,'Chrono+Classement'!G:O,5,FALSE)","v":{"$error":"#N/A"}},{"$f":"VLOOKUP(A713,'Chrono+Classement'!G:O,9,FALSE)","v":{"$error":"#N/A"}},{"$f":"IF(L713=17,Param!G713,IF(L713=28,Param!H713,IF(L713=45,Param!I713)))","v":"00:00:42"},{"$error":"#N/A"},null,1900,false,false]
[713,"-",null,null,null,null,115.40041067761807,null,null,null,null,28,{"$f":"VLOOKUP(A714,'Chrono+Classement'!G:O,5,FALSE)","v":{"$error":"#N/A"}},{"$f":"VLOOKUP(A714,'Chrono+Classement'!G:O,9,FALSE)","v":{"$error":"#N/A"}},{"$f":"IF(L714=17,Param!G714,IF(L714=28,Param!H714,IF(L714=45,Param!I714)))","v":"00:00:42"},{"$error":"#N/A"},null,1900,false,false]
[714,"-",null,null,null,null,115.40041067761807,null,null,null,null,28,{"$f":"VLOOKUP(A715,'Chrono+Classement'!G:O,5,FALSE)","v":{"$error":"#N/A"}},{"$f":"VLOOKUP(A715,'Chrono+Classement'!G:O,9,FALSE)","v":{"$error":"#N/A"}},{"$f":"IF(L715=17,Param!G715,IF(L715=28,Param!H715,IF(L715=45,Param!I715)))","v":"00:00:42"},{"$error":"#N/A"},null,1900,false,false]
[715,"-",null,null,null,null,115.40041067761807,null,null,null,null,28,{"$f":"VLOOKUP(A716,'Chrono+Classement'!G:O,5,FALSE)","v":{"$error":"#N/A"}},{"$f":"VLOOKUP(A716,'Chrono+Classement'!G:O,9,FALSE)","v":{"$error":"#N/A"}},{"$f":"IF(L716=17,Param!G716,IF(L716=28,Param!H716,IF(L716=45,Param!I716)))","v":"00:00:42"},{"$error":"#N/A"},null,1900,false,false]
[716,"-",null,null,null,null,115.40041067761807,null,null,null,null,28,{"$f":"VLOOKUP(A717,'Chrono+Classement'!G:O,5,FALSE)","v":{"$error":"#N/A"}},{"$f":"VLOOKUP(A717,'Chrono+Classement'!G:O,9,FALSE)","v":{"$error":"#N/A"}},{"$f":"IF(L717=17,Param!G717,IF(L717=28,Param!H717,IF(L717=45,Param!I717)))","v":"00:00:42"},{"$error":"#N/A"},null,1900,false,false]
[717,"-",null,null,null,null,115.40041067761807,null,null,null,null,28,{"$f":"VLOOKUP(A718,'Chrono+Classement'!G:O,5,FALSE)","v":{"$error":"#N/A"}},{"$f":"VLOOKUP(A718,'Chrono+Classement'!G:O,9,FALSE)","v":{"$error":"#N/A"}},{"$f":"IF(L718=17,Param!G718,IF(L718=28,Param!H718,IF(L718=45,Param!I718)))","v":"00:00:42"},{"$error":"#N/A"},null,1900,false,false]
[718,"-",null,null,null,null,115.40041067761807,null,null,null,null,28,{"$f":"VLOOKUP(A719,'Chrono+Classement'!G:O,5,FALSE)","v":{"$error":"#N/A"}},{"$f":"VLOOKUP(A719,'Chrono+Classement'!G:O,9,FALSE)","v":{"$error":"#N/A"}},{"$f":"IF(L719=17,Param!G719,IF(L719=28,Param!H719,IF(L719=45,Param!I719)))","v":"00:00:42"},{"$error":"#N/A"},null,1900,false,false]
[719,"-",null,null,null,null,115.40041067761807,null,null,null,null,28,{"$f":"VLOOKUP(A720,'Chrono+Classement'!G:O,5,FALSE)","v":{"$error":"#N/A"}},{"$f":"VLOOKUP(A720,'Chrono+Classement'!G:O,9,FALSE)","v":{"$error":"#N/A"}},{"$f":"IF(L720=17,Param!G720,IF(L720=28,Param!H720,IF(L720=45,Param!I720)))","v":"00:00:42"},{"$error":"#N/A"},null,1900,false,false]
[720,"-",null,null,null,null,115.40041067761807,null,null,null,null,28,{"$f":"VLOOKUP(A721,'Chrono+Classement'!G:O,5,FALSE)","v":{"$error":"#N/A"}},{"$f":"VLOOKUP(A721,'Chrono+Classement'!G:O,9,FALSE)","v":{"$error":"#N/A"}},{"$f":"IF(L721=17,Param!G721,IF(L721=28,Param!H721,IF(L721=45,Param!I721)))","v":"00:00:42"},{"$error":"#N/A"},null,1900,false,false]
[721,"-",null,null,null,null,115.40041067761807,null,null,null,null,28,{"$f":"VLOOKUP(A722,'Chrono+Classement'!G:O,5,FALSE)","v":{"$error":"#N/A"}},{"$f":"VLOOKUP(A722,'Chrono+Classement'!G:O,9,FALSE)","v":{"$error":"#N/A"}},{"$f":"IF(L722=17,Param!G722,IF(L722=28,Param!H722,IF(L722=45,Param!I722)))","v":"00:00:42"},{"$error":"#N/A"},null,1900,false,false]
[722,"-",null,null,null,null,115.40041067761807,null,null,null,null,28,{"$f":"VLOOKUP(A723,'Chrono+Classement'!G:O,5,FALSE)","v":{"$error":"#N/A"}},{"$f":"VLOOKUP(A723,'Chrono+Classement'!G:O,9,FALSE)","v":{"$error":"#N/A"}},{"$f":"IF(L723=17,Param!G723,IF(L723=28,Param!H723,IF(L723=45,Param!I723)))","v":"00:00:42"},{"$error":"#N/A"},null,1900,false,false]
[723,"-",null,null,null,null,115.40041067761807,null,null,null,null,28,{"$f":"VLOOKUP(A724,'Chrono+Classement'!G:O,5,FALSE)","v":{"$error":"#N/A"}},{"$f":"VLOOKUP(A724,'Chrono+Classement'!G:O,9,FALSE)","v":{"$error":"#N/A"}},{"$f":"IF(L724=17,Param!G724,IF(L724=28,Param!H724,IF(L724=45,Param!I724)))","v":"00:00:42"},{"$error":"#N/A"},null,1900,false,false]
[724,"-",null,null,null,null,115.40041067761807,null,null,null,null,28,{"$f":"VLOOKUP(A725,'Chrono+Classement'!G:O,5,FALSE)","v":{"$error":"#N/A"}},{"$f":"VLOOKUP(A725,'Chrono+Classement'!G:O,9,FALSE)","v":{"$error":"#N/A"}},{"$f":"IF(L725=17,Param!G725,IF(L725=28,Param!H725,IF(L725=45,Param!I725)))","v":"00:00:42"},{"$error":"#N/A"},null,1900,false,false]
[725,"-",null,null,null,null,115.40041067761807,null,null,null,null,28,{"$f":"VLOOKUP(A726,'Chrono+Classement'!G:O,5,FALSE)","v":{"$error":"#N/A"}},{"$f":"VLOOKUP(A726,'Chrono+Classement'!G:O,9,FALSE)","v":{"$error":"#N/A"}},{"$f":"IF(L726=17,Param!G726,IF(L726=28,Param!H726,IF(L726=45,Param!I726)))","v":"00:00:42"},{"$error":"#N/A"},null,1900,false,false]
[726,"-",null,null,null,null,115.40041067761807,null,null,null,null,28,{"$f":"VLOOKUP(A727,'Chrono+Classement'!G:O,5,FALSE)","v":{"$error":"#N/A"}},{"$f":"VLOOKUP(A727,'Chrono+Classement'!G:O,9,FALSE)","v":{"$error":"#N/A"}},{"$f":"IF(L727=17,Param!G727,IF(L727=28,Param!H727,IF(L727=45,Param!I727)))","v":"00:00:42"},{"$error":"#N/A"},null,1900,false,false]
[727,"-",null,null,null,null,115.40041067761807,null,null,null,null,28,{"$f":"VLOOKUP(A728,'Chrono+Classement'!G:O,5,FALSE)","v":{"$error":"#N/A"}},{"$f":"VLOOKUP(A728,'Chrono+Classement'!G:O,9,FALSE)","v":{"$error":"#N/A"}},{"$f":"IF(L728=17,Param!G728,IF(L728=28,Param!H728,IF(L728=45,Param!I728)))","v":"00:00:42"},{"$error":"#N/A"},null,1900,false,false]
[728,"-",null,null,null,null,115.40041067761807,null,null,null,null,28,{"$f":"VLOOKUP(A729,'Chrono+Classement'!G:O,5,FALSE)","v":{"$error":"#N/A"}},{"$f":"VLOOKUP(A729,'Chrono+Classement'!G:O,9,FALSE)","v":{"$error":"#N/A"}},{"$f":"IF(L729=17,Param!G729,IF(L729=28,Param!H729,IF(L729=45,Param!I729)))","v":"00:00:42"},{"$error":"#N/A"},null,1900,false,false]
[729,"-",null,null,null,null,115.40041067761807,null,null,null,null,28,{"$f":"VLOOKUP(A730,'Chrono+Classement'!G:O,5,FALSE)","v":{"$error":"#N/A"}},{"$f":"VLOOKUP(A730,'Chrono+Classement'!G:O,9,FALSE)","v":{"$error":"#N/A"}},{"$f":"IF(L730=17,Param!G730,IF(L730=28,Param!H730,IF(L730=45,Param!I730)))","v":"00:00:42"},{"$error":"#N/A"},null,1900,false,false]
[730,"-",null,null,null,null,115.40041067761807,null,null,null,null,28,{"$f":"VLOOKUP(A731,'Chrono+Classement'!G:O,5,FALSE)","v":{"$error":"#N/A"}},{"$f":"VLOOKUP(A731,'Chrono+Classement'!G:O,9,FALSE)","v":{"$error":"#N/A"}},{"$f":"IF(L731=17,Param!G731,IF(L731=28,Param!H731,IF(L731=45,Param!I731)))","v":"00:00:42"},{"$error":"#N/A"},null,1900,false,false]
[731,"-",null,null,null,null,115.40041067761807,null,null,null,null,28,{"$f":"VLOOKUP(A732,'Chrono+Classement'!G:O,5,FALSE)","v":{"$error":"#N/A"}},{"$f":"VLOOKUP(A732,'Chrono+Classement'!G:O,9,FALSE)","v":{"$error":"#N/A"}},{"$f":"IF(L732=17,Param!G732,IF(L732=28,Param!H732,IF(L732=45,Param!I732)))","v":"00:00:42"},{"$error":"#N/A"},null,1900,false,false]
[732,"-",null,null,null,null,115.40041067761807,null,null,null,null,28,{"$f":"VLOOKUP(A733,'Chrono+Classement'!G:O,5,FALSE)","v":{"$error":"#N/A"}},{"$f":"VLOOKUP(A733,'Chrono+Classement'!G:O,9,FALSE)","v":{"$error":"#N/A"}},{"$f":"IF(L733=17,Param!G733,IF(L733=28,Param!H733,IF(L733=45,Param!I733)))","v":"00:00:42"},{"$error":"#N/A"},null,1900,false,false]
[733,"-",null,null,null,null,115.40041067761807,null,null,null,null,28,{"$f":"VLOOKUP(A734,'Chrono+Classement'!G:O,5,FALSE)","v":{"$error":"#N/A"}},{"$f":"VLOOKUP(A734,'Chrono+Classement'!G:O,9,FALSE)","v":{"$error":"#N/A"}},{"$f":"IF(L734=17,Param!G734,IF(L734=28,Param!H734,IF(L734=45,Param!I734)))","v":"00:00:42"},{"$error":"#N/A"},null,1900,false,false]
[734,"-",null,null,null,null,115.40041067761807,null,null,null,null,28,{"$f":"VLOOKUP(A735,'Chrono+Classement'!G:O,5,FALSE)","v":{"$error":"#N/A"}},{"$f":"VLOOKUP(A735,'Chrono+Classement'!G:O,9,FALSE)","v":{"$error":"#N/A"}},{"$f":"IF(L735=17,Param!G735,IF(L735=28,Param!H735,IF(L735=45,Param!I735)))","v":"00:00:42"},{"$error":"#N/A"},null,1900,false,false]
[735,"-",null,null,null,null,115.40041067761807,null,null,null,null,28,{"$f":"VLOOKUP(A736,'Chrono+Classement'!G:O,5,FALSE)","v":{"$error":"#N/A"}},{"$f":"VLOOKUP(A736,'Chrono+Classement'!G:O,9,FALSE)","v":{"$error":"#N/A"}},{"$f":"IF(L736=17,Param!G736,IF(L736=28,Param!H736,IF(L736=45,Param!I736)))","v":"00:00:42"},{"$error":"#N/A"},null,1900,false,false]
[736,"-",null,null,null,null,115.40041067761807,null,null,null,null,28,{"$f":"VLOOKUP(A737,'Chrono+Classement'!G:O,5,FALSE)","v":{"$error":"#N/A"}},{"$f":"VLOOKUP(A737,'Chrono+Classement'!G:O,9,FALSE)","v":{"$error":"#N/A"}},{"$f":"IF(L737=17,Param!G737,IF(L737=28,Param!H737,IF(L737=45,Param!I737)))","v":"00:00:42"},{"$error":"#N/A"},null,1900,false,false]
[737,"-",null,null,null,null,115.40041067761807,null,null,null,null,28,{"$f":"VLOOKUP(A738,'Chrono+Classement'!G:O,5,FALSE)","v":{"$error":"#N/A"}},{"$f":"VLOOKUP(A738,'Chrono+Classement'!G:O,9,FALSE)","v":{"$error":"#N/A"}},{"$f":"IF(L738=17,Param!G738,IF(L738=28,Param!H738,IF(L738=45,Param!I738)))","v":"00:00:42"},{"$error":"#N/A"},null,1900,false,false]
[738,"-",null,null,null,null,115.40041067761807,null,null,null,null,28,{"$f":"VLOOKUP(A739,'Chrono+Classement'!G:O,5,FALSE)","v":{"$error":"#N/A"}},{"$f":"VLOOKUP(A739,'Chrono+Classement'!G:O,9,FALSE)","v":{"$error":"#N/A"}},{"$f":"IF(L739=17,Param!G739,IF(L739=28,Param!H739,IF(L739=45,Param!I739)))","v":"00:00:42"},{"$error":"#N/A"},null,1900,false,false]
[739,"-",null,null,null,null,115.40041067761807,null,null,null,null,28,{"$f":"VLOOKUP(A740,'Chrono+Classement'!G:O,5,FALSE)","v":{"$error":"#N/A"}},{"$f":"VLOOKUP(A740,'Chrono+Classement'!G:O,9,FALSE)","v":{"$error":"#N/A"}},{"$f":"IF(L740=17,Param!G740,IF(L740=28,Param!H740,IF(L740=45,Param!I740)))","v":"00:00:42"},{"$error":"#N/A"},null,1900,false,false]
[740,"-",null,null,null,null,115.40041067761807,null,null,null,null,28,{"$f":"VLOOKUP(A741,'Chrono+Classement'!G:O,5,FALSE)","v":{"$error":"#N/A"}},{"$f":"VLOOKUP(A741,'Chrono+Classement'!G:O,9,FALSE)","v":{"$error":"#N/A"}},{"$f":"IF(L741=17,Param!G741,IF(L741=28,Param!H741,IF(L741=45,Param!I741)))","v":"00:00:42"},{"$f":"N741-O741","v":{"$error":"#N/A"}},null,1900,false,false]
[741,"-",null,null,null,null,115.40041067761807,null,null,null,null,28,{"$f":"VLOOKUP(A742,'Chrono+Classement'!G:O,5,FALSE)","v":{"$error":"#N/A"}},{"$f":"VLOOKUP(A742,'Chrono+Classement'!G:O,9,FALSE)","v":{"$error":"#N/A"}},{"$f":"IF(L742=17,Param!G742,IF(L742=28,Param!H742,IF(L742=45,Param!I742)))","v":"00:00:42"},{"$error":"#N/A"},null,1900,false,false]
[742,"-",null,null,null,null,115.40041067761807,null,null,null,null,28,{"$f":"VLOOKUP(A743,'Chrono+Classement'!G:O,5,FALSE)","v":{"$error":"#N/A"}},{"$f":"VLOOKUP(A743,'Chrono+Classement'!G:O,9,FALSE)","v":{"$error":"#N/A"}},{"$f":"IF(L743=17,Param!G743,IF(L743=28,Param!H743,IF(L743=45,Param!I743)))","v":"00:00:42"},{"$error":"#N/A"},null,1900,false,false]
[743,"-",null,null,null,null,115.40041067761807,null,null,null,null,28,{"$f":"VLOOKUP(A744,'Chrono+Classement'!G:O,5,FALSE)","v":{"$error":"#N/A"}},{"$f":"VLOOKUP(A744,'Chrono+Classement'!G:O,9,FALSE)","v":{"$error":"#N/A"}},{"$f":"IF(L744=17,Param!G744,IF(L744=28,Param!H744,IF(L744=45,Param!I744)))","v":"00:00:42"},{"$error":"#N/A"},null,1900,false,false]
[744,"-",null,null,null,null,115.40041067761807,null,null,null,null,28,{"$f":"VLOOKUP(A745,'Chrono+Classement'!G:O,5,FALSE)","v":{"$error":"#N/A"}},{"$f":"VLOOKUP(A745,'Chrono+Classement'!G:O,9,FALSE)","v":{"$error":"#N/A"}},{"$f":"IF(L745=17,Param!G745,IF(L745=28,Param!H745,IF(L745=45,Param!I745)))","v":"00:00:42"},{"$error":"#N/A"},null,1900,false,false]
[745,"-",null,null,null,null,115.40041067761807,null,null,null,null,28,{"$f":"VLOOKUP(A746,'Chrono+Classement'!G:O,5,FALSE)","v":{"$error":"#N/A"}},{"$f":"VLOOKUP(A746,'Chrono+Classement'!G:O,9,FALSE)","v":{"$error":"#N/A"}},{"$f":"IF(L746=17,Param!G746,IF(L746=28,Param!H746,IF(L746=45,Param!I746)))","v":"00:00:42"},{"$error":"#N/A"},null,1900,false,false]
[746,"-",null,null,null,null,115.40041067761807,null,null,null,null,28,{"$f":"VLOOKUP(A747,'Chrono+Classement'!G:O,5,FALSE)","v":{"$error":"#N/A"}},{"$f":"VLOOKUP(A747,'Chrono+Classement'!G:O,9,FALSE)","v":{"$error":"#N/A"}},{"$f":"IF(L747=17,Param!G747,IF(L747=28,Param!H747,IF(L747=45,Param!I747)))","v":"00:00:42"},{"$error":"#N/A"},null,1900,false,false]
[747,"-",null,null,null,null,115.40041067761807,null,null,null,null,28,{"$f":"VLOOKUP(A748,'Chrono+Classement'!G:O,5,FALSE)","v":{"$error":"#N/A"}},{"$f":"VLOOKUP(A748,'Chrono+Classement'!G:O,9,FALSE)","v":{"$error":"#N/A"}},{"$f":"IF(L748=17,Param!G748,IF(L748=28,Param!H748,IF(L748=45,Param!I748)))","v":"00:00:42"},{"$error":"#N/A"},null,1900,false,false]
[748,"-",null,null,null,null,115.40041067761807,null,null,null,null,28,{"$f":"VLOOKUP(A749,'Chrono+Classement'!G:O,5,FALSE)","v":{"$error":"#N/A"}},{"$f":"VLOOKUP(A749,'Chrono+Classement'!G:O,9,FALSE)","v":{"$error":"#N/A"}},{"$f":"IF(L749=17,Param!G749,IF(L749=28,Param!H749,IF(L749=45,Param!I749)))","v":"00:00:42"},{"$error":"#N/A"},null,1900,false,false]
[749,"-",null,null,null,null,115.40041067761807,null,null,null,null,28,{"$f":"VLOOKUP(A750,'Chrono+Classement'!G:O,5,FALSE)","v":{"$error":"#N/A"}},{"$f":"VLOOKUP(A750,'Chrono+Classement'!G:O,9,FALSE)","v":{"$error":"#N/A"}},{"$f":"IF(L750=17,Param!G750,IF(L750=28,Param!H750,IF(L750=45,Param!I750)))","v":"00:00:42"},{"$error":"#N/A"},null,1900,false,false]
[750,"-",null,null,null,null,115.40041067761807,null,null,null,null,28,{"$f":"VLOOKUP(A751,'Chrono+Classement'!G:O,5,FALSE)","v":{"$error":"#N/A"}},{"$f":"VLOOKUP(A751,'Chrono+Classement'!G:O,9,FALSE)","v":{"$error":"#N/A"}},{"$f":"IF(L751=17,Param!G751,IF(L751=28,Param!H751,IF(L751=45,Param!I751)))","v":"00:00:42"},{"$error":"#N/A"},null,1900,false,false]
[751,"-",null,null,null,null,115.40041067761807,null,null,null,null,28,{"$f":"VLOOKUP(A752,'Chrono+Classement'!G:O,5,FALSE)","v":{"$error":"#N/A"}},{"$f":"VLOOKUP(A752,'Chrono+Classement'!G:O,9,FALSE)","v":{"$error":"#N/A"}},{"$f":"IF(L752=17,Param!G752,IF(L752=28,Param!H752,IF(L752=45,Param!I752)))","v":"00:00:42"},{"$error":"#N/A"},null,1900,false,false]
[752,"-",null,null,null,null,115.40041067761807,null,null,null,null,28,{"$f":"VLOOKUP(A753,'Chrono+Classement'!G:O,5,FALSE)","v":{"$error":"#N/A"}},{"$f":"VLOOKUP(A753,'Chrono+Classement'!G:O,9,FALSE)","v":{"$error":"#N/A"}},{"$f":"IF(L753=17,Param!G753,IF(L753=28,Param!H753,IF(L753=45,Param!I753)))","v":"00:00:42"},{"$error":"#N/A"},null,1900,false,false]
[753,"-",null,null,null,null,115.40041067761807,null,null,null,null,28,{"$f":"VLOOKUP(A754,'Chrono+Classement'!G:O,5,FALSE)","v":{"$error":"#N/A"}},{"$f":"VLOOKUP(A754,'Chrono+Classement'!G:O,9,FALSE)","v":{"$error":"#N/A"}},{"$f":"IF(L754=17,Param!G754,IF(L754=28,Param!H754,IF(L754=45,Param!I754)))","v":"00:00:42"},{"$error":"#N/A"},null,1900,false,false]
[754,"-",null,null,null,null,115.40041067761807,null,null,null,null,28,{"$f":"VLOOKUP(A755,'Chrono+Classement'!G:O,5,FALSE)","v":{"$error":"#N/A"}},{"$f":"VLOOKUP(A755,'Chrono+Classement'!G:O,9,FALSE)","v":{"$error":"#N/A"}},{"$f":"IF(L755=17,Param!G755,IF(L755=28,Param!H755,IF(L755=45,Param!I755)))","v":"00:00:42"},{"$error":"#N/A"},null,1900,false,false]
[755,"-",null,null,null,null,115.40041067761807,null,null,null,null,28,{"$f":"VLOOKUP(A756,'Chrono+Classement'!G:O,5,FALSE)","v":{"$error":"#N/A"}},{"$f":"VLOOKUP(A756,'Chrono+Classement'!G:O,9,FALSE)","v":{"$error":"#N/A"}},{"$f":"IF(L756=17,Param!G756,IF(L756=28,Param!H756,IF(L756=45,Param!I756)))","v":"00:00:42"},{"$error":"#N/A"},null,1900,false,false]
[756,"-",null,null,null,null,115.40041067761807,null,null,null,null,28,{"$f":"VLOOKUP(A757,'Chrono+Classement'!G:O,5,FALSE)","v":{"$error":"#N/A"}},{"$f":"VLOOKUP(A757,'Chrono+Classement'!G:O,9,FALSE)","v":{"$error":"#N/A"}},{"$f":"IF(L757=17,Param!G757,IF(L757=28,Param!H757,IF(L757=45,Param!I757)))","v":"00:00:42"},{"$error":"#N/A"},null,1900,false,false]
[757,"-",null,null,null,null,115.40041067761807,null,null,null,null,28,{"$f":"VLOOKUP(A758,'Chrono+Classement'!G:O,5,FALSE)","v":{"$error":"#N/A"}},{"$f":"VLOOKUP(A758,'Chrono+Classement'!G:O,9,FALSE)","v":{"$error":"#N/A"}},{"$f":"IF(L758=17,Param!G758,IF(L758=28,Param!H758,IF(L758=45,Param!I758)))","v":"00:00:42"},{"$error":"#N/A"},null,1900,false,false]
[758,"-",null,null,null,null,115.40041067761807,null,null,null,null,28,{"$f":"VLOOKUP(A759,'Chrono+Classement'!G:O,5,FALSE)","v":{"$error":"#N/A"}},{"$f":"VLOOKUP(A759,'Chrono+Classement'!G:O,9,FALSE)","v":{"$error":"#N/A"}},{"$f":"IF(L759=17,Param!G759,IF(L759=28,Param!H759,IF(L759=45,Param!I759)))","v":"00:00:42"},{"$error":"#N/A"},null,1900,false,false]
[759,"-",null,null,null,null,115.40041067761807,null,null,null,null,28,{"$f":"VLOOKUP(A760,'Chrono+Classement'!G:O,5,FALSE)","v":{"$error":"#N/A"}},{"$f":"VLOOKUP(A760,'Chrono+Classement'!G:O,9,FALSE)","v":{"$error":"#N/A"}},{"$f":"IF(L760=17,Param!G760,IF(L760=28,Param!H760,IF(L760=45,Param!I760)))","v":"00:00:42"},{"$error":"#N/A"},null,1900,false,false]
[760,"-",null,null,null,null,115.40041067761807,null,null,null,null,28,{"$f":"VLOOKUP(A761,'Chrono+Classement'!G:O,5,FALSE)","v":{"$error":"#N/A"}},{"$f":"VLOOKUP(A761,'Chrono+Classement'!G:O,9,FALSE)","v":{"$error":"#N/A"}},{"$f":"IF(L761=17,Param!G761,IF(L761=28,Param!H761,IF(L761=45,Param!I761)))","v":"00:00:42"},{"$error":"#N/A"},null,1900,false,false]
[761,"-",null,null,null,null,115.40041067761807,null,null,null,null,28,{"$f":"VLOOKUP(A762,'Chrono+Classement'!G:O,5,FALSE)","v":{"$error":"#N/A"}},{"$f":"VLOOKUP(A762,'Chrono+Classement'!G:O,9,FALSE)","v":{"$error":"#N/A"}},{"$f":"IF(L762=17,Param!G762,IF(L762=28,Param!H762,IF(L762=45,Param!I762)))","v":"00:00:42"},{"$error":"#N/A"},null,1900,false,false]
[762,"-",null,null,null,null,115.40041067761807,null,null,null,null,28,{"$f":"VLOOKUP(A763,'Chrono+Classement'!G:O,5,FALSE)","v":{"$error":"#N/A"}},{"$f":"VLOOKUP(A763,'Chrono+Classement'!G:O,9,FALSE)","v":{"$error":"#N/A"}},{"$f":"IF(L763=17,Param!G763,IF(L763=28,Param!H763,IF(L763=45,Param!I763)))","v":"00:00:42"},{"$error":"#N/A"},null,1900,false,false]
[763,"-",null,null,null,null,115.40041067761807,null,null,null,null,28,{"$f":"VLOOKUP(A764,'Chrono+Classement'!G:O,5,FALSE)","v":{"$error":"#N/A"}},{"$f":"VLOOKUP(A764,'Chrono+Classement'!G:O,9,FALSE)","v":{"$error":"#N/A"}},{"$f":"IF(L764=17,Param!G764,IF(L764=28,Param!H764,IF(L764=45,Param!I764)))","v":"00:00:42"},{"$error":"#N/A"},null,1900,false,false]
[764,"-",null,null,null,null,115.40041067761807,null,null,null,null,28,{"$f":"VLOOKUP(A765,'Chrono+Classement'!G:O,5,FALSE)","v":{"$error":"#N/A"}},{"$f":"VLOOKUP(A765,'Chrono+Classement'!G:O,9,FALSE)","v":{"$error":"#N/A"}},{"$f":"IF(L765=17,Param!G765,IF(L765=28,Param!H765,IF(L765=45,Param!I765)))","v":"00:00:42"},{"$error":"#N/A"},null,1900,false,false]
[765,"-",null,null,null,null,115.40041067761807,null,null,null,null,28,{"$f":"VLOOKUP(A766,'Chrono+Classement'!G:O,5,FALSE)","v":{"$error":"#N/A"}},{"$f":"VLOOKUP(A766,'Chrono+Classement'!G:O,9,FALSE)","v":{"$error":"#N/A"}},{"$f":"IF(L766=17,Param!G766,IF(L766=28,Param!H766,IF(L766=45,Param!I766)))","v":"00:00:42"},{"$error":"#N/A"},null,1900,false,false]
[766,"-",null,null,null,null,115.40041067761807,null,null,null,null,28,{"$f":"VLOOKUP(A767,'Chrono+Classement'!G:O,5,FALSE)","v":{"$error":"#N/A"}},{"$f":"VLOOKUP(A767,'Chrono+Classement'!G:O,9,FALSE)","v":{"$error":"#N/A"}},{"$f":"IF(L767=17,Param!G767,IF(L767=28,Param!H767,IF(L767=45,Param!I767)))","v":"00:00:42"},{"$error":"#N/A"},null,1900,false,false]
[767,"-",null,null,null,null,115.40041067761807,null,null,null,null,28,{"$f":"VLOOKUP(A768,'Chrono+Classement'!G:O,5,FALSE)","v":{"$error":"#N/A"}},{"$f":"VLOOKUP(A768,'Chrono+Classement'!G:O,9,FALSE)","v":{"$error":"#N/A"}},{"$f":"IF(L768=17,Param!G768,IF(L768=28,Param!H768,IF(L768=45,Param!I768)))","v":"00:00:42"},{"$error":"#N/A"},null,1900,false,false]
[768,"-",null,null,null,null,115.40041067761807,null,null,null,null,28,{"$f":"VLOOKUP(A769,'Chrono+Classement'!G:O,5,FALSE)","v":{"$error":"#N/A"}},{"$f":"VLOOKUP(A769,'Chrono+Classement'!G:O,9,FALSE)","v":{"$error":"#N/A"}},{"$f":"IF(L769=17,Param!G769,IF(L769=28,Param!H769,IF(L769=45,Param!I769)))","v":"00:00:42"},{"$error":"#N/A"},null,1900,false,false]
[769,{"$f":"CONCATENATE(C770,\"-\",D770)","v":"-"},null,null,null,null,{"$f":"(TODAY()-F770)/365.25","v":115.40041067761807},null,null,null,null,28,{"$f":"VLOOKUP(A770,'Chrono+Classement'!G:O,5,FALSE)","v":{"$error":"#N/A"}},{"$f":"VLOOKUP(A770,'Chrono+Classement'!G:O,9,FALSE)","v":{"$error":"#N/A"}},{"$f":"IF(L770=17,Param!G770,IF(L770=28,Param!H770,IF(L770=45,Param!I770)))","v":"00:00:42"},{"$error":"#N/A"},null,{"$f":"YEAR(F770)","v":1900},{"$f":"IF(E770=\"M\",IF(R770<=1965,\"Masters 5\",IF(R770<=1975,\"Masters 3/4\",IF(R770<=1985,\"Masters 1/2\",IF(R770<=1992,\"Hommes\",IF(R770<=1996,\"Espoirs\",IF(R770<=1998,\"Juniors\",IF(R770<=2000,\"Cadets\",0))))))))","v":false},{"$f":"IF(E770=\"F\",IF(R770<=1992,\"Dames\",IF(R770<=1996,\"Espoirs Dames\",IF(R770<=1998,\"Juniors Dames\",IF(R770<=2000,\"Cadettes\",0)))))","v":false}]
[770,"-",null,null,null,null,115.40041067761807,null,null,null,null,28,{"$f":"VLOOKUP(A771,'Chrono+Classement'!G:O,5,FALSE)","v":{"$error":"#N/A"}},{"$f":"VLOOKUP(A771,'Chrono+Classement'!G:O,9,FALSE)","v":{"$error":"#N/A"}},{"$f":"IF(L771=17,Param!G771,IF(L771=28,Param!H771,IF(L771=45,Param!I771)))","v":"00:00:42"},{"$error":"#N/A"},null,1900,false,false]
[771,"-",null,null,null,null,115.40041067761807,null,null,null,null,28,{"$f":"VLOOKUP(A772,'Chrono+Classement'!G:O,5,FALSE)","v":{"$error":"#N/A"}},{"$f":"VLOOKUP(A772,'Chrono+Classement'!G:O,9,FALSE)","v":{"$error":"#N/A"}},{"$f":"IF(L772=17,Param!G772,IF(L772=28,Param!H772,IF(L772=45,Param!I772)))","v":"00:00:42"},{"$error":"#N/A"},null,1900,false,false]
[772,"-",null,null,null,null,115.40041067761807,null,null,null,null,28,{"$f":"VLOOKUP(A773,'Chrono+Classement'!G:O,5,FALSE)","v":{"$error":"#N/A"}},{"$f":"VLOOKUP(A773,'Chrono+Classement'!G:O,9,FALSE)","v":{"$error":"#N/A"}},{"$f":"IF(L773=17,Param!G773,IF(L773=28,Param!H773,IF(L773=45,Param!I773)))","v":"00:00:42"},{"$error":"#N/A"},null,1900,false,false]
[773,"-",null,null,null,null,115.40041067761807,null,null,null,null,28,{"$f":"VLOOKUP(A774,'Chrono+Classement'!G:O,5,FALSE)","v":{"$error":"#N/A"}},{"$f":"VLOOKUP(A774,'Chrono+Classement'!G:O,9,FALSE)","v":{"$error":"#N/A"}},{"$f":"IF(L774=17,Param!G774,IF(L774=28,Param!H774,IF(L774=45,Param!I774)))","v":"00:00:42"},{"$error":"#N/A"},null,1900,false,false]
[774,"-",null,null,null,null,115.40041067761807,null,null,null,null,28,{"$f":"VLOOKUP(A775,'Chrono+Classement'!G:O,5,FALSE)","v":{"$error":"#N/A"}},{"$f":"VLOOKUP(A775,'Chrono+Classement'!G:O,9,FALSE)","v":{"$error":"#N/A"}},{"$f":"IF(L775=17,Param!G775,IF(L775=28,Param!H775,IF(L775=45,Param!I775)))","v":"00:00:42"},{"$error":"#N/A"},null,1900,false,false]
[775,"-",null,null,null,null,115.40041067761807,null,null,null,null,28,{"$f":"VLOOKUP(A776,'Chrono+Classement'!G:O,5,FALSE)","v":{"$error":"#N/A"}},{"$f":"VLOOKUP(A776,'Chrono+Classement'!G:O,9,FALSE)","v":{"$error":"#N/A"}},{"$f":"IF(L776=17,Param!G776,IF(L776=28,Param!H776,IF(L776=45,Param!I776)))","v":"00:00:42"},{"$error":"#N/A"},null,1900,false,false]
[776,"-",null,null,null,null,115.40041067761807,null,null,null,null,28,{"$f":"VLOOKUP(A777,'Chrono+Classement'!G:O,5,FALSE)","v":{"$error":"#N/A"}},{"$f":"VLOOKUP(A777,'Chrono+Classement'!G:O,9,FALSE)","v":{"$error":"#N/A"}},{"$f":"IF(L777=17,Param!G777,IF(L777=28,Param!H777,IF(L777=45,Param!I777)))","v":"00:00:42"},{"$error":"#N/A"},null,1900,false,false]
[777,"-",null,null,null,null,115.40041067761807,null,null,null,null,28,{"$f":"VLOOKUP(A778,'Chrono+Classement'!G:O,5,FALSE)","v":{"$error":"#N/A"}},{"$f":"VLOOKUP(A778,'Chrono+Classement'!G:O,9,FALSE)","v":{"$error":"#N/A"}},{"$f":"IF(L778=17,Param!G778,IF(L778=28,Param!H778,IF(L778=45,Param!I778)))","v":"00:00:42"},{"$error":"#N/A"},null,1900,false,false]
[778,"-",null,null,null,null,115.40041067761807,null,null,null,null,28,{"$f":"VLOOKUP(A779,'Chrono+Classement'!G:O,5,FALSE)","v":{"$error":"#N/A"}},{"$f":"VLOOKUP(A779,'Chrono+Classement'!G:O,9,FALSE)","v":{"$error":"#N/A"}},{"$f":"IF(L779=17,Param!G779,IF(L779=28,Param!H779,IF(L779=45,Param!I779)))","v":"00:00:42"},{"$error":"#N/A"},null,1900,false,false]
[779,"-",null,null,null,null,115.40041067761807,null,null,null,null,28,{"$f":"VLOOKUP(A780,'Chrono+Classement'!G:O,5,FALSE)","v":{"$error":"#N/A"}},{"$f":"VLOOKUP(A780,'Chrono+Classement'!G:O,9,FALSE)","v":{"$error":"#N/A"}},{"$f":"IF(L780=17,Param!G780,IF(L780=28,Param!H780,IF(L780=45,Param!I780)))","v":"00:00:42"},{"$error":"#N/A"},null,1900,false,false]
[780,"-",null,null,null,null,115.40041067761807,null,null,null,null,28,{"$f":"VLOOKUP(A781,'Chrono+Classement'!G:O,5,FALSE)","v":{"$error":"#N/A"}},{"$f":"VLOOKUP(A781,'Chrono+Classement'!G:O,9,FALSE)","v":{"$error":"#N/A"}},{"$f":"IF(L781=17,Param!G781,IF(L781=28,Param!H781,IF(L781=45,Param!I781)))","v":"00:00:42"},{"$error":"#N/A"},null,1900,false,false]
[781,"-",null,null,null,null,115.40041067761807,null,null,null,null,28,{"$f":"VLOOKUP(A782,'Chrono+Classement'!G:O,5,FALSE)","v":{"$error":"#N/A"}},{"$f":"VLOOKUP(A782,'Chrono+Classement'!G:O,9,FALSE)","v":{"$error":"#N/A"}},{"$f":"IF(L782=17,Param!G782,IF(L782=28,Param!H782,IF(L782=45,Param!I782)))","v":"00:00:42"},{"$error":"#N/A"},null,1900,false,false]
[782,"-",null,null,null,null,115.40041067761807,null,null,null,null,28,{"$f":"VLOOKUP(A783,'Chrono+Classement'!G:O,5,FALSE)","v":{"$error":"#N/A"}},{"$f":"VLOOKUP(A783,'Chrono+Classement'!G:O,9,FALSE)","v":{"$error":"#N/A"}},{"$f":"IF(L783=17,Param!G783,IF(L783=28,Param!H783,IF(L783=45,Param!I783)))","v":"00:00:42"},{"$error":"#N/A"},null,1900,false,false]
[783,"-",null,null,null,null,115.40041067761807,null,null,null,null,28,{"$f":"VLOOKUP(A784,'Chrono+Classement'!G:O,5,FALSE)","v":{"$error":"#N/A"}},{"$f":"VLOOKUP(A784,'Chrono+Classement'!G:O,9,FALSE)","v":{"$error":"#N/A"}},{"$f":"IF(L784=17,Param!G784,IF(L784=28,Param!H784,IF(L784=45,Param!I784)))","v":"00:00:42"},{"$error":"#N/A"},null,1900,false,false]
[784,"-",null,null,null,null,115.40041067761807,null,null,null,null,28,{"$f":"VLOOKUP(A785,'Chrono+Classement'!G:O,5,FALSE)","v":{"$error":"#N/A"}},{"$f":"VLOOKUP(A785,'Chrono+Classement'!G:O,9,FALSE)","v":{"$error":"#N/A"}},{"$f":"IF(L785=17,Param!G785,IF(L785=28,Param!H785,IF(L785=45,Param!I785)))","v":"00:00:42"},{"$error":"#N/A"},null,1900,false,false]
[785,"-",null,null,null,null,115.40041067761807,null,null,null,null,28,{"$f":"VLOOKUP(A786,'Chrono+Classement'!G:O,5,FALSE)","v":{"$error":"#N/A"}},{"$f":"VLOOKUP(A786,'Chrono+Classement'!G:O,9,FALSE)","v":{"$error":"#N/A"}},{"$f":"IF(L786=17,Param!G786,IF(L786=28,Param!H786,IF(L786=45,Param!I786)))","v":"00:00:42"},{"$error":"#N/A"},null,1900,false,false]
[786,"-",null,null,null,null,115.40041067761807,null,null,null,null,28,{"$f":"VLOOKUP(A787,'Chrono+Classement'!G:O,5,FALSE)","v":{"$error":"#N/A"}},{"$f":"VLOOKUP(A787,'Chrono+Classement'!G:O,9,FALSE)","v":{"$error":"#N/A"}},{"$f":"IF(L787=17,Param!G787,IF(L787=28,Param!H787,IF(L787=45,Param!I787)))","v":"00:00:42"},{"$error":"#N/A"},null,1900,false,false]
[787,"-",null,null,null,null,115.40041067761807,null,null,null,null,28,{"$f":"VLOOKUP(A788,'Chrono+Classement'!G:O,5,FALSE)","v":{"$error":"#N/A"}},{"$f":"VLOOKUP(A788,'Chrono+Classement'!G:O,9,FALSE)","v":{"$error":"#N/A"}},{"$f":"IF(L788=17,Param!G788,IF(L788=28,Param!H788,IF(L788=45,Param!I788)))","v":"00:00:42"},{"$error":"#N/A"},null,1900,false,false]
[788,"-",null,null,null,null,115.40041067761807,null,null,null,null,28,{"$f":"VLOOKUP(A789,'Chrono+Classement'!G:O,5,FALSE)","v":{"$error":"#N/A"}},{"$f":"VLOOKUP(A789,'Chrono+Classement'!G:O,9,FALSE)","v":{"$error":"#N/A"}},{"$f":"IF(L789=17,Param!G789,IF(L789=28,Param!H789,IF(L789=45,Param!I789)))","v":"00:00:42"},{"$error":"#N/A"},null,1900,false,false]
[789,"-",null,null,null,null,115.40041067761807,null,null,null,null,28,{"$f":"VLOOKUP(A790,'Chrono+Classement'!G:O,5,FALSE)","v":{"$error":"#N/A"}},{"$f":"VLOOKUP(A790,'Chrono+Classement'!G:O,9,FALSE)","v":{"$error":"#N/A"}},{"$f":"IF(L790=17,Param!G790,IF(L790=28,Param!H790,IF(L790=45,Param!I790)))","v":"00:00:42"},{"$error":"#N/A"},null,1900,false,false]
[790,"-",null,null,null,null,115.40041067761807,null,null,null,null,28,{"$f":"VLOOKUP(A791,'Chrono+Classement'!G:O,5,FALSE)","v":{"$error":"#N/A"}},{"$f":"VLOOKUP(A791,'Chrono+Classement'!G:O,9,FALSE)","v":{"$error":"#N/A"}},{"$f":"IF(L791=17,Param!G791,IF(L791=28,Param!H791,IF(L791=45,Param!I791)))","v":"00:00:42"},{"$error":"#N/A"},null,1900,false,false]
[791,"-",null,null,null,null,115.40041067761807,null,null,null,null,28,{"$f":"VLOOKUP(A792,'Chrono+Classement'!G:O,5,FALSE)","v":{"$error":"#N/A"}},{"$f":"VLOOKUP(A792,'Chrono+Classement'!G:O,9,FALSE)","v":{"$error":"#N/A"}},{"$f":"IF(L792=17,Param!G792,IF(L792=28,Param!H792,IF(L792=45,Param!I792)))","v":"00:00:42"},{"$error":"#N/A"},null,1900,false,false]
[792,"-",null,null,null,null,115.40041067761807,null,null,null,null,28,{"$f":"VLOOKUP(A793,'Chrono+Classement'!G:O,5,FALSE)","v":{"$error":"#N/A"}},{"$f":"VLOOKUP(A793,'Chrono+Classement'!G:O,9,FALSE)","v":{"$error":"#N/A"}},{"$f":"IF(L793=17,Param!G793,IF(L793=28,Param!H793,IF(L793=45,Param!I793)))","v":"00:00:42"},{"$error":"#N/A"},null,1900,false,false]
[793,"-",null,null,null,null,115.40041067761807,null,null,null,null,28,{"$f":"VLOOKUP(A794,'Chrono+Classement'!G:O,5,FALSE)","v":{"$error":"#N/A"}},{"$f":"VLOOKUP(A794,'Chrono+Classement'!G:O,9,FALSE)","v":{"$error":"#N/A"}},{"$f":"IF(L794=17,Param!G794,IF(L794=28,Param!H794,IF(L794=45,Param!I794)))","v":"00:00:42"},{"$error":"#N/A"},null,1900,false,false]
[794,"-",null,null,null,null,115.40041067761807,null,null,null,null,28,{"$f":"VLOOKUP(A795,'Chrono+Classement'!G:O,5,FALSE)","v":{"$error":"#N/A"}},{"$f":"VLOOKUP(A795,'Chrono+Classement'!G:O,9,FALSE)","v":{"$error":"#N/A"}},{"$f":"IF(L795=17,Param!G795,IF(L795=28,Param!H795,IF(L795=45,Param!I795)))","v":"00:00:42"},{"$error":"#N/A"},null,1900,false,false]
[795,"-",null,null,null,null,115.40041067761807,null,null,null,null,28,{"$f":"VLOOKUP(A796,'Chrono+Classement'!G:O,5,FALSE)","v":{"$error":"#N/A"}},{"$f":"VLOOKUP(A796,'Chrono+Classement'!G:O,9,FALSE)","v":{"$error":"#N/A"}},{"$f":"IF(L796=17,Param!G796,IF(L796=28,Param!H796,IF(L796=45,Param!I796)))","v":"00:00:42"},{"$error":"#N/A"},null,1900,false,false]
[796,"-",null,null,null,null,115.40041067761807,null,null,null,null,28,{"$f":"VLOOKUP(A797,'Chrono+Classement'!G:O,5,FALSE)","v":{"$error":"#N/A"}},{"$f":"VLOOKUP(A797,'Chrono+Classement'!G:O,9,FALSE)","v":{"$error":"#N/A"}},{"$f":"IF(L797=17,Param!G797,IF(L797=28,Param!H797,IF(L797=45,Param!I797)))","v":"00:00:42"},{"$error":"#N/A"},null,1900,false,false]
[797,"-",null,null,null,null,115.40041067761807,null,null,null,null,28,{"$f":"VLOOKUP(A798,'Chrono+Classement'!G:O,5,FALSE)","v":{"$error":"#N/A"}},{"$f":"VLOOKUP(A798,'Chrono+Classement'!G:O,9,FALSE)","v":{"$error":"#N/A"}},{"$f":"IF(L798=17,Param!G798,IF(L798=28,Param!H798,IF(L798=45,Param!I798)))","v":"00:00:42"},{"$error":"#N/A"},null,1900,false,false]
[798,"-",null,null,null,null,115.40041067761807,null,null,null,null,28,{"$f":"VLOOKUP(A799,'Chrono+Classement'!G:O,5,FALSE)","v":{"$error":"#N/A"}},{"$f":"VLOOKUP(A799,'Chrono+Classement'!G:O,9,FALSE)","v":{"$error":"#N/A"}},{"$f":"IF(L799=17,Param!G799,IF(L799=28,Param!H799,IF(L799=45,Param!I799)))","v":"00:00:42"},{"$error":"#N/A"},null,1900,false,false]
[799,"-",null,null,null,null,115.40041067761807,null,null,null,null,28,{"$f":"VLOOKUP(A800,'Chrono+Classement'!G:O,5,FALSE)","v":{"$error":"#N/A"}},{"$f":"VLOOKUP(A800,'Chrono+Classement'!G:O,9,FALSE)","v":{"$error":"#N/A"}},{"$f":"IF(L800=17,Param!G800,IF(L800=28,Param!H800,IF(L800=45,Param!I800)))","v":"00:00:42"},{"$error":"#N/A"},null,1900,false,false]
[800,"-",null,null,null,null,115.40041067761807,null,null,null,null,17,{"$f":"VLOOKUP(A801,'Chrono+Classement'!G:O,5,FALSE)","v":{"$error":"#N/A"}},{"$f":"VLOOKUP(A801,'Chrono+Classement'!G:O,9,FALSE)","v":{"$error":"#N/A"}},{"$f":"IF(L801=17,Param!G801,IF(L801=28,Param!H801,IF(L801=45,Param!I801)))","v":"00:00:00"},{"$error":"#N/A"},null,1900,false,false]
[801,"-",null,null,null,null,115.40041067761807,null,null,null,null,17,{"$f":"VLOOKUP(A802,'Chrono+Classement'!G:O,5,FALSE)","v":{"$error":"#N/A"}},{"$f":"VLOOKUP(A802,'Chrono+Classement'!G:O,9,FALSE)","v":{"$error":"#N/A"}},{"$f":"IF(L802=17,Param!G802,IF(L802=28,Param!H802,IF(L802=45,Param!I802)))","v":"00:00:00"},{"$error":"#N/A"},null,1900,false,false]
[802,"-",null,null,null,null,115.40041067761807,null,null,null,null,17,{"$f":"VLOOKUP(A803,'Chrono+Classement'!G:O,5,FALSE)","v":{"$error":"#N/A"}},{"$f":"VLOOKUP(A803,'Chrono+Classement'!G:O,9,FALSE)","v":{"$error":"#N/A"}},{"$f":"IF(L803=17,Param!G803,IF(L803=28,Param!H803,IF(L803=45,Param!I803)))","v":"00:00:00"},{"$error":"#N/A"},null,1900,false,false]
[803,"-",null,null,null,null,115.40041067761807,null,null,null,null,17,{"$f":"VLOOKUP(A804,'Chrono+Classement'!G:O,5,FALSE)","v":{"$error":"#N/A"}},{"$f":"VLOOKUP(A804,'Chrono+Classement'!G:O,9,FALSE)","v":{"$error":"#N/A"}},{"$f":"IF(L804=17,Param!G804,IF(L804=28,Param!H804,IF(L804=45,Param!I804)))","v":"00:00:00"},{"$error":"#N/A"},null,1900,false,false]
[804,"-",null,null,null,null,115.40041067761807,null,null,null,null,17,{"$f":"VLOOKUP(A805,'Chrono+Classement'!G:O,5,FALSE)","v":{"$error":"#N/A"}},{"$f":"VLOOKUP(A805,'Chrono+Classement'!G:O,9,FALSE)","v":{"$error":"#N/A"}},{"$f":"IF(L805=17,Param!G805,IF(L805=28,Param!H805,IF(L805=45,Param!I805)))","v":"00:00:00"},{"$f":"N805-O805","v":{"$error":"#N/A"}},null,1900,false,false]
[805,"-",null,null,null,null,115.40041067761807,null,null,null,null,17,{"$f":"VLOOKUP(A806,'Chrono+Classement'!G:O,5,FALSE)","v":{"$error":"#N/A"}},{"$f":"VLOOKUP(A806,'Chrono+Classement'!G:O,9,FALSE)","v":{"$error":"#N/A"}},{"$f":"IF(L806=17,Param!G806,IF(L806=28,Param!H806,IF(L806=45,Param!I806)))","v":"00:00:00"},{"$error":"#N/A"},null,1900,false,false]
[806,"-",null,null,null,null,115.40041067761807,null,null,null,null,17,{"$f":"VLOOKUP(A807,'Chrono+Classement'!G:O,5,FALSE)","v":{"$error":"#N/A"}},{"$f":"VLOOKUP(A807,'Chrono+Classement'!G:O,9,FALSE)","v":{"$error":"#N/A"}},{"$f":"IF(L807=17,Param!G807,IF(L807=28,Param!H807,IF(L807=45,Param!I807)))","v":"00:00:00"},{"$error":"#N/A"},null,1900,false,false]
[807,"-",null,null,null,null,115.40041067761807,null,null,null,null,17,{"$f":"VLOOKUP(A808,'Chrono+Classement'!G:O,5,FALSE)","v":{"$error":"#N/A"}},{"$f":"VLOOKUP(A808,'Chrono+Classement'!G:O,9,FALSE)","v":{"$error":"#N/A"}},{"$f":"IF(L808=17,Param!G808,IF(L808=28,Param!H808,IF(L808=45,Param!I808)))","v":"00:00:00"},{"$error":"#N/A"},null,1900,false,false]
[808,"-",null,null,null,null,115.40041067761807,null,null,null,null,17,{"$f":"VLOOKUP(A809,'Chrono+Classement'!G:O,5,FALSE)","v":{"$error":"#N/A"}},{"$f":"VLOOKUP(A809,'Chrono+Classement'!G:O,9,FALSE)","v":{"$error":"#N/A"}},{"$f":"IF(L809=17,Param!G809,IF(L809=28,Param!H809,IF(L809=45,Param!I809)))","v":"00:00:00"},{"$error":"#N/A"},null,1900,false,false]
[809,"-",null,null,null,null,115.40041067761807,null,null,null,null,17,{"$f":"VLOOKUP(A810,'Chrono+Classement'!G:O,5,FALSE)","v":{"$error":"#N/A"}},{"$f":"VLOOKUP(A810,'Chrono+Classement'!G:O,9,FALSE)","v":{"$error":"#N/A"}},{"$f":"IF(L810=17,Param!G810,IF(L810=28,Param!H810,IF(L810=45,Param!I810)))","v":"00:00:00"},{"$error":"#N/A"},null,1900,false,false]
[810,"-",null,null,null,null,115.40041067761807,null,null,null,null,17,{"$f":"VLOOKUP(A811,'Chrono+Classement'!G:O,5,FALSE)","v":{"$error":"#N/A"}},{"$f":"VLOOKUP(A811,'Chrono+Classement'!G:O,9,FALSE)","v":{"$error":"#N/A"}},{"$f":"IF(L811=17,Param!G811,IF(L811=28,Param!H811,IF(L811=45,Param!I811)))","v":"00:00:00"},{"$error":"#N/A"},null,1900,false,false]
[811,"-",null,null,null,null,115.40041067761807,null,null,null,null,17,{"$f":"VLOOKUP(A812,'Chrono+Classement'!G:O,5,FALSE)","v":{"$error":"#N/A"}},{"$f":"VLOOKUP(A812,'Chrono+Classement'!G:O,9,FALSE)","v":{"$error":"#N/A"}},{"$f":"IF(L812=17,Param!G812,IF(L812=28,Param!H812,IF(L812=45,Param!I812)))","v":"00:00:00"},{"$error":"#N/A"},null,1900,false,false]
[812,"-",null,null,null,null,115.40041067761807,null,null,null,null,17,{"$f":"VLOOKUP(A813,'Chrono+Classement'!G:O,5,FALSE)","v":{"$error":"#N/A"}},{"$f":"VLOOKUP(A813,'Chrono+Classement'!G:O,9,FALSE)","v":{"$error":"#N/A"}},{"$f":"IF(L813=17,Param!G813,IF(L813=28,Param!H813,IF(L813=45,Param!I813)))","v":"00:00:00"},{"$error":"#N/A"},null,1900,false,false]
[813,"-",null,null,null,null,115.40041067761807,null,null,null,null,17,{"$f":"VLOOKUP(A814,'Chrono+Classement'!G:O,5,FALSE)","v":{"$error":"#N/A"}},{"$f":"VLOOKUP(A814,'Chrono+Classement'!G:O,9,FALSE)","v":{"$error":"#N/A"}},{"$f":"IF(L814=17,Param!G814,IF(L814=28,Param!H814,IF(L814=45,Param!I814)))","v":"00:00:00"},{"$error":"#N/A"},null,1900,false,false]
[814,"-",null,null,null,null,115.40041067761807,null,null,null,null,17,{"$f":"VLOOKUP(A815,'Chrono+Classement'!G:O,5,FALSE)","v":{"$error":"#N/A"}},{"$f":"VLOOKUP(A815,'Chrono+Classement'!G:O,9,FALSE)","v":{"$error":"#N/A"}},{"$f":"IF(L815=17,Param!G815,IF(L815=28,Param!H815,IF(L815=45,Param!I815)))","v":"00:00:00"},{"$error":"#N/A"},null,1900,false,false]
[815,"-",null,null,null,null,115.40041067761807,null,null,null,null,17,{"$f":"VLOOKUP(A816,'Chrono+Classement'!G:O,5,FALSE)","v":{"$error":"#N/A"}},{"$f":"VLOOKUP(A816,'Chrono+Classement'!G:O,9,FALSE)","v":{"$error":"#N/A"}},{"$f":"IF(L816=17,Param!G816,IF(L816=28,Param!H816,IF(L816=45,Param!I816)))","v":"00:00:00"},{"$error":"#N/A"},null,1900,false,false]
[816,"-",null,null,null,null,115.40041067761807,null,null,null,null,17,{"$f":"VLOOKUP(A817,'Chrono+Classement'!G:O,5,FALSE)","v":{"$error":"#N/A"}},{"$f":"VLOOKUP(A817,'Chrono+Classement'!G:O,9,FALSE)","v":{"$error":"#N/A"}},{"$f":"IF(L817=17,Param!G817,IF(L817=28,Param!H817,IF(L817=45,Param!I817)))","v":"00:00:00"},{"$error":"#N/A"},null,1900,false,false]
[817,"-",null,null,null,null,115.40041067761807,null,null,null,null,17,{"$f":"VLOOKUP(A818,'Chrono+Classement'!G:O,5,FALSE)","v":{"$error":"#N/A"}},{"$f":"VLOOKUP(A818,'Chrono+Classement'!G:O,9,FALSE)","v":{"$error":"#N/A"}},{"$f":"IF(L818=17,Param!G818,IF(L818=28,Param!H818,IF(L818=45,Param!I818)))","v":"00:00:00"},{"$error":"#N/A"},null,1900,false,false]
[818,"-",null,null,null,null,115.40041067761807,null,null,null,null,17,{"$f":"VLOOKUP(A819,'Chrono+Classement'!G:O,5,FALSE)","v":{"$error":"#N/A"}},{"$f":"VLOOKUP(A819,'Chrono+Classement'!G:O,9,FALSE)","v":{"$error":"#N/A"}},{"$f":"IF(L819=17,Param!G819,IF(L819=28,Param!H819,IF(L819=45,Param!I819)))","v":"00:00:00"},{"$error":"#N/A"},null,1900,false,false]
[819,"-",null,null,null,null,115.40041067761807,null,null,null,null,17,{"$f":"VLOOKUP(A820,'Chrono+Classement'!G:O,5,FALSE)","v":{"$error":"#N/A"}},{"$f":"VLOOKUP(A820,'Chrono+Classement'!G:O,9,FALSE)","v":{"$error":"#N/A"}},{"$f":"IF(L820=17,Param!G820,IF(L820=28,Param!H820,IF(L820=45,Param!I820)))","v":"00:00:00"},{"$error":"#N/A"},null,1900,false,false]
[820,"-",null,null,null,null,115.40041067761807,null,null,null,null,17,{"$f":"VLOOKUP(A821,'Chrono+Classement'!G:O,5,FALSE)","v":{"$error":"#N/A"}},{"$f":"VLOOKUP(A821,'Chrono+Classement'!G:O,9,FALSE)","v":{"$error":"#N/A"}},{"$f":"IF(L821=17,Param!G821,IF(L821=28,Param!H821,IF(L821=45,Param!I821)))","v":"00:00:00"},{"$error":"#N/A"},null,1900,false,false]
[821,"-",null,null,null,null,115.40041067761807,null,null,null,null,17,{"$f":"VLOOKUP(A822,'Chrono+Classement'!G:O,5,FALSE)","v":{"$error":"#N/A"}},{"$f":"VLOOKUP(A822,'Chrono+Classement'!G:O,9,FALSE)","v":{"$error":"#N/A"}},{"$f":"IF(L822=17,Param!G822,IF(L822=28,Param!H822,IF(L822=45,Param!I822)))","v":"00:00:00"},{"$error":"#N/A"},null,1900,false,false]
[822,"-",null,null,null,null,115.40041067761807,null,null,null,null,17,{"$f":"VLOOKUP(A823,'Chrono+Classement'!G:O,5,FALSE)","v":{"$error":"#N/A"}},{"$f":"VLOOKUP(A823,'Chrono+Classement'!G:O,9,FALSE)","v":{"$error":"#N/A"}},{"$f":"IF(L823=17,Param!G823,IF(L823=28,Param!H823,IF(L823=45,Param!I823)))","v":"00:00:00"},{"$error":"#N/A"},null,1900,false,false]
[823,"-",null,null,null,null,115.40041067761807,null,null,null,null,17,{"$f":"VLOOKUP(A824,'Chrono+Classement'!G:O,5,FALSE)","v":{"$error":"#N/A"}},{"$f":"VLOOKUP(A824,'Chrono+Classement'!G:O,9,FALSE)","v":{"$error":"#N/A"}},{"$f":"IF(L824=17,Param!G824,IF(L824=28,Param!H824,IF(L824=45,Param!I824)))","v":"00:00:00"},{"$error":"#N/A"},null,1900,false,false]
[824,"-",null,null,null,null,115.40041067761807,null,null,null,null,17,{"$f":"VLOOKUP(A825,'Chrono+Classement'!G:O,5,FALSE)","v":{"$error":"#N/A"}},{"$f":"VLOOKUP(A825,'Chrono+Classement'!G:O,9,FALSE)","v":{"$error":"#N/A"}},{"$f":"IF(L825=17,Param!G825,IF(L825=28,Param!H825,IF(L825=45,Param!I825)))","v":"00:00:00"},{"$error":"#N/A"},null,1900,false,false]
[825,"-",null,null,null,null,115.40041067761807,null,null,null,null,17,{"$f":"VLOOKUP(A826,'Chrono+Classement'!G:O,5,FALSE)","v":{"$error":"#N/A"}},{"$f":"VLOOKUP(A826,'Chrono+Classement'!G:O,9,FALSE)","v":{"$error":"#N/A"}},{"$f":"IF(L826=17,Param!G826,IF(L826=28,Param!H826,IF(L826=45,Param!I826)))","v":"00:00:00"},{"$error":"#N/A"},null,1900,false,false]
[826,"-",null,null,null,null,115.40041067761807,null,null,null,null,17,{"$f":"VLOOKUP(A827,'Chrono+Classement'!G:O,5,FALSE)","v":{"$error":"#N/A"}},{"$f":"VLOOKUP(A827,'Chrono+Classement'!G:O,9,FALSE)","v":{"$error":"#N/A"}},{"$f":"IF(L827=17,Param!G827,IF(L827=28,Param!H827,IF(L827=45,Param!I827)))","v":"00:00:00"},{"$error":"#N/A"},null,1900,false,false]
[827,"-",null,null,null,null,115.40041067761807,null,null,null,null,17,{"$f":"VLOOKUP(A828,'Chrono+Classement'!G:O,5,FALSE)","v":{"$error":"#N/A"}},{"$f":"VLOOKUP(A828,'Chrono+Classement'!G:O,9,FALSE)","v":{"$error":"#N/A"}},{"$f":"IF(L828=17,Param!G828,IF(L828=28,Param!H828,IF(L828=45,Param!I828)))","v":"00:00:00"},{"$error":"#N/A"},null,1900,false,false]
[828,"-",null,null,null,null,115.40041067761807,null,null,null,null,17,{"$f":"VLOOKUP(A829,'Chrono+Classement'!G:O,5,FALSE)","v":{"$error":"#N/A"}},{"$f":"VLOOKUP(A829,'Chrono+Classement'!G:O,9,FALSE)","v":{"$error":"#N/A"}},{"$f":"IF(L829=17,Param!G829,IF(L829=28,Param!H829,IF(L829=45,Param!I829)))","v":"00:00:00"},{"$error":"#N/A"},null,1900,false,false]
[829,"-",null,null,null,null,115.40041067761807,null,null,null,null,17,{"$f":"VLOOKUP(A830,'Chrono+Classement'!G:O,5,FALSE)","v":{"$error":"#N/A"}},{"$f":"VLOOKUP(A830,'Chrono+Classement'!G:O,9,FALSE)","v":{"$error":"#N/A"}},{"$f":"IF(L830=17,Param!G830,IF(L830=28,Param!H830,IF(L830=45,Param!I830)))","v":"00:00:00"},{"$error":"#N/A"},null,1900,false,false]
[830,"-",null,null,null,null,115.40041067761807,null,null,null,null,17,{"$f":"VLOOKUP(A831,'Chrono+Classement'!G:O,5,FALSE)","v":{"$error":"#N/A"}},{"$f":"VLOOKUP(A831,'Chrono+Classement'!G:O,9,FALSE)","v":{"$error":"#N/A"}},{"$f":"IF(L831=17,Param!G831,IF(L831=28,Param!H831,IF(L831=45,Param!I831)))","v":"00:00:00"},{"$error":"#N/A"},null,1900,false,false]
[831,"-",null,null,null,null,115.40041067761807,null,null,null,null,17,{"$f":"VLOOKUP(A832,'Chrono+Classement'!G:O,5,FALSE)","v":{"$error":"#N/A"}},{"$f":"VLOOKUP(A832,'Chrono+Classement'!G:O,9,FALSE)","v":{"$error":"#N/A"}},{"$f":"IF(L832=17,Param!G832,IF(L832=28,Param!H832,IF(L832=45,Param!I832)))","v":"00:00:00"},{"$error":"#N/A"},null,1900,false,false]
[832,"-",null,null,null,null,115.40041067761807,null,null,null,null,17,{"$f":"VLOOKUP(A833,'Chrono+Classement'!G:O,5,FALSE)","v":{"$error":"#N/A"}},{"$f":"VLOOKUP(A833,'Chrono+Classement'!G:O,9,FALSE)","v":{"$error":"#N/A"}},{"$f":"IF(L833=17,Param!G833,IF(L833=28,Param!H833,IF(L833=45,Param!I833)))","v":"00:00:00"},{"$error":"#N/A"},null,1900,false,false]
[833,{"$f":"CONCATENATE(C834,\"-\",D834)","v":"-"},null,null,null,null,{"$f":"(TODAY()-F834)/365.25","v":115.40041067761807},null,null,null,null,17,{"$f":"VLOOKUP(A834,'Chrono+Classement'!G:O,5,FALSE)","v":{"$error":"#N/A"}},{"$f":"VLOOKUP(A834,'Chrono+Classement'!G:O,9,FALSE)","v":{"$error":"#N/A"}},{"$f":"IF(L834=17,Param!G834,IF(L834=28,Param!H834,IF(L834=45,Param!I834)))","v":"00:00:00"},{"$error":"#N/A"},null,{"$f":"YEAR(F834)","v":1900},{"$f":"IF(E834=\"M\",IF(R834<=1965,\"Masters 5\",IF(R834<=1975,\"Masters 3/4\",IF(R834<=1985,\"Masters 1/2\",IF(R834<=1992,\"Hommes\",IF(R834<=1996,\"Espoirs\",IF(R834<=1998,\"Juniors\",IF(R834<=2000,\"Cadets\",0))))))))","v":false},{"$f":"IF(E834=\"F\",IF(R834<=1992,\"Dames\",IF(R834<=1996,\"Espoirs Dames\",IF(R834<=1998,\"Juniors Dames\",IF(R834<=2000,\"Cadettes\",0)))))","v":false}]
[834,"-",null,null,null,null,115.40041067761807,null,null,null,null,17,{"$f":"VLOOKUP(A835,'Chrono+Classement'!G:O,5,FALSE)","v":{"$error":"#N/A"}},{"$f":"VLOOKUP(A835,'Chrono+Classement'!G:O,9,FALSE)","v":{"$error":"#N/A"}},{"$f":"IF(L835=17,Param!G835,IF(L835=28,Param!H835,IF(L835=45,Param!I835)))","v":"00:00:00"},{"$error":"#N/A"},null,1900,false,false]
[835,"-",null,null,null,null,115.40041067761807,null,null,null,null,17,{"$f":"VLOOKUP(A836,'Chrono+Classement'!G:O,5,FALSE)","v":{"$error":"#N/A"}},{"$f":"VLOOKUP(A836,'Chrono+Classement'!G:O,9,FALSE)","v":{"$error":"#N/A"}},{"$f":"IF(L836=17,Param!G836,IF(L836=28,Param!H836,IF(L836=45,Param!I836)))","v":"00:00:00"},{"$error":"#N/A"},null,1900,false,false]
[836,"-",null,null,null,null,115.40041067761807,null,null,null,null,17,{"$f":"VLOOKUP(A837,'Chrono+Classement'!G:O,5,FALSE)","v":{"$error":"#N/A"}},{"$f":"VLOOKUP(A837,'Chrono+Classement'!G:O,9,FALSE)","v":{"$error":"#N/A"}},{"$f":"IF(L837=17,Param!G837,IF(L837=28,Param!H837,IF(L837=45,Param!I837)))","v":"00:00:00"},{"$error":"#N/A"},null,1900,false,false]
[837,"-",null,null,null,null,115.40041067761807,null,null,null,null,17,{"$f":"VLOOKUP(A838,'Chrono+Classement'!G:O,5,FALSE)","v":{"$error":"#N/A"}},{"$f":"VLOOKUP(A838,'Chrono+Classement'!G:O,9,FALSE)","v":{"$error":"#N/A"}},{"$f":"IF(L838=17,Param!G838,IF(L838=28,Param!H838,IF(L838=45,Param!I838)))","v":"00:00:00"},{"$error":"#N/A"},null,1900,false,false]
[838,"-",null,null,null,null,115.40041067761807,null,null,null,null,17,{"$f":"VLOOKUP(A839,'Chrono+Classement'!G:O,5,FALSE)","v":{"$error":"#N/A"}},{"$f":"VLOOKUP(A839,'Chrono+Classement'!G:O,9,FALSE)","v":{"$error":"#N/A"}},{"$f":"IF(L839=17,Param!G839,IF(L839=28,Param!H839,IF(L839=45,Param!I839)))","v":"00:00:00"},{"$error":"#N/A"},null,1900,false,false]
[839,"-",null,null,null,null,115.40041067761807,null,null,null,null,17,{"$f":"VLOOKUP(A840,'Chrono+Classement'!G:O,5,FALSE)","v":{"$error":"#N/A"}},{"$f":"VLOOKUP(A840,'Chrono+Classement'!G:O,9,FALSE)","v":{"$error":"#N/A"}},{"$f":"IF(L840=17,Param!G840,IF(L840=28,Param!H840,IF(L840=45,Param!I840)))","v":"00:00:00"},{"$error":"#N/A"},null,1900,false,false]
[840,"-",null,null,null,null,115.40041067761807,null,null,null,null,17,{"$f":"VLOOKUP(A841,'Chrono+Classement'!G:O,5,FALSE)","v":{"$error":"#N/A"}},{"$f":"VLOOKUP(A841,'Chrono+Classement'!G:O,9,FALSE)","v":{"$error":"#N/A"}},{"$f":"IF(L841=17,Param!G841,IF(L841=28,Param!H841,IF(L841=45,Param!I841)))","v":"00:00:00"},{"$error":"#N/A"},null,1900,false,false]
[841,"-",null,null,null,null,115.40041067761807,null,null,null,null,17,{"$f":"VLOOKUP(A842,'Chrono+Classement'!G:O,5,FALSE)","v":{"$error":"#N/A"}},{"$f":"VLOOKUP(A842,'Chrono+Classement'!G:O,9,FALSE)","v":{"$error":"#N/A"}},{"$f":"IF(L842=17,Param!G842,IF(L842=28,Param!H842,IF(L842=45,Param!I842)))","v":"00:00:00"},{"$error":"#N/A"},null,1900,false,false]
[842,"-",null,null,null,null,115.40041067761807,null,null,null,null,17,{"$f":"VLOOKUP(A843,'Chrono+Classement'!G:O,5,FALSE)","v":{"$error":"#N/A"}},{"$f":"VLOOKUP(A843,'Chrono+Classement'!G:O,9,FALSE)","v":{"$error":"#N/A"}},{"$f":"IF(L843=17,Param!G843,IF(L843=28,Param!H843,IF(L843=45,Param!I843)))","v":"00:00:00"},{"$error":"#N/A"},null,1900,false,false]
[843,"-",null,null,null,null,115.40041067761807,null,null,null,null,17,{"$f":"VLOOKUP(A844,'Chrono+Classement'!G:O,5,FALSE)","v":{"$error":"#N/A"}},{"$f":"VLOOKUP(A844,'Chrono+Classement'!G:O,9,FALSE)","v":{"$error":"#N/A"}},{"$f":"IF(L844=17,Param!G844,IF(L844=28,Param!H844,IF(L844=45,Param!I844)))","v":"00:00:00"},{"$error":"#N/A"},null,1900,false,false]
[844,"-",null,null,null,null,115.40041067761807,null,null,null,null,17,{"$f":"VLOOKUP(A845,'Chrono+Classement'!G:O,5,FALSE)","v":{"$error":"#N/A"}},{"$f":"VLOOKUP(A845,'Chrono+Classement'!G:O,9,FALSE)","v":{"$error":"#N/A"}},{"$f":"IF(L845=17,Param!G845,IF(L845=28,Param!H845,IF(L845=45,Param!I845)))","v":"00:00:00"},{"$error":"#N/A"},null,1900,false,false]
[845,"-",null,null,null,null,115.40041067761807,null,null,null,null,17,{"$f":"VLOOKUP(A846,'Chrono+Classement'!G:O,5,FALSE)","v":{"$error":"#N/A"}},{"$f":"VLOOKUP(A846,'Chrono+Classement'!G:O,9,FALSE)","v":{"$error":"#N/A"}},{"$f":"IF(L846=17,Param!G846,IF(L846=28,Param!H846,IF(L846=45,Param!I846)))","v":"00:00:00"},{"$error":"#N/A"},null,1900,false,false]
[846,"-",null,null,null,null,115.40041067761807,null,null,null,null,17,{"$f":"VLOOKUP(A847,'Chrono+Classement'!G:O,5,FALSE)","v":{"$error":"#N/A"}},{"$f":"VLOOKUP(A847,'Chrono+Classement'!G:O,9,FALSE)","v":{"$error":"#N/A"}},{"$f":"IF(L847=17,Param!G847,IF(L847=28,Param!H847,IF(L847=45,Param!I847)))","v":"00:00:00"},{"$error":"#N/A"},null,1900,false,false]
[847,"-",null,null,null,null,115.40041067761807,null,null,null,null,17,{"$f":"VLOOKUP(A848,'Chrono+Classement'!G:O,5,FALSE)","v":{"$error":"#N/A"}},{"$f":"VLOOKUP(A848,'Chrono+Classement'!G:O,9,FALSE)","v":{"$error":"#N/A"}},{"$f":"IF(L848=17,Param!G848,IF(L848=28,Param!H848,IF(L848=45,Param!I848)))","v":"00:00:00"},{"$error":"#N/A"},null,1900,false,false]
[848,"-",null,null,null,null,115.40041067761807,null,null,null,null,17,{"$f":"VLOOKUP(A849,'Chrono+Classement'!G:O,5,FALSE)","v":{"$error":"#N/A"}},{"$f":"VLOOKUP(A849,'Chrono+Classement'!G:O,9,FALSE)","v":{"$error":"#N/A"}},{"$f":"IF(L849=17,Param!G849,IF(L849=28,Param!H849,IF(L849=45,Param!I849)))","v":"00:00:00"},{"$error":"#N/A"},null,1900,false,false]
[849,"-",null,null,null,null,115.40041067761807,null,null,null,null,17,{"$f":"VLOOKUP(A850,'Chrono+Classement'!G:O,5,FALSE)","v":{"$error":"#N/A"}},{"$f":"VLOOKUP(A850,'Chrono+Classement'!G:O,9,FALSE)","v":{"$error":"#N/A"}},{"$f":"IF(L850=17,Param!G850,IF(L850=28,Param!H850,IF(L850=45,Param!I850)))","v":"00:00:00"},{"$error":"#N/A"},null,1900,false,false]
[850,"-",null,null,null,null,115.40041067761807,null,null,null,null,17,{"$f":"VLOOKUP(A851,'Chrono+Classement'!G:O,5,FALSE)","v":{"$error":"#N/A"}},{"$f":"VLOOKUP(A851,'Chrono+Classement'!G:O,9,FALSE)","v":{"$error":"#N/A"}},{"$f":"IF(L851=17,Param!G851,IF(L851=28,Param!H851,IF(L851=45,Param!I851)))","v":"00:00:00"},{"$error":"#N/A"},null,1900,false,false]
[851,"-",null,null,null,null,115.40041067761807,null,null,null,null,17,{"$f":"VLOOKUP(A852,'Chrono+Classement'!G:O,5,FALSE)","v":{"$error":"#N/A"}},{"$f":"VLOOKUP(A852,'Chrono+Classement'!G:O,9,FALSE)","v":{"$error":"#N/A"}},{"$f":"IF(L852=17,Param!G852,IF(L852=28,Param!H852,IF(L852=45,Param!I852)))","v":"00:00:00"},{"$error":"#N/A"},null,1900,false,false]
[852,"-",null,null,null,null,115.40041067761807,null,null,null,null,17,{"$f":"VLOOKUP(A853,'Chrono+Classement'!G:O,5,FALSE)","v":{"$error":"#N/A"}},{"$f":"VLOOKUP(A853,'Chrono+Classement'!G:O,9,FALSE)","v":{"$error":"#N/A"}},{"$f":"IF(L853=17,Param!G853,IF(L853=28,Param!H853,IF(L853=45,Param!I853)))","v":"00:00:00"},{"$error":"#N/A"},null,1900,false,false]
[853,"-",null,null,null,null,115.40041067761807,null,null,null,null,17,{"$f":"VLOOKUP(A854,'Chrono+Classement'!G:O,5,FALSE)","v":{"$error":"#N/A"}},{"$f":"VLOOKUP(A854,'Chrono+Classement'!G:O,9,FALSE)","v":{"$error":"#N/A"}},{"$f":"IF(L854=17,Param!G854,IF(L854=28,Param!H854,IF(L854=45,Param!I854)))","v":"00:00:00"},{"$error":"#N/A"},null,1900,false,false]
[854,"-",null,null,null,null,115.40041067761807,null,null,null,null,17,{"$f":"VLOOKUP(A855,'Chrono+Classement'!G:O,5,FALSE)","v":{"$error":"#N/A"}},{"$f":"VLOOKUP(A855,'Chrono+Classement'!G:O,9,FALSE)","v":{"$error":"#N/A"}},{"$f":"IF(L855=17,Param!G855,IF(L855=28,Param!H855,IF(L855=45,Param!I855)))","v":"00:00:00"},{"$error":"#N/A"},null,1900,false,false]
[855,"-",null,null,null,null,115.40041067761807,null,null,null,null,17,{"$f":"VLOOKUP(A856,'Chrono+Classement'!G:O,5,FALSE)","v":{"$error":"#N/A"}},{"$f":"VLOOKUP(A856,'Chrono+Classement'!G:O,9,FALSE)","v":{"$error":"#N/A"}},{"$f":"IF(L856=17,Param!G856,IF(L856=28,Param!H856,IF(L856=45,Param!I856)))","v":"00:00:00"},{"$error":"#N/A"},null,1900,false,false]
[856,"-",null,null,null,null,115.40041067761807,null,null,null,null,17,{"$f":"VLOOKUP(A857,'Chrono+Classement'!G:O,5,FALSE)","v":{"$error":"#N/A"}},{"$f":"VLOOKUP(A857,'Chrono+Classement'!G:O,9,FALSE)","v":{"$error":"#N/A"}},{"$f":"IF(L857=17,Param!G857,IF(L857=28,Param!H857,IF(L857=45,Param!I857)))","v":"00:00:00"},{"$error":"#N/A"},null,1900,false,false]
[857,"-",null,null,null,null,115.40041067761807,null,null,null,null,17,{"$f":"VLOOKUP(A858,'Chrono+Classement'!G:O,5,FALSE)","v":{"$error":"#N/A"}},{"$f":"VLOOKUP(A858,'Chrono+Classement'!G:O,9,FALSE)","v":{"$error":"#N/A"}},{"$f":"IF(L858=17,Param!G858,IF(L858=28,Param!H858,IF(L858=45,Param!I858)))","v":"00:00:00"},{"$error":"#N/A"},null,1900,false,false]
[858,"-",null,null,null,null,115.40041067761807,null,null,null,null,17,{"$f":"VLOOKUP(A859,'Chrono+Classement'!G:O,5,FALSE)","v":{"$error":"#N/A"}},{"$f":"VLOOKUP(A859,'Chrono+Classement'!G:O,9,FALSE)","v":{"$error":"#N/A"}},{"$f":"IF(L859=17,Param!G859,IF(L859=28,Param!H859,IF(L859=45,Param!I859)))","v":"00:00:00"},{"$error":"#N/A"},null,1900,false,false]
[859,"-",null,null,null,null,115.40041067761807,null,null,null,null,17,{"$f":"VLOOKUP(A860,'Chrono+Classement'!G:O,5,FALSE)","v":{"$error":"#N/A"}},{"$f":"VLOOKUP(A860,'Chrono+Classement'!G:O,9,FALSE)","v":{"$error":"#N/A"}},{"$f":"IF(L860=17,Param!G860,IF(L860=28,Param!H860,IF(L860=45,Param!I860)))","v":"00:00:00"},{"$error":"#N/A"},null,1900,false,false]
[860,"-",null,null,null,null,115.40041067761807,null,null,null,null,17,{"$f":"VLOOKUP(A861,'Chrono+Classement'!G:O,5,FALSE)","v":{"$error":"#N/A"}},{"$f":"VLOOKUP(A861,'Chrono+Classement'!G:O,9,FALSE)","v":{"$error":"#N/A"}},{"$f":"IF(L861=17,Param!G861,IF(L861=28,Param!H861,IF(L861=45,Param!I861)))","v":"00:00:00"},{"$error":"#N/A"},null,1900,false,false]
[861,"-",null,null,null,null,115.40041067761807,null,null,null,null,17,{"$f":"VLOOKUP(A862,'Chrono+Classement'!G:O,5,FALSE)","v":{"$error":"#N/A"}},{"$f":"VLOOKUP(A862,'Chrono+Classement'!G:O,9,FALSE)","v":{"$error":"#N/A"}},{"$f":"IF(L862=17,Param!G862,IF(L862=28,Param!H862,IF(L862=45,Param!I862)))","v":"00:00:00"},{"$error":"#N/A"},null,1900,false,false]
[862,"-",null,null,null,null,115.40041067761807,null,null,null,null,17,{"$f":"VLOOKUP(A863,'Chrono+Classement'!G:O,5,FALSE)","v":{"$error":"#N/A"}},{"$f":"VLOOKUP(A863,'Chrono+Classement'!G:O,9,FALSE)","v":{"$error":"#N/A"}},{"$f":"IF(L863=17,Param!G863,IF(L863=28,Param!H863,IF(L863=45,Param!I863)))","v":"00:00:00"},{"$error":"#N/A"},null,1900,false,false]
[863,"-",null,null,null,null,115.40041067761807,null,null,null,null,17,{"$f":"VLOOKUP(A864,'Chrono+Classement'!G:O,5,FALSE)","v":{"$error":"#N/A"}},{"$f":"VLOOKUP(A864,'Chrono+Classement'!G:O,9,FALSE)","v":{"$error":"#N/A"}},{"$f":"IF(L864=17,Param!G864,IF(L864=28,Param!H864,IF(L864=45,Param!I864)))","v":"00:00:00"},{"$error":"#N/A"},null,1900,false,false]
[864,"-",null,null,null,null,115.40041067761807,null,null,null,null,17,{"$f":"VLOOKUP(A865,'Chrono+Classement'!G:O,5,FALSE)","v":{"$error":"#N/A"}},{"$f":"VLOOKUP(A865,'Chrono+Classement'!G:O,9,FALSE)","v":{"$error":"#N/A"}},{"$f":"IF(L865=17,Param!G865,IF(L865=28,Param!H865,IF(L865=45,Param!I865)))","v":"00:00:00"},{"$error":"#N/A"},null,1900,false,false]
[865,"-",null,null,null,null,115.40041067761807,null,null,null,null,17,{"$f":"VLOOKUP(A866,'Chrono+Classement'!G:O,5,FALSE)","v":{"$error":"#N/A"}},{"$f":"VLOOKUP(A866,'Chrono+Classement'!G:O,9,FALSE)","v":{"$error":"#N/A"}},{"$f":"IF(L866=17,Param!G866,IF(L866=28,Param!H866,IF(L866=45,Param!I866)))","v":"00:00:00"},{"$error":"#N/A"},null,1900,false,false]
[866,"-",null,null,null,null,115.40041067761807,null,null,null,null,17,{"$f":"VLOOKUP(A867,'Chrono+Classement'!G:O,5,FALSE)","v":{"$error":"#N/A"}},{"$f":"VLOOKUP(A867,'Chrono+Classement'!G:O,9,FALSE)","v":{"$error":"#N/A"}},{"$f":"IF(L867=17,Param!G867,IF(L867=28,Param!H867,IF(L867=45,Param!I867)))","v":"00:00:00"},{"$error":"#N/A"},null,1900,false,false]
[867,"-",null,null,null,null,115.40041067761807,null,null,null,null,17,{"$f":"VLOOKUP(A868,'Chrono+Classement'!G:O,5,FALSE)","v":{"$error":"#N/A"}},{"$f":"VLOOKUP(A868,'Chrono+Classement'!G:O,9,FALSE)","v":{"$error":"#N/A"}},{"$f":"IF(L868=17,Param!G868,IF(L868=28,Param!H868,IF(L868=45,Param!I868)))","v":"00:00:00"},{"$error":"#N/A"},null,1900,false,false]
[868,"-",null,null,null,null,115.40041067761807,null,null,null,null,17,{"$f":"VLOOKUP(A869,'Chrono+Classement'!G:O,5,FALSE)","v":{"$error":"#N/A"}},{"$f":"VLOOKUP(A869,'Chrono+Classement'!G:O,9,FALSE)","v":{"$error":"#N/A"}},{"$f":"IF(L869=17,Param!G869,IF(L869=28,Param!H869,IF(L869=45,Param!I869)))","v":"00:00:00"},{"$f":"N869-O869","v":{"$error":"#N/A"}},null,1900,false,false]
[869,"-",null,null,null,null,115.40041067761807,null,null,null,null,17,{"$f":"VLOOKUP(A870,'Chrono+Classement'!G:O,5,FALSE)","v":{"$error":"#N/A"}},{"$f":"VLOOKUP(A870,'Chrono+Classement'!G:O,9,FALSE)","v":{"$error":"#N/A"}},{"$f":"IF(L870=17,Param!G870,IF(L870=28,Param!H870,IF(L870=45,Param!I870)))","v":"00:00:00"},{"$error":"#N/A"},null,1900,false,false]
[870,"-",null,null,null,null,115.40041067761807,null,null,null,null,17,{"$f":"VLOOKUP(A871,'Chrono+Classement'!G:O,5,FALSE)","v":{"$error":"#N/A"}},{"$f":"VLOOKUP(A871,'Chrono+Classement'!G:O,9,FALSE)","v":{"$error":"#N/A"}},{"$f":"IF(L871=17,Param!G871,IF(L871=28,Param!H871,IF(L871=45,Param!I871)))","v":"00:00:00"},{"$error":"#N/A"},null,1900,false,false]
[871,"-",null,null,null,null,115.40041067761807,null,null,null,null,17,{"$f":"VLOOKUP(A872,'Chrono+Classement'!G:O,5,FALSE)","v":{"$error":"#N/A"}},{"$f":"VLOOKUP(A872,'Chrono+Classement'!G:O,9,FALSE)","v":{"$error":"#N/A"}},{"$f":"IF(L872=17,Param!G872,IF(L872=28,Param!H872,IF(L872=45,Param!I872)))","v":"00:00:00"},{"$error":"#N/A"},null,1900,false,false]
[872,"-",null,null,null,null,115.40041067761807,null,null,null,null,17,{"$f":"VLOOKUP(A873,'Chrono+Classement'!G:O,5,FALSE)","v":{"$error":"#N/A"}},{"$f":"VLOOKUP(A873,'Chrono+Classement'!G:O,9,FALSE)","v":{"$error":"#N/A"}},{"$f":"IF(L873=17,Param!G873,IF(L873=28,Param!H873,IF(L873=45,Param!I873)))","v":"00:00:00"},{"$error":"#N/A"},null,1900,false,false]
[873,"-",null,null,null,null,115.40041067761807,null,null,null,null,17,{"$f":"VLOOKUP(A874,'Chrono+Classement'!G:O,5,FALSE)","v":{"$error":"#N/A"}},{"$f":"VLOOKUP(A874,'Chrono+Classement'!G:O,9,FALSE)","v":{"$error":"#N/A"}},{"$f":"IF(L874=17,Param!G874,IF(L874=28,Param!H874,IF(L874=45,Param!I874)))","v":"00:00:00"},{"$error":"#N/A"},null,1900,false,false]
[874,"-",null,null,null,null,115.40041067761807,null,null,null,null,17,{"$f":"VLOOKUP(A875,'Chrono+Classement'!G:O,5,FALSE)","v":{"$error":"#N/A"}},{"$f":"VLOOKUP(A875,'Chrono+Classement'!G:O,9,FALSE)","v":{"$error":"#N/A"}},{"$f":"IF(L875=17,Param!G875,IF(L875=28,Param!H875,IF(L875=45,Param!I875)))","v":"00:00:00"},{"$error":"#N/A"},null,1900,false,false]
[875,"-",null,null,null,null,115.40041067761807,null,null,null,null,17,{"$f":"VLOOKUP(A876,'Chrono+Classement'!G:O,5,FALSE)","v":{"$error":"#N/A"}},{"$f":"VLOOKUP(A876,'Chrono+Classement'!G:O,9,FALSE)","v":{"$error":"#N/A"}},{"$f":"IF(L876=17,Param!G876,IF(L876=28,Param!H876,IF(L876=45,Param!I876)))","v":"00:00:00"},{"$error":"#N/A"},null,1900,false,false]
[876,"-",null,null,null,null,115.40041067761807,null,null,null,null,17,{"$f":"VLOOKUP(A877,'Chrono+Classement'!G:O,5,FALSE)","v":{"$error":"#N/A"}},{"$f":"VLOOKUP(A877,'Chrono+Classement'!G:O,9,FALSE)","v":{"$error":"#N/A"}},{"$f":"IF(L877=17,Param!G877,IF(L877=28,Param!H877,IF(L877=45,Param!I877)))","v":"00:00:00"},{"$error":"#N/A"},null,1900,false,false]
[877,"-",null,null,null,null,115.40041067761807,null,null,null,null,17,{"$f":"VLOOKUP(A878,'Chrono+Classement'!G:O,5,FALSE)","v":{"$error":"#N/A"}},{"$f":"VLOOKUP(A878,'Chrono+Classement'!G:O,9,FALSE)","v":{"$error":"#N/A"}},{"$f":"IF(L878=17,Param!G878,IF(L878=28,Param!H878,IF(L878=45,Param!I878)))","v":"00:00:00"},{"$error":"#N/A"},null,1900,false,false]
[878,"-",null,null,null,null,115.40041067761807,null,null,null,null,17,{"$f":"VLOOKUP(A879,'Chrono+Classement'!G:O,5,FALSE)","v":{"$error":"#N/A"}},{"$f":"VLOOKUP(A879,'Chrono+Classement'!G:O,9,FALSE)","v":{"$error":"#N/A"}},{"$f":"IF(L879=17,Param!G879,IF(L879=28,Param!H879,IF(L879=45,Param!I879)))","v":"00:00:00"},{"$error":"#N/A"},null,1900,false,false]
[879,"-",null,null,null,null,115.40041067761807,null,null,null,null,17,{"$f":"VLOOKUP(A880,'Chrono+Classement'!G:O,5,FALSE)","v":{"$error":"#N/A"}},{"$f":"VLOOKUP(A880,'Chrono+Classement'!G:O,9,FALSE)","v":{"$error":"#N/A"}},{"$f":"IF(L880=17,Param!G880,IF(L880=28,Param!H880,IF(L880=45,Param!I880)))","v":"00:00:00"},{"$error":"#N/A"},null,1900,false,false]
[880,"-",null,null,null,null,115.40041067761807,null,null,null,null,17,{"$f":"VLOOKUP(A881,'Chrono+Classement'!G:O,5,FALSE)","v":{"$error":"#N/A"}},{"$f":"VLOOKUP(A881,'Chrono+Classement'!G:O,9,FALSE)","v":{"$error":"#N/A"}},{"$f":"IF(L881=17,Param!G881,IF(L881=28,Param!H881,IF(L881=45,Param!I881)))","v":"00:00:00"},{"$error":"#N/A"},null,1900,false,false]
[881,"-",null,null,null,null,115.40041067761807,null,null,null,null,17,{"$f":"VLOOKUP(A882,'Chrono+Classement'!G:O,5,FALSE)","v":{"$error":"#N/A"}},{"$f":"VLOOKUP(A882,'Chrono+Classement'!G:O,9,FALSE)","v":{"$error":"#N/A"}},{"$f":"IF(L882=17,Param!G882,IF(L882=28,Param!H882,IF(L882=45,Param!I882)))","v":"00:00:00"},{"$error":"#N/A"},null,1900,false,false]
[882,"-",null,null,null,null,115.40041067761807,null,null,null,null,17,{"$f":"VLOOKUP(A883,'Chrono+Classement'!G:O,5,FALSE)","v":{"$error":"#N/A"}},{"$f":"VLOOKUP(A883,'Chrono+Classement'!G:O,9,FALSE)","v":{"$error":"#N/A"}},{"$f":"IF(L883=17,Param!G883,IF(L883=28,Param!H883,IF(L883=45,Param!I883)))","v":"00:00:00"},{"$error":"#N/A"},null,1900,false,false]
[883,"-",null,null,null,null,115.40041067761807,null,null,null,null,17,{"$f":"VLOOKUP(A884,'Chrono+Classement'!G:O,5,FALSE)","v":{"$error":"#N/A"}},{"$f":"VLOOKUP(A884,'Chrono+Classement'!G:O,9,FALSE)","v":{"$error":"#N/A"}},{"$f":"IF(L884=17,Param!G884,IF(L884=28,Param!H884,IF(L884=45,Param!I884)))","v":"00:00:00"},{"$error":"#N/A"},null,1900,false,false]
[884,"-",null,null,null,null,115.40041067761807,null,null,null,null,17,{"$f":"VLOOKUP(A885,'Chrono+Classement'!G:O,5,FALSE)","v":{"$error":"#N/A"}},{"$f":"VLOOKUP(A885,'Chrono+Classement'!G:O,9,FALSE)","v":{"$error":"#N/A"}},{"$f":"IF(L885=17,Param!G885,IF(L885=28,Param!H885,IF(L885=45,Param!I885)))","v":"00:00:00"},{"$error":"#N/A"},null,1900,false,false]
[885,"-",null,null,null,null,115.40041067761807,null,null,null,null,17,{"$f":"VLOOKUP(A886,'Chrono+Classement'!G:O,5,FALSE)","v":{"$error":"#N/A"}},{"$f":"VLOOKUP(A886,'Chrono+Classement'!G:O,9,FALSE)","v":{"$error":"#N/A"}},{"$f":"IF(L886=17,Param!G886,IF(L886=28,Param!H886,IF(L886=45,Param!I886)))","v":"00:00:00"},{"$error":"#N/A"},null,1900,false,false]
[886,"-",null,null,null,null,115.40041067761807,null,null,null,null,17,{"$f":"VLOOKUP(A887,'Chrono+Classement'!G:O,5,FALSE)","v":{"$error":"#N/A"}},{"$f":"VLOOKUP(A887,'Chrono+Classement'!G:O,9,FALSE)","v":{"$error":"#N/A"}},{"$f":"IF(L887=17,Param!G887,IF(L887=28,Param!H887,IF(L887=45,Param!I887)))","v":"00:00:00"},{"$error":"#N/A"},null,1900,false,false]
[887,"-",null,null,null,null,115.40041067761807,null,null,null,null,17,{"$f":"VLOOKUP(A888,'Chrono+Classement'!G:O,5,FALSE)","v":{"$error":"#N/A"}},{"$f":"VLOOKUP(A888,'Chrono+Classement'!G:O,9,FALSE)","v":{"$error":"#N/A"}},{"$f":"IF(L888=17,Param!G888,IF(L888=28,Param!H888,IF(L888=45,Param!I888)))","v":"00:00:00"},{"$error":"#N/A"},null,1900,false,false]
[888,"-",null,null,null,null,115.40041067761807,null,null,null,null,17,{"$f":"VLOOKUP(A889,'Chrono+Classement'!G:O,5,FALSE)","v":{"$error":"#N/A"}},{"$f":"VLOOKUP(A889,'Chrono+Classement'!G:O,9,FALSE)","v":{"$error":"#N/A"}},{"$f":"IF(L889=17,Param!G889,IF(L889=28,Param!H889,IF(L889=45,Param!I889)))","v":"00:00:00"},{"$error":"#N/A"},null,1900,false,false]
[889,"-",null,null,null,null,115.40041067761807,null,null,null,null,17,{"$f":"VLOOKUP(A890,'Chrono+Classement'!G:O,5,FALSE)","v":{"$error":"#N/A"}},{"$f":"VLOOKUP(A890,'Chrono+Classement'!G:O,9,FALSE)","v":{"$error":"#N/A"}},{"$f":"IF(L890=17,Param!G890,IF(L890=28,Param!H890,IF(L890=45,Param!I890)))","v":"00:00:00"},{"$error":"#N/A"},null,1900,false,false]
[890,"-",null,null,null,null,115.40041067761807,null,null,null,null,17,{"$f":"VLOOKUP(A891,'Chrono+Classement'!G:O,5,FALSE)","v":{"$error":"#N/A"}},{"$f":"VLOOKUP(A891,'Chrono+Classement'!G:O,9,FALSE)","v":{"$error":"#N/A"}},{"$f":"IF(L891=17,Param!G891,IF(L891=28,Param!H891,IF(L891=45,Param!I891)))","v":"00:00:00"},{"$error":"#N/A"},null,1900,false,false]
[891,"-",null,null,null,null,115.40041067761807,null,null,null,null,17,{"$f":"VLOOKUP(A892,'Chrono+Classement'!G:O,5,FALSE)","v":{"$error":"#N/A"}},{"$f":"VLOOKUP(A892,'Chrono+Classement'!G:O,9,FALSE)","v":{"$error":"#N/A"}},{"$f":"IF(L892=17,Param!G892,IF(L892=28,Param!H892,IF(L892=45,Param!I892)))","v":"00:00:00"},{"$error":"#N/A"},null,1900,false,false]
[892,"-",null,null,null,null,115.40041067761807,null,null,null,null,17,{"$f":"VLOOKUP(A893,'Chrono+Classement'!G:O,5,FALSE)","v":{"$error":"#N/A"}},{"$f":"VLOOKUP(A893,'Chrono+Classement'!G:O,9,FALSE)","v":{"$error":"#N/A"}},{"$f":"IF(L893=17,Param!G893,IF(L893=28,Param!H893,IF(L893=45,Param!I893)))","v":"00:00:00"},{"$error":"#N/A"},null,1900,false,false]
[893,"-",null,null,null,null,115.40041067761807,null,null,null,null,17,{"$f":"VLOOKUP(A894,'Chrono+Classement'!G:O,5,FALSE)","v":{"$error":"#N/A"}},{"$f":"VLOOKUP(A894,'Chrono+Classement'!G:O,9,FALSE)","v":{"$error":"#N/A"}},{"$f":"IF(L894=17,Param!G894,IF(L894=28,Param!H894,IF(L894=45,Param!I894)))","v":"00:00:00"},{"$error":"#N/A"},null,1900,false,false]
[894,"-",null,null,null,null,115.40041067761807,null,null,null,null,17,{"$f":"VLOOKUP(A895,'Chrono+Classement'!G:O,5,FALSE)","v":{"$error":"#N/A"}},{"$f":"VLOOKUP(A895,'Chrono+Classement'!G:O,9,FALSE)","v":{"$error":"#N/A"}},{"$f":"IF(L895=17,Param!G895,IF(L895=28,Param!H895,IF(L895=45,Param!I895)))","v":"00:00:00"},{"$error":"#N/A"},null,1900,false,false]
[895,"-",null,null,null,null,115.40041067761807,null,null,null,null,17,{"$f":"VLOOKUP(A896,'Chrono+Classement'!G:O,5,FALSE)","v":{"$error":"#N/A"}},{"$f":"VLOOKUP(A896,'Chrono+Classement'!G:O,9,FALSE)","v":{"$error":"#N/A"}},{"$f":"IF(L896=17,Param!G896,IF(L896=28,Param!H896,IF(L896=45,Param!I896)))","v":"00:00:00"},{"$error":"#N/A"},null,1900,false,false]
[896,"-",null,null,null,null,115.40041067761807,null,null,null,null,17,{"$f":"VLOOKUP(A897,'Chrono+Classement'!G:O,5,FALSE)","v":{"$error":"#N/A"}},{"$f":"VLOOKUP(A897,'Chrono+Classement'!G:O,9,FALSE)","v":{"$error":"#N/A"}},{"$f":"IF(L897=17,Param!G897,IF(L897=28,Param!H897,IF(L897=45,Param!I897)))","v":"00:00:00"},{"$error":"#N/A"},null,1900,false,false]
[897,{"$f":"CONCATENATE(C898,\"-\",D898)","v":"-"},null,null,null,null,{"$f":"(TODAY()-F898)/365.25","v":115.40041067761807},null,null,null,null,17,{"$f":"VLOOKUP(A898,'Chrono+Classement'!G:O,5,FALSE)","v":{"$error":"#N/A"}},{"$f":"VLOOKUP(A898,'Chrono+Classement'!G:O,9,FALSE)","v":{"$error":"#N/A"}},{"$f":"IF(L898=17,Param!G898,IF(L898=28,Param!H898,IF(L898=45,Param!I898)))","v":"00:00:00"},{"$error":"#N/A"},null,{"$f":"YEAR(F898)","v":1900},{"$f":"IF(E898=\"M\",IF(R898<=1965,\"Masters 5\",IF(R898<=1975,\"Masters 3/4\",IF(R898<=1985,\"Masters 1/2\",IF(R898<=1992,\"Hommes\",IF(R898<=1996,\"Espoirs\",IF(R898<=1998,\"Juniors\",IF(R898<=2000,\"Cadets\",0))))))))","v":false},{"$f":"IF(E898=\"F\",IF(R898<=1992,\"Dames\",IF(R898<=1996,\"Espoirs Dames\",IF(R898<=1998,\"Juniors Dames\",IF(R898<=2000,\"Cadettes\",0)))))","v":false}]
[898,"-",null,null,null,null,115.40041067761807,null,null,null,null,17,{"$f":"VLOOKUP(A899,'Chrono+Classement'!G:O,5,FALSE)","v":{"$error":"#N/A"}},{"$f":"VLOOKUP(A899,'Chrono+Classement'!G:O,9,FALSE)","v":{"$error":"#N/A"}},{"$f":"IF(L899=17,Param!G899,IF(L899=28,Param!H899,IF(L899=45,Param!I899)))","v":"00:00:00"},{"$error":"#N/A"},null,1900,false,false]
[899,"-",null,null,null,null,115.40041067761807,null,null,null,null,17,{"$f":"VLOOKUP(A900,'Chrono+Classement'!G:O,5,FALSE)","v":{"$error":"#N/A"}},{"$f":"VLOOKUP(A900,'Chrono+Classement'!G:O,9,FALSE)","v":{"$error":"#N/A"}},{"$f":"IF(L900=17,Param!G900,IF(L900=28,Param!H900,IF(L900=45,Param!I900)))","v":"00:00:00"},{"$error":"#N/A"},null,1900,false,false]
[900,"-",null,null,null,null,115.40041067761807,null,null,null,null,17,{"$f":"VLOOKUP(A901,'Chrono+Classement'!G:O,5,FALSE)","v":{"$error":"#N/A"}},{"$f":"VLOOKUP(A901,'Chrono+Classement'!G:O,9,FALSE)","v":{"$error":"#N/A"}},{"$f":"IF(L901=17,Param!G901,IF(L901=28,Param!H901,IF(L901=45,Param!I901)))","v":"00:00:00"},{"$error":"#N/A"},null,1900,false,false]
[901,"-",null,null,null,null,115.40041067761807,null,null,null,null,17,{"$f":"VLOOKUP(A902,'Chrono+Classement'!G:O,5,FALSE)","v":{"$error":"#N/A"}},{"$f":"VLOOKUP(A902,'Chrono+Classement'!G:O,9,FALSE)","v":{"$error":"#N/A"}},{"$f":"IF(L902=17,Param!G902,IF(L902=28,Param!H902,IF(L902=45,Param!I902)))","v":"00:00:00"},{"$error":"#N/A"},null,1900,false,false]
[902,"-",null,null,null,null,115.40041067761807,null,null,null,null,17,{"$f":"VLOOKUP(A903,'Chrono+Classement'!G:O,5,FALSE)","v":{"$error":"#N/A"}},{"$f":"VLOOKUP(A903,'Chrono+Classement'!G:O,9,FALSE)","v":{"$error":"#N/A"}},{"$f":"IF(L903=17,Param!G903,IF(L903=28,Param!H903,IF(L903=45,Param!I903)))","v":"00:00:00"},{"$error":"#N/A"},null,1900,false,false]
[903,"-",null,null,null,null,115.40041067761807,null,null,null,null,17,{"$f":"VLOOKUP(A904,'Chrono+Classement'!G:O,5,FALSE)","v":{"$error":"#N/A"}},{"$f":"VLOOKUP(A904,'Chrono+Classement'!G:O,9,FALSE)","v":{"$error":"#N/A"}},{"$f":"IF(L904=17,Param!G904,IF(L904=28,Param!H904,IF(L904=45,Param!I904)))","v":"00:00:00"},{"$error":"#N/A"},null,1900,false,false]
[904,"-",null,null,null,null,115.40041067761807,null,null,null,null,17,{"$f":"VLOOKUP(A905,'Chrono+Classement'!G:O,5,FALSE)","v":{"$error":"#N/A"}},{"$f":"VLOOKUP(A905,'Chrono+Classement'!G:O,9,FALSE)","v":{"$error":"#N/A"}},{"$f":"IF(L905=17,Param!G905,IF(L905=28,Param!H905,IF(L905=45,Param!I905)))","v":"00:00:00"},{"$error":"#N/A"},null,1900,false,false]
[905,"-",null,null,null,null,115.40041067761807,null,null,null,null,17,{"$f":"VLOOKUP(A906,'Chrono+Classement'!G:O,5,FALSE)","v":{"$error":"#N/A"}},{"$f":"VLOOKUP(A906,'Chrono+Classement'!G:O,9,FALSE)","v":{"$error":"#N/A"}},{"$f":"IF(L906=17,Param!G906,IF(L906=28,Param!H906,IF(L906=45,Param!I906)))","v":"00:00:00"},{"$error":"#N/A"},null,1900,false,false]
[906,"-",null,null,null,null,115.40041067761807,null,null,null,null,17,{"$f":"VLOOKUP(A907,'Chrono+Classement'!G:O,5,FALSE)","v":{"$error":"#N/A"}},{"$f":"VLOOKUP(A907,'Chrono+Classement'!G:O,9,FALSE)","v":{"$error":"#N/A"}},{"$f":"IF(L907=17,Param!G907,IF(L907=28,Param!H907,IF(L907=45,Param!I907)))","v":"00:00:00"},{"$error":"#N/A"},null,1900,false,false]
[907,"-",null,null,null,null,115.40041067761807,null,null,null,null,17,{"$f":"VLOOKUP(A908,'Chrono+Classement'!G:O,5,FALSE)","v":{"$error":"#N/A"}},{"$f":"VLOOKUP(A908,'Chrono+Classement'!G:O,9,FALSE)","v":{"$error":"#N/A"}},{"$f":"IF(L908=17,Param!G908,IF(L908=28,Param!H908,IF(L908=45,Param!I908)))","v":"00:00:00"},{"$error":"#N/A"},null,1900,false,false]
[908,"-",null,null,null,null,115.40041067761807,null,null,null,null,17,{"$f":"VLOOKUP(A909,'Chrono+Classement'!G:O,5,FALSE)","v":{"$error":"#N/A"}},{"$f":"VLOOKUP(A909,'Chrono+Classement'!G:O,9,FALSE)","v":{"$error":"#N/A"}},{"$f":"IF(L909=17,Param!G909,IF(L909=28,Param!H909,IF(L909=45,Param!I909)))","v":"00:00:00"},{"$error":"#N/A"},null,1900,false,false]
[909,"-",null,null,null,null,115.40041067761807,null,null,null,null,17,{"$f":"VLOOKUP(A910,'Chrono+Classement'!G:O,5,FALSE)","v":{"$error":"#N/A"}},{"$f":"VLOOKUP(A910,'Chrono+Classement'!G:O,9,FALSE)","v":{"$error":"#N/A"}},{"$f":"IF(L910=17,Param!G910,IF(L910=28,Param!H910,IF(L910=45,Param!I910)))","v":"00:00:00"},{"$error":"#N/A"},null,1900,false,false]
[910,"-",null,null,null,null,115.40041067761807,null,null,null,null,17,{"$f":"VLOOKUP(A911,'Chrono+Classement'!G:O,5,FALSE)","v":{"$error":"#N/A"}},{"$f":"VLOOKUP(A911,'Chrono+Classement'!G:O,9,FALSE)","v":{"$error":"#N/A"}},{"$f":"IF(L911=17,Param!G911,IF(L911=28,Param!H911,IF(L911=45,Param!I911)))","v":"00:00:00"},{"$error":"#N/A"},null,1900,false,false]
[911,"-",null,null,null,null,115.40041067761807,null,null,null,null,17,{"$f":"VLOOKUP(A912,'Chrono+Classement'!G:O,5,FALSE)","v":{"$error":"#N/A"}},{"$f":"VLOOKUP(A912,'Chrono+Classement'!G:O,9,FALSE)","v":{"$error":"#N/A"}},{"$f":"IF(L912=17,Param!G912,IF(L912=28,Param!H912,IF(L912=45,Param!I912)))","v":"00:00:00"},{"$error":"#N/A"},null,1900,false,false]
[912,"-",null,null,null,null,115.40041067761807,null,null,null,null,17,{"$f":"VLOOKUP(A913,'Chrono+Classement'!G:O,5,FALSE)","v":{"$error":"#N/A"}},{"$f":"VLOOKUP(A913,'Chrono+Classement'!G:O,9,FALSE)","v":{"$error":"#N/A"}},{"$f":"IF(L913=17,Param!G913,IF(L913=28,Param!H913,IF(L913=45,Param!I913)))","v":"00:00:00"},{"$error":"#N/A"},null,1900,false,false]
[913,"-",null,null,null,null,115.40041067761807,null,null,null,null,17,{"$f":"VLOOKUP(A914,'Chrono+Classement'!G:O,5,FALSE)","v":{"$error":"#N/A"}},{"$f":"VLOOKUP(A914,'Chrono+Classement'!G:O,9,FALSE)","v":{"$error":"#N/A"}},{"$f":"IF(L914=17,Param!G914,IF(L914=28,Param!H914,IF(L914=45,Param!I914)))","v":"00:00:00"},{"$error":"#N/A"},null,1900,false,false]
[914,"-",null,null,null,null,115.40041067761807,null,null,null,null,17,{"$f":"VLOOKUP(A915,'Chrono+Classement'!G:O,5,FALSE)","v":{"$error":"#N/A"}},{"$f":"VLOOKUP(A915,'Chrono+Classement'!G:O,9,FALSE)","v":{"$error":"#N/A"}},{"$f":"IF(L915=17,Param!G915,IF(L915=28,Param!H915,IF(L915=45,Param!I915)))","v":"00:00:00"},{"$error":"#N/A"},null,1900,false,false]
[915,"-",null,null,null,null,115.40041067761807,null,null,null,null,17,{"$f":"VLOOKUP(A916,'Chrono+Classement'!G:O,5,FALSE)","v":{"$error":"#N/A"}},{"$f":"VLOOKUP(A916,'Chrono+Classement'!G:O,9,FALSE)","v":{"$error":"#N/A"}},{"$f":"IF(L916=17,Param!G916,IF(L916=28,Param!H916,IF(L916=45,Param!I916)))","v":"00:00:00"},{"$error":"#N/A"},null,1900,false,false]
[916,"-",null,null,null,null,115.40041067761807,null,null,null,null,17,{"$f":"VLOOKUP(A917,'Chrono+Classement'!G:O,5,FALSE)","v":{"$error":"#N/A"}},{"$f":"VLOOKUP(A917,'Chrono+Classement'!G:O,9,FALSE)","v":{"$error":"#N/A"}},{"$f":"IF(L917=17,Param!G917,IF(L917=28,Param!H917,IF(L917=45,Param!I917)))","v":"00:00:00"},{"$error":"#N/A"},null,1900,false,false]
[917,"-",null,null,null,null,115.40041067761807,null,null,null,null,17,{"$f":"VLOOKUP(A918,'Chrono+Classement'!G:O,5,FALSE)","v":{"$error":"#N/A"}},{"$f":"VLOOKUP(A918,'Chrono+Classement'!G:O,9,FALSE)","v":{"$error":"#N/A"}},{"$f":"IF(L918=17,Param!G918,IF(L918=28,Param!H918,IF(L918=45,Param!I918)))","v":"00:00:00"},{"$error":"#N/A"},null,1900,false,false]
[918,"-",null,null,null,null,115.40041067761807,null,null,null,null,17,{"$f":"VLOOKUP(A919,'Chrono+Classement'!G:O,5,FALSE)","v":{"$error":"#N/A"}},{"$f":"VLOOKUP(A919,'Chrono+Classement'!G:O,9,FALSE)","v":{"$error":"#N/A"}},{"$f":"IF(L919=17,Param!G919,IF(L919=28,Param!H919,IF(L919=45,Param!I919)))","v":"00:00:00"},{"$error":"#N/A"},null,1900,false,false]
[919,"-",null,null,null,null,115.40041067761807,null,null,null,null,17,{"$f":"VLOOKUP(A920,'Chrono+Classement'!G:O,5,FALSE)","v":{"$error":"#N/A"}},{"$f":"VLOOKUP(A920,'Chrono+Classement'!G:O,9,FALSE)","v":{"$error":"#N/A"}},{"$f":"IF(L920=17,Param!G920,IF(L920=28,Param!H920,IF(L920=45,Param!I920)))","v":"00:00:00"},{"$error":"#N/A"},null,1900,false,false]
[920,"-",null,null,null,null,115.40041067761807,null,null,null,null,17,{"$f":"VLOOKUP(A921,'Chrono+Classement'!G:O,5,FALSE)","v":{"$error":"#N/A"}},{"$f":"VLOOKUP(A921,'Chrono+Classement'!G:O,9,FALSE)","v":{"$error":"#N/A"}},{"$f":"IF(L921=17,Param!G921,IF(L921=28,Param!H921,IF(L921=45,Param!I921)))","v":"00:00:00"},{"$error":"#N/A"},null,1900,false,false]
[921,"-",null,null,null,null,115.40041067761807,null,null,null,null,17,{"$f":"VLOOKUP(A922,'Chrono+Classement'!G:O,5,FALSE)","v":{"$error":"#N/A"}},{"$f":"VLOOKUP(A922,'Chrono+Classement'!G:O,9,FALSE)","v":{"$error":"#N/A"}},{"$f":"IF(L922=17,Param!G922,IF(L922=28,Param!H922,IF(L922=45,Param!I922)))","v":"00:00:00"},{"$error":"#N/A"},null,1900,false,false]
[922,"-",null,null,null,null,115.40041067761807,null,null,null,null,17,{"$f":"VLOOKUP(A923,'Chrono+Classement'!G:O,5,FALSE)","v":{"$error":"#N/A"}},{"$f":"VLOOKUP(A923,'Chrono+Classement'!G:O,9,FALSE)","v":{"$error":"#N/A"}},{"$f":"IF(L923=17,Param!G923,IF(L923=28,Param!H923,IF(L923=45,Param!I923)))","v":"00:00:00"},{"$error":"#N/A"},null,1900,false,false]
[923,"-",null,null,null,null,115.40041067761807,null,null,null,null,17,{"$f":"VLOOKUP(A924,'Chrono+Classement'!G:O,5,FALSE)","v":{"$error":"#N/A"}},{"$f":"VLOOKUP(A924,'Chrono+Classement'!G:O,9,FALSE)","v":{"$error":"#N/A"}},{"$f":"IF(L924=17,Param!G924,IF(L924=28,Param!H924,IF(L924=45,Param!I924)))","v":"00:00:00"},{"$error":"#N/A"},null,1900,false,false]
[924,"-",null,null,null,null,115.40041067761807,null,null,null,null,17,{"$f":"VLOOKUP(A925,'Chrono+Classement'!G:O,5,FALSE)","v":{"$error":"#N/A"}},{"$f":"VLOOKUP(A925,'Chrono+Classement'!G:O,9,FALSE)","v":{"$error":"#N/A"}},{"$f":"IF(L925=17,Param!G925,IF(L925=28,Param!H925,IF(L925=45,Param!I925)))","v":"00:00:00"},{"$error":"#N/A"},null,1900,false,false]
[925,"-",null,null,null,null,115.40041067761807,null,null,null,null,17,{"$f":"VLOOKUP(A926,'Chrono+Classement'!G:O,5,FALSE)","v":{"$error":"#N/A"}},{"$f":"VLOOKUP(A926,'Chrono+Classement'!G:O,9,FALSE)","v":{"$error":"#N/A"}},{"$f":"IF(L926=17,Param!G926,IF(L926=28,Param!H926,IF(L926=45,Param!I926)))","v":"00:00:00"},{"$error":"#N/A"},null,1900,false,false]
[926,"-",null,null,null,null,115.40041067761807,null,null,null,null,17,{"$f":"VLOOKUP(A927,'Chrono+Classement'!G:O,5,FALSE)","v":{"$error":"#N/A"}},{"$f":"VLOOKUP(A927,'Chrono+Classement'!G:O,9,FALSE)","v":{"$error":"#N/A"}},{"$f":"IF(L927=17,Param!G927,IF(L927=28,Param!H927,IF(L927=45,Param!I927)))","v":"00:00:00"},{"$error":"#N/A"},null,1900,false,false]
[927,"-",null,null,null,null,115.40041067761807,null,null,null,null,17,{"$f":"VLOOKUP(A928,'Chrono+Classement'!G:O,5,FALSE)","v":{"$error":"#N/A"}},{"$f":"VLOOKUP(A928,'Chrono+Classement'!G:O,9,FALSE)","v":{"$error":"#N/A"}},{"$f":"IF(L928=17,Param!G928,IF(L928=28,Param!H928,IF(L928=45,Param!I928)))","v":"00:00:00"},{"$error":"#N/A"},null,1900,false,false]
[928,"-",null,null,null,null,115.40041067761807,null,null,null,null,17,{"$f":"VLOOKUP(A929,'Chrono+Classement'!G:O,5,FALSE)","v":{"$error":"#N/A"}},{"$f":"VLOOKUP(A929,'Chrono+Classement'!G:O,9,FALSE)","v":{"$error":"#N/A"}},{"$f":"IF(L929=17,Param!G929,IF(L929=28,Param!H929,IF(L929=45,Param!I929)))","v":"00:00:00"},{"$error":"#N/A"},null,1900,false,false]
[929,"-",null,null,null,null,115.40041067761807,null,null,null,null,17,{"$f":"VLOOKUP(A930,'Chrono+Classement'!G:O,5,FALSE)","v":{"$error":"#N/A"}},{"$f":"VLOOKUP(A930,'Chrono+Classement'!G:O,9,FALSE)","v":{"$error":"#N/A"}},{"$f":"IF(L930=17,Param!G930,IF(L930=28,Param!H930,IF(L930=45,Param!I930)))","v":"00:00:00"},{"$error":"#N/A"},null,1900,false,false]
[930,"-",null,null,null,null,115.40041067761807,null,null,null,null,17,{"$f":"VLOOKUP(A931,'Chrono+Classement'!G:O,5,FALSE)","v":{"$error":"#N/A"}},{"$f":"VLOOKUP(A931,'Chrono+Classement'!G:O,9,FALSE)","v":{"$error":"#N/A"}},{"$f":"IF(L931=17,Param!G931,IF(L931=28,Param!H931,IF(L931=45,Param!I931)))","v":"00:00:00"},{"$error":"#N/A"},null,1900,false,false]
[931,"-",null,null,null,null,115.40041067761807,null,null,null,null,17,{"$f":"VLOOKUP(A932,'Chrono+Classement'!G:O,5,FALSE)","v":{"$error":"#N/A"}},{"$f":"VLOOKUP(A932,'Chrono+Classement'!G:O,9,FALSE)","v":{"$error":"#N/A"}},{"$f":"IF(L932=17,Param!G932,IF(L932=28,Param!H932,IF(L932=45,Param!I932)))","v":"00:00:00"},{"$error":"#N/A"},null,1900,false,false]
[932,"-",null,null,null,null,115.40041067761807,null,null,null,null,17,{"$f":"VLOOKUP(A933,'Chrono+Classement'!G:O,5,FALSE)","v":{"$error":"#N/A"}},{"$f":"VLOOKUP(A933,'Chrono+Classement'!G:O,9,FALSE)","v":{"$error":"#N/A"}},{"$f":"IF(L933=17,Param!G933,IF(L933=28,Param!H933,IF(L933=45,Param!I933)))","v":"00:00:00"},{"$f":"N933-O933","v":{"$error":"#N/A"}},null,1900,false,false]
[933,"-",null,null,null,null,115.40041067761807,null,null,null,null,17,{"$f":"VLOOKUP(A934,'Chrono+Classement'!G:O,5,FALSE)","v":{"$error":"#N/A"}},{"$f":"VLOOKUP(A934,'Chrono+Classement'!G:O,9,FALSE)","v":{"$error":"#N/A"}},{"$f":"IF(L934=17,Param!G934,IF(L934=28,Param!H934,IF(L934=45,Param!I934)))","v":"00:00:00"},{"$error":"#N/A"},null,1900,false,false]
[934,"-",null,null,null,null,115.40041067761807,null,null,null,null,17,{"$f":"VLOOKUP(A935,'Chrono+Classement'!G:O,5,FALSE)","v":{"$error":"#N/A"}},{"$f":"VLOOKUP(A935,'Chrono+Classement'!G:O,9,FALSE)","v":{"$error":"#N/A"}},{"$f":"IF(L935=17,Param!G935,IF(L935=28,Param!H935,IF(L935=45,Param!I935)))","v":"00:00:00"},{"$error":"#N/A"},null,1900,false,false]
[935,"-",null,null,null,null,115.40041067761807,null,null,null,null,17,{"$f":"VLOOKUP(A936,'Chrono+Classement'!G:O,5,FALSE)","v":{"$error":"#N/A"}},{"$f":"VLOOKUP(A936,'Chrono+Classement'!G:O,9,FALSE)","v":{"$error":"#N/A"}},{"$f":"IF(L936=17,Param!G936,IF(L936=28,Param!H936,IF(L936=45,Param!I936)))","v":"00:00:00"},{"$error":"#N/A"},null,1900,false,false]
[936,"-",null,null,null,null,115.40041067761807,null,null,null,null,17,{"$f":"VLOOKUP(A937,'Chrono+Classement'!G:O,5,FALSE)","v":{"$error":"#N/A"}},{"$f":"VLOOKUP(A937,'Chrono+Classement'!G:O,9,FALSE)","v":{"$error":"#N/A"}},{"$f":"IF(L937=17,Param!G937,IF(L937=28,Param!H937,IF(L937=45,Param!I937)))","v":"00:00:00"},{"$error":"#N/A"},null,1900,false,false]
[937,"-",null,null,null,null,115.40041067761807,null,null,null,null,17,{"$f":"VLOOKUP(A938,'Chrono+Classement'!G:O,5,FALSE)","v":{"$error":"#N/A"}},{"$f":"VLOOKUP(A938,'Chrono+Classement'!G:O,9,FALSE)","v":{"$error":"#N/A"}},{"$f":"IF(L938=17,Param!G938,IF(L938=28,Param!H938,IF(L938=45,Param!I938)))","v":"00:00:00"},{"$error":"#N/A"},null,1900,false,false]
[938,"-",null,null,null,null,115.40041067761807,null,null,null,null,17,{"$f":"VLOOKUP(A939,'Chrono+Classement'!G:O,5,FALSE)","v":{"$error":"#N/A"}},{"$f":"VLOOKUP(A939,'Chrono+Classement'!G:O,9,FALSE)","v":{"$error":"#N/A"}},{"$f":"IF(L939=17,Param!G939,IF(L939=28,Param!H939,IF(L939=45,Param!I939)))","v":"00:00:00"},{"$error":"#N/A"},null,1900,false,false]
[939,"-",null,null,null,null,115.40041067761807,null,null,null,null,17,{"$f":"VLOOKUP(A940,'Chrono+Classement'!G:O,5,FALSE)","v":{"$error":"#N/A"}},{"$f":"VLOOKUP(A940,'Chrono+Classement'!G:O,9,FALSE)","v":{"$error":"#N/A"}},{"$f":"IF(L940=17,Param!G940,IF(L940=28,Param!H940,IF(L940=45,Param!I940)))","v":"00:00:00"},{"$error":"#N/A"},null,1900,false,false]
[940,"-",null,null,null,null,115.40041067761807,null,null,null,null,17,{"$f":"VLOOKUP(A941,'Chrono+Classement'!G:O,5,FALSE)","v":{"$error":"#N/A"}},{"$f":"VLOOKUP(A941,'Chrono+Classement'!G:O,9,FALSE)","v":{"$error":"#N/A"}},{"$f":"IF(L941=17,Param!G941,IF(L941=28,Param!H941,IF(L941=45,Param!I941)))","v":"00:00:00"},{"$error":"#N/A"},null,1900,false,false]
[941,"-",null,null,null,null,115.40041067761807,null,null,null,null,17,{"$f":"VLOOKUP(A942,'Chrono+Classement'!G:O,5,FALSE)","v":{"$error":"#N/A"}},{"$f":"VLOOKUP(A942,'Chrono+Classement'!G:O,9,FALSE)","v":{"$error":"#N/A"}},{"$f":"IF(L942=17,Param!G942,IF(L942=28,Param!H942,IF(L942=45,Param!I942)))","v":"00:00:00"},{"$error":"#N/A"},null,1900,false,false]
[942,"-",null,null,null,null,115.40041067761807,null,null,null,null,17,{"$f":"VLOOKUP(A943,'Chrono+Classement'!G:O,5,FALSE)","v":{"$error":"#N/A"}},{"$f":"VLOOKUP(A943,'Chrono+Classement'!G:O,9,FALSE)","v":{"$error":"#N/A"}},{"$f":"IF(L943=17,Param!G943,IF(L943=28,Param!H943,IF(L943=45,Param!I943)))","v":"00:00:00"},{"$error":"#N/A"},null,1900,false,false]
[943,"-",null,null,null,null,115.40041067761807,null,null,null,null,17,{"$f":"VLOOKUP(A944,'Chrono+Classement'!G:O,5,FALSE)","v":{"$error":"#N/A"}},{"$f":"VLOOKUP(A944,'Chrono+Classement'!G:O,9,FALSE)","v":{"$error":"#N/A"}},{"$f":"IF(L944=17,Param!G944,IF(L944=28,Param!H944,IF(L944=45,Param!I944)))","v":"00:00:00"},{"$error":"#N/A"},null,1900,false,false]
[944,"-",null,null,null,null,115.40041067761807,null,null,null,null,17,{"$f":"VLOOKUP(A945,'Chrono+Classement'!G:O,5,FALSE)","v":{"$error":"#N/A"}},{"$f":"VLOOKUP(A945,'Chrono+Classement'!G:O,9,FALSE)","v":{"$error":"#N/A"}},{"$f":"IF(L945=17,Param!G945,IF(L945=28,Param!H945,IF(L945=45,Param!I945)))","v":"00:00:00"},{"$error":"#N/A"},null,1900,false,false]
[945,"-",null,null,null,null,115.40041067761807,null,null,null,null,17,{"$f":"VLOOKUP(A946,'Chrono+Classement'!G:O,5,FALSE)","v":{"$error":"#N/A"}},{"$f":"VLOOKUP(A946,'Chrono+Classement'!G:O,9,FALSE)","v":{"$error":"#N/A"}},{"$f":"IF(L946=17,Param!G946,IF(L946=28,Param!H946,IF(L946=45,Param!I946)))","v":"00:00:00"},{"$error":"#N/A"},null,1900,false,false]
[946,"-",null,null,null,null,115.40041067761807,null,null,null,null,17,{"$f":"VLOOKUP(A947,'Chrono+Classement'!G:O,5,FALSE)","v":{"$error":"#N/A"}},{"$f":"VLOOKUP(A947,'Chrono+Classement'!G:O,9,FALSE)","v":{"$error":"#N/A"}},{"$f":"IF(L947=17,Param!G947,IF(L947=28,Param!H947,IF(L947=45,Param!I947)))","v":"00:00:00"},{"$error":"#N/A"},null,1900,false,false]
[947,"-",null,null,null,null,115.40041067761807,null,null,null,null,17,{"$f":"VLOOKUP(A948,'Chrono+Classement'!G:O,5,FALSE)","v":{"$error":"#N/A"}},{"$f":"VLOOKUP(A948,'Chrono+Classement'!G:O,9,FALSE)","v":{"$error":"#N/A"}},{"$f":"IF(L948=17,Param!G948,IF(L948=28,Param!H948,IF(L948=45,Param!I948)))","v":"00:00:00"},{"$error":"#N/A"},null,1900,false,false]
[948,"-",null,null,null,null,115.40041067761807,null,null,null,null,17,{"$f":"VLOOKUP(A949,'Chrono+Classement'!G:O,5,FALSE)","v":{"$error":"#N/A"}},{"$f":"VLOOKUP(A949,'Chrono+Classement'!G:O,9,FALSE)","v":{"$error":"#N/A"}},{"$f":"IF(L949=17,Param!G949,IF(L949=28,Param!H949,IF(L949=45,Param!I949)))","v":"00:00:00"},{"$error":"#N/A"},null,1900,false,false]
[949,"-",null,null,null,null,115.40041067761807,null,null,null,null,17,{"$f":"VLOOKUP(A950,'Chrono+Classement'!G:O,5,FALSE)","v":{"$error":"#N/A"}},{"$f":"VLOOKUP(A950,'Chrono+Classement'!G:O,9,FALSE)","v":{"$error":"#N/A"}},{"$f":"IF(L950=17,Param!G950,IF(L950=28,Param!H950,IF(L950=45,Param!I950)))","v":"00:00:00"},{"$error":"#N/A"},null,1900,false,false]
[950,"-",null,null,null,null,115.40041067761807,null,null,null,null,17,{"$f":"VLOOKUP(A951,'Chrono+Classement'!G:O,5,FALSE)","v":{"$error":"#N/A"}},{"$f":"VLOOKUP(A951,'Chrono+Classement'!G:O,9,FALSE)","v":{"$error":"#N/A"}},{"$f":"IF(L951=17,Param!G951,IF(L951=28,Param!H951,IF(L951=45,Param!I951)))","v":"00:00:00"},{"$error":"#N/A"},null,1900,false,false]
[951,"-",null,null,null,null,115.40041067761807,null,null,null,null,17,{"$f":"VLOOKUP(A952,'Chrono+Classement'!G:O,5,FALSE)","v":{"$error":"#N/A"}},{"$f":"VLOOKUP(A952,'Chrono+Classement'!G:O,9,FALSE)","v":{"$error":"#N/A"}},{"$f":"IF(L952=17,Param!G952,IF(L952=28,Param!H952,IF(L952=45,Param!I952)))","v":"00:00:00"},{"$error":"#N/A"},null,1900,false,false]
[952,"-",null,null,null,null,115.40041067761807,null,null,null,null,17,{"$f":"VLOOKUP(A953,'Chrono+Classement'!G:O,5,FALSE)","v":{"$error":"#N/A"}},{"$f":"VLOOKUP(A953,'Chrono+Classement'!G:O,9,FALSE)","v":{"$error":"#N/A"}},{"$f":"IF(L953=17,Param!G953,IF(L953=28,Param!H953,IF(L953=45,Param!I953)))","v":"00:00:00"},{"$error":"#N/A"},null,1900,false,false]
[953,"-",null,null,null,null,115.40041067761807,null,null,null,null,17,{"$f":"VLOOKUP(A954,'Chrono+Classement'!G:O,5,FALSE)","v":{"$error":"#N/A"}},{"$f":"VLOOKUP(A954,'Chrono+Classement'!G:O,9,FALSE)","v":{"$error":"#N/A"}},{"$f":"IF(L954=17,Param!G954,IF(L954=28,Param!H954,IF(L954=45,Param!I954)))","v":"00:00:00"},{"$error":"#N/A"},null,1900,false,false]
[954,"-",null,null,null,null,115.40041067761807,null,null,null,null,17,{"$f":"VLOOKUP(A955,'Chrono+Classement'!G:O,5,FALSE)","v":{"$error":"#N/A"}},{"$f":"VLOOKUP(A955,'Chrono+Classement'!G:O,9,FALSE)","v":{"$error":"#N/A"}},{"$f":"IF(L955=17,Param!G955,IF(L955=28,Param!H955,IF(L955=45,Param!I955)))","v":"00:00:00"},{"$error":"#N/A"},null,1900,false,false]
[955,"-",null,null,null,null,115.40041067761807,null,null,null,null,17,{"$f":"VLOOKUP(A956,'Chrono+Classement'!G:O,5,FALSE)","v":{"$error":"#N/A"}},{"$f":"VLOOKUP(A956,'Chrono+Classement'!G:O,9,FALSE)","v":{"$error":"#N/A"}},{"$f":"IF(L956=17,Param!G956,IF(L956=28,Param!H956,IF(L956=45,Param!I956)))","v":"00:00:00"},{"$error":"#N/A"},null,1900,false,false]
[956,"-",null,null,null,null,115.40041067761807,null,null,null,null,17,{"$f":"VLOOKUP(A957,'Chrono+Classement'!G:O,5,FALSE)","v":{"$error":"#N/A"}},{"$f":"VLOOKUP(A957,'Chrono+Classement'!G:O,9,FALSE)","v":{"$error":"#N/A"}},{"$f":"IF(L957=17,Param!G957,IF(L957=28,Param!H957,IF(L957=45,Param!I957)))","v":"00:00:00"},{"$error":"#N/A"},null,1900,false,false]
[957,"-",null,null,null,null,115.40041067761807,null,null,null,null,17,{"$f":"VLOOKUP(A958,'Chrono+Classement'!G:O,5,FALSE)","v":{"$error":"#N/A"}},{"$f":"VLOOKUP(A958,'Chrono+Classement'!G:O,9,FALSE)","v":{"$error":"#N/A"}},{"$f":"IF(L958=17,Param!G958,IF(L958=28,Param!H958,IF(L958=45,Param!I958)))","v":"00:00:00"},{"$error":"#N/A"},null,1900,false,false]
[958,"-",null,null,null,null,115.40041067761807,null,null,null,null,17,{"$f":"VLOOKUP(A959,'Chrono+Classement'!G:O,5,FALSE)","v":{"$error":"#N/A"}},{"$f":"VLOOKUP(A959,'Chrono+Classement'!G:O,9,FALSE)","v":{"$error":"#N/A"}},{"$f":"IF(L959=17,Param!G959,IF(L959=28,Param!H959,IF(L959=45,Param!I959)))","v":"00:00:00"},{"$error":"#N/A"},null,1900,false,false]
[959,"-",null,null,null,null,115.40041067761807,null,null,null,null,17,{"$f":"VLOOKUP(A960,'Chrono+Classement'!G:O,5,FALSE)","v":{"$error":"#N/A"}},{"$f":"VLOOKUP(A960,'Chrono+Classement'!G:O,9,FALSE)","v":{"$error":"#N/A"}},{"$f":"IF(L960=17,Param!G960,IF(L960=28,Param!H960,IF(L960=45,Param!I960)))","v":"00:00:00"},{"$error":"#N/A"},null,1900,false,false]
[960,"-",null,null,null,null,115.40041067761807,null,null,null,null,17,{"$f":"VLOOKUP(A961,'Chrono+Classement'!G:O,5,FALSE)","v":{"$error":"#N/A"}},{"$f":"VLOOKUP(A961,'Chrono+Classement'!G:O,9,FALSE)","v":{"$error":"#N/A"}},{"$f":"IF(L961=17,Param!G961,IF(L961=28,Param!H961,IF(L961=45,Param!I961)))","v":"00:00:00"},{"$error":"#N/A"},null,1900,false,false]
[961,{"$f":"CONCATENATE(C962,\"-\",D962)","v":"-"},null,null,null,null,{"$f":"(TODAY()-F962)/365.25","v":115.40041067761807},null,null,null,null,17,{"$f":"VLOOKUP(A962,'Chrono+Classement'!G:O,5,FALSE)","v":{"$error":"#N/A"}},{"$f":"VLOOKUP(A962,'Chrono+Classement'!G:O,9,FALSE)","v":{"$error":"#N/A"}},{"$f":"IF(L962=17,Param!G962,IF(L962=28,Param!H962,IF(L962=45,Param!I962)))","v":"00:00:00"},{"$error":"#N/A"},null,{"$f":"YEAR(F962)","v":1900},{"$f":"IF(E962=\"M\",IF(R962<=1965,\"Masters 5\",IF(R962<=1975,\"Masters 3/4\",IF(R962<=1985,\"Masters 1/2\",IF(R962<=1992,\"Hommes\",IF(R962<=1996,\"Espoirs\",IF(R962<=1998,\"Juniors\",IF(R962<=2000,\"Cadets\",0))))))))","v":false},{"$f":"IF(E962=\"F\",IF(R962<=1992,\"Dames\",IF(R962<=1996,\"Espoirs Dames\",IF(R962<=1998,\"Juniors Dames\",IF(R962<=2000,\"Cadettes\",0)))))","v":false}]
[962,"-",null,null,null,null,115.40041067761807,null,null,null,null,17,{"$f":"VLOOKUP(A963,'Chrono+Classement'!G:O,5,FALSE)","v":{"$error":"#N/A"}},{"$f":"VLOOKUP(A963,'Chrono+Classement'!G:O,9,FALSE)","v":{"$error":"#N/A"}},{"$f":"IF(L963=17,Param!G963,IF(L963=28,Param!H963,IF(L963=45,Param!I963)))","v":"00:00:00"},{"$error":"#N/A"},null,1900,false,false]
[963,"-",null,null,null,null,115.40041067761807,null,null,null,null,17,{"$f":"VLOOKUP(A964,'Chrono+Classement'!G:O,5,FALSE)","v":{"$error":"#N/A"}},{"$f":"VLOOKUP(A964,'Chrono+Classement'!G:O,9,FALSE)","v":{"$error":"#N/A"}},{"$f":"IF(L964=17,Param!G964,IF(L964=28,Param!H964,IF(L964=45,Param!I964)))","v":"00:00:00"},{"$error":"#N/A"},null,1900,false,false]
[964,"-",null,null,null,null,115.40041067761807,null,null,null,null,17,{"$f":"VLOOKUP(A965,'Chrono+Classement'!G:O,5,FALSE)","v":{"$error":"#N/A"}},{"$f":"VLOOKUP(A965,'Chrono+Classement'!G:O,9,FALSE)","v":{"$error":"#N/A"}},{"$f":"IF(L965=17,Param!G965,IF(L965=28,Param!H965,IF(L965=45,Param!I965)))","v":"00:00:00"},{"$error":"#N/A"},null,1900,false,false]
[965,"-",null,null,null,null,115.40041067761807,null,null,null,null,17,{"$f":"VLOOKUP(A966,'Chrono+Classement'!G:O,5,FALSE)","v":{"$error":"#N/A"}},{"$f":"VLOOKUP(A966,'Chrono+Classement'!G:O,9,FALSE)","v":{"$error":"#N/A"}},{"$f":"IF(L966=17,Param!G966,IF(L966=28,Param!H966,IF(L966=45,Param!I966)))","v":"00:00:00"},{"$error":"#N/A"},null,1900,false,false]
[966,"-",null,null,null,null,115.40041067761807,null,null,null,null,17,{"$f":"VLOOKUP(A967,'Chrono+Classement'!G:O,5,FALSE)","v":{"$error":"#N/A"}},{"$f":"VLOOKUP(A967,'Chrono+Classement'!G:O,9,FALSE)","v":{"$error":"#N/A"}},{"$f":"IF(L967=17,Param!G967,IF(L967=28,Param!H967,IF(L967=45,Param!I967)))","v":"00:00:00"},{"$error":"#N/A"},null,1900,false,false]
[967,"-",null,null,null,null,115.40041067761807,null,null,null,null,17,{"$f":"VLOOKUP(A968,'Chrono+Classement'!G:O,5,FALSE)","v":{"$error":"#N/A"}},{"$f":"VLOOKUP(A968,'Chrono+Classement'!G:O,9,FALSE)","v":{"$error":"#N/A"}},{"$f":"IF(L968=17,Param!G968,IF(L968=28,Param!H968,IF(L968=45,Param!I968)))","v":"00:00:00"},{"$error":"#N/A"},null,1900,false,false]
[968,"-",null,null,null,null,115.40041067761807,null,null,null,null,17,{"$f":"VLOOKUP(A969,'Chrono+Classement'!G:O,5,FALSE)","v":{"$error":"#N/A"}},{"$f":"VLOOKUP(A969,'Chrono+Classement'!G:O,9,FALSE)","v":{"$error":"#N/A"}},{"$f":"IF(L969=17,Param!G969,IF(L969=28,Param!H969,IF(L969=45,Param!I969)))","v":"00:00:00"},{"$error":"#N/A"},null,1900,false,false]
[969,"-",null,null,null,null,115.40041067761807,null,null,null,null,17,{"$f":"VLOOKUP(A970,'Chrono+Classement'!G:O,5,FALSE)","v":{"$error":"#N/A"}},{"$f":"VLOOKUP(A970,'Chrono+Classement'!G:O,9,FALSE)","v":{"$error":"#N/A"}},{"$f":"IF(L970=17,Param!G970,IF(L970=28,Param!H970,IF(L970=45,Param!I970)))","v":"00:00:00"},{"$error":"#N/A"},null,1900,false,false]
[970,"-",null,null,null,null,115.40041067761807,null,null,null,null,17,{"$f":"VLOOKUP(A971,'Chrono+Classement'!G:O,5,FALSE)","v":{"$error":"#N/A"}},{"$f":"VLOOKUP(A971,'Chrono+Classement'!G:O,9,FALSE)","v":{"$error":"#N/A"}},{"$f":"IF(L971=17,Param!G971,IF(L971=28,Param!H971,IF(L971=45,Param!I971)))","v":"00:00:00"},{"$error":"#N/A"},null,1900,false,false]
[971,"-",null,null,null,null,115.40041067761807,null,null,null,null,17,{"$f":"VLOOKUP(A972,'Chrono+Classement'!G:O,5,FALSE)","v":{"$error":"#N/A"}},{"$f":"VLOOKUP(A972,'Chrono+Classement'!G:O,9,FALSE)","v":{"$error":"#N/A"}},{"$f":"IF(L972=17,Param!G972,IF(L972=28,Param!H972,IF(L972=45,Param!I972)))","v":"00:00:00"},{"$error":"#N/A"},null,1900,false,false]
[972,"-",null,null,null,null,115.40041067761807,null,null,null,null,17,{"$f":"VLOOKUP(A973,'Chrono+Classement'!G:O,5,FALSE)","v":{"$error":"#N/A"}},{"$f":"VLOOKUP(A973,'Chrono+Classement'!G:O,9,FALSE)","v":{"$error":"#N/A"}},{"$f":"IF(L973=17,Param!G973,IF(L973=28,Param!H973,IF(L973=45,Param!I973)))","v":"00:00:00"},{"$error":"#N/A"},null,1900,false,false]
[973,"-",null,null,null,null,115.40041067761807,null,null,null,null,17,{"$f":"VLOOKUP(A974,'Chrono+Classement'!G:O,5,FALSE)","v":{"$error":"#N/A"}},{"$f":"VLOOKUP(A974,'Chrono+Classement'!G:O,9,FALSE)","v":{"$error":"#N/A"}},{"$f":"IF(L974=17,Param!G974,IF(L974=28,Param!H974,IF(L974=45,Param!I974)))","v":"00:00:00"},{"$error":"#N/A"},null,1900,false,false]
[974,"-",null,null,null,null,115.40041067761807,null,null,null,null,17,{"$f":"VLOOKUP(A975,'Chrono+Classement'!G:O,5,FALSE)","v":{"$error":"#N/A"}},{"$f":"VLOOKUP(A975,'Chrono+Classement'!G:O,9,FALSE)","v":{"$error":"#N/A"}},{"$f":"IF(L975=17,Param!G975,IF(L975=28,Param!H975,IF(L975=45,Param!I975)))","v":"00:00:00"},{"$error":"#N/A"},null,1900,false,false]
[975,"-",null,null,null,null,115.40041067761807,null,null,null,null,17,{"$f":"VLOOKUP(A976,'Chrono+Classement'!G:O,5,FALSE)","v":{"$error":"#N/A"}},{"$f":"VLOOKUP(A976,'Chrono+Classement'!G:O,9,FALSE)","v":{"$error":"#N/A"}},{"$f":"IF(L976=17,Param!G976,IF(L976=28,Param!H976,IF(L976=45,Param!I976)))","v":"00:00:00"},{"$error":"#N/A"},null,1900,false,false]
[976,"-",null,null,null,null,115.40041067761807,null,null,null,null,17,{"$f":"VLOOKUP(A977,'Chrono+Classement'!G:O,5,FALSE)","v":{"$error":"#N/A"}},{"$f":"VLOOKUP(A977,'Chrono+Classement'!G:O,9,FALSE)","v":{"$error":"#N/A"}},{"$f":"IF(L977=17,Param!G977,IF(L977=28,Param!H977,IF(L977=45,Param!I977)))","v":"00:00:00"},{"$error":"#N/A"},null,1900,false,false]
[977,"-",null,null,null,null,115.40041067761807,null,null,null,null,17,{"$f":"VLOOKUP(A978,'Chrono+Classement'!G:O,5,FALSE)","v":{"$error":"#N/A"}},{"$f":"VLOOKUP(A978,'Chrono+Classement'!G:O,9,FALSE)","v":{"$error":"#N/A"}},{"$f":"IF(L978=17,Param!G978,IF(L978=28,Param!H978,IF(L978=45,Param!I978)))","v":"00:00:00"},{"$error":"#N/A"},null,1900,false,false]
[978,"-",null,null,null,null,115.40041067761807,null,null,null,null,17,{"$f":"VLOOKUP(A979,'Chrono+Classement'!G:O,5,FALSE)","v":{"$error":"#N/A"}},{"$f":"VLOOKUP(A979,'Chrono+Classement'!G:O,9,FALSE)","v":{"$error":"#N/A"}},{"$f":"IF(L979=17,Param!G979,IF(L979=28,Param!H979,IF(L979=45,Param!I979)))","v":"00:00:00"},{"$error":"#N/A"},null,1900,false,false]
[979,"-",null,null,null,null,115.40041067761807,null,null,null,null,17,{"$f":"VLOOKUP(A980,'Chrono+Classement'!G:O,5,FALSE)","v":{"$error":"#N/A"}},{"$f":"VLOOKUP(A980,'Chrono+Classement'!G:O,9,FALSE)","v":{"$error":"#N/A"}},{"$f":"IF(L980=17,Param!G980,IF(L980=28,Param!H980,IF(L980=45,Param!I980)))","v":"00:00:00"},{"$error":"#N/A"},null,1900,false,false]
[980,"-",null,null,null,null,115.40041067761807,null,null,null,null,17,{"$f":"VLOOKUP(A981,'Chrono+Classement'!G:O,5,FALSE)","v":{"$error":"#N/A"}},{"$f":"VLOOKUP(A981,'Chrono+Classement'!G:O,9,FALSE)","v":{"$error":"#N/A"}},{"$f":"IF(L981=17,Param!G981,IF(L981=28,Param!H981,IF(L981=45,Param!I981)))","v":"00:00:00"},{"$error":"#N/A"},null,1900,false,false]
[981,"-",null,null,null,null,115.40041067761807,null,null,null,null,17,{"$f":"VLOOKUP(A982,'Chrono+Classement'!G:O,5,FALSE)","v":{"$error":"#N/A"}},{"$f":"VLOOKUP(A982,'Chrono+Classement'!G:O,9,FALSE)","v":{"$error":"#N/A"}},{"$f":"IF(L982=17,Param!G982,IF(L982=28,Param!H982,IF(L982=45,Param!I982)))","v":"00:00:00"},{"$error":"#N/A"},null,1900,false,false]
[982,"-",null,null,null,null,115.40041067761807,null,null,null,null,17,{"$f":"VLOOKUP(A983,'Chrono+Classement'!G:O,5,FALSE)","v":{"$error":"#N/A"}},{"$f":"VLOOKUP(A983,'Chrono+Classement'!G:O,9,FALSE)","v":{"$error":"#N/A"}},{"$f":"IF(L983=17,Param!G983,IF(L983=28,Param!H983,IF(L983=45,Param!I983)))","v":"00:00:00"},{"$error":"#N/A"},null,1900,false,false]
[983,"-",null,null,null,null,115.40041067761807,null,null,null,null,17,{"$f":"VLOOKUP(A984,'Chrono+Classement'!G:O,5,FALSE)","v":{"$error":"#N/A"}},{"$f":"VLOOKUP(A984,'Chrono+Classement'!G:O,9,FALSE)","v":{"$error":"#N/A"}},{"$f":"IF(L984=17,Param!G984,IF(L984=28,Param!H984,IF(L984=45,Param!I984)))","v":"00:00:00"},{"$error":"#N/A"},null,1900,false,false]
[984,"-",null,null,null,null,115.40041067761807,null,null,null,null,17,{"$f":"VLOOKUP(A985,'Chrono+Classement'!G:O,5,FALSE)","v":{"$error":"#N/A"}},{"$f":"VLOOKUP(A985,'Chrono+Classement'!G:O,9,FALSE)","v":{"$error":"#N/A"}},{"$f":"IF(L985=17,Param!G985,IF(L985=28,Param!H985,IF(L985=45,Param!I985)))","v":"00:00:00"},{"$error":"#N/A"},null,1900,false,false]
[985,"-",null,null,null,null,115.40041067761807,null,null,null,null,17,{"$f":"VLOOKUP(A986,'Chrono+Classement'!G:O,5,FALSE)","v":{"$error":"#N/A"}},{"$f":"VLOOKUP(A986,'Chrono+Classement'!G:O,9,FALSE)","v":{"$error":"#N/A"}},{"$f":"IF(L986=17,Param!G986,IF(L986=28,Param!H986,IF(L986=45,Param!I986)))","v":"00:00:00"},{"$error":"#N/A"},null,1900,false,false]
[986,"-",null,null,null,null,115.40041067761807,null,null,null,null,17,{"$f":"VLOOKUP(A987,'Chrono+Classement'!G:O,5,FALSE)","v":{"$error":"#N/A"}},{"$f":"VLOOKUP(A987,'Chrono+Classement'!G:O,9,FALSE)","v":{"$error":"#N/A"}},{"$f":"IF(L987=17,Param!G987,IF(L987=28,Param!H987,IF(L987=45,Param!I987)))","v":"00:00:00"},{"$error":"#N/A"},null,1900,false,false]
[987,"-",null,null,null,null,115.40041067761807,null,null,null,null,17,{"$f":"VLOOKUP(A988,'Chrono+Classement'!G:O,5,FALSE)","v":{"$error":"#N/A"}},{"$f":"VLOOKUP(A988,'Chrono+Classement'!G:O,9,FALSE)","v":{"$error":"#N/A"}},{"$f":"IF(L988=17,Param!G988,IF(L988=28,Param!H988,IF(L988=45,Param!I988)))","v":"00:00:00"},{"$error":"#N/A"},null,1900,false,false]
[988,"-",null,null,null,null,115.40041067761807,null,null,null,null,17,{"$f":"VLOOKUP(A989,'Chrono+Classement'!G:O,5,FALSE)","v":{"$error":"#N/A"}},{"$f":"VLOOKUP(A989,'Chrono+Classement'!G:O,9,FALSE)","v":{"$error":"#N/A"}},{"$f":"IF(L989=17,Param!G989,IF(L989=28,Param!H989,IF(L989=45,Param!I989)))","v":"00:00:00"},{"$error":"#N/A"},null,1900,false,false]
[989,"-",null,null,null,null,115.40041067761807,null,null,null,null,17,{"$f":"VLOOKUP(A990,'Chrono+Classement'!G:O,5,FALSE)","v":{"$error":"#N/A"}},{"$f":"VLOOKUP(A990,'Chrono+Classement'!G:O,9,FALSE)","v":{"$error":"#N/A"}},{"$f":"IF(L990=17,Param!G990,IF(L990=28,Param!H990,IF(L990=45,Param!I990)))","v":"00:00:00"},{"$error":"#N/A"},null,1900,false,false]
[990,"-",null,null,null,null,115.40041067761807,null,null,null,null,17,{"$f":"VLOOKUP(A991,'Chrono+Classement'!G:O,5,FALSE)","v":{"$error":"#N/A"}},{"$f":"VLOOKUP(A991,'Chrono+Classement'!G:O,9,FALSE)","v":{"$error":"#N/A"}},{"$f":"IF(L991=17,Param!G991,IF(L991=28,Param!H991,IF(L991=45,Param!I991)))","v":"00:00:00"},{"$error":"#N/A"},null,1900,false,false]
[991,"-",null,null,null,null,115.40041067761807,null,null,null,null,17,{"$f":"VLOOKUP(A992,'Chrono+Classement'!G:O,5,FALSE)","v":{"$error":"#N/A"}},{"$f":"VLOOKUP(A992,'Chrono+Classement'!G:O,9,FALSE)","v":{"$error":"#N/A"}},{"$f":"IF(L992=17,Param!G992,IF(L992=28,Param!H992,IF(L992=45,Param!I992)))","v":"00:00:00"},{"$error":"#N/A"},null,1900,false,false]
[992,"-",null,null,null,null,115.40041067761807,null,null,null,null,17,{"$f":"VLOOKUP(A993,'Chrono+Classement'!G:O,5,FALSE)","v":{"$error":"#N/A"}},{"$f":"VLOOKUP(A993,'Chrono+Classement'!G:O,9,FALSE)","v":{"$error":"#N/A"}},{"$f":"IF(L993=17,Param!G993,IF(L993=28,Param!H993,IF(L993=45,Param!I993)))","v":"00:00:00"},{"$error":"#N/A"},null,1900,false,false]
[993,"-",null,null,null,null,115.40041067761807,null,null,null,null,17,{"$f":"VLOOKUP(A994,'Chrono+Classement'!G:O,5,FALSE)","v":{"$error":"#N/A"}},{"$f":"VLOOKUP(A994,'Chrono+Classement'!G:O,9,FALSE)","v":{"$error":"#N/A"}},{"$f":"IF(L994=17,Param!G994,IF(L994=28,Param!H994,IF(L994=45,Param!I994)))","v":"00:00:00"},{"$error":"#N/A"},null,1900,false,false]
[994,"-",null,null,null,null,115.40041067761807,null,null,null,null,17,{"$f":"VLOOKUP(A995,'Chrono+Classement'!G:O,5,FALSE)","v":{"$error":"#N/A"}},{"$f":"VLOOKUP(A995,'Chrono+Classement'!G:O,9,FALSE)","v":{"$error":"#N/A"}},{"$f":"IF(L995=17,Param!G995,IF(L995=28,Param!H995,IF(L995=45,Param!I995)))","v":"00:00:00"},{"$error":"#N/A"},null,1900,false,false]
[995,"-",null,null,null,null,115.40041067761807,null,null,null,null,17,{"$f":"VLOOKUP(A996,'Chrono+Classement'!G:O,5,FALSE)","v":{"$error":"#N/A"}},{"$f":"VLOOKUP(A996,'Chrono+Classement'!G:O,9,FALSE)","v":{"$error":"#N/A"}},{"$f":"IF(L996=17,Param!G996,IF(L996=28,Param!H996,IF(L996=45,Param!I996)))","v":"00:00:00"},{"$error":"#N/A"},null,1900,false,false]
[996,"-",null,null,null,null,115.40041067761807,null,null,null,null,17,{"$f":"VLOOKUP(A997,'Chrono+Classement'!G:O,5,FALSE)","v":{"$error":"#N/A"}},{"$f":"VLOOKUP(A997,'Chrono+Classement'!G:O,9,FALSE)","v":{"$error":"#N/A"}},{"$f":"IF(L997=17,Param!G997,IF(L997=28,Param!H997,IF(L997=45,Param!I997)))","v":"00:00:00"},{"$f":"N997-O997","v":{"$error":"#N/A"}},null,1900,false,false]
[997,"-",null,null,null,null,115.40041067761807,null,null,null,null,17,{"$f":"VLOOKUP(A998,'Chrono+Classement'!G:O,5,FALSE)","v":{"$error":"#N/A"}},{"$f":"VLOOKUP(A998,'Chrono+Classement'!G:O,9,FALSE)","v":{"$error":"#N/A"}},{"$f":"IF(L998=17,Param!G998,IF(L998=28,Param!H998,IF(L998=45,Param!I998)))","v":"00:00:00"},{"$error":"#N/A"},null,1900,false,false]
[998,"-",null,null,null,null,115.40041067761807,null,null,null,null,17,{"$f":"VLOOKUP(A999,'Chrono+Classement'!G:O,5,FALSE)","v":{"$error":"#N/A"}},{"$f":"VLOOKUP(A999,'Chrono+Classement'!G:O,9,FALSE)","v":{"$error":"#N/A"}},{"$f":"IF(L999=17,Param!G999,IF(L999=28,Param!H999,IF(L999=45,Param!I999)))","v":"00:00:00"},{"$error":"#N/A"},null,1900,false,false]
[999,"-",null,null,null,null,115.40041067761807,null,null,null,null,17,{"$f":"VLOOKUP(A1000,'Chrono+Classement'!G:O,5,FALSE)","v":{"$error":"#N/A"}},{"$f":"VLOOKUP(A1000,'Chrono+Classement'!G:O,9,FALSE)","v":{"$error":"#N/A"}},{"$f":"IF(L1000=17,Param!G1000,IF(L1000=28,Param!H1000,IF(L1000=45,Param!I1000)))","v":"00:00:00"},{"$error":"#N/A"},null,1900,false,false]

{"sheet":"Param","index":2,"n_rows":999,"n_cols":17,"rows_kept":999,"cut":false,"hidden":true,"merged":[]}
["sexe","Licence","Categorie",null,"Circuit",null,"17 km","28 km","45 km",null,null,null,null,null,"N° Licence",null,"Classement"]
["F","FFC","Cadets",17,17,null,"00:00:00","00:00:42","00:00:40",null,null,null,null,null,null,null,1]
["M","FSGT","Cadettes",17,28,null,{"$f":"G2","v":"00:00:00"},{"$f":"H2","v":"00:00:42"},"00:00:40",null,null,null,null,null,null,null,2]
[null,"UFOLEP","Juniors",28,45,null,{"$f":"G3","v":"00:00:00"},"00:00:42","00:00:40",null,null,null,null,null,null,null,3]
[null,"NL","Juniors Dames",28,null,null,"00:00:00","00:00:42","00:00:40",null,null,null,null,null,null,null,4]
[null,null,"Espoirs",45,null,null,"00:00:00","00:00:42","00:00:40",null,null,null,null,null,null,null,5]
[null,null,"Espoirs Dames",28,null,null,"00:00:00","00:00:42","00:00:40",null,null,null,null,null,null,null,6]
[null,null,"Dames",28,null,null,"00:00:00","00:00:42","00:00:40",null,null,null,null,null,null,null,7]
[null,null,"Dames 45",45,null,null,"00:00:00","00:00:42","00:00:40",null,null,null,null,null,null,null,8]
[null,null,"Hommes",45,null,null,"00:00:00","00:00:42","00:00:40",null,null,null,null,null,null,null,9]
[null,null,"Masters 1/2",45,null,null,"00:00:00","00:00:42","00:00:40",null,null,null,null,null,null,null,10]
[null,null,"Masters 3/4",28,null,null,"00:00:00","00:00:42","00:00:40",null,null,null,null,null,null,null,11]
[null,null,"Masters 5",28,null,null,"00:00:00","00:00:42","00:00:40",null,null,null,null,null,null,null,12]
[null,null,null,null,null,null,"00:00:00","00:00:42","00:00:40",null,null,null,null,null,null,null,13]
[null,null,null,null,null,null,"00:00:00","00:00:42","00:00:40",null,null,null,null,null,null,null,14]
[null,null,null,null,null,null,"00:00:00","00:00:42","00:00:40",null,null,null,null,null,null,null,15]
[null,null,null,null,null,null,"00:00:00","00:00:42","00:00:40",null,null,null,null,null,null,null,16]
[null,null,null,null,null,null,"00:00:00","00:00:42","00:00:40",null,null,null,null,null,null,null,17]
[null,null,null,null,null,null,"00:00:00",{"$f":"H18","v":"00:00:42"},{"$f":"I18","v":"00:00:40"},null,null,null,null,null,null,null,18]
[null,null,null,null,null,null,"00:00:00","00:00:42","00:00:40",null,null,null,null,null,null,null,19]
[null,null,null,null,null,null,"00:00:00","00:00:42","00:00:40",null,null,null,null,null,null,null,20]
[null,null,null,null,null,null,"00:00:00","00:00:42","00:00:40",null,null,null,null,null,null,null,21]
[null,null,null,null,null,null,"00:00:00","00:00:42","00:00:40",null,null,null,null,null,null,null,22]
[null,null,null,null,null,null,"00:00:00","00:00:42","00:00:40",null,null,null,null,null,null,null,23]
[null,null,null,null,null,null,"00:00:00","00:00:42","00:00:40",null,null,null,null,null,null,null,24]
[null,null,null,null,null,null,"00:00:00","00:00:42","00:00:40",null,null,null,null,null,null,null,25]
[null,null,null,null,null,null,"00:00:00","00:00:42","00:00:40",null,null,null,null,null,null,null,26]
[null,null,null,null,null,null,"00:00:00","00:00:42","00:00:40",null,null,null,null,null,null,null,27]
[null,null,null,null,null,null,"00:00:00","00:00:42","00:00:40",null,null,null,null,null,null,null,28]
[null,null,null,null,null,null,"00:00:00","00:00:42","00:00:40",null,null,null,null,null,null,null,29]
[null,null,null,null,null,null,"00:00:00","00:00:42","00:00:40",null,null,null,null,null,null,null,30]
[null,null,null,null,null,null,"00:00:00","00:00:42","00:00:40",null,null,null,null,null,null,null,31]
[null,null,null,null,null,null,"00:00:00","00:00:42","00:00:40",null,null,null,null,null,null,null,32]
[null,null,null,null,null,null,"00:00:00","00:00:42","00:00:40",null,null,null,null,null,null,null,33]
[null,null,null,null,null,null,"00:00:00","00:00:42","00:00:40",null,null,null,null,null,null,null,34]
[null,null,null,null,null,null,"00:00:00","00:00:42","00:00:40",null,null,null,null,null,null,null,35]
[null,null,null,null,null,null,"00:00:00","00:00:42","00:00:40",null,null,null,null,null,null,null,36]
[null,null,null,null,null,null,"00:00:00","00:00:42","00:00:40",null,null,null,null,null,null,null,37]
[null,null,null,null,null,null,"00:00:00","00:00:42","00:00:40",null,null,null,null,null,null,null,38]
[null,null,null,null,null,null,"00:00:00","00:00:42","00:00:40",null,null,null,null,null,null,null,39]
[null,null,null,null,null,null,"00:00:00","00:00:42","00:00:40",null,null,null,null,null,null,null,40]
[null,null,null,null,null,null,"00:00:00","00:00:42","00:00:40",null,null,null,null,null,null,null,41]
[null,null,null,null,null,null,"00:00:00","00:00:42","00:00:40",null,null,null,null,null,null,null,42]
[null,null,null,null,null,null,"00:00:00","00:00:42","00:00:40",null,null,null,null,null,null,null,43]
[null,null,null,null,null,null,"00:00:00","00:00:42","00:00:40",null,null,null,null,null,null,null,44]
[null,null,null,null,null,null,"00:00:00","00:00:42","00:00:40",null,null,null,null,null,null,null,45]
[null,null,null,null,null,null,"00:00:00","00:00:42","00:00:40",null,null,null,null,null,null,null,46]
[null,null,null,null,null,null,"00:00:00","00:00:42","00:00:40",null,null,null,null,null,null,null,47]
[null,null,null,null,null,null,"00:00:00","00:00:42","00:00:40",null,null,null,null,null,null,null,48]
[null,null,null,null,null,null,"00:00:00","00:00:42","00:00:40",null,null,null,null,null,null,null,49]
[null,null,null,null,null,null,"00:00:00","00:00:42","00:00:40",null,null,null,null,null,null,null,50]
[null,null,null,null,null,null,"00:00:00","00:00:42","00:00:40",null,null,null,null,null,null,null,51]
[null,null,null,null,null,null,"00:00:00","00:00:42","00:00:40",null,null,null,null,null,null,null,52]
[null,null,null,null,null,null,"00:00:00","00:00:42","00:00:40",null,null,null,null,null,null,null,53]
[null,null,null,null,null,null,"00:00:00","00:00:42","00:00:40",null,null,null,null,null,null,null,54]
[null,null,null,null,null,null,"00:00:00","00:00:42","00:00:40",null,null,null,null,null,null,null,55]
[null,null,null,null,null,null,"00:00:00","00:00:42","00:00:40",null,null,null,null,null,null,null,56]
[null,null,null,null,null,null,"00:00:00","00:00:42","00:00:40",null,null,null,null,null,null,null,57]
[null,null,null,null,null,null,"00:00:00","00:00:42","00:00:40",null,null,null,null,null,null,null,58]
[null,null,null,null,null,null,"00:00:00","00:00:42","00:00:40",null,null,null,null,null,null,null,59]
[null,null,null,null,null,null,"00:00:00","00:00:42","00:00:40",null,null,null,null,null,null,null,60]
[null,null,null,null,null,null,"00:00:00","00:00:42","00:00:40",null,null,null,null,null,null,null,61]
[null,null,null,null,null,null,"00:00:00","00:00:42","00:00:40",null,null,null,null,null,null,null,62]
[null,null,null,null,null,null,"00:00:00","00:00:42","00:00:40",null,null,null,null,null,null,null,63]
[null,null,null,null,null,null,"00:00:00","00:00:42","00:00:40",null,null,null,null,null,null,null,64]
[null,null,null,null,null,null,"00:00:00","00:00:42","00:00:40",null,null,null,null,null,null,null,65]
[null,null,null,null,null,null,"00:00:00","00:00:42","00:00:40",null,null,null,null,null,null,null,66]
[null,null,null,null,null,null,{"$f":"G67","v":"00:00:00"},"00:00:42","00:00:40",null,null,null,null,null,null,null,67]
[null,null,null,null,null,null,"00:00:00","00:00:42","00:00:40",null,null,null,null,null,null,null,68]
[null,null,null,null,null,null,"00:00:00","00:00:42","00:00:40",null,null,null,null,null,null,null,69]
[null,null,null,null,null,null,"00:00:00","00:00:42","00:00:40",null,null,null,null,null,null,null,70]
[null,null,null,null,null,null,"00:00:00","00:00:42","00:00:40",null,null,null,null,null,null,null,71]
[null,null,null,null,null,null,"00:00:00","00:00:42","00:00:40",null,null,null,null,null,null,null,72]
[null,null,null,null,null,null,"00:00:00","00:00:42","00:00:40",null,null,null,null,null,null,null,73]
[null,null,null,null,null,null,"00:00:00","00:00:42","00:00:40",null,null,null,null,null,null,null,74]
[null,null,null,null,null,null,"00:00:00","00:00:42","00:00:40",null,null,null,null,null,null,null,75]
[null,null,null,null,null,null,"00:00:00","00:00:42","00:00:40",null,null,null,null,null,null,null,76]
[null,null,null,null,null,null,"00:00:00","00:00:42","00:00:40",null,null,null,null,null,null,null,77]
[null,null,null,null,null,null,"00:00:00","00:00:42","00:00:40",null,null,null,null,null,null,null,78]
[null,null,null,null,null,null,"00:00:00","00:00:42","00:00:40",null,null,null,null,null,null,null,79]
[null,null,null,null,null,null,"00:00:00","00:00:42","00:00:40",null,null,null,null,null,null,null,80]
[null,null,null,null,null,null,"00:00:00","00:00:42","00:00:40",null,null,null,null,null,null,null,81]
[null,null,null,null,null,null,"00:00:00",{"$f":"H82","v":"00:00:42"},{"$f":"I82","v":"00:00:40"},null,null,null,null,null,null,null,82]
[null,null,null,null,null,null,"00:00:00","00:00:42","00:00:40",null,null,null,null,null,null,null,83]
[null,null,null,null,null,null,"00:00:00","00:00:42","00:00:40",null,null,null,null,null,null,null,84]
[null,null,null,null,null,null,"00:00:00","00:00:42","00:00:40",null,null,null,null,null,null,null,85]
[null,null,null,null,null,null,"00:00:00","00:00:42","00:00:40",null,null,null,null,null,null,null,86]
[null,null,null,null,null,null,"00:00:00","00:00:42","00:00:40",null,null,null,null,null,null,null,87]
[null,null,null,null,null,null,"00:00:00","00:00:42","00:00:40",null,null,null,null,null,null,null,88]
[null,null,null,null,null,null,"00:00:00","00:00:42","00:00:40",null,null,null,null,null,null,null,89]
[null,null,null,null,null,null,"00:00:00","00:00:42","00:00:40",null,null,null,null,null,null,null,90]
[null,null,null,null,null,null,"00:00:00","00:00:42","00:00:40",null,null,null,null,null,null,null,91]
[null,null,null,null,null,null,"00:00:00","00:00:42","00:00:40",null,null,null,null,null,null,null,92]
[null,null,null,null,null,null,"00:00:00","00:00:42","00:00:40",null,null,null,null,null,null,null,93]
[null,null,null,null,null,null,"00:00:00","00:00:42","00:00:40",null,null,null,null,null,null,null,94]
[null,null,null,null,null,null,"00:00:00","00:00:42","00:00:40",null,null,null,null,null,null,null,95]
[null,null,null,null,null,null,"00:00:00","00:00:42","00:00:40",null,null,null,null,null,null,null,96]
[null,null,null,null,null,null,"00:00:00","00:00:42","00:00:40",null,null,null,null,null,null,null,97]
[null,null,null,null,null,null,"00:00:00","00:00:42","00:00:40",null,null,null,null,null,null,null,98]
[null,null,null,null,null,null,"00:00:00","00:00:42","00:00:40",null,null,null,null,null,null,null,99]
[null,null,null,null,null,null,"00:00:00","00:00:42","00:00:40",null,null,null,null,null,null,null,100]
[null,null,null,null,null,null,"00:00:00","00:00:42","00:00:40",null,null,null,null,null,null,null,101]
[null,null,null,null,null,null,"00:00:00","00:00:42","00:00:40",null,null,null,null,null,null,null,102]
[null,null,null,null,null,null,"00:00:00","00:00:42","00:00:40",null,null,null,null,null,null,null,103]
[null,null,null,null,null,null,"00:00:00","00:00:42","00:00:40",null,null,null,null,null,null,null,104]
[null,null,null,null,null,null,"00:00:00","00:00:42","00:00:40",null,null,null,null,null,null,null,105]
[null,null,null,null,null,null,"00:00:00","00:00:42","00:00:40",null,null,null,null,null,null,null,106]
[null,null,null,null,null,null,"00:00:00","00:00:42","00:00:40",null,null,null,null,null,null,null,107]
[null,null,null,null,null,null,"00:00:00","00:00:42","00:00:40",null,null,null,null,null,null,null,108]
[null,null,null,null,null,null,"00:00:00","00:00:42","00:00:40",null,null,null,null,null,null,null,109]
[null,null,null,null,null,null,"00:00:00","00:00:42","00:00:40",null,null,null,null,null,null,null,110]
[null,null,null,null,null,null,"00:00:00","00:00:42","00:00:40",null,null,null,null,null,null,null,111]
[null,null,null,null,null,null,"00:00:00","00:00:42","00:00:40",null,null,null,null,null,null,null,112]
[null,null,null,null,null,null,"00:00:00","00:00:42","00:00:40",null,null,null,null,null,null,null,113]
[null,null,null,null,null,null,"00:00:00","00:00:42","00:00:40",null,null,null,null,null,null,null,114]
[null,null,null,null,null,null,"00:00:00","00:00:42","00:00:40",null,null,null,null,null,null,null,115]
[null,null,null,null,null,null,"00:00:00","00:00:42","00:00:40",null,null,null,null,null,null,null,116]
[null,null,null,null,null,null,"00:00:00","00:00:42","00:00:40",null,null,null,null,null,null,null,117]
[null,null,null,null,null,null,"00:00:00","00:00:42","00:00:40",null,null,null,null,null,null,null,118]
[null,null,null,null,null,null,"00:00:00","00:00:42","00:00:40",null,null,null,null,null,null,null,119]
[null,null,null,null,null,null,"00:00:00","00:00:42","00:00:40",null,null,null,null,null,null,null,120]
[null,null,null,null,null,null,"00:00:00","00:00:42","00:00:40",null,null,null,null,null,null,null,121]
[null,null,null,null,null,null,"00:00:00","00:00:42","00:00:40",null,null,null,null,null,null,null,122]
[null,null,null,null,null,null,"00:00:00","00:00:42","00:00:40",null,null,null,null,null,null,null,123]
[null,null,null,null,null,null,"00:00:00","00:00:42","00:00:40",null,null,null,null,null,null,null,124]
[null,null,null,null,null,null,"00:00:00","00:00:42","00:00:40",null,null,null,null,null,null,null,125]
[null,null,null,null,null,null,"00:00:00","00:00:42","00:00:40",null,null,null,null,null,null,null,126]
[null,null,null,null,null,null,"00:00:00","00:00:42","00:00:40",null,null,null,null,null,null,null,127]
[null,null,null,null,null,null,"00:00:00","00:00:42","00:00:40",null,null,null,null,null,null,null,128]
[null,null,null,null,null,null,"00:00:00","00:00:42","00:00:40",null,null,null,null,null,null,null,129]
[null,null,null,null,null,null,"00:00:00","00:00:42","00:00:40",null,null,null,null,null,null,null,130]
[null,null,null,null,null,null,{"$f":"G131","v":"00:00:00"},"00:00:42","00:00:40",null,null,null,null,null,null,null,131]
[null,null,null,null,null,null,"00:00:00","00:00:42","00:00:40",null,null,null,null,null,null,null,132]
[null,null,null,null,null,null,"00:00:00","00:00:42","00:00:40",null,null,null,null,null,null,null,133]
[null,null,null,null,null,null,"00:00:00","00:00:42","00:00:40",null,null,null,null,null,null,null,134]
[null,null,null,null,null,null,"00:00:00","00:00:42","00:00:40",null,null,null,null,null,null,null,135]
[null,null,null,null,null,null,"00:00:00","00:00:42","00:00:40",null,null,null,null,null,null,null,136]
[null,null,null,null,null,null,"00:00:00","00:00:42","00:00:40",null,null,null,null,null,null,null,137]
[null,null,null,null,null,null,"00:00:00","00:00:42","00:00:40",null,null,null,null,null,null,null,138]
[null,null,null,null,null,null,"00:00:00","00:00:42","00:00:40",null,null,null,null,null,null,null,139]
[null,null,null,null,null,null,"00:00:00","00:00:42","00:00:40",null,null,null,null,null,null,null,140]
[null,null,null,null,null,null,"00:00:00","00:00:42","00:00:40",null,null,null,null,null,null,null,141]
[null,null,null,null,null,null,"00:00:00","00:00:42","00:00:40",null,null,null,null,null,null,null,142]
[null,null,null,null,null,null,"00:00:00","00:00:42","00:00:40",null,null,null,null,null,null,null,143]
[null,null,null,null,null,null,"00:00:00","00:00:42","00:00:40",null,null,null,null,null,null,null,144]
[null,null,null,null,null,null,"00:00:00","00:00:42","00:00:40",null,null,null,null,null,null,null,145]
[null,null,null,null,null,null,"00:00:00",{"$f":"H146","v":"00:00:42"},{"$f":"I146","v":"00:00:40"},null,null,null,null,null,null,null,146]
[null,null,null,null,null,null,"00:00:00","00:00:42","00:00:40",null,null,null,null,null,null,null,147]
[null,null,null,null,null,null,"00:00:00","00:00:42","00:00:40",null,null,null,null,null,null,null,148]
[null,null,null,null,null,null,"00:00:00","00:00:42","00:00:40",null,null,null,null,null,null,null,149]
[null,null,null,null,null,null,"00:00:00","00:00:42","00:00:40",null,null,null,null,null,null,null,150]
[null,null,null,null,null,null,"00:00:00","00:00:42","00:00:40",null,null,null,null,null,null,null,151]
[null,null,null,null,null,null,"00:00:00","00:00:42","00:00:40",null,null,null,null,null,null,null,152]
[null,null,null,null,null,null,"00:00:00","00:00:42","00:00:40",null,null,null,null,null,null,null,153]
[null,null,null,null,null,null,"00:00:00","00:00:42","00:00:40",null,null,null,null,null,null,null,154]
[null,null,null,null,null,null,"00:00:00","00:00:42","00:00:40",null,null,null,null,null,null,null,155]
[null,null,null,null,null,null,"00:00:00","00:00:42","00:00:40",null,null,null,null,null,null,null,156]
[null,null,null,null,null,null,"00:00:00","00:00:42","00:00:40",null,null,null,null,null,null,null,157]
[null,null,null,null,null,null,"00:00:00","00:00:42","00:00:40",null,null,null,null,null,null,null,158]
[null,null,null,null,null,null,"00:00:00","00:00:42","00:00:40",null,null,null,null,null,null,null,159]
[null,null,null,null,null,null,"00:00:00","00:00:42","00:00:40",null,null,null,null,null,null,null,160]
[null,null,null,null,null,null,"00:00:00","00:00:42","00:00:40",null,null,null,null,null,null,null,161]
[null,null,null,null,null,null,"00:00:00","00:00:42","00:00:40",null,null,null,null,null,null,null,162]
[null,null,null,null,null,null,"00:00:00","00:00:42","00:00:40",null,null,null,null,null,null,null,163]
[null,null,null,null,null,null,"00:00:00","00:00:42","00:00:40",null,null,null,null,null,null,null,164]
[null,null,null,null,null,null,"00:00:00","00:00:42","00:00:40",null,null,null,null,null,null,null,165]
[null,null,null,null,null,null,"00:00:00","00:00:42","00:00:40",null,null,null,null,null,null,null,166]
[null,null,null,null,null,null,"00:00:00","00:00:42","00:00:40",null,null,null,null,null,null,null,167]
[null,null,null,null,null,null,"00:00:00","00:00:42","00:00:40",null,null,null,null,null,null,null,168]
[null,null,null,null,null,null,"00:00:00","00:00:42","00:00:40",null,null,null,null,null,null,null,169]
[null,null,null,null,null,null,"00:00:00","00:00:42","00:00:40",null,null,null,null,null,null,null,170]
[null,null,null,null,null,null,"00:00:00","00:00:42","00:00:40",null,null,null,null,null,null,null,171]
[null,null,null,null,null,null,"00:00:00","00:00:42","00:00:40",null,null,null,null,null,null,null,172]
[null,null,null,null,null,null,"00:00:00","00:00:42","00:00:40",null,null,null,null,null,null,null,173]
[null,null,null,null,null,null,"00:00:00","00:00:42","00:00:40",null,null,null,null,null,null,null,174]
[null,null,null,null,null,null,"00:00:00","00:00:42","00:00:40",null,null,null,null,null,null,null,175]
[null,null,null,null,null,null,"00:00:00","00:00:42","00:00:40",null,null,null,null,null,null,null,176]
[null,null,null,null,null,null,"00:00:00","00:00:42","00:00:40",null,null,null,null,null,null,null,177]
[null,null,null,null,null,null,"00:00:00","00:00:42","00:00:40",null,null,null,null,null,null,null,178]
[null,null,null,null,null,null,"00:00:00","00:00:42","00:00:40",null,null,null,null,null,null,null,179]
[null,null,null,null,null,null,"00:00:00","00:00:42","00:00:40",null,null,null,null,null,null,null,180]
[null,null,null,null,null,null,"00:00:00","00:00:42","00:00:40",null,null,null,null,null,null,null,181]
[null,null,null,null,null,null,"00:00:00","00:00:42","00:00:40",null,null,null,null,null,null,null,182]
[null,null,null,null,null,null,"00:00:00","00:00:42","00:00:40",null,null,null,null,null,null,null,183]
[null,null,null,null,null,null,"00:00:00","00:00:42","00:00:40",null,null,null,null,null,null,null,184]
[null,null,null,null,null,null,"00:00:00","00:00:42","00:00:40",null,null,null,null,null,null,null,185]
[null,null,null,null,null,null,"00:00:00","00:00:42","00:00:40",null,null,null,null,null,null,null,186]
[null,null,null,null,null,null,"00:00:00","00:00:42","00:00:40",null,null,null,null,null,null,null,187]
[null,null,null,null,null,null,"00:00:00","00:00:42","00:00:40",null,null,null,null,null,null,null,188]
[null,null,null,null,null,null,"00:00:00","00:00:42","00:00:40",null,null,null,null,null,null,null,189]
[null,null,null,null,null,null,"00:00:00","00:00:42","00:00:40",null,null,null,null,null,null,null,190]
[null,null,null,null,null,null,"00:00:00","00:00:42","00:00:40",null,null,null,null,null,null,null,191]
[null,null,null,null,null,null,"00:00:00","00:00:42","00:00:40",null,null,null,null,null,null,null,192]
[null,null,null,null,null,null,"00:00:00","00:00:42","00:00:40",null,null,null,null,null,null,null,193]
[null,null,null,null,null,null,"00:00:00","00:00:42","00:00:40",null,null,null,null,null,null,null,194]
[null,null,null,null,null,null,{"$f":"G195","v":"00:00:00"},"00:00:42","00:00:40",null,null,null,null,null,null,null,195]
[null,null,null,null,null,null,"00:00:00","00:00:42","00:00:40",null,null,null,null,null,null,null,196]
[null,null,null,null,null,null,"00:00:00","00:00:42","00:00:40",null,null,null,null,null,null,null,197]
[null,null,null,null,null,null,"00:00:00","00:00:42","00:00:40",null,null,null,null,null,null,null,198]
[null,null,null,null,null,null,"00:00:00","00:00:42","00:00:40",null,null,null,null,null,null,null,199]
[null,null,null,null,null,null,"00:00:00","00:00:42","00:00:40",null,null,null,null,null,null,null,200]
[null,null,null,null,null,null,"00:00:00","00:00:42","00:00:40"]
[null,null,null,null,null,null,"00:00:00","00:00:42","00:00:40"]
[null,null,null,null,null,null,"00:00:00","00:00:42","00:00:40"]
[null,null,null,null,null,null,"00:00:00","00:00:42","00:00:40"]
[null,null,null,null,null,null,"00:00:00","00:00:42","00:00:40"]
[null,null,null,null,null,null,"00:00:00","00:00:42","00:00:40"]
[null,null,null,null,null,null,"00:00:00","00:00:42","00:00:40"]
[null,null,null,null,null,null,"00:00:00","00:00:42","00:00:40"]
[null,null,null,null,null,null,"00:00:00","00:00:42","00:00:40"]
[null,null,null,null,null,null,"00:00:00",{"$f":"H210","v":"00:00:42"},{"$f":"I210","v":"00:00:40"}]
[null,null,null,null,null,null,"00:00:00","00:00:42","00:00:40"]
[null,null,null,null,null,null,"00:00:00","00:00:42","00:00:40"]
[null,null,null,null,null,null,"00:00:00","00:00:42","00:00:40"]
[null,null,null,null,null,null,"00:00:00","00:00:42","00:00:40"]
[null,null,null,null,null,null,"00:00:00","00:00:42","00:00:40"]
[null,null,null,null,null,null,"00:00:00","00:00:42","00:00:40"]
[null,null,null,null,null,null,"00:00:00","00:00:42","00:00:40"]
[null,null,null,null,null,null,"00:00:00","00:00:42","00:00:40"]
[null,null,null,null,null,null,"00:00:00","00:00:42","00:00:40"]
[null,null,null,null,null,null,"00:00:00","00:00:42","00:00:40"]
[null,null,null,null,null,null,"00:00:00","00:00:42","00:00:40"]
[null,null,null,null,null,null,"00:00:00","00:00:42","00:00:40"]
[null,null,null,null,null,null,"00:00:00","00:00:42","00:00:40"]
[null,null,null,null,null,null,"00:00:00","00:00:42","00:00:40"]
[null,null,null,null,null,null,"00:00:00","00:00:42","00:00:40"]
[null,null,null,null,null,null,"00:00:00","00:00:42","00:00:40"]
[null,null,null,null,null,null,"00:00:00","00:00:42","00:00:40"]
[null,null,null,null,null,null,"00:00:00","00:00:42","00:00:40"]
[null,null,null,null,null,null,"00:00:00","00:00:42","00:00:40"]
[null,null,null,null,null,null,"00:00:00","00:00:42","00:00:40"]
[null,null,null,null,null,null,"00:00:00","00:00:42","00:00:40"]
[null,null,null,null,null,null,"00:00:00","00:00:42","00:00:40"]
[null,null,null,null,null,null,"00:00:00","00:00:42","00:00:40"]
[null,null,null,null,null,null,"00:00:00","00:00:42","00:00:40"]
[null,null,null,null,null,null,"00:00:00","00:00:42","00:00:40"]
[null,null,null,null,null,null,"00:00:00","00:00:42","00:00:40"]
[null,null,null,null,null,null,"00:00:00","00:00:42","00:00:40"]
[null,null,null,null,null,null,"00:00:00","00:00:42","00:00:40"]
[null,null,null,null,null,null,"00:00:00","00:00:42","00:00:40"]
[null,null,null,null,null,null,"00:00:00","00:00:42","00:00:40"]
[null,null,null,null,null,null,"00:00:00","00:00:42","00:00:40"]
[null,null,null,null,null,null,"00:00:00","00:00:42","00:00:40"]
[null,null,null,null,null,null,"00:00:00","00:00:42","00:00:40"]
[null,null,null,null,null,null,"00:00:00","00:00:42","00:00:40"]
[null,null,null,null,null,null,"00:00:00","00:00:42","00:00:40"]
[null,null,null,null,null,null,"00:00:00","00:00:42","00:00:40"]
[null,null,null,null,null,null,"00:00:00","00:00:42","00:00:40"]
[null,null,null,null,null,null,"00:00:00","00:00:42","00:00:40"]
[null,null,null,null,null,null,"00:00:00","00:00:42","00:00:40"]
[null,null,null,null,null,null,"00:00:00","00:00:42","00:00:40"]
[null,null,null,null,null,null,"00:00:00","00:00:42","00:00:40"]
[null,null,null,null,null,null,"00:00:00","00:00:42","00:00:40"]
[null,null,null,null,null,null,"00:00:00","00:00:42","00:00:40"]
[null,null,null,null,null,null,"00:00:00","00:00:42","00:00:40"]
[null,null,null,null,null,null,"00:00:00","00:00:42","00:00:40"]
[null,null,null,null,null,null,"00:00:00","00:00:42","00:00:40"]
[null,null,null,null,null,null,"00:00:00","00:00:42","00:00:40"]
[null,null,null,null,null,null,"00:00:00","00:00:42","00:00:40"]
[null,null,null,null,null,null,{"$f":"G259","v":"00:00:00"},"00:00:42","00:00:40"]
[null,null,null,null,null,null,"00:00:00","00:00:42","00:00:40"]
[null,null,null,null,null,null,"00:00:00","00:00:42","00:00:40"]
[null,null,null,null,null,null,"00:00:00","00:00:42","00:00:40"]
[null,null,null,null,null,null,"00:00:00","00:00:42","00:00:40"]
[null,null,null,null,null,null,"00:00:00","00:00:42","00:00:40"]
[null,null,null,null,null,null,"00:00:00","00:00:42","00:00:40"]
[null,null,null,null,null,null,"00:00:00","00:00:42","00:00:40"]
[null,null,null,null,null,null,"00:00:00","00:00:42","00:00:40"]
[null,null,null,null,null,null,"00:00:00","00:00:42","00:00:40"]
[null,null,null,null,null,null,"00:00:00","00:00:42","00:00:40"]
[null,null,null,null,null,null,"00:00:00","00:00:42","00:00:40"]
[null,null,null,null,null,null,"00:00:00","00:00:42","00:00:40"]
[null,null,null,null,null,null,"00:00:00","00:00:42","00:00:40"]
[null,null,null,null,null,null,"00:00:00","00:00:42","00:00:40"]
[null,null,null,null,null,null,"00:00:00",{"$f":"H274","v":"00:00:42"},{"$f":"I274","v":"00:00:40"}]
[null,null,null,null,null,null,"00:00:00","00:00:42","00:00:40"]
[null,null,null,null,null,null,"00:00:00","00:00:42","00:00:40"]
[null,null,null,null,null,null,"00:00:00","00:00:42","00:00:40"]
[null,null,null,null,null,null,"00:00:00","00:00:42","00:00:40"]
[null,null,null,null,null,null,"00:00:00","00:00:42","00:00:40"]
[null,null,null,null,null,null,"00:00:00","00:00:42","00:00:40"]
[null,null,null,null,null,null,"00:00:00","00:00:42","00:00:40"]
[null,null,null,null,null,null,"00:00:00","00:00:42","00:00:40"]
[null,null,null,null,null,null,"00:00:00","00:00:42","00:00:40"]
[null,null,null,null,null,null,"00:00:00","00:00:42","00:00:40"]
[null,null,null,null,null,null,"00:00:00","00:00:42","00:00:40"]
[null,null,null,null,null,null,"00:00:00","00:00:42","00:00:40"]
[null,null,null,null,null,null,"00:00:00","00:00:42","00:00:40"]
[null,null,null,null,null,null,"00:00:00","00:00:42","00:00:40"]
[null,null,null,null,null,null,"00:00:00","00:00:42","00:00:40"]
[null,null,null,null,null,null,"00:00:00","00:00:42","00:00:40"]
[null,null,null,null,null,null,"00:00:00","00:00:42","00:00:40"]
[null,null,null,null,null,null,"00:00:00","00:00:42","00:00:40"]
[null,null,null,null,null,null,"00:00:00","00:00:42","00:00:40"]
[null,null,null,null,null,null,"00:00:00","00:00:42","00:00:40"]
[null,null,null,null,null,null,"00:00:00","00:00:42","00:00:40"]
[null,null,null,null,null,null,"00:00:00","00:00:42","00:00:40"]
[null,null,null,null,null,null,"00:00:00","00:00:42","00:00:40"]
[null,null,null,null,null,null,"00:00:00","00:00:42","00:00:40"]
[null,null,null,null,null,null,"00:00:00","00:00:42","00:00:40"]
[null,null,null,null,null,null,"00:00:00","00:00:42","00:00:40"]
[null,null,null,null,null,null,"00:00:00","00:00:42","00:00:40"]
[null,null,null,null,null,null,"00:00:00","00:00:42","00:00:40"]
[null,null,null,null,null,null,"00:00:00","00:00:42","00:00:40"]
[null,null,null,null,null,null,"00:00:00","00:00:42","00:00:40"]
[null,null,null,null,null,null,"00:00:00","00:00:42","00:00:40"]
[null,null,null,null,null,null,"00:00:00","00:00:42","00:00:40"]
[null,null,null,null,null,null,"00:00:00","00:00:42","00:00:40"]
[null,null,null,null,null,null,"00:00:00","00:00:42","00:00:40"]
[null,null,null,null,null,null,"00:00:00","00:00:42","00:00:40"]
[null,null,null,null,null,null,"00:00:00","00:00:42","00:00:40"]
[null,null,null,null,null,null,"00:00:00","00:00:42","00:00:40"]
[null,null,null,null,null,null,"00:00:00","00:00:42","00:00:40"]
[null,null,null,null,null,null,"00:00:00","00:00:42","00:00:40"]
[null,null,null,null,null,null,"00:00:00","00:00:42","00:00:40"]
[null,null,null,null,null,null,"00:00:00","00:00:42","00:00:40"]
[null,null,null,null,null,null,"00:00:00","00:00:42","00:00:40"]
[null,null,null,null,null,null,"00:00:00","00:00:42","00:00:40"]
[null,null,null,null,null,null,"00:00:00","00:00:42","00:00:40"]
[null,null,null,null,null,null,"00:00:00","00:00:42","00:00:40"]
[null,null,null,null,null,null,"00:00:00","00:00:42","00:00:40"]
[null,null,null,null,null,null,"00:00:00","00:00:42","00:00:40"]
[null,null,null,null,null,null,"00:00:00","00:00:42","00:00:40"]
[null,null,null,null,null,null,{"$f":"G323","v":"00:00:00"},"00:00:42","00:00:40"]
[null,null,null,null,null,null,"00:00:00","00:00:42","00:00:40"]
[null,null,null,null,null,null,"00:00:00","00:00:42","00:00:40"]
[null,null,null,null,null,null,"00:00:00","00:00:42","00:00:40"]
[null,null,null,null,null,null,"00:00:00","00:00:42","00:00:40"]
[null,null,null,null,null,null,"00:00:00","00:00:42","00:00:40"]
[null,null,null,null,null,null,"00:00:00","00:00:42","00:00:40"]
[null,null,null,null,null,null,"00:00:00","00:00:42","00:00:40"]
[null,null,null,null,null,null,"00:00:00","00:00:42","00:00:40"]
[null,null,null,null,null,null,"00:00:00","00:00:42","00:00:40"]
[null,null,null,null,null,null,"00:00:00","00:00:42","00:00:40"]
[null,null,null,null,null,null,"00:00:00","00:00:42","00:00:40"]
[null,null,null,null,null,null,"00:00:00","00:00:42","00:00:40"]
[null,null,null,null,null,null,"00:00:00","00:00:42","00:00:40"]
[null,null,null,null,null,null,"00:00:00","00:00:42","00:00:40"]
[null,null,null,null,null,null,"00:00:00",{"$f":"H338","v":"00:00:42"},{"$f":"I338","v":"00:00:40"}]
[null,null,null,null,null,null,"00:00:00","00:00:42","00:00:40"]
[null,null,null,null,null,null,"00:00:00","00:00:42","00:00:40"]
[null,null,null,null,null,null,"00:00:00","00:00:42","00:00:40"]
[null,null,null,null,null,null,"00:00:00","00:00:42","00:00:40"]
[null,null,null,null,null,null,"00:00:00","00:00:42","00:00:40"]
[null,null,null,null,null,null,"00:00:00","00:00:42","00:00:40"]
[null,null,null,null,null,null,"00:00:00","00:00:42","00:00:40"]
[null,null,null,null,null,null,"00:00:00","00:00:42","00:00:40"]
[null,null,null,null,null,null,"00:00:00","00:00:42","00:00:40"]
[null,null,null,null,null,null,"00:00:00","00:00:42","00:00:40"]
[null,null,null,null,null,null,"00:00:00","00:00:42","00:00:40"]
[null,null,null,null,null,null,"00:00:00","00:00:42","00:00:40"]
[null,null,null,null,null,null,"00:00:00","00:00:42","00:00:40"]
[null,null,null,null,null,null,"00:00:00","00:00:42","00:00:40"]
[null,null,null,null,null,null,"00:00:00","00:00:42","00:00:40"]
[null,null,null,null,null,null,"00:00:00","00:00:42","00:00:40"]
[null,null,null,null,null,null,"00:00:00","00:00:42","00:00:40"]
[null,null,null,null,null,null,"00:00:00","00:00:42","00:00:40"]
[null,null,null,null,null,null,"00:00:00","00:00:42","00:00:40"]
[null,null,null,null,null,null,"00:00:00","00:00:42","00:00:40"]
[null,null,null,null,null,null,"00:00:00","00:00:42","00:00:40"]
[null,null,null,null,null,null,"00:00:00","00:00:42","00:00:40"]
[null,null,null,null,null,null,"00:00:00","00:00:42","00:00:40"]
[null,null,null,null,null,null,"00:00:00","00:00:42","00:00:40"]
[null,null,null,null,null,null,"00:00:00","00:00:42","00:00:40"]
[null,null,null,null,null,null,"00:00:00","00:00:42","00:00:40"]
[null,null,null,null,null,null,"00:00:00","00:00:42","00:00:40"]
[null,null,null,null,null,null,"00:00:00","00:00:42","00:00:40"]
[null,null,null,null,null,null,"00:00:00","00:00:42","00:00:40"]
[null,null,null,null,null,null,"00:00:00","00:00:42","00:00:40"]
[null,null,null,null,null,null,"00:00:00","00:00:42","00:00:40"]
[null,null,null,null,null,null,"00:00:00","00:00:42","00:00:40"]
[null,null,null,null,null,null,"00:00:00","00:00:42","00:00:40"]
[null,null,null,null,null,null,"00:00:00","00:00:42","00:00:40"]
[null,null,null,null,null,null,"00:00:00","00:00:42","00:00:40"]
[null,null,null,null,null,null,"00:00:00","00:00:42","00:00:40"]
[null,null,null,null,null,null,"00:00:00","00:00:42","00:00:40"]
[null,null,null,null,null,null,"00:00:00","00:00:42","00:00:40"]
[null,null,null,null,null,null,"00:00:00","00:00:42","00:00:40"]
[null,null,null,null,null,null,"00:00:00","00:00:42","00:00:40"]
[null,null,null,null,null,null,"00:00:00","00:00:42","00:00:40"]
[null,null,null,null,null,null,"00:00:00","00:00:42","00:00:40"]
[null,null,null,null,null,null,"00:00:00","00:00:42","00:00:40"]
[null,null,null,null,null,null,"00:00:00","00:00:42","00:00:40"]
[null,null,null,null,null,null,"00:00:00","00:00:42","00:00:40"]
[null,null,null,null,null,null,"00:00:00","00:00:42","00:00:40"]
[null,null,null,null,null,null,"00:00:00","00:00:42","00:00:40"]
[null,null,null,null,null,null,"00:00:00","00:00:42","00:00:40"]
[null,null,null,null,null,null,{"$f":"G387","v":"00:00:00"},"00:00:42","00:00:40"]
[null,null,null,null,null,null,"00:00:00","00:00:42","00:00:40"]
[null,null,null,null,null,null,"00:00:00","00:00:42","00:00:40"]
[null,null,null,null,null,null,"00:00:00","00:00:42","00:00:40"]
[null,null,null,null,null,null,"00:00:00","00:00:42","00:00:40"]
[null,null,null,null,null,null,"00:00:00","00:00:42","00:00:40"]
[null,null,null,null,null,null,"00:00:00","00:00:42","00:00:40"]
[null,null,null,null,null,null,"00:00:00","00:00:42","00:00:40"]
[null,null,null,null,null,null,"00:00:00","00:00:42","00:00:40"]
[null,null,null,null,null,null,"00:00:00","00:00:42","00:00:40"]
[null,null,null,null,null,null,"00:00:00","00:00:42","00:00:40"]
[null,null,null,null,null,null,"00:00:00","00:00:42","00:00:40"]
[null,null,null,null,null,null,"00:00:00","00:00:42","00:00:40"]
[null,null,null,null,null,null,"00:00:00","00:00:42","00:00:40"]
[null,null,null,null,null,null,"00:00:00","00:00:42","00:00:40"]
[null,null,null,null,null,null,"00:00:00",{"$f":"H402","v":"00:00:42"},{"$f":"I402","v":"00:00:40"}]
[null,null,null,null,null,null,"00:00:00","00:00:42","00:00:40"]
[null,null,null,null,null,null,"00:00:00","00:00:42","00:00:40"]
[null,null,null,null,null,null,"00:00:00","00:00:42","00:00:40"]
[null,null,null,null,null,null,"00:00:00","00:00:42","00:00:40"]
[null,null,null,null,null,null,"00:00:00","00:00:42","00:00:40"]
[null,null,null,null,null,null,"00:00:00","00:00:42","00:00:40"]
[null,null,null,null,null,null,"00:00:00","00:00:42","00:00:40"]
[null,null,null,null,null,null,"00:00:00","00:00:42","00:00:40"]
[null,null,null,null,null,null,"00:00:00","00:00:42","00:00:40"]
[null,null,null,null,null,null,"00:00:00","00:00:42","00:00:40"]
[null,null,null,null,null,null,"00:00:00","00:00:42","00:00:40"]
[null,null,null,null,null,null,"00:00:00","00:00:42","00:00:40"]
[null,null,null,null,null,null,"00:00:00","00:00:42","00:00:40"]
[null,null,null,null,null,null,"00:00:00","00:00:42","00:00:40"]
[null,null,null,null,null,null,"00:00:00","00:00:42","00:00:40"]
[null,null,null,null,null,null,"00:00:00","00:00:42","00:00:40"]
[null,null,null,null,null,null,"00:00:00","00:00:42","00:00:40"]
[null,null,null,null,null,null,"00:00:00","00:00:42","00:00:40"]
[null,null,null,null,null,null,"00:00:00","00:00:42","00:00:40"]
[null,null,null,null,null,null,"00:00:00","00:00:42","00:00:40"]
[null,null,null,null,null,null,"00:00:00","00:00:42","00:00:40"]
[null,null,null,null,null,null,"00:00:00","00:00:42","00:00:40"]
[null,null,null,null,null,null,"00:00:00","00:00:42","00:00:40"]
[null,null,null,null,null,null,"00:00:00","00:00:42","00:00:40"]
[null,null,null,null,null,null,"00:00:00","00:00:42","00:00:40"]
[null,null,null,null,null,null,"00:00:00","00:00:42","00:00:40"]
[null,null,null,null,null,null,"00:00:00","00:00:42","00:00:40"]
[null,null,null,null,null,null,"00:00:00","00:00:42","00:00:40"]
[null,null,null,null,null,null,"00:00:00","00:00:42","00:00:40"]
[null,null,null,null,null,null,"00:00:00","00:00:42","00:00:40"]
[null,null,null,null,null,null,"00:00:00","00:00:42","00:00:40"]
[null,null,null,null,null,null,"00:00:00","00:00:42","00:00:40"]
[null,null,null,null,null,null,"00:00:00","00:00:42","00:00:40"]
[null,null,null,null,null,null,"00:00:00","00:00:42","00:00:40"]
[null,null,null,null,null,null,"00:00:00","00:00:42","00:00:40"]
[null,null,null,null,null,null,"00:00:00","00:00:42","00:00:40"]
[null,null,null,null,null,null,"00:00:00","00:00:42","00:00:40"]
[null,null,null,null,null,null,"00:00:00","00:00:42","00:00:40"]
[null,null,null,null,null,null,"00:00:00","00:00:42","00:00:40"]
[null,null,null,null,null,null,"00:00:00","00:00:42","00:00:40"]
[null,null,null,null,null,null,"00:00:00","00:00:42","00:00:40"]
[null,null,null,null,null,null,"00:00:00","00:00:42","00:00:40"]
[null,null,null,null,null,null,"00:00:00","00:00:42","00:00:40"]
[null,null,null,null,null,null,"00:00:00","00:00:42","00:00:40"]
[null,null,null,null,null,null,"00:00:00","00:00:42","00:00:40"]
[null,null,null,null,null,null,"00:00:00","00:00:42","00:00:40"]
[null,null,null,null,null,null,"00:00:00","00:00:42","00:00:40"]
[null,null,null,null,null,null,"00:00:00","00:00:42","00:00:40"]
[null,null,null,null,null,null,{"$f":"G451","v":"00:00:00"},"00:00:42","00:00:40"]
[null,null,null,null,null,null,"00:00:00","00:00:42","00:00:40"]
[null,null,null,null,null,null,"00:00:00","00:00:42","00:00:40"]
[null,null,null,null,null,null,"00:00:00","00:00:42","00:00:40"]
[null,null,null,null,null,null,"00:00:00","00:00:42","00:00:40"]
[null,null,null,null,null,null,"00:00:00","00:00:42","00:00:40"]
[null,null,null,null,null,null,"00:00:00","00:00:42","00:00:40"]
[null,null,null,null,null,null,"00:00:00","00:00:42","00:00:40"]
[null,null,null,null,null,null,"00:00:00","00:00:42","00:00:40"]
[null,null,null,null,null,null,"00:00:00","00:00:42","00:00:40"]
[null,null,null,null,null,null,"00:00:00","00:00:42","00:00:40"]
[null,null,null,null,null,null,"00:00:00","00:00:42","00:00:40"]
[null,null,null,null,null,null,"00:00:00","00:00:42","00:00:40"]
[null,null,null,null,null,null,"00:00:00","00:00:42","00:00:40"]
[null,null,null,null,null,null,"00:00:00","00:00:42","00:00:40"]
[null,null,null,null,null,null,"00:00:00",{"$f":"H466","v":"00:00:42"},{"$f":"I466","v":"00:00:40"}]
[null,null,null,null,null,null,"00:00:00","00:00:42","00:00:40"]
[null,null,null,null,null,null,"00:00:00","00:00:42","00:00:40"]
[null,null,null,null,null,null,"00:00:00","00:00:42","00:00:40"]
[null,null,null,null,null,null,"00:00:00","00:00:42","00:00:40"]
[null,null,null,null,null,null,"00:00:00","00:00:42","00:00:40"]
[null,null,null,null,null,null,"00:00:00","00:00:42","00:00:40"]
[null,null,null,null,null,null,"00:00:00","00:00:42","00:00:40"]
[null,null,null,null,null,null,"00:00:00","00:00:42","00:00:40"]
[null,null,null,null,null,null,"00:00:00","00:00:42","00:00:40"]
[null,null,null,null,null,null,"00:00:00","00:00:42","00:00:40"]
[null,null,null,null,null,null,"00:00:00","00:00:42","00:00:40"]
[null,null,null,null,null,null,"00:00:00","00:00:42","00:00:40"]
[null,null,null,null,null,null,"00:00:00","00:00:42","00:00:40"]
[null,null,null,null,null,null,"00:00:00","00:00:42","00:00:40"]
[null,null,null,null,null,null,"00:00:00","00:00:42","00:00:40"]
[null,null,null,null,null,null,"00:00:00","00:00:42","00:00:40"]
[null,null,null,null,null,null,"00:00:00","00:00:42","00:00:40"]
[null,null,null,null,null,null,"00:00:00","00:00:42","00:00:40"]
[null,null,null,null,null,null,"00:00:00","00:00:42","00:00:40"]
[null,null,null,null,null,null,"00:00:00","00:00:42","00:00:40"]
[null,null,null,null,null,null,"00:00:00","00:00:42","00:00:40"]
[null,null,null,null,null,null,"00:00:00","00:00:42","00:00:40"]
[null,null,null,null,null,null,"00:00:00","00:00:42","00:00:40"]
[null,null,null,null,null,null,"00:00:00","00:00:42","00:00:40"]
[null,null,null,null,null,null,"00:00:00","00:00:42","00:00:40"]
[null,null,null,null,null,null,"00:00:00","00:00:42","00:00:40"]
[null,null,null,null,null,null,"00:00:00","00:00:42","00:00:40"]
[null,null,null,null,null,null,"00:00:00","00:00:42","00:00:40"]
[null,null,null,null,null,null,"00:00:00","00:00:42","00:00:40"]
[null,null,null,null,null,null,"00:00:00","00:00:42","00:00:40"]
[null,null,null,null,null,null,"00:00:00","00:00:42","00:00:40"]
[null,null,null,null,null,null,"00:00:00","00:00:42","00:00:40"]
[null,null,null,null,null,null,"00:00:00","00:00:42","00:00:40"]
[null,null,null,null,null,null,"00:00:00","00:00:42","00:00:40"]
[null,null,null,null,null,null,"00:00:00","00:00:42","00:00:40"]
[null,null,null,null,null,null,"00:00:00","00:00:42","00:00:40"]
[null,null,null,null,null,null,"00:00:00","00:00:42","00:00:40"]
[null,null,null,null,null,null,"00:00:00","00:00:42","00:00:40"]
[null,null,null,null,null,null,"00:00:00","00:00:42","00:00:40"]
[null,null,null,null,null,null,"00:00:00","00:00:42","00:00:40"]
[null,null,null,null,null,null,"00:00:00","00:00:42","00:00:40"]
[null,null,null,null,null,null,"00:00:00","00:00:42","00:00:40"]
[null,null,null,null,null,null,"00:00:00","00:00:42","00:00:40"]
[null,null,null,null,null,null,"00:00:00","00:00:42","00:00:40"]
[null,null,null,null,null,null,"00:00:00","00:00:42","00:00:40"]
[null,null,null,null,null,null,"00:00:00","00:00:42","00:00:40"]
[null,null,null,null,null,null,"00:00:00","00:00:42","00:00:40"]
[null,null,null,null,null,null,"00:00:00","00:00:42","00:00:40"]
[null,null,null,null,null,null,{"$f":"G515","v":"00:00:00"},"00:00:42","00:00:40"]
[null,null,null,null,null,null,"00:00:00","00:00:42","00:00:40"]
[null,null,null,null,null,null,"00:00:00","00:00:42","00:00:40"]
[null,null,null,null,null,null,"00:00:00","00:00:42","00:00:40"]
[null,null,null,null,null,null,"00:00:00","00:00:42","00:00:40"]
[null,null,null,null,null,null,"00:00:00","00:00:42","00:00:40"]
[null,null,null,null,null,null,"00:00:00","00:00:42","00:00:40"]
[null,null,null,null,null,null,"00:00:00","00:00:42","00:00:40"]
[null,null,null,null,null,null,"00:00:00","00:00:42","00:00:40"]
[null,null,null,null,null,null,"00:00:00","00:00:42","00:00:40"]
[null,null,null,null,null,null,"00:00:00","00:00:42","00:00:40"]
[null,null,null,null,null,null,"00:00:00","00:00:42","00:00:40"]
[null,null,null,null,null,null,"00:00:00","00:00:42","00:00:40"]
[null,null,null,null,null,null,"00:00:00","00:00:42","00:00:40"]
[null,null,null,null,null,null,"00:00:00","00:00:42","00:00:40"]
[null,null,null,null,null,null,"00:00:00",{"$f":"H530","v":"00:00:42"},{"$f":"I530","v":"00:00:40"}]
[null,null,null,null,null,null,"00:00:00","00:00:42","00:00:40"]
[null,null,null,null,null,null,"00:00:00","00:00:42","00:00:40"]
[null,null,null,null,null,null,"00:00:00","00:00:42","00:00:40"]
[null,null,null,null,null,null,"00:00:00","00:00:42","00:00:40"]
[null,null,null,null,null,null,"00:00:00","00:00:42","00:00:40"]
[null,null,null,null,null,null,"00:00:00","00:00:42","00:00:40"]
[null,null,null,null,null,null,"00:00:00","00:00:42","00:00:40"]
[null,null,null,null,null,null,"00:00:00","00:00:42","00:00:40"]
[null,null,null,null,null,null,"00:00:00","00:00:42","00:00:40"]
[null,null,null,null,null,null,"00:00:00","00:00:42","00:00:40"]
[null,null,null,null,null,null,"00:00:00","00:00:42","00:00:40"]
[null,null,null,null,null,null,"00:00:00","00:00:42","00:00:40"]
[null,null,null,null,null,null,"00:00:00","00:00:42","00:00:40"]
[null,null,null,null,null,null,"00:00:00","00:00:42","00:00:40"]
[null,null,null,null,null,null,"00:00:00","00:00:42","00:00:40"]
[null,null,null,null,null,null,"00:00:00","00:00:42","00:00:40"]
[null,null,null,null,null,null,"00:00:00","00:00:42","00:00:40"]
[null,null,null,null,null,null,"00:00:00","00:00:42","00:00:40"]
[null,null,null,null,null,null,"00:00:00","00:00:42","00:00:40"]
[null,null,null,null,null,null,"00:00:00","00:00:42","00:00:40"]
[null,null,null,null,null,null,"00:00:00","00:00:42","00:00:40"]
[null,null,null,null,null,null,"00:00:00","00:00:42","00:00:40"]
[null,null,null,null,null,null,"00:00:00","00:00:42","00:00:40"]
[null,null,null,null,null,null,"00:00:00","00:00:42","00:00:40"]
[null,null,null,null,null,null,"00:00:00","00:00:42","00:00:40"]
[null,null,null,null,null,null,"00:00:00","00:00:42","00:00:40"]
[null,null,null,null,null,null,"00:00:00","00:00:42","00:00:40"]
[null,null,null,null,null,null,"00:00:00","00:00:42","00:00:40"]
[null,null,null,null,null,null,"00:00:00","00:00:42","00:00:40"]
[null,null,null,null,null,null,"00:00:00","00:00:42","00:00:40"]
[null,null,null,null,null,null,"00:00:00","00:00:42","00:00:40"]
[null,null,null,null,null,null,"00:00:00","00:00:42","00:00:40"]
[null,null,null,null,null,null,"00:00:00","00:00:42","00:00:40"]
[null,null,null,null,null,null,"00:00:00","00:00:42","00:00:40"]
[null,null,null,null,null,null,"00:00:00","00:00:42","00:00:40"]
[null,null,null,null,null,null,"00:00:00","00:00:42","00:00:40"]
[null,null,null,null,null,null,"00:00:00","00:00:42","00:00:40"]
[null,null,null,null,null,null,"00:00:00","00:00:42","00:00:40"]
[null,null,null,null,null,null,"00:00:00","00:00:42","00:00:40"]
[null,null,null,null,null,null,"00:00:00","00:00:42","00:00:40"]
[null,null,null,null,null,null,"00:00:00","00:00:42","00:00:40"]
[null,null,null,null,null,null,"00:00:00","00:00:42","00:00:40"]
[null,null,null,null,null,null,"00:00:00","00:00:42","00:00:40"]
[null,null,null,null,null,null,"00:00:00","00:00:42","00:00:40"]
[null,null,null,null,null,null,"00:00:00","00:00:42","00:00:40"]
[null,null,null,null,null,null,"00:00:00","00:00:42","00:00:40"]
[null,null,null,null,null,null,"00:00:00","00:00:42","00:00:40"]
[null,null,null,null,null,null,"00:00:00","00:00:42","00:00:40"]
[null,null,null,null,null,null,{"$f":"G579","v":"00:00:00"},"00:00:42","00:00:40"]
[null,null,null,null,null,null,"00:00:00","00:00:42","00:00:40"]
[null,null,null,null,null,null,"00:00:00","00:00:42","00:00:40"]
[null,null,null,null,null,null,"00:00:00","00:00:42","00:00:40"]
[null,null,null,null,null,null,"00:00:00","00:00:42","00:00:40"]
[null,null,null,null,null,null,"00:00:00","00:00:42","00:00:40"]
[null,null,null,null,null,null,"00:00:00","00:00:42","00:00:40"]
[null,null,null,null,null,null,"00:00:00","00:00:42","00:00:40"]
[null,null,null,null,null,null,"00:00:00","00:00:42","00:00:40"]
[null,null,null,null,null,null,"00:00:00","00:00:42","00:00:40"]
[null,null,null,null,null,null,"00:00:00","00:00:42","00:00:40"]
[null,null,null,null,null,null,"00:00:00","00:00:42","00:00:40"]
[null,null,null,null,null,null,"00:00:00","00:00:42","00:00:40"]
[null,null,null,null,null,null,"00:00:00","00:00:42","00:00:40"]
[null,null,null,null,null,null,"00:00:00","00:00:42","00:00:40"]
[null,null,null,null,null,null,"00:00:00",{"$f":"H594","v":"00:00:42"},{"$f":"I594","v":"00:00:40"}]
[null,null,null,null,null,null,"00:00:00","00:00:42","00:00:40"]
[null,null,null,null,null,null,"00:00:00","00:00:42","00:00:40"]
[null,null,null,null,null,null,"00:00:00","00:00:42","00:00:40"]
[null,null,null,null,null,null,"00:00:00","00:00:42","00:00:40"]
[null,null,null,null,null,null,"00:00:00","00:00:42","00:00:40"]
[null,null,null,null,null,null,"00:00:00","00:00:42","00:00:40"]
[null,null,null,null,null,null,"00:00:00","00:00:42","00:00:40"]
[null,null,null,null,null,null,"00:00:00","00:00:42","00:00:40"]
[null,null,null,null,null,null,"00:00:00","00:00:42","00:00:40"]
[null,null,null,null,null,null,"00:00:00","00:00:42","00:00:40"]
[null,null,null,null,null,null,"00:00:00","00:00:42","00:00:40"]
[null,null,null,null,null,null,"00:00:00","00:00:42","00:00:40"]
[null,null,null,null,null,null,"00:00:00","00:00:42","00:00:40"]
[null,null,null,null,null,null,"00:00:00","00:00:42","00:00:40"]
[null,null,null,null,null,null,"00:00:00","00:00:42","00:00:40"]
[null,null,null,null,null,null,"00:00:00","00:00:42","00:00:40"]
[null,null,null,null,null,null,"00:00:00","00:00:42","00:00:40"]
[null,null,null,null,null,null,"00:00:00","00:00:42","00:00:40"]
[null,null,null,null,null,null,"00:00:00","00:00:42","00:00:40"]
[null,null,null,null,null,null,"00:00:00","00:00:42","00:00:40"]
[null,null,null,null,null,null,"00:00:00","00:00:42","00:00:40"]
[null,null,null,null,null,null,"00:00:00","00:00:42","00:00:40"]
[null,null,null,null,null,null,"00:00:00","00:00:42","00:00:40"]
[null,null,null,null,null,null,"00:00:00","00:00:42","00:00:40"]
[null,null,null,null,null,null,"00:00:00","00:00:42","00:00:40"]
[null,null,null,null,null,null,"00:00:00","00:00:42","00:00:40"]
[null,null,null,null,null,null,"00:00:00","00:00:42","00:00:40"]
[null,null,null,null,null,null,"00:00:00","00:00:42","00:00:40"]
[null,null,null,null,null,null,"00:00:00","00:00:42","00:00:40"]
[null,null,null,null,null,null,"00:00:00","00:00:42","00:00:40"]
[null,null,null,null,null,null,"00:00:00","00:00:42","00:00:40"]
[null,null,null,null,null,null,"00:00:00","00:00:42","00:00:40"]
[null,null,null,null,null,null,"00:00:00","00:00:42","00:00:40"]
[null,null,null,null,null,null,"00:00:00","00:00:42","00:00:40"]
[null,null,null,null,null,null,"00:00:00","00:00:42","00:00:40"]
[null,null,null,null,null,null,"00:00:00","00:00:42","00:00:40"]
[null,null,null,null,null,null,"00:00:00","00:00:42","00:00:40"]
[null,null,null,null,null,null,"00:00:00","00:00:42","00:00:40"]
[null,null,null,null,null,null,"00:00:00","00:00:42","00:00:40"]
[null,null,null,null,null,null,"00:00:00","00:00:42","00:00:40"]
[null,null,null,null,null,null,"00:00:00","00:00:42","00:00:40"]
[null,null,null,null,null,null,"00:00:00","00:00:42","00:00:40"]
[null,null,null,null,null,null,"00:00:00","00:00:42","00:00:40"]
[null,null,null,null,null,null,"00:00:00","00:00:42","00:00:40"]
[null,null,null,null,null,null,"00:00:00","00:00:42","00:00:40"]
[null,null,null,null,null,null,"00:00:00","00:00:42","00:00:40"]
[null,null,null,null,null,null,"00:00:00","00:00:42","00:00:40"]
[null,null,null,null,null,null,"00:00:00","00:00:42","00:00:40"]
[null,null,null,null,null,null,{"$f":"G643","v":"00:00:00"},"00:00:42","00:00:40"]
[null,null,null,null,null,null,"00:00:00","00:00:42","00:00:40"]
[null,null,null,null,null,null,"00:00:00","00:00:42","00:00:40"]
[null,null,null,null,null,null,"00:00:00","00:00:42","00:00:40"]
[null,null,null,null,null,null,"00:00:00","00:00:42","00:00:40"]
[null,null,null,null,null,null,"00:00:00","00:00:42","00:00:40"]
[null,null,null,null,null,null,"00:00:00","00:00:42","00:00:40"]
[null,null,null,null,null,null,"00:00:00","00:00:42","00:00:40"]
[null,null,null,null,null,null,"00:00:00","00:00:42","00:00:40"]
[null,null,null,null,null,null,"00:00:00","00:00:42","00:00:40"]
[null,null,null,null,null,null,"00:00:00","00:00:42","00:00:40"]
[null,null,null,null,null,null,"00:00:00","00:00:42","00:00:40"]
[null,null,null,null,null,null,"00:00:00","00:00:42","00:00:40"]
[null,null,null,null,null,null,"00:00:00","00:00:42","00:00:40"]
[null,null,null,null,null,null,"00:00:00","00:00:42","00:00:40"]
[null,null,null,null,null,null,"00:00:00",{"$f":"H658","v":"00:00:42"},{"$f":"I658","v":"00:00:40"}]
[null,null,null,null,null,null,"00:00:00","00:00:42","00:00:40"]
[null,null,null,null,null,null,"00:00:00","00:00:42","00:00:40"]
[null,null,null,null,null,null,"00:00:00","00:00:42","00:00:40"]
[null,null,null,null,null,null,"00:00:00","00:00:42","00:00:40"]
[null,null,null,null,null,null,"00:00:00","00:00:42","00:00:40"]
[null,null,null,null,null,null,"00:00:00","00:00:42","00:00:40"]
[null,null,null,null,null,null,"00:00:00","00:00:42","00:00:40"]
[null,null,null,null,null,null,"00:00:00","00:00:42","00:00:40"]
[null,null,null,null,null,null,"00:00:00","00:00:42","00:00:40"]
[null,null,null,null,null,null,"00:00:00","00:00:42","00:00:40"]
[null,null,null,null,null,null,"00:00:00","00:00:42","00:00:40"]
[null,null,null,null,null,null,"00:00:00","00:00:42","00:00:40"]
[null,null,null,null,null,null,"00:00:00","00:00:42","00:00:40"]
[null,null,null,null,null,null,"00:00:00","00:00:42","00:00:40"]
[null,null,null,null,null,null,"00:00:00","00:00:42","00:00:40"]
[null,null,null,null,null,null,"00:00:00","00:00:42","00:00:40"]
[null,null,null,null,null,null,"00:00:00","00:00:42","00:00:40"]
[null,null,null,null,null,null,"00:00:00","00:00:42","00:00:40"]
[null,null,null,null,null,null,"00:00:00","00:00:42","00:00:40"]
[null,null,null,null,null,null,"00:00:00","00:00:42","00:00:40"]
[null,null,null,null,null,null,"00:00:00","00:00:42","00:00:40"]
[null,null,null,null,null,null,"00:00:00","00:00:42","00:00:40"]
[null,null,null,null,null,null,"00:00:00","00:00:42","00:00:40"]
[null,null,null,null,null,null,"00:00:00","00:00:42","00:00:40"]
[null,null,null,null,null,null,"00:00:00","00:00:42","00:00:40"]
[null,null,null,null,null,null,"00:00:00","00:00:42","00:00:40"]
[null,null,null,null,null,null,"00:00:00","00:00:42","00:00:40"]
[null,null,null,null,null,null,"00:00:00","00:00:42","00:00:40"]
[null,null,null,null,null,null,"00:00:00","00:00:42","00:00:40"]
[null,null,null,null,null,null,"00:00:00","00:00:42","00:00:40"]
[null,null,null,null,null,null,"00:00:00","00:00:42","00:00:40"]
[null,null,null,null,null,null,"00:00:00","00:00:42","00:00:40"]
[null,null,null,null,null,null,"00:00:00","00:00:42","00:00:40"]
[null,null,null,null,null,null,"00:00:00","00:00:42","00:00:40"]
[null,null,null,null,null,null,"00:00:00","00:00:42","00:00:40"]
[null,null,null,null,null,null,"00:00:00","00:00:42","00:00:40"]
[null,null,null,null,null,null,"00:00:00","00:00:42","00:00:40"]
[null,null,null,null,null,null,"00:00:00","00:00:42","00:00:40"]
[null,null,null,null,null,null,"00:00:00","00:00:42","00:00:40"]
[null,null,null,null,null,null,"00:00:00","00:00:42","00:00:40"]
[null,null,null,null,null,null,"00:00:00","00:00:42","00:00:40"]
[null,null,null,null,null,null,"00:00:00","00:00:42","00:00:40"]
[null,null,null,null,null,null,"00:00:00","00:00:42","00:00:40"]
[null,null,null,null,null,null,"00:00:00","00:00:42","00:00:40"]
[null,null,null,null,null,null,"00:00:00","00:00:42","00:00:40"]
[null,null,null,null,null,null,"00:00:00","00:00:42","00:00:40"]
[null,null,null,null,null,null,"00:00:00","00:00:42","00:00:40"]
[null,null,null,null,null,null,"00:00:00","00:00:42","00:00:40"]
[null,null,null,null,null,null,{"$f":"G707","v":"00:00:00"},"00:00:42","00:00:40"]
[null,null,null,null,null,null,"00:00:00","00:00:42","00:00:40"]
[null,null,null,null,null,null,"00:00:00","00:00:42","00:00:40"]
[null,null,null,null,null,null,"00:00:00","00:00:42","00:00:40"]
[null,null,null,null,null,null,"00:00:00","00:00:42","00:00:40"]
[null,null,null,null,null,null,"00:00:00","00:00:42","00:00:40"]
[null,null,null,null,null,null,"00:00:00","00:00:42","00:00:40"]
[null,null,null,null,null,null,"00:00:00","00:00:42","00:00:40"]
[null,null,null,null,null,null,"00:00:00","00:00:42","00:00:40"]
[null,null,null,null,null,null,"00:00:00","00:00:42","00:00:40"]
[null,null,null,null,null,null,"00:00:00","00:00:42","00:00:40"]
[null,null,null,null,null,null,"00:00:00","00:00:42","00:00:40"]
[null,null,null,null,null,null,"00:00:00","00:00:42","00:00:40"]
[null,null,null,null,null,null,"00:00:00","00:00:42","00:00:40"]
[null,null,null,null,null,null,"00:00:00","00:00:42","00:00:40"]
[null,null,null,null,null,null,"00:00:00",{"$f":"H722","v":"00:00:42"},{"$f":"I722","v":"00:00:40"}]
[null,null,null,null,null,null,"00:00:00","00:00:42","00:00:40"]
[null,null,null,null,null,null,"00:00:00","00:00:42","00:00:40"]
[null,null,null,null,null,null,"00:00:00","00:00:42","00:00:40"]
[null,null,null,null,null,null,"00:00:00","00:00:42","00:00:40"]
[null,null,null,null,null,null,"00:00:00","00:00:42","00:00:40"]
[null,null,null,null,null,null,"00:00:00","00:00:42","00:00:40"]
[null,null,null,null,null,null,"00:00:00","00:00:42","00:00:40"]
[null,null,null,null,null,null,"00:00:00","00:00:42","00:00:40"]
[null,null,null,null,null,null,"00:00:00","00:00:42","00:00:40"]
[null,null,null,null,null,null,"00:00:00","00:00:42","00:00:40"]
[null,null,null,null,null,null,"00:00:00","00:00:42","00:00:40"]
[null,null,null,null,null,null,"00:00:00","00:00:42","00:00:40"]
[null,null,null,null,null,null,"00:00:00","00:00:42","00:00:40"]
[null,null,null,null,null,null,"00:00:00","00:00:42","00:00:40"]
[null,null,null,null,null,null,"00:00:00","00:00:42","00:00:40"]
[null,null,null,null,null,null,"00:00:00","00:00:42","00:00:40"]
[null,null,null,null,null,null,"00:00:00","00:00:42","00:00:40"]
[null,null,null,null,null,null,"00:00:00","00:00:42","00:00:40"]
[null,null,null,null,null,null,"00:00:00","00:00:42","00:00:40"]
[null,null,null,null,null,null,"00:00:00","00:00:42","00:00:40"]
[null,null,null,null,null,null,"00:00:00","00:00:42","00:00:40"]
[null,null,null,null,null,null,"00:00:00","00:00:42","00:00:40"]
[null,null,null,null,null,null,"00:00:00","00:00:42","00:00:40"]
[null,null,null,null,null,null,"00:00:00","00:00:42","00:00:40"]
[null,null,null,null,null,null,"00:00:00","00:00:42","00:00:40"]
[null,null,null,null,null,null,"00:00:00","00:00:42","00:00:40"]
[null,null,null,null,null,null,"00:00:00","00:00:42","00:00:40"]
[null,null,null,null,null,null,"00:00:00","00:00:42","00:00:40"]
[null,null,null,null,null,null,"00:00:00","00:00:42","00:00:40"]
[null,null,null,null,null,null,"00:00:00","00:00:42","00:00:40"]
[null,null,null,null,null,null,"00:00:00","00:00:42","00:00:40"]
[null,null,null,null,null,null,"00:00:00","00:00:42","00:00:40"]
[null,null,null,null,null,null,"00:00:00","00:00:42","00:00:40"]
[null,null,null,null,null,null,"00:00:00","00:00:42","00:00:40"]
[null,null,null,null,null,null,"00:00:00","00:00:42","00:00:40"]
[null,null,null,null,null,null,"00:00:00","00:00:42","00:00:40"]
[null,null,null,null,null,null,"00:00:00","00:00:42","00:00:40"]
[null,null,null,null,null,null,"00:00:00","00:00:42","00:00:40"]
[null,null,null,null,null,null,"00:00:00","00:00:42","00:00:40"]
[null,null,null,null,null,null,"00:00:00","00:00:42","00:00:40"]
[null,null,null,null,null,null,"00:00:00","00:00:42","00:00:40"]
[null,null,null,null,null,null,"00:00:00","00:00:42","00:00:40"]
[null,null,null,null,null,null,"00:00:00","00:00:42","00:00:40"]
[null,null,null,null,null,null,"00:00:00","00:00:42","00:00:40"]
[null,null,null,null,null,null,"00:00:00","00:00:42","00:00:40"]
[null,null,null,null,null,null,"00:00:00","00:00:42","00:00:40"]
[null,null,null,null,null,null,"00:00:00","00:00:42","00:00:40"]
[null,null,null,null,null,null,"00:00:00","00:00:42","00:00:40"]
[null,null,null,null,null,null,{"$f":"G771","v":"00:00:00"},"00:00:42","00:00:40"]
[null,null,null,null,null,null,"00:00:00","00:00:42","00:00:40"]
[null,null,null,null,null,null,"00:00:00","00:00:42","00:00:40"]
[null,null,null,null,null,null,"00:00:00","00:00:42","00:00:40"]
[null,null,null,null,null,null,"00:00:00","00:00:42","00:00:40"]
[null,null,null,null,null,null,"00:00:00","00:00:42","00:00:40"]
[null,null,null,null,null,null,"00:00:00","00:00:42","00:00:40"]
[null,null,null,null,null,null,"00:00:00","00:00:42","00:00:40"]
[null,null,null,null,null,null,"00:00:00","00:00:42","00:00:40"]
[null,null,null,null,null,null,"00:00:00","00:00:42","00:00:40"]
[null,null,null,null,null,null,"00:00:00","00:00:42","00:00:40"]
[null,null,null,null,null,null,"00:00:00","00:00:42","00:00:40"]
[null,null,null,null,null,null,"00:00:00","00:00:42","00:00:40"]
[null,null,null,null,null,null,"00:00:00","00:00:42","00:00:40"]
[null,null,null,null,null,null,"00:00:00","00:00:42","00:00:40"]
[null,null,null,null,null,null,"00:00:00",{"$f":"H786","v":"00:00:42"},{"$f":"I786","v":"00:00:40"}]
[null,null,null,null,null,null,"00:00:00","00:00:42","00:00:40"]
[null,null,null,null,null,null,"00:00:00","00:00:42","00:00:40"]
[null,null,null,null,null,null,"00:00:00","00:00:42","00:00:40"]
[null,null,null,null,null,null,"00:00:00","00:00:42","00:00:40"]
[null,null,null,null,null,null,"00:00:00","00:00:42","00:00:40"]
[null,null,null,null,null,null,"00:00:00","00:00:42","00:00:40"]
[null,null,null,null,null,null,"00:00:00","00:00:42","00:00:40"]
[null,null,null,null,null,null,"00:00:00","00:00:42","00:00:40"]
[null,null,null,null,null,null,"00:00:00","00:00:42","00:00:40"]
[null,null,null,null,null,null,"00:00:00","00:00:42","00:00:40"]
[null,null,null,null,null,null,"00:00:00","00:00:42","00:00:40"]
[null,null,null,null,null,null,"00:00:00","00:00:42","00:00:40"]
[null,null,null,null,null,null,"00:00:00","00:00:42","00:00:40"]
[null,null,null,null,null,null,"00:00:00","00:00:42","00:00:40"]
[null,null,null,null,null,null,"00:00:00","00:00:42","00:00:40"]
[null,null,null,null,null,null,"00:00:00","00:00:42","00:00:40"]
[null,null,null,null,null,null,"00:00:00","00:00:42","00:00:40"]
[null,null,null,null,null,null,"00:00:00","00:00:42","00:00:40"]
[null,null,null,null,null,null,"00:00:00","00:00:42","00:00:40"]
[null,null,null,null,null,null,"00:00:00","00:00:42","00:00:40"]
[null,null,null,null,null,null,"00:00:00","00:00:42","00:00:40"]
[null,null,null,null,null,null,"00:00:00","00:00:42","00:00:40"]
[null,null,null,null,null,null,"00:00:00","00:00:42","00:00:40"]
[null,null,null,null,null,null,"00:00:00","00:00:42","00:00:40"]
[null,null,null,null,null,null,"00:00:00","00:00:42","00:00:40"]
[null,null,null,null,null,null,"00:00:00","00:00:42","00:00:40"]
[null,null,null,null,null,null,"00:00:00","00:00:42","00:00:40"]
[null,null,null,null,null,null,"00:00:00","00:00:42","00:00:40"]
[null,null,null,null,null,null,"00:00:00","00:00:42","00:00:40"]
[null,null,null,null,null,null,"00:00:00","00:00:42","00:00:40"]
[null,null,null,null,null,null,"00:00:00","00:00:42","00:00:40"]
[null,null,null,null,null,null,"00:00:00","00:00:42","00:00:40"]
[null,null,null,null,null,null,"00:00:00","00:00:42","00:00:40"]
[null,null,null,null,null,null,"00:00:00","00:00:42","00:00:40"]
[null,null,null,null,null,null,"00:00:00","00:00:42","00:00:40"]
[null,null,null,null,null,null,"00:00:00","00:00:42","00:00:40"]
[null,null,null,null,null,null,"00:00:00","00:00:42","00:00:40"]
[null,null,null,null,null,null,"00:00:00","00:00:42","00:00:40"]
[null,null,null,null,null,null,"00:00:00","00:00:42","00:00:40"]
[null,null,null,null,null,null,"00:00:00","00:00:42","00:00:40"]
[null,null,null,null,null,null,"00:00:00","00:00:42","00:00:40"]
[null,null,null,null,null,null,"00:00:00","00:00:42","00:00:40"]
[null,null,null,null,null,null,"00:00:00","00:00:42","00:00:40"]
[null,null,null,null,null,null,"00:00:00","00:00:42","00:00:40"]
[null,null,null,null,null,null,"00:00:00","00:00:42","00:00:40"]
[null,null,null,null,null,null,"00:00:00","00:00:42","00:00:40"]
[null,null,null,null,null,null,"00:00:00","00:00:42","00:00:40"]
[null,null,null,null,null,null,"00:00:00","00:00:42","00:00:40"]
[null,null,null,null,null,null,{"$f":"G835","v":"00:00:00"},"00:00:42","00:00:40"]
[null,null,null,null,null,null,"00:00:00","00:00:42","00:00:40"]
[null,null,null,null,null,null,"00:00:00","00:00:42","00:00:40"]
[null,null,null,null,null,null,"00:00:00","00:00:42","00:00:40"]
[null,null,null,null,null,null,"00:00:00","00:00:42","00:00:40"]
[null,null,null,null,null,null,"00:00:00","00:00:42","00:00:40"]
[null,null,null,null,null,null,"00:00:00","00:00:42","00:00:40"]
[null,null,null,null,null,null,"00:00:00","00:00:42","00:00:40"]
[null,null,null,null,null,null,"00:00:00","00:00:42","00:00:40"]
[null,null,null,null,null,null,"00:00:00","00:00:42","00:00:40"]
[null,null,null,null,null,null,"00:00:00","00:00:42","00:00:40"]
[null,null,null,null,null,null,"00:00:00","00:00:42","00:00:40"]
[null,null,null,null,null,null,"00:00:00","00:00:42","00:00:40"]
[null,null,null,null,null,null,"00:00:00","00:00:42","00:00:40"]
[null,null,null,null,null,null,"00:00:00","00:00:42","00:00:40"]
[null,null,null,null,null,null,"00:00:00",{"$f":"H850","v":"00:00:42"},{"$f":"I850","v":"00:00:40"}]
[null,null,null,null,null,null,"00:00:00","00:00:42","00:00:40"]
[null,null,null,null,null,null,"00:00:00","00:00:42","00:00:40"]
[null,null,null,null,null,null,"00:00:00","00:00:42","00:00:40"]
[null,null,null,null,null,null,"00:00:00","00:00:42","00:00:40"]
[null,null,null,null,null,null,"00:00:00","00:00:42","00:00:40"]
[null,null,null,null,null,null,"00:00:00","00:00:42","00:00:40"]
[null,null,null,null,null,null,"00:00:00","00:00:42","00:00:40"]
[null,null,null,null,null,null,"00:00:00","00:00:42","00:00:40"]
[null,null,null,null,null,null,"00:00:00","00:00:42","00:00:40"]
[null,null,null,null,null,null,"00:00:00","00:00:42","00:00:40"]
[null,null,null,null,null,null,"00:00:00","00:00:42","00:00:40"]
[null,null,null,null,null,null,"00:00:00","00:00:42","00:00:40"]
[null,null,null,null,null,null,"00:00:00","00:00:42","00:00:40"]
[null,null,null,null,null,null,"00:00:00","00:00:42","00:00:40"]
[null,null,null,null,null,null,"00:00:00","00:00:42","00:00:40"]
[null,null,null,null,null,null,"00:00:00","00:00:42","00:00:40"]
[null,null,null,null,null,null,"00:00:00","00:00:42","00:00:40"]
[null,null,null,null,null,null,"00:00:00","00:00:42","00:00:40"]
[null,null,null,null,null,null,"00:00:00","00:00:42","00:00:40"]
[null,null,null,null,null,null,"00:00:00","00:00:42","00:00:40"]
[null,null,null,null,null,null,"00:00:00","00:00:42","00:00:40"]
[null,null,null,null,null,null,"00:00:00","00:00:42","00:00:40"]
[null,null,null,null,null,null,"00:00:00","00:00:42","00:00:40"]
[null,null,null,null,null,null,"00:00:00","00:00:42","00:00:40"]
[null,null,null,null,null,null,"00:00:00","00:00:42","00:00:40"]
[null,null,null,null,null,null,"00:00:00","00:00:42","00:00:40"]
[null,null,null,null,null,null,"00:00:00","00:00:42","00:00:40"]
[null,null,null,null,null,null,"00:00:00","00:00:42","00:00:40"]
[null,null,null,null,null,null,"00:00:00","00:00:42","00:00:40"]
[null,null,null,null,null,null,"00:00:00","00:00:42","00:00:40"]
[null,null,null,null,null,null,"00:00:00","00:00:42","00:00:40"]
[null,null,null,null,null,null,"00:00:00","00:00:42","00:00:40"]
[null,null,null,null,null,null,"00:00:00","00:00:42","00:00:40"]
[null,null,null,null,null,null,"00:00:00","00:00:42","00:00:40"]
[null,null,null,null,null,null,"00:00:00","00:00:42","00:00:40"]
[null,null,null,null,null,null,"00:00:00","00:00:42","00:00:40"]
[null,null,null,null,null,null,"00:00:00","00:00:42","00:00:40"]
[null,null,null,null,null,null,"00:00:00","00:00:42","00:00:40"]
[null,null,null,null,null,null,"00:00:00","00:00:42","00:00:40"]
[null,null,null,null,null,null,"00:00:00","00:00:42","00:00:40"]
[null,null,null,null,null,null,"00:00:00","00:00:42","00:00:40"]
[null,null,null,null,null,null,"00:00:00","00:00:42","00:00:40"]
[null,null,null,null,null,null,"00:00:00","00:00:42","00:00:40"]
[null,null,null,null,null,null,"00:00:00","00:00:42","00:00:40"]
[null,null,null,null,null,null,"00:00:00","00:00:42","00:00:40"]
[null,null,null,null,null,null,"00:00:00","00:00:42","00:00:40"]
[null,null,null,null,null,null,"00:00:00","00:00:42","00:00:40"]
[null,null,null,null,null,null,"00:00:00","00:00:42","00:00:40"]
[null,null,null,null,null,null,{"$f":"G899","v":"00:00:00"},"00:00:42","00:00:40"]
[null,null,null,null,null,null,"00:00:00","00:00:42","00:00:40"]
[null,null,null,null,null,null,"00:00:00","00:00:42","00:00:40"]
[null,null,null,null,null,null,"00:00:00","00:00:42","00:00:40"]
[null,null,null,null,null,null,"00:00:00","00:00:42","00:00:40"]
[null,null,null,null,null,null,"00:00:00","00:00:42","00:00:40"]
[null,null,null,null,null,null,"00:00:00","00:00:42","00:00:40"]
[null,null,null,null,null,null,"00:00:00","00:00:42","00:00:40"]
[null,null,null,null,null,null,"00:00:00","00:00:42","00:00:40"]
[null,null,null,null,null,null,"00:00:00","00:00:42","00:00:40"]
[null,null,null,null,null,null,"00:00:00","00:00:42","00:00:40"]
[null,null,null,null,null,null,"00:00:00","00:00:42","00:00:40"]
[null,null,null,null,null,null,"00:00:00","00:00:42","00:00:40"]
[null,null,null,null,null,null,"00:00:00","00:00:42","00:00:40"]
[null,null,null,null,null,null,"00:00:00","00:00:42","00:00:40"]
[null,null,null,null,null,null,"00:00:00",{"$f":"H914","v":"00:00:42"},{"$f":"I914","v":"00:00:40"}]
[null,null,null,null,null,null,"00:00:00","00:00:42","00:00:40"]
[null,null,null,null,null,null,"00:00:00","00:00:42","00:00:40"]
[null,null,null,null,null,null,"00:00:00","00:00:42","00:00:40"]
[null,null,null,null,null,null,"00:00:00","00:00:42","00:00:40"]
[null,null,null,null,null,null,"00:00:00","00:00:42","00:00:40"]
[null,null,null,null,null,null,"00:00:00","00:00:42","00:00:40"]
[null,null,null,null,null,null,"00:00:00","00:00:42","00:00:40"]
[null,null,null,null,null,null,"00:00:00","00:00:42","00:00:40"]
[null,null,null,null,null,null,"00:00:00","00:00:42","00:00:40"]
[null,null,null,null,null,null,"00:00:00","00:00:42","00:00:40"]
[null,null,null,null,null,null,"00:00:00","00:00:42","00:00:40"]
[null,null,null,null,null,null,"00:00:00","00:00:42","00:00:40"]
[null,null,null,null,null,null,"00:00:00","00:00:42","00:00:40"]
[null,null,null,null,null,null,"00:00:00","00:00:42","00:00:40"]
[null,null,null,null,null,null,"00:00:00","00:00:42","00:00:40"]
[null,null,null,null,null,null,"00:00:00","00:00:42","00:00:40"]
[null,null,null,null,null,null,"00:00:00","00:00:42","00:00:40"]
[null,null,null,null,null,null,"00:00:00","00:00:42","00:00:40"]
[null,null,null,null,null,null,"00:00:00","00:00:42","00:00:40"]
[null,null,null,null,null,null,"00:00:00","00:00:42","00:00:40"]
[null,null,null,null,null,null,"00:00:00","00:00:42","00:00:40"]
[null,null,null,null,null,null,"00:00:00","00:00:42","00:00:40"]
[null,null,null,null,null,null,"00:00:00","00:00:42","00:00:40"]
[null,null,null,null,null,null,"00:00:00","00:00:42","00:00:40"]
[null,null,null,null,null,null,"00:00:00","00:00:42","00:00:40"]
[null,null,null,null,null,null,"00:00:00","00:00:42","00:00:40"]
[null,null,null,null,null,null,"00:00:00","00:00:42","00:00:40"]
[null,null,null,null,null,null,"00:00:00","00:00:42","00:00:40"]
[null,null,null,null,null,null,"00:00:00","00:00:42","00:00:40"]
[null,null,null,null,null,null,"00:00:00","00:00:42","00:00:40"]
[null,null,null,null,null,null,"00:00:00","00:00:42","00:00:40"]
[null,null,null,null,null,null,"00:00:00","00:00:42","00:00:40"]
[null,null,null,null,null,null,"00:00:00","00:00:42","00:00:40"]
[null,null,null,null,null,null,"00:00:00","00:00:42","00:00:40"]
[null,null,null,null,null,null,"00:00:00","00:00:42","00:00:40"]
[null,null,null,null,null,null,"00:00:00","00:00:42","00:00:40"]
[null,null,null,null,null,null,"00:00:00","00:00:42","00:00:40"]
[null,null,null,null,null,null,"00:00:00","00:00:42","00:00:40"]
[null,null,null,null,null,null,"00:00:00","00:00:42","00:00:40"]
[null,null,null,null,null,null,"00:00:00","00:00:42","00:00:40"]
[null,null,null,null,null,null,"00:00:00","00:00:42","00:00:40"]
[null,null,null,null,null,null,"00:00:00","00:00:42","00:00:40"]
[null,null,null,null,null,null,"00:00:00","00:00:42","00:00:40"]
[null,null,null,null,null,null,"00:00:00","00:00:42","00:00:40"]
[null,null,null,null,null,null,"00:00:00","00:00:42","00:00:40"]
[null,null,null,null,null,null,"00:00:00","00:00:42","00:00:40"]
[null,null,null,null,null,null,"00:00:00","00:00:42","00:00:40"]
[null,null,null,null,null,null,"00:00:00","00:00:42","00:00:40"]
[null,null,null,null,null,null,{"$f":"G963","v":"00:00:00"},"00:00:42","00:00:40"]
[null,null,null,null,null,null,"00:00:00","00:00:42","00:00:40"]
[null,null,null,null,null,null,"00:00:00","00:00:42","00:00:40"]
[null,null,null,null,null,null,"00:00:00","00:00:42","00:00:40"]
[null,null,null,null,null,null,"00:00:00","00:00:42","00:00:40"]
[null,null,null,null,null,null,"00:00:00","00:00:42","00:00:40"]
[null,null,null,null,null,null,"00:00:00","00:00:42","00:00:40"]
[null,null,null,null,null,null,"00:00:00","00:00:42","00:00:40"]
[null,null,null,null,null,null,"00:00:00","00:00:42","00:00:40"]
[null,null,null,null,null,null,"00:00:00","00:00:42","00:00:40"]
[null,null,null,null,null,null,"00:00:00","00:00:42","00:00:40"]
[null,null,null,null,null,null,"00:00:00","00:00:42","00:00:40"]
[null,null,null,null,null,null,"00:00:00","00:00:42","00:00:40"]
[null,null,null,null,null,null,"00:00:00","00:00:42","00:00:40"]
[null,null,null,null,null,null,"00:00:00","00:00:42","00:00:40"]
[null,null,null,null,null,null,"00:00:00",{"$f":"H978","v":"00:00:42"},{"$f":"I978","v":"00:00:40"}]
[null,null,null,null,null,null,"00:00:00","00:00:42","00:00:40"]
[null,null,null,null,null,null,"00:00:00","00:00:42","00:00:40"]
[null,null,null,null,null,null,"00:00:00","00:00:42","00:00:40"]
[null,null,null,null,null,null,"00:00:00","00:00:42","00:00:40"]
[null,null,null,null,null,null,"00:00:00","00:00:42","00:00:40"]
[null,null,null,null,null,null,"00:00:00","00:00:42","00:00:40"]
[null,null,null,null,null,null,"00:00:00","00:00:42","00:00:40"]
[null,null,null,null,null,null,"00:00:00","00:00:42","00:00:40"]
[null,null,null,null,null,null,"00:00:00","00:00:42","00:00:40"]
[null,null,null,null,null,null,"00:00:00","00:00:42","00:00:40"]
[null,null,null,null,null,null,"00:00:00","00:00:42","00:00:40"]
[null,null,null,null,null,null,"00:00:00","00:00:42","00:00:40"]
[null,null,null,null,null,null,"00:00:00","00:00:42","00:00:40"]
[null,null,null,null,null,null,"00:00:00","00:00:42","00:00:40"]
[null,null,null,null,null,null,"00:00:00","00:00:42","00:00:40"]
[null,null,null,null,null,null,"00:00:00","00:00:42","00:00:40"]
[null,null,null,null,null,null,"00:00:00","00:00:42","00:00:40"]
[null,null,null,null,null,null,"00:00:00","00:00:42","00:00:40"]
[null,null,null,null,null,null,"00:00:00","00:00:42","00:00:40"]
[null,null,null,null,null,null,"00:00:00","00:00:42","00:00:40"]

{"sheet":"Sauve","index":3,"n_rows":1000,"n_cols":19,"rows_kept":1000,"cut":false,"hidden":true,"merged":[]}
["Plaque","Nom-Prénom","NOM","Prénom","Sexe","Date de naissance","Age fin année","Club","Licence","Categorie","Circuit","Classement","Temps","Ecart Départ","Temps Réel",null,"Année","H","F"]
[1,{"$f":"CONCATENATE(C2,\"-\",D2)","v":"VASSAL-Thibaut"},"VASSAL","Thibaut","M","1975-01-16",{"$f":"(TODAY()-F2)/365.25","v":40.355920602327174},"UV Mazamet","FFC","Masters 3/4",45,{"$f":"VLOOKUP(A2,'Chrono+Classement'!G:O,5,FALSE)","v":11},{"$f":"VLOOKUP(A2,'Chrono+Classement'!G:O,9,FALSE)","v":"02:11:41"},{"$f":"IF(K2=17,Param!G2,IF(K2=28,Param!H2,IF(K2=45,Param!I2)))","v":"00:00:40"},{"$f":"M2-N2","v":"02:11:01"},null,{"$f":"YEAR(F2)","v":1975},{"$f":"IF(E2=\"M\",IF(Q2<=1965,\"Masters 5\",IF(Q2<=1975,\"Masters 3/4\",IF(Q2<=1985,\"Masters 1/2\",IF(Q2<=1992,\"Hommes\",IF(Q2<=1996,\"Espoirs\",IF(Q2<=1998,\"Juniors\",IF(Q2<=2000,\"Cadets\",0))))))))","v":"Masters 3/4"},{"$f":"IF(E2=\"F\",IF(Q2<=1992,\"Dames\",IF(Q2<=1996,\"Espoirs Dames\",IF(Q2<=1998,\"Juniors Dames\",IF(Q2<=2000,\"Cadettes\",0)))))","v":false}]
[2,"PERUSIN-Benjamin","PERUSIN","Benjamin","M","1986-02-08",29.29226557152635,"UVAGG","FFC","Hommes",45,{"$f":"VLOOKUP(A3,'Chrono+Classement'!G:O,5,FALSE)","v":18},{"$f":"VLOOKUP(A3,'Chrono+Classement'!G:O,9,FALSE)","v":"02:23:43"},{"$f":"IF(K3=17,Param!G3,IF(K3=28,Param!H3,IF(K3=45,Param!I3)))","v":"00:00:40"},"02:23:03",null,1986,"Hommes",false]
[3,"TAILLEFER-Loïc","TAILLEFER","Loïc","M","1990-12-08",24.462696783025326,"TOAC","FFC","Hommes",45,{"$f":"VLOOKUP(A4,'Chrono+Classement'!G:O,5,FALSE)","v":44},{"$f":"VLOOKUP(A4,'Chrono+Classement'!G:O,9,FALSE)","v":"03:14:25"},{"$f":"IF(K4=17,Param!G4,IF(K4=28,Param!H4,IF(K4=45,Param!I4)))","v":"00:00:40"},"03:13:45",null,1990,"Hommes",false]
[4,"LAPEYRE-Martin","LAPEYRE","Martin","M","1984-11-11",30.535249828884325,"TOAC","FSGT","Masters 1/2",45,{"$f":"VLOOKUP(A5,'Chrono+Classement'!G:O,5,FALSE)","v":51},{"$f":"VLOOKUP(A5,'Chrono+Classement'!G:O,9,FALSE)","v":"03:23:41"},{"$f":"IF(K5=17,Param!G5,IF(K5=28,Param!H5,IF(K5=45,Param!I5)))","v":"00:00:40"},"03:23:01",null,1984,"Masters 1/2",false]
[5,"PENDERIES-Frédéric","PENDERIES","Frédéric","M","1975-12-30",39.403148528405204,"Team Racing Stephanois","NL","Masters 3/4",45,{"$f":"VLOOKUP(A6,'Chrono+Classement'!G:O,5,FALSE)","v":52},{"$f":"VLOOKUP(A6,'Chrono+Classement'!G:O,9,FALSE)","v":"03:27:23"},{"$f":"IF(K6=17,Param!G6,IF(K6=28,Param!H6,IF(K6=45,Param!I6)))","v":"00:00:40"},"03:26:43",null,1975,"Masters 3/4",false]
[6,"DELFINO-Benjamin","DELFINO","Benjamin","M","1991-04-28",24.076659822039698,"Vélo Club  Moyenne Durance","FFC","Hommes",45,{"$f":"VLOOKUP(A7,'Chrono+Classement'!G:O,5,FALSE)","v":34},{"$f":"VLOOKUP(A7,'Chrono+Classement'!G:O,9,FALSE)","v":"02:39:56"},{"$f":"IF(K7=17,Param!G7,IF(K7=28,Param!H7,IF(K7=45,Param!I7)))","v":"00:00:40"},"02:39:16",null,1991,"Hommes",false]
[7,"PETIT-François","PETIT","François","M","1957-07-02",57.897330595482543,"Les Renardeaux du bas Quercy","FFCT","Masters 5",45,{"$f":"VLOOKUP(A8,'Chrono+Classement'!G:O,5,FALSE)","v":50},{"$f":"VLOOKUP(A8,'Chrono+Classement'!G:O,9,FALSE)","v":"03:23:07"},{"$f":"IF(K8=17,Param!G8,IF(K8=28,Param!H8,IF(K8=45,Param!I8)))","v":"00:00:40"},"03:22:27",null,1957,"Masters 5",false]
[8,"REMY-Julien","REMY","Julien","M","1985-03-30",30.154688569472963,"CA Castelsarasin","FFC","Masters 1/2",45,{"$f":"VLOOKUP(A9,'Chrono+Classement'!G:O,5,FALSE)","v":33},{"$f":"VLOOKUP(A9,'Chrono+Classement'!G:O,9,FALSE)","v":"02:37:01"},{"$f":"IF(K9=17,Param!G9,IF(K9=28,Param!H9,IF(K9=45,Param!I9)))","v":"00:00:40"},"02:36:21",null,1985,"Masters 1/2",false]
[9,"RAMOUSSE-Arnaud","RAMOUSSE","Arnaud","M","1972-07-28",42.82546201232033,"CPRS Pins Justaret","FSGT","Masters 3/4",45,{"$f":"VLOOKUP(A10,'Chrono+Classement'!G:O,5,FALSE)","v":37},{"$f":"VLOOKUP(A10,'Chrono+Classement'!G:O,9,FALSE)","v":"02:51:06"},{"$f":"IF(K10=17,Param!G10,IF(K10=28,Param!H10,IF(K10=45,Param!I10)))","v":"00:00:40"},"02:50:26",null,1972,"Masters 3/4",false]
[10,"XIMENES-Thibaut","XIMENES","Thibaut","M","1988-11-15",26.524298425735797,null,"NL","Hommes",45,{"$f":"VLOOKUP(A11,'Chrono+Classement'!G:O,5,FALSE)","v":45},{"$f":"VLOOKUP(A11,'Chrono+Classement'!G:O,9,FALSE)","v":"03:14:50"},{"$f":"IF(K11=17,Param!G11,IF(K11=28,Param!H11,IF(K11=45,Param!I11)))","v":"00:00:40"},"03:14:10",null,1988,"Hommes",false]
[11,"FOURNALES-Olivier","FOURNALES","Olivier","M","1980-08-02",34.81177275838467,"CAC","FFC","Masters 1/2",45,{"$f":"VLOOKUP(A12,'Chrono+Classement'!G:O,5,FALSE)","v":20},{"$f":"VLOOKUP(A12,'Chrono+Classement'!G:O,9,FALSE)","v":"02:26:23"},{"$f":"IF(K12=17,Param!G12,IF(K12=28,Param!H12,IF(K12=45,Param!I12)))","v":"00:00:40"},"02:25:43",null,1980,"Masters 1/2",false]
[12,"PERRIE-Mathieu","PERRIE","Mathieu","M","1987-05-06",28.054757015742641,"TOAC","FSGT","Hommes",45,{"$f":"VLOOKUP(A13,'Chrono+Classement'!G:O,5,FALSE)","v":41},{"$f":"VLOOKUP(A13,'Chrono+Classement'!G:O,9,FALSE)","v":"03:05:32"},{"$f":"IF(K13=17,Param!G13,IF(K13=28,Param!H13,IF(K13=45,Param!I13)))","v":"00:00:40"},"03:04:52",null,1987,"Hommes",false]
[13,"BLOT-Jean-Baptiste","BLOT","Jean-Baptiste","M","1984-06-22",30.924024640657084,"VTT Cornebarieu","NL","Masters 1/2",45,{"$f":"VLOOKUP(A14,'Chrono+Classement'!G:O,5,FALSE)","v":35},{"$f":"VLOOKUP(A14,'Chrono+Classement'!G:O,9,FALSE)","v":"02:44:45"},{"$f":"IF(K14=17,Param!G14,IF(K14=28,Param!H14,IF(K14=45,Param!I14)))","v":"00:00:40"},"02:44:05",null,1984,"Masters 1/2",false]
[14,"NADEAU-Frédéric","NADEAU","Frédéric","M","1984-12-10",30.455852156057496,"CHEVREUILS VTT","FFC","Masters 1/2",45,{"$f":"VLOOKUP(A15,'Chrono+Classement'!G:O,5,FALSE)","v":31},{"$f":"VLOOKUP(A15,'Chrono+Classement'!G:O,9,FALSE)","v":"02:36:14"},{"$f":"IF(K15=17,Param!G15,IF(K15=28,Param!H15,IF(K15=45,Param!I15)))","v":"00:00:40"},"02:35:34",null,1984,"Masters 1/2",false]
[15,"METRO-Alex","METRO","Alex","M","1997-12-02",17.478439425051334,"VILLENEUVE Cycliste","FFC","Juniors",45,{"$f":"VLOOKUP(A16,'Chrono+Classement'!G:O,5,FALSE)","v":16},{"$f":"VLOOKUP(A16,'Chrono+Classement'!G:O,9,FALSE)","v":"02:20:41"},{"$f":"IF(K16=17,Param!G16,IF(K16=28,Param!H16,IF(K16=45,Param!I16)))","v":"00:00:40"},"02:20:01",null,1997,"Juniors",false]
[16,"VILA-Sébastien","VILA","Sébastien","M","1981-09-14",33.694729637234772,"TOAC","FFC","Masters 1/2",45,{"$f":"VLOOKUP(A17,'Chrono+Classement'!G:O,5,FALSE)","v":39},{"$f":"VLOOKUP(A17,'Chrono+Classement'!G:O,9,FALSE)","v":"02:52:28"},{"$f":"IF(K17=17,Param!G17,IF(K17=28,Param!H17,IF(K17=45,Param!I17)))","v":"00:00:40"},"02:51:48",null,1981,"Masters 1/2",false]
[17,"PECHBERRY-Laurent","PECHBERRY","Laurent","M","1970-02-01",45.311430527036279,"LOURDES VTT","FFC","Masters 3/4",45,{"$f":"VLOOKUP(A18,'Chrono+Classement'!G:O,5,FALSE)","v":22},{"$f":"VLOOKUP(A18,'Chrono+Classement'!G:O,9,FALSE)","v":"02:28:21"},{"$f":"IF(K18=17,Param!G18,IF(K18=28,Param!H18,IF(K18=45,Param!I18)))","v":"00:00:40"},"02:27:41",null,1970,"Masters 3/4",false]
[18,"DUPIN-Damien","DUPIN","Damien","M","1993-09-03",21.724845995893222,"Guidons Quercynois","UFOLEP","Espoirs",45,{"$f":"VLOOKUP(A19,'Chrono+Classement'!G:O,5,FALSE)","v":32},{"$f":"VLOOKUP(A19,'Chrono+Classement'!G:O,9,FALSE)","v":"02:36:58"},{"$f":"IF(K19=17,Param!G19,IF(K19=28,Param!H19,IF(K19=45,Param!I19)))","v":"00:00:40"},"02:36:18",null,1993,"Espoirs",false]
[19,"MONCASSIN-Jonathan","MONCASSIN","Jonathan","M","1984-09-05",30.718685831622178,"Tarbes Pyrennées Cuyclisme","FSGT","Masters 1/2",45,{"$f":"VLOOKUP(A20,'Chrono+Classement'!G:O,5,FALSE)","v":54},{"$f":"VLOOKUP(A20,'Chrono+Classement'!G:O,9,FALSE)","v":"03:33:39"},{"$f":"IF(K20=17,Param!G20,IF(K20=28,Param!H20,IF(K20=45,Param!I20)))","v":"00:00:40"},"03:32:59",null,1984,"Masters 1/2",false]
[20,"FALOPPA-Christophe","FALOPPA","Christophe","M","1981-11-03",33.557837097878163,"TOAC","FFC","Masters 1/2",45,{"$f":"VLOOKUP(A21,'Chrono+Classement'!G:O,5,FALSE)","v":14},{"$f":"VLOOKUP(A21,'Chrono+Classement'!G:O,9,FALSE)","v":"02:16:59"},{"$f":"IF(K21=17,Param!G21,IF(K21=28,Param!H21,IF(K21=45,Param!I21)))","v":"00:00:40"},"02:16:19",null,1981,"Masters 1/2",false]
[21,"RIVALS-Eric","RIVALS","Eric","M","1983-05-18",32.021902806297057,"TOAC","FFC","Masters 1/2",45,{"$f":"VLOOKUP(A22,'Chrono+Classement'!G:O,5,FALSE)","v":17},{"$f":"VLOOKUP(A22,'Chrono+Classement'!G:O,9,FALSE)","v":"02:23:08"},{"$f":"IF(K22=17,Param!G22,IF(K22=28,Param!H22,IF(K22=45,Param!I22)))","v":"00:00:40"},"02:22:28",null,1983,"Masters 1/2",false]
[22,"ROUANET-Xavier","ROUANET","Xavier","M","1976-02-24",39.249828884325801,"Albi Velo Sport","FFC","Masters 1/2",45,{"$f":"VLOOKUP(A23,'Chrono+Classement'!G:O,5,FALSE)","v":27},{"$f":"VLOOKUP(A23,'Chrono+Classement'!G:O,9,FALSE)","v":"02:34:17"},{"$f":"IF(K23=17,Param!G23,IF(K23=28,Param!H23,IF(K23=45,Param!I23)))","v":"00:00:40"},"02:33:37",null,1976,"Masters 1/2",false]
[23,"SERRES-Benoit","SERRES","Benoit","M","1970-11-16",44.522929500342229,"Velo Club Naucelle","UFOLEP","Masters 3/4",45,{"$f":"VLOOKUP(A24,'Chrono+Classement'!G:O,5,FALSE)","v":23},{"$f":"VLOOKUP(A24,'Chrono+Classement'!G:O,9,FALSE)","v":"02:28:31"},{"$f":"IF(K24=17,Param!G24,IF(K24=28,Param!H24,IF(K24=45,Param!I24)))","v":"00:00:40"},"02:27:51",null,1970,"Masters 3/4",false]
[24,"TACHON-Bruno","TACHON","Bruno","M","1967-03-25",48.16974674880219,"Vélo Club Villefranchois","FSGT","Masters 3/4",45,{"$f":"VLOOKUP(A25,'Chrono+Classement'!G:O,5,FALSE)","v":57},{"$f":"VLOOKUP(A25,'Chrono+Classement'!G:O,9,FALSE)","v":"03:53:11"},{"$f":"IF(K25=17,Param!G25,IF(K25=28,Param!H25,IF(K25=45,Param!I25)))","v":"00:00:40"},"03:52:31",null,1967,"Masters 3/4",false]
[25,"AUMAGY-Nicolas","AUMAGY","Nicolas","M","1985-02-04",30.302532511978097,null,"NL","Masters 1/2",45,"ABD","ABD",{"$f":"IF(K26=17,Param!G26,IF(K26=28,Param!H26,IF(K26=45,Param!I26)))","v":"00:00:40"},"ABD",null,1985,"Masters 1/2",false]
[26,"COUSTILLERES-Christophe","COUSTILLERES","Christophe","M","1971-12-13",43.449691991786445,"VC Castelmayran","UFOLEP","Masters 3/4",45,{"$f":"VLOOKUP(A27,'Chrono+Classement'!G:O,5,FALSE)","v":15},{"$f":"VLOOKUP(A27,'Chrono+Classement'!G:O,9,FALSE)","v":"02:19:11"},{"$f":"IF(K27=17,Param!G27,IF(K27=28,Param!H27,IF(K27=45,Param!I27)))","v":"00:00:40"},{"$f":"M27-N27","v":"02:18:31"},null,1971,"Masters 3/4",false]
[27,"FENASSE-Frederic","FENASSE","Frederic","M","1964-12-09",50.458590006844624,"TOAC","FFC","Masters 5",45,{"$f":"VLOOKUP(A28,'Chrono+Classement'!G:O,5,FALSE)","v":38},{"$f":"VLOOKUP(A28,'Chrono+Classement'!G:O,9,FALSE)","v":"02:51:16"},{"$f":"IF(K28=17,Param!G28,IF(K28=28,Param!H28,IF(K28=45,Param!I28)))","v":"00:00:40"},{"$f":"M28-N28","v":"02:50:36"},null,1964,"Masters 5",false]
[28,"FENASSE-Damien","FENASSE","Damien","M","1994-11-08",20.544832306639289,"TOAC","FFC","Espoirs",45,{"$f":"VLOOKUP(A29,'Chrono+Classement'!G:O,5,FALSE)","v":26},{"$f":"VLOOKUP(A29,'Chrono+Classement'!G:O,9,FALSE)","v":"02:33:02"},{"$f":"IF(K29=17,Param!G29,IF(K29=28,Param!H29,IF(K29=45,Param!I29)))","v":"00:00:40"},{"$f":"M29-N29","v":"02:32:22"},null,1994,"Espoirs",false]
[29,"LARRIPA-Bruno","LARRIPA","Bruno","M","1965-12-06",49.46748802190281,"JURANCON","UFOLEP","Masters 5",45,{"$f":"VLOOKUP(A30,'Chrono+Classement'!G:O,5,FALSE)","v":49},{"$f":"VLOOKUP(A30,'Chrono+Classement'!G:O,9,FALSE)","v":"03:22:24"},{"$f":"IF(K30=17,Param!G30,IF(K30=28,Param!H30,IF(K30=45,Param!I30)))","v":"00:00:40"},{"$f":"M30-N30","v":"03:21:44"},null,1965,"Masters 5",false]
[30,"GINESTE-Antony","GINESTE","Antony","M","1991-06-12",23.953456536618756,"VC Montauban","FFC","Hommes",45,{"$f":"VLOOKUP(A31,'Chrono+Classement'!G:O,5,FALSE)","v":42},{"$f":"VLOOKUP(A31,'Chrono+Classement'!G:O,9,FALSE)","v":"03:12:48"},{"$f":"IF(K31=17,Param!G31,IF(K31=28,Param!H31,IF(K31=45,Param!I31)))","v":"00:00:40"},{"$f":"M31-N31","v":"03:12:08"},null,1991,"Hommes",false]
[31,"ROCHE-Damien","ROCHE","Damien","M","1980-12-11",34.453114305270361,"Cahors Cyclisme","FFC","Masters 1/2",45,"ABD","ABD",{"$f":"IF(K32=17,Param!G32,IF(K32=28,Param!H32,IF(K32=45,Param!I32)))","v":"00:00:40"},"ABD",null,1980,"Masters 1/2",false]
[32,"DIAS SOEIRO-Eric","DIAS SOEIRO","Eric","M","1977-11-08",37.544147843942504,"Cahors Cyclisme","FFC","Masters 1/2",45,{"$f":"VLOOKUP(A33,'Chrono+Classement'!G:O,5,FALSE)","v":28},{"$f":"VLOOKUP(A33,'Chrono+Classement'!G:O,9,FALSE)","v":"02:34:32"},{"$f":"IF(K33=17,Param!G33,IF(K33=28,Param!H33,IF(K33=45,Param!I33)))","v":"00:00:40"},{"$f":"M33-N33","v":"02:33:52"},null,1977,"Masters 1/2",false]
[33,"VIGROOX-Gaetan","VIGROOX","Gaetan","M","1987-05-19",28.019164955509925,"VTT Evasion","FFC","Hommes",45,{"$f":"VLOOKUP(A34,'Chrono+Classement'!G:O,5,FALSE)","v":48},{"$f":"VLOOKUP(A34,'Chrono+Classement'!G:O,9,FALSE)","v":"03:19:11"},{"$f":"IF(K34=17,Param!G34,IF(K34=28,Param!H34,IF(K34=45,Param!I34)))","v":"00:00:40"},{"$f":"M34-N34","v":"03:18:31"},null,1987,"Hommes",false]
[34,"GAYRAL-Michael","GAYRAL","Michael","M","1992-08-27",22.743326488706366,"VSM","FFC","Hommes",45,{"$f":"VLOOKUP(A35,'Chrono+Classement'!G:O,5,FALSE)","v":24},{"$f":"VLOOKUP(A35,'Chrono+Classement'!G:O,9,FALSE)","v":"02:29:56"},{"$f":"IF(K35=17,Param!G35,IF(K35=28,Param!H35,IF(K35=45,Param!I35)))","v":"00:00:40"},{"$f":"M35-N35","v":"02:29:16"},null,1992,"Hommes",false]
[35,"BARBANSON-Xavier","BARBANSON","Xavier","M","1979-09-27",35.66050650239562,"TOAC","FSGT","Masters 1/2",45,"ABD","ABD",{"$f":"IF(K36=17,Param!G36,IF(K36=28,Param!H36,IF(K36=45,Param!I36)))","v":"00:00:40"},"ABD",null,1979,"Masters 1/2",false]
[36,"RALECHE-Jean-Michel","RALECHE","Jean-Michel","M","1971-04-23",44.090349075975361,null,"NL","Masters 3/4",45,{"$f":"VLOOKUP(A37,'Chrono+Classement'!G:O,5,FALSE)","v":53},{"$f":"VLOOKUP(A37,'Chrono+Classement'!G:O,9,FALSE)","v":"03:31:07"},{"$f":"IF(K37=17,Param!G37,IF(K37=28,Param!H37,IF(K37=45,Param!I37)))","v":"00:00:40"},{"$f":"M37-N37","v":"03:30:27"},null,1971,"Masters 3/4",false]
[37,"CARTRON-Jacques","CARTRON","Jacques","M","1967-07-07",47.885010266940455,"Maillons Libres","NL","Masters 3/4",45,{"$f":"VLOOKUP(A38,'Chrono+Classement'!G:O,5,FALSE)","v":46},{"$f":"VLOOKUP(A38,'Chrono+Classement'!G:O,9,FALSE)","v":"03:15:54"},{"$f":"IF(K38=17,Param!G38,IF(K38=28,Param!H38,IF(K38=45,Param!I38)))","v":"00:00:40"},"03:15:14",null,1967,"Masters 3/4",false]
[38,"PAGES-Yves","PAGES","Yves","M","1967-10-12",47.619438740588635,"VTT Cornebarieu","NL","Masters 3/4",45,{"$f":"VLOOKUP(A39,'Chrono+Classement'!G:O,5,FALSE)","v":29},{"$f":"VLOOKUP(A39,'Chrono+Classement'!G:O,9,FALSE)","v":"02:34:47"},{"$f":"IF(K39=17,Param!G39,IF(K39=28,Param!H39,IF(K39=45,Param!I39)))","v":"00:00:40"},"02:34:07",null,1967,"Masters 3/4",false]
[39,"BARCELO-Thierry","BARCELO","Thierry","M","1963-04-24",52.087611225188226,"CPRS Pins Justaret","FSGT","Masters 5",45,{"$f":"VLOOKUP(A40,'Chrono+Classement'!G:O,5,FALSE)","v":25},{"$f":"VLOOKUP(A40,'Chrono+Classement'!G:O,9,FALSE)","v":"02:32:30"},{"$f":"IF(K40=17,Param!G40,IF(K40=28,Param!H40,IF(K40=45,Param!I40)))","v":"00:00:40"},"02:31:50",null,1963,"Masters 5",false]
[40,"GAYRAUD-Cédric","GAYRAUD","Cédric","M","1983-03-21",32.180698151950722,"APC","UFOLEP","Masters 1/2",45,{"$f":"VLOOKUP(A41,'Chrono+Classement'!G:O,5,FALSE)","v":30},{"$f":"VLOOKUP(A41,'Chrono+Classement'!G:O,9,FALSE)","v":"02:35:53"},{"$f":"IF(K41=17,Param!G41,IF(K41=28,Param!H41,IF(K41=45,Param!I41)))","v":"00:00:40"},"02:35:13",null,1983,"Masters 1/2",false]
[41,"NICE-Stephane","NICE","Stephane","M","1981-05-07",34.050650239561946,null,"NL","Masters 1/2",45,{"$f":"VLOOKUP(A42,'Chrono+Classement'!G:O,5,FALSE)","v":56},{"$f":"VLOOKUP(A42,'Chrono+Classement'!G:O,9,FALSE)","v":"03:45:41"},{"$f":"IF(K42=17,Param!G42,IF(K42=28,Param!H42,IF(K42=45,Param!I42)))","v":"00:00:40"},"03:45:01",null,1981,"Masters 1/2",false]
[42,"JOULIE-Nicolas","JOULIE","Nicolas","M","1973-12-11",41.453798767967143,"Muret","FFC","Masters 3/4",45,{"$f":"VLOOKUP(A43,'Chrono+Classement'!G:O,5,FALSE)","v":21},{"$f":"VLOOKUP(A43,'Chrono+Classement'!G:O,9,FALSE)","v":"02:27:52"},{"$f":"IF(K43=17,Param!G43,IF(K43=28,Param!H43,IF(K43=45,Param!I43)))","v":"00:00:40"},"02:27:12",null,1973,"Masters 3/4",false]
[43,"SIGOT-François","SIGOT","François","M","1964-08-17",50.770704996577685,"Muret","FFC","Masters 5",45,{"$f":"VLOOKUP(A44,'Chrono+Classement'!G:O,5,FALSE)","v":36},{"$f":"VLOOKUP(A44,'Chrono+Classement'!G:O,9,FALSE)","v":"02:44:53"},{"$f":"IF(K44=17,Param!G44,IF(K44=28,Param!H44,IF(K44=45,Param!I44)))","v":"00:00:40"},"02:44:13",null,1964,"Masters 5",false]
[44,"MATHIEU-Sebastien","MATHIEU","Sebastien","M","1981-10-03",33.642710472279262,"VC Laissac","FFC","Masters 1/2",45,{"$f":"VLOOKUP(A45,'Chrono+Classement'!G:O,5,FALSE)","v":19},{"$f":"VLOOKUP(A45,'Chrono+Classement'!G:O,9,FALSE)","v":"02:25:57"},{"$f":"IF(K45=17,Param!G45,IF(K45=28,Param!H45,IF(K45=45,Param!I45)))","v":"00:00:40"},"02:25:17",null,1981,"Masters 1/2",false]
[45,"SIRGUE-Jérome","SIRGUE","Jérome","M","1973-04-11",42.121834360027378,"VC Laissac","FFC","Masters 3/4",45,{"$f":"VLOOKUP(A46,'Chrono+Classement'!G:O,5,FALSE)","v":47},{"$f":"VLOOKUP(A46,'Chrono+Classement'!G:O,9,FALSE)","v":"03:19:02"},{"$f":"IF(K46=17,Param!G46,IF(K46=28,Param!H46,IF(K46=45,Param!I46)))","v":"00:00:40"},"03:18:22",null,1973,"Masters 3/4",false]
[46,"JOUVE-Dominique","JOUVE","Dominique","M","1961-08-25",53.74948665297741,null,"NL","Masters 5",45,{"$f":"VLOOKUP(A47,'Chrono+Classement'!G:O,5,FALSE)","v":55},{"$f":"VLOOKUP(A47,'Chrono+Classement'!G:O,9,FALSE)","v":"03:35:57"},{"$f":"IF(K47=17,Param!G47,IF(K47=28,Param!H47,IF(K47=45,Param!I47)))","v":"00:00:40"},"03:35:17",null,1961,"Masters 5",false]
[47,"BORN-Vivian","BORN","Vivian","M","1996-04-19",19.09924709103354,"VILLENEUVE Cycliste","FFC","Espoirs",45,{"$f":"VLOOKUP(A48,'Chrono+Classement'!G:O,5,FALSE)","v":13},{"$f":"VLOOKUP(A48,'Chrono+Classement'!G:O,9,FALSE)","v":"02:13:47"},{"$f":"IF(K48=17,Param!G48,IF(K48=28,Param!H48,IF(K48=45,Param!I48)))","v":"00:00:40"},"02:13:07",null,1996,"Espoirs",false]
[48,"-",null,null,null,null,115.40041067761807,null,null,null,45,{"$f":"VLOOKUP(A49,'Chrono+Classement'!G:O,5,FALSE)","v":{"$error":"#N/A"}},{"$f":"VLOOKUP(A49,'Chrono+Classement'!G:O,9,FALSE)","v":{"$error":"#N/A"}},{"$f":"IF(K49=17,Param!G49,IF(K49=28,Param!H49,IF(K49=45,Param!I49)))","v":"00:00:40"},{"$error":"#N/A"},null,1900,false,false]
[49,"-",null,null,null,null,115.40041067761807,null,null,null,45,{"$f":"VLOOKUP(A50,'Chrono+Classement'!G:O,5,FALSE)","v":{"$error":"#N/A"}},{"$f":"VLOOKUP(A50,'Chrono+Classement'!G:O,9,FALSE)","v":{"$error":"#N/A"}},{"$f":"IF(K50=17,Param!G50,IF(K50=28,Param!H50,IF(K50=45,Param!I50)))","v":"00:00:40"},{"$error":"#N/A"},null,1900,false,false]
[50,"-",null,null,null,null,115.40041067761807,null,null,null,45,{"$f":"VLOOKUP(A51,'Chrono+Classement'!G:O,5,FALSE)","v":{"$error":"#N/A"}},{"$f":"VLOOKUP(A51,'Chrono+Classement'!G:O,9,FALSE)","v":{"$error":"#N/A"}},{"$f":"IF(K51=17,Param!G51,IF(K51=28,Param!H51,IF(K51=45,Param!I51)))","v":"00:00:40"},{"$error":"#N/A"},null,1900,false,false]
[51,"-",null,null,null,null,115.40041067761807,null,null,null,45,{"$f":"VLOOKUP(A52,'Chrono+Classement'!G:O,5,FALSE)","v":{"$error":"#N/A"}},{"$f":"VLOOKUP(A52,'Chrono+Classement'!G:O,9,FALSE)","v":{"$error":"#N/A"}},{"$f":"IF(K52=17,Param!G52,IF(K52=28,Param!H52,IF(K52=45,Param!I52)))","v":"00:00:40"},{"$error":"#N/A"},null,1900,false,false]
[52,"-",null,null,null,null,115.40041067761807,null,null,null,45,{"$f":"VLOOKUP(A53,'Chrono+Classement'!G:O,5,FALSE)","v":{"$error":"#N/A"}},{"$f":"VLOOKUP(A53,'Chrono+Classement'!G:O,9,FALSE)","v":{"$error":"#N/A"}},{"$f":"IF(K53=17,Param!G53,IF(K53=28,Param!H53,IF(K53=45,Param!I53)))","v":"00:00:40"},{"$error":"#N/A"},null,1900,false,false]
[53,"-",null,null,null,null,115.40041067761807,null,null,null,45,{"$f":"VLOOKUP(A54,'Chrono+Classement'!G:O,5,FALSE)","v":{"$error":"#N/A"}},{"$f":"VLOOKUP(A54,'Chrono+Classement'!G:O,9,FALSE)","v":{"$error":"#N/A"}},{"$f":"IF(K54=17,Param!G54,IF(K54=28,Param!H54,IF(K54=45,Param!I54)))","v":"00:00:40"},{"$error":"#N/A"},null,1900,false,false]
[54,"-",null,null,null,null,115.40041067761807,null,null,null,45,{"$f":"VLOOKUP(A55,'Chrono+Classement'!G:O,5,FALSE)","v":{"$error":"#N/A"}},{"$f":"VLOOKUP(A55,'Chrono+Classement'!G:O,9,FALSE)","v":{"$error":"#N/A"}},{"$f":"IF(K55=17,Param!G55,IF(K55=28,Param!H55,IF(K55=45,Param!I55)))","v":"00:00:40"},{"$error":"#N/A"},null,1900,false,false]
[55,"-",null,null,null,null,115.40041067761807,null,null,null,45,{"$f":"VLOOKUP(A56,'Chrono+Classement'!G:O,5,FALSE)","v":{"$error":"#N/A"}},{"$f":"VLOOKUP(A56,'Chrono+Classement'!G:O,9,FALSE)","v":{"$error":"#N/A"}},{"$f":"IF(K56=17,Param!G56,IF(K56=28,Param!H56,IF(K56=45,Param!I56)))","v":"00:00:40"},{"$error":"#N/A"},null,1900,false,false]
[56,"-",null,null,null,null,115.40041067761807,null,null,null,45,{"$f":"VLOOKUP(A57,'Chrono+Classement'!G:O,5,FALSE)","v":{"$error":"#N/A"}},{"$f":"VLOOKUP(A57,'Chrono+Classement'!G:O,9,FALSE)","v":{"$error":"#N/A"}},{"$f":"IF(K57=17,Param!G57,IF(K57=28,Param!H57,IF(K57=45,Param!I57)))","v":"00:00:40"},{"$error":"#N/A"},null,1900,false,false]
[57,"-",null,null,null,null,115.40041067761807,null,null,null,45,{"$f":"VLOOKUP(A58,'Chrono+Classement'!G:O,5,FALSE)","v":{"$error":"#N/A"}},{"$f":"VLOOKUP(A58,'Chrono+Classement'!G:O,9,FALSE)","v":{"$error":"#N/A"}},{"$f":"IF(K58=17,Param!G58,IF(K58=28,Param!H58,IF(K58=45,Param!I58)))","v":"00:00:40"},{"$error":"#N/A"},null,1900,false,false]
[58,"-",null,null,null,null,115.40041067761807,null,null,null,45,{"$f":"VLOOKUP(A59,'Chrono+Classement'!G:O,5,FALSE)","v":{"$error":"#N/A"}},{"$f":"VLOOKUP(A59,'Chrono+Classement'!G:O,9,FALSE)","v":{"$error":"#N/A"}},{"$f":"IF(K59=17,Param!G59,IF(K59=28,Param!H59,IF(K59=45,Param!I59)))","v":"00:00:40"},{"$error":"#N/A"},null,1900,false,false]
[59,"-",null,null,null,null,115.40041067761807,null,null,null,45,{"$f":"VLOOKUP(A60,'Chrono+Classement'!G:O,5,FALSE)","v":{"$error":"#N/A"}},{"$f":"VLOOKUP(A60,'Chrono+Classement'!G:O,9,FALSE)","v":{"$error":"#N/A"}},{"$f":"IF(K60=17,Param!G60,IF(K60=28,Param!H60,IF(K60=45,Param!I60)))","v":"00:00:40"},{"$error":"#N/A"},null,1900,false,false]
[60,"-",null,null,null,null,115.40041067761807,null,null,null,45,{"$f":"VLOOKUP(A61,'Chrono+Classement'!G:O,5,FALSE)","v":{"$error":"#N/A"}},{"$f":"VLOOKUP(A61,'Chrono+Classement'!G:O,9,FALSE)","v":{"$error":"#N/A"}},{"$f":"IF(K61=17,Param!G61,IF(K61=28,Param!H61,IF(K61=45,Param!I61)))","v":"00:00:40"},{"$error":"#N/A"},null,1900,false,false]
[61,"-",null,null,null,null,115.40041067761807,null,null,null,45,{"$f":"VLOOKUP(A62,'Chrono+Classement'!G:O,5,FALSE)","v":{"$error":"#N/A"}},{"$f":"VLOOKUP(A62,'Chrono+Classement'!G:O,9,FALSE)","v":{"$error":"#N/A"}},{"$f":"IF(K62=17,Param!G62,IF(K62=28,Param!H62,IF(K62=45,Param!I62)))","v":"00:00:40"},{"$error":"#N/A"},null,1900,false,false]
[62,"-",null,null,null,null,115.40041067761807,null,null,null,45,{"$f":"VLOOKUP(A63,'Chrono+Classement'!G:O,5,FALSE)","v":{"$error":"#N/A"}},{"$f":"VLOOKUP(A63,'Chrono+Classement'!G:O,9,FALSE)","v":{"$error":"#N/A"}},{"$f":"IF(K63=17,Param!G63,IF(K63=28,Param!H63,IF(K63=45,Param!I63)))","v":"00:00:40"},{"$error":"#N/A"},null,1900,false,false]
[63,"-",null,null,null,null,115.40041067761807,null,null,null,45,{"$f":"VLOOKUP(A64,'Chrono+Classement'!G:O,5,FALSE)","v":{"$error":"#N/A"}},{"$f":"VLOOKUP(A64,'Chrono+Classement'!G:O,9,FALSE)","v":{"$error":"#N/A"}},{"$f":"IF(K64=17,Param!G64,IF(K64=28,Param!H64,IF(K64=45,Param!I64)))","v":"00:00:40"},{"$error":"#N/A"},null,1900,false,false]
[64,"-",null,null,null,null,115.40041067761807,null,null,null,45,{"$f":"VLOOKUP(A65,'Chrono+Classement'!G:O,5,FALSE)","v":{"$error":"#N/A"}},{"$f":"VLOOKUP(A65,'Chrono+Classement'!G:O,9,FALSE)","v":{"$error":"#N/A"}},{"$f":"IF(K65=17,Param!G65,IF(K65=28,Param!H65,IF(K65=45,Param!I65)))","v":"00:00:40"},{"$error":"#N/A"},null,1900,false,false]
[65,{"$f":"CONCATENATE(C66,\"-\",D66)","v":"-"},null,null,null,null,{"$f":"(TODAY()-F66)/365.25","v":115.40041067761807},null,null,null,45,{"$f":"VLOOKUP(A66,'Chrono+Classement'!G:O,5,FALSE)","v":{"$error":"#N/A"}},{"$f":"VLOOKUP(A66,'Chrono+Classement'!G:O,9,FALSE)","v":{"$error":"#N/A"}},{"$f":"IF(K66=17,Param!G66,IF(K66=28,Param!H66,IF(K66=45,Param!I66)))","v":"00:00:40"},{"$error":"#N/A"},null,{"$f":"YEAR(F66)","v":1900},{"$f":"IF(E66=\"M\",IF(Q66<=1965,\"Masters 5\",IF(Q66<=1975,\"Masters 3/4\",IF(Q66<=1985,\"Masters 1/2\",IF(Q66<=1992,\"Hommes\",IF(Q66<=1996,\"Espoirs\",IF(Q66<=1998,\"Juniors\",IF(Q66<=2000,\"Cadets\",0))))))))","v":false},{"$f":"IF(E66=\"F\",IF(Q66<=1992,\"Dames\",IF(Q66<=1996,\"Espoirs Dames\",IF(Q66<=1998,\"Juniors Dames\",IF(Q66<=2000,\"Cadettes\",0)))))","v":false}]
[66,"-",null,null,null,null,115.40041067761807,null,null,null,45,{"$f":"VLOOKUP(A67,'Chrono+Classement'!G:O,5,FALSE)","v":{"$error":"#N/A"}},{"$f":"VLOOKUP(A67,'Chrono+Classement'!G:O,9,FALSE)","v":{"$error":"#N/A"}},{"$f":"IF(K67=17,Param!G67,IF(K67=28,Param!H67,IF(K67=45,Param!I67)))","v":"00:00:40"},{"$error":"#N/A"},null,1900,false,false]
[67,"-",null,null,null,null,115.40041067761807,null,null,null,45,{"$f":"VLOOKUP(A68,'Chrono+Classement'!G:O,5,FALSE)","v":{"$error":"#N/A"}},{"$f":"VLOOKUP(A68,'Chrono+Classement'!G:O,9,FALSE)","v":{"$error":"#N/A"}},{"$f":"IF(K68=17,Param!G68,IF(K68=28,Param!H68,IF(K68=45,Param!I68)))","v":"00:00:40"},{"$error":"#N/A"},null,1900,false,false]
[68,"-",null,null,null,null,115.40041067761807,null,null,null,45,{"$f":"VLOOKUP(A69,'Chrono+Classement'!G:O,5,FALSE)","v":{"$error":"#N/A"}},{"$f":"VLOOKUP(A69,'Chrono+Classement'!G:O,9,FALSE)","v":{"$error":"#N/A"}},{"$f":"IF(K69=17,Param!G69,IF(K69=28,Param!H69,IF(K69=45,Param!I69)))","v":"00:00:40"},{"$error":"#N/A"},null,1900,false,false]
[69,"-",null,null,null,null,115.40041067761807,null,null,null,45,{"$f":"VLOOKUP(A70,'Chrono+Classement'!G:O,5,FALSE)","v":{"$error":"#N/A"}},{"$f":"VLOOKUP(A70,'Chrono+Classement'!G:O,9,FALSE)","v":{"$error":"#N/A"}},{"$f":"IF(K70=17,Param!G70,IF(K70=28,Param!H70,IF(K70=45,Param!I70)))","v":"00:00:40"},{"$error":"#N/A"},null,1900,false,false]
[70,"-",null,null,null,null,115.40041067761807,null,null,null,45,{"$f":"VLOOKUP(A71,'Chrono+Classement'!G:O,5,FALSE)","v":{"$error":"#N/A"}},{"$f":"VLOOKUP(A71,'Chrono+Classement'!G:O,9,FALSE)","v":{"$error":"#N/A"}},{"$f":"IF(K71=17,Param!G71,IF(K71=28,Param!H71,IF(K71=45,Param!I71)))","v":"00:00:40"},{"$error":"#N/A"},null,1900,false,false]
[71,"-",null,null,null,null,115.40041067761807,null,null,null,45,{"$f":"VLOOKUP(A72,'Chrono+Classement'!G:O,5,FALSE)","v":{"$error":"#N/A"}},{"$f":"VLOOKUP(A72,'Chrono+Classement'!G:O,9,FALSE)","v":{"$error":"#N/A"}},{"$f":"IF(K72=17,Param!G72,IF(K72=28,Param!H72,IF(K72=45,Param!I72)))","v":"00:00:40"},{"$error":"#N/A"},null,1900,false,false]
[72,"-",null,null,null,null,115.40041067761807,null,null,null,45,{"$f":"VLOOKUP(A73,'Chrono+Classement'!G:O,5,FALSE)","v":{"$error":"#N/A"}},{"$f":"VLOOKUP(A73,'Chrono+Classement'!G:O,9,FALSE)","v":{"$error":"#N/A"}},{"$f":"IF(K73=17,Param!G73,IF(K73=28,Param!H73,IF(K73=45,Param!I73)))","v":"00:00:40"},{"$error":"#N/A"},null,1900,false,false]
[73,"-",null,null,null,null,115.40041067761807,null,null,null,45,{"$f":"VLOOKUP(A74,'Chrono+Classement'!G:O,5,FALSE)","v":{"$error":"#N/A"}},{"$f":"VLOOKUP(A74,'Chrono+Classement'!G:O,9,FALSE)","v":{"$error":"#N/A"}},{"$f":"IF(K74=17,Param!G74,IF(K74=28,Param!H74,IF(K74=45,Param!I74)))","v":"00:00:40"},{"$error":"#N/A"},null,1900,false,false]
[74,"-",null,null,null,null,115.40041067761807,null,null,null,45,{"$f":"VLOOKUP(A75,'Chrono+Classement'!G:O,5,FALSE)","v":{"$error":"#N/A"}},{"$f":"VLOOKUP(A75,'Chrono+Classement'!G:O,9,FALSE)","v":{"$error":"#N/A"}},{"$f":"IF(K75=17,Param!G75,IF(K75=28,Param!H75,IF(K75=45,Param!I75)))","v":"00:00:40"},{"$error":"#N/A"},null,1900,false,false]
[75,"-",null,null,null,null,115.40041067761807,null,null,null,45,{"$f":"VLOOKUP(A76,'Chrono+Classement'!G:O,5,FALSE)","v":{"$error":"#N/A"}},{"$f":"VLOOKUP(A76,'Chrono+Classement'!G:O,9,FALSE)","v":{"$error":"#N/A"}},{"$f":"IF(K76=17,Param!G76,IF(K76=28,Param!H76,IF(K76=45,Param!I76)))","v":"00:00:40"},{"$error":"#N/A"},null,1900,false,false]
[76,"-",null,null,null,null,115.40041067761807,null,null,null,45,{"$f":"VLOOKUP(A77,'Chrono+Classement'!G:O,5,FALSE)","v":{"$error":"#N/A"}},{"$f":"VLOOKUP(A77,'Chrono+Classement'!G:O,9,FALSE)","v":{"$error":"#N/A"}},{"$f":"IF(K77=17,Param!G77,IF(K77=28,Param!H77,IF(K77=45,Param!I77)))","v":"00:00:40"},{"$error":"#N/A"},null,1900,false,false]
[77,"-",null,null,null,null,115.40041067761807,null,null,null,45,{"$f":"VLOOKUP(A78,'Chrono+Classement'!G:O,5,FALSE)","v":{"$error":"#N/A"}},{"$f":"VLOOKUP(A78,'Chrono+Classement'!G:O,9,FALSE)","v":{"$error":"#N/A"}},{"$f":"IF(K78=17,Param!G78,IF(K78=28,Param!H78,IF(K78=45,Param!I78)))","v":"00:00:40"},{"$error":"#N/A"},null,1900,false,false]
[78,"-",null,null,null,null,115.40041067761807,null,null,null,45,{"$f":"VLOOKUP(A79,'Chrono+Classement'!G:O,5,FALSE)","v":{"$error":"#N/A"}},{"$f":"VLOOKUP(A79,'Chrono+Classement'!G:O,9,FALSE)","v":{"$error":"#N/A"}},{"$f":"IF(K79=17,Param!G79,IF(K79=28,Param!H79,IF(K79=45,Param!I79)))","v":"00:00:40"},{"$error":"#N/A"},null,1900,false,false]
[79,"-",null,null,null,null,115.40041067761807,null,null,null,45,{"$f":"VLOOKUP(A80,'Chrono+Classement'!G:O,5,FALSE)","v":{"$error":"#N/A"}},{"$f":"VLOOKUP(A80,'Chrono+Classement'!G:O,9,FALSE)","v":{"$error":"#N/A"}},{"$f":"IF(K80=17,Param!G80,IF(K80=28,Param!H80,IF(K80=45,Param!I80)))","v":"00:00:40"},{"$error":"#N/A"},null,1900,false,false]
[80,"-",null,null,null,null,115.40041067761807,null,null,null,45,{"$f":"VLOOKUP(A81,'Chrono+Classement'!G:O,5,FALSE)","v":{"$error":"#N/A"}},{"$f":"VLOOKUP(A81,'Chrono+Classement'!G:O,9,FALSE)","v":{"$error":"#N/A"}},{"$f":"IF(K81=17,Param!G81,IF(K81=28,Param!H81,IF(K81=45,Param!I81)))","v":"00:00:40"},{"$error":"#N/A"},null,1900,false,false]
[81,"-",null,null,null,null,115.40041067761807,null,null,null,45,{"$f":"VLOOKUP(A82,'Chrono+Classement'!G:O,5,FALSE)","v":{"$error":"#N/A"}},{"$f":"VLOOKUP(A82,'Chrono+Classement'!G:O,9,FALSE)","v":{"$error":"#N/A"}},{"$f":"IF(K82=17,Param!G82,IF(K82=28,Param!H82,IF(K82=45,Param!I82)))","v":"00:00:40"},{"$error":"#N/A"},null,1900,false,false]
[82,"-",null,null,null,null,115.40041067761807,null,null,null,45,{"$f":"VLOOKUP(A83,'Chrono+Classement'!G:O,5,FALSE)","v":{"$error":"#N/A"}},{"$f":"VLOOKUP(A83,'Chrono+Classement'!G:O,9,FALSE)","v":{"$error":"#N/A"}},{"$f":"IF(K83=17,Param!G83,IF(K83=28,Param!H83,IF(K83=45,Param!I83)))","v":"00:00:40"},{"$error":"#N/A"},null,1900,false,false]
[83,"-",null,null,null,null,115.40041067761807,null,null,null,45,{"$f":"VLOOKUP(A84,'Chrono+Classement'!G:O,5,FALSE)","v":{"$error":"#N/A"}},{"$f":"VLOOKUP(A84,'Chrono+Classement'!G:O,9,FALSE)","v":{"$error":"#N/A"}},{"$f":"IF(K84=17,Param!G84,IF(K84=28,Param!H84,IF(K84=45,Param!I84)))","v":"00:00:40"},{"$error":"#N/A"},null,1900,false,false]
[84,"-",null,null,null,null,115.40041067761807,null,null,null,45,{"$f":"VLOOKUP(A85,'Chrono+Classement'!G:O,5,FALSE)","v":{"$error":"#N/A"}},{"$f":"VLOOKUP(A85,'Chrono+Classement'!G:O,9,FALSE)","v":{"$error":"#N/A"}},{"$f":"IF(K85=17,Param!G85,IF(K85=28,Param!H85,IF(K85=45,Param!I85)))","v":"00:00:40"},{"$error":"#N/A"},null,1900,false,false]
[85,"-",null,null,null,null,115.40041067761807,null,null,null,45,{"$f":"VLOOKUP(A86,'Chrono+Classement'!G:O,5,FALSE)","v":{"$error":"#N/A"}},{"$f":"VLOOKUP(A86,'Chrono+Classement'!G:O,9,FALSE)","v":{"$error":"#N/A"}},{"$f":"IF(K86=17,Param!G86,IF(K86=28,Param!H86,IF(K86=45,Param!I86)))","v":"00:00:40"},{"$error":"#N/A"},null,1900,false,false]
[86,"-",null,null,null,null,115.40041067761807,null,null,null,45,{"$f":"VLOOKUP(A87,'Chrono+Classement'!G:O,5,FALSE)","v":{"$error":"#N/A"}},{"$f":"VLOOKUP(A87,'Chrono+Classement'!G:O,9,FALSE)","v":{"$error":"#N/A"}},{"$f":"IF(K87=17,Param!G87,IF(K87=28,Param!H87,IF(K87=45,Param!I87)))","v":"00:00:40"},{"$error":"#N/A"},null,1900,false,false]
[87,"-",null,null,null,null,115.40041067761807,null,null,null,45,{"$f":"VLOOKUP(A88,'Chrono+Classement'!G:O,5,FALSE)","v":{"$error":"#N/A"}},{"$f":"VLOOKUP(A88,'Chrono+Classement'!G:O,9,FALSE)","v":{"$error":"#N/A"}},{"$f":"IF(K88=17,Param!G88,IF(K88=28,Param!H88,IF(K88=45,Param!I88)))","v":"00:00:40"},{"$error":"#N/A"},null,1900,false,false]
[88,"-",null,null,null,null,115.40041067761807,null,null,null,45,{"$f":"VLOOKUP(A89,'Chrono+Classement'!G:O,5,FALSE)","v":{"$error":"#N/A"}},{"$f":"VLOOKUP(A89,'Chrono+Classement'!G:O,9,FALSE)","v":{"$error":"#N/A"}},{"$f":"IF(K89=17,Param!G89,IF(K89=28,Param!H89,IF(K89=45,Param!I89)))","v":"00:00:40"},{"$error":"#N/A"},null,1900,false,false]
[89,"-",null,null,null,null,115.40041067761807,null,null,null,45,{"$f":"VLOOKUP(A90,'Chrono+Classement'!G:O,5,FALSE)","v":{"$error":"#N/A"}},{"$f":"VLOOKUP(A90,'Chrono+Classement'!G:O,9,FALSE)","v":{"$error":"#N/A"}},{"$f":"IF(K90=17,Param!G90,IF(K90=28,Param!H90,IF(K90=45,Param!I90)))","v":"00:00:40"},{"$error":"#N/A"},null,1900,false,false]
[90,"-",null,null,null,null,115.40041067761807,null,null,null,45,{"$f":"VLOOKUP(A91,'Chrono+Classement'!G:O,5,FALSE)","v":{"$error":"#N/A"}},{"$f":"VLOOKUP(A91,'Chrono+Classement'!G:O,9,FALSE)","v":{"$error":"#N/A"}},{"$f":"IF(K91=17,Param!G91,IF(K91=28,Param!H91,IF(K91=45,Param!I91)))","v":"00:00:40"},{"$error":"#N/A"},null,1900,false,false]
[91,"-",null,null,null,null,115.40041067761807,null,null,null,45,{"$f":"VLOOKUP(A92,'Chrono+Classement'!G:O,5,FALSE)","v":{"$error":"#N/A"}},{"$f":"VLOOKUP(A92,'Chrono+Classement'!G:O,9,FALSE)","v":{"$error":"#N/A"}},{"$f":"IF(K92=17,Param!G92,IF(K92=28,Param!H92,IF(K92=45,Param!I92)))","v":"00:00:40"},{"$error":"#N/A"},null,1900,false,false]
[92,"-",null,null,null,null,115.40041067761807,null,null,null,45,{"$f":"VLOOKUP(A93,'Chrono+Classement'!G:O,5,FALSE)","v":{"$error":"#N/A"}},{"$f":"VLOOKUP(A93,'Chrono+Classement'!G:O,9,FALSE)","v":{"$error":"#N/A"}},{"$f":"IF(K93=17,Param!G93,IF(K93=28,Param!H93,IF(K93=45,Param!I93)))","v":"00:00:40"},{"$error":"#N/A"},null,1900,false,false]
[93,"-",null,null,null,null,115.40041067761807,null,null,null,45,{"$f":"VLOOKUP(A94,'Chrono+Classement'!G:O,5,FALSE)","v":{"$error":"#N/A"}},{"$f":"VLOOKUP(A94,'Chrono+Classement'!G:O,9,FALSE)","v":{"$error":"#N/A"}},{"$f":"IF(K94=17,Param!G94,IF(K94=28,Param!H94,IF(K94=45,Param!I94)))","v":"00:00:40"},{"$error":"#N/A"},null,1900,false,false]
[94,"-",null,null,null,null,115.40041067761807,null,null,null,45,{"$f":"VLOOKUP(A95,'Chrono+Classement'!G:O,5,FALSE)","v":{"$error":"#N/A"}},{"$f":"VLOOKUP(A95,'Chrono+Classement'!G:O,9,FALSE)","v":{"$error":"#N/A"}},{"$f":"IF(K95=17,Param!G95,IF(K95=28,Param!H95,IF(K95=45,Param!I95)))","v":"00:00:40"},{"$error":"#N/A"},null,1900,false,false]
[95,"-",null,null,null,null,115.40041067761807,null,null,null,45,{"$f":"VLOOKUP(A96,'Chrono+Classement'!G:O,5,FALSE)","v":{"$error":"#N/A"}},{"$f":"VLOOKUP(A96,'Chrono+Classement'!G:O,9,FALSE)","v":{"$error":"#N/A"}},{"$f":"IF(K96=17,Param!G96,IF(K96=28,Param!H96,IF(K96=45,Param!I96)))","v":"00:00:40"},{"$error":"#N/A"},null,1900,false,false]
[96,"-",null,null,null,null,115.40041067761807,null,null,null,45,{"$f":"VLOOKUP(A97,'Chrono+Classement'!G:O,5,FALSE)","v":{"$error":"#N/A"}},{"$f":"VLOOKUP(A97,'Chrono+Classement'!G:O,9,FALSE)","v":{"$error":"#N/A"}},{"$f":"IF(K97=17,Param!G97,IF(K97=28,Param!H97,IF(K97=45,Param!I97)))","v":"00:00:40"},{"$error":"#N/A"},null,1900,false,false]
[97,"-",null,null,null,null,115.40041067761807,null,null,null,45,{"$f":"VLOOKUP(A98,'Chrono+Classement'!G:O,5,FALSE)","v":{"$error":"#N/A"}},{"$f":"VLOOKUP(A98,'Chrono+Classement'!G:O,9,FALSE)","v":{"$error":"#N/A"}},{"$f":"IF(K98=17,Param!G98,IF(K98=28,Param!H98,IF(K98=45,Param!I98)))","v":"00:00:40"},{"$error":"#N/A"},null,1900,false,false]
[98,"-",null,null,null,null,115.40041067761807,null,null,null,45,{"$f":"VLOOKUP(A99,'Chrono+Classement'!G:O,5,FALSE)","v":{"$error":"#N/A"}},{"$f":"VLOOKUP(A99,'Chrono+Classement'!G:O,9,FALSE)","v":{"$error":"#N/A"}},{"$f":"IF(K99=17,Param!G99,IF(K99=28,Param!H99,IF(K99=45,Param!I99)))","v":"00:00:40"},{"$error":"#N/A"},null,1900,false,false]
[99,"-",null,null,null,null,115.40041067761807,null,null,null,45,{"$f":"VLOOKUP(A100,'Chrono+Classement'!G:O,5,FALSE)","v":{"$error":"#N/A"}},{"$f":"VLOOKUP(A100,'Chrono+Classement'!G:O,9,FALSE)","v":{"$error":"#N/A"}},{"$f":"IF(K100=17,Param!G100,IF(K100=28,Param!H100,IF(K100=45,Param!I100)))","v":"00:00:40"},{"$error":"#N/A"},null,1900,false,false]
[100,"-",null,null,null,null,115.40041067761807,null,null,null,45,{"$f":"VLOOKUP(A101,'Chrono+Classement'!G:O,5,FALSE)","v":{"$error":"#N/A"}},{"$f":"VLOOKUP(A101,'Chrono+Classement'!G:O,9,FALSE)","v":{"$error":"#N/A"}},{"$f":"IF(K101=17,Param!G101,IF(K101=28,Param!H101,IF(K101=45,Param!I101)))","v":"00:00:40"},{"$f":"M101-N101","v":{"$error":"#N/A"}},null,1900,false,false]
[101,"-",null,null,null,null,115.40041067761807,null,null,null,45,{"$f":"VLOOKUP(A102,'Chrono+Classement'!G:O,5,FALSE)","v":{"$error":"#N/A"}},{"$f":"VLOOKUP(A102,'Chrono+Classement'!G:O,9,FALSE)","v":{"$error":"#N/A"}},{"$f":"IF(K102=17,Param!G102,IF(K102=28,Param!H102,IF(K102=45,Param!I102)))","v":"00:00:40"},{"$error":"#N/A"},null,1900,false,false]
[102,"-",null,null,null,null,115.40041067761807,null,null,null,45,{"$f":"VLOOKUP(A103,'Chrono+Classement'!G:O,5,FALSE)","v":{"$error":"#N/A"}},{"$f":"VLOOKUP(A103,'Chrono+Classement'!G:O,9,FALSE)","v":{"$error":"#N/A"}},{"$f":"IF(K103=17,Param!G103,IF(K103=28,Param!H103,IF(K103=45,Param!I103)))","v":"00:00:40"},{"$error":"#N/A"},null,1900,false,false]
[103,"-",null,null,null,null,115.40041067761807,null,null,null,45,{"$f":"VLOOKUP(A104,'Chrono+Classement'!G:O,5,FALSE)","v":{"$error":"#N/A"}},{"$f":"VLOOKUP(A104,'Chrono+Classement'!G:O,9,FALSE)","v":{"$error":"#N/A"}},{"$f":"IF(K104=17,Param!G104,IF(K104=28,Param!H104,IF(K104=45,Param!I104)))","v":"00:00:40"},{"$error":"#N/A"},null,1900,false,false]
[104,"-",null,null,null,null,115.40041067761807,null,null,null,45,{"$f":"VLOOKUP(A105,'Chrono+Classement'!G:O,5,FALSE)","v":{"$error":"#N/A"}},{"$f":"VLOOKUP(A105,'Chrono+Classement'!G:O,9,FALSE)","v":{"$error":"#N/A"}},{"$f":"IF(K105=17,Param!G105,IF(K105=28,Param!H105,IF(K105=45,Param!I105)))","v":"00:00:40"},{"$error":"#N/A"},null,1900,false,false]
[105,"-",null,null,null,null,115.40041067761807,null,null,null,45,{"$f":"VLOOKUP(A106,'Chrono+Classement'!G:O,5,FALSE)","v":{"$error":"#N/A"}},{"$f":"VLOOKUP(A106,'Chrono+Classement'!G:O,9,FALSE)","v":{"$error":"#N/A"}},{"$f":"IF(K106=17,Param!G106,IF(K106=28,Param!H106,IF(K106=45,Param!I106)))","v":"00:00:40"},{"$error":"#N/A"},null,1900,false,false]
[106,"-",null,null,null,null,115.40041067761807,null,null,null,45,{"$f":"VLOOKUP(A107,'Chrono+Classement'!G:O,5,FALSE)","v":{"$error":"#N/A"}},{"$f":"VLOOKUP(A107,'Chrono+Classement'!G:O,9,FALSE)","v":{"$error":"#N/A"}},{"$f":"IF(K107=17,Param!G107,IF(K107=28,Param!H107,IF(K107=45,Param!I107)))","v":"00:00:40"},{"$error":"#N/A"},null,1900,false,false]
[107,"-",null,null,null,null,115.40041067761807,null,null,null,45,{"$f":"VLOOKUP(A108,'Chrono+Classement'!G:O,5,FALSE)","v":{"$error":"#N/A"}},{"$f":"VLOOKUP(A108,'Chrono+Classement'!G:O,9,FALSE)","v":{"$error":"#N/A"}},{"$f":"IF(K108=17,Param!G108,IF(K108=28,Param!H108,IF(K108=45,Param!I108)))","v":"00:00:40"},{"$error":"#N/A"},null,1900,false,false]
[108,"-",null,null,null,null,115.40041067761807,null,null,null,45,{"$f":"VLOOKUP(A109,'Chrono+Classement'!G:O,5,FALSE)","v":{"$error":"#N/A"}},{"$f":"VLOOKUP(A109,'Chrono+Classement'!G:O,9,FALSE)","v":{"$error":"#N/A"}},{"$f":"IF(K109=17,Param!G109,IF(K109=28,Param!H109,IF(K109=45,Param!I109)))","v":"00:00:40"},{"$error":"#N/A"},null,1900,false,false]
[109,"-",null,null,null,null,115.40041067761807,null,null,null,45,{"$f":"VLOOKUP(A110,'Chrono+Classement'!G:O,5,FALSE)","v":{"$error":"#N/A"}},{"$f":"VLOOKUP(A110,'Chrono+Classement'!G:O,9,FALSE)","v":{"$error":"#N/A"}},{"$f":"IF(K110=17,Param!G110,IF(K110=28,Param!H110,IF(K110=45,Param!I110)))","v":"00:00:40"},{"$error":"#N/A"},null,1900,false,false]
[110,"-",null,null,null,null,115.40041067761807,null,null,null,45,{"$f":"VLOOKUP(A111,'Chrono+Classement'!G:O,5,FALSE)","v":{"$error":"#N/A"}},{"$f":"VLOOKUP(A111,'Chrono+Classement'!G:O,9,FALSE)","v":{"$error":"#N/A"}},{"$f":"IF(K111=17,Param!G111,IF(K111=28,Param!H111,IF(K111=45,Param!I111)))","v":"00:00:40"},{"$error":"#N/A"},null,1900,false,false]
[111,"-",null,null,null,null,115.40041067761807,null,null,null,45,{"$f":"VLOOKUP(A112,'Chrono+Classement'!G:O,5,FALSE)","v":{"$error":"#N/A"}},{"$f":"VLOOKUP(A112,'Chrono+Classement'!G:O,9,FALSE)","v":{"$error":"#N/A"}},{"$f":"IF(K112=17,Param!G112,IF(K112=28,Param!H112,IF(K112=45,Param!I112)))","v":"00:00:40"},{"$error":"#N/A"},null,1900,false,false]
[112,"-",null,null,null,null,115.40041067761807,null,null,null,45,{"$f":"VLOOKUP(A113,'Chrono+Classement'!G:O,5,FALSE)","v":{"$error":"#N/A"}},{"$f":"VLOOKUP(A113,'Chrono+Classement'!G:O,9,FALSE)","v":{"$error":"#N/A"}},{"$f":"IF(K113=17,Param!G113,IF(K113=28,Param!H113,IF(K113=45,Param!I113)))","v":"00:00:40"},{"$error":"#N/A"},null,1900,false,false]
[113,"-",null,null,null,null,115.40041067761807,null,null,null,45,{"$f":"VLOOKUP(A114,'Chrono+Classement'!G:O,5,FALSE)","v":{"$error":"#N/A"}},{"$f":"VLOOKUP(A114,'Chrono+Classement'!G:O,9,FALSE)","v":{"$error":"#N/A"}},{"$f":"IF(K114=17,Param!G114,IF(K114=28,Param!H114,IF(K114=45,Param!I114)))","v":"00:00:40"},{"$error":"#N/A"},null,1900,false,false]
[114,"-",null,null,null,null,115.40041067761807,null,null,null,45,{"$f":"VLOOKUP(A115,'Chrono+Classement'!G:O,5,FALSE)","v":{"$error":"#N/A"}},{"$f":"VLOOKUP(A115,'Chrono+Classement'!G:O,9,FALSE)","v":{"$error":"#N/A"}},{"$f":"IF(K115=17,Param!G115,IF(K115=28,Param!H115,IF(K115=45,Param!I115)))","v":"00:00:40"},{"$error":"#N/A"},null,1900,false,false]
[115,"-",null,null,null,null,115.40041067761807,null,null,null,45,{"$f":"VLOOKUP(A116,'Chrono+Classement'!G:O,5,FALSE)","v":{"$error":"#N/A"}},{"$f":"VLOOKUP(A116,'Chrono+Classement'!G:O,9,FALSE)","v":{"$error":"#N/A"}},{"$f":"IF(K116=17,Param!G116,IF(K116=28,Param!H116,IF(K116=45,Param!I116)))","v":"00:00:40"},{"$error":"#N/A"},null,1900,false,false]
[116,"-",null,null,null,null,115.40041067761807,null,null,null,45,{"$f":"VLOOKUP(A117,'Chrono+Classement'!G:O,5,FALSE)","v":{"$error":"#N/A"}},{"$f":"VLOOKUP(A117,'Chrono+Classement'!G:O,9,FALSE)","v":{"$error":"#N/A"}},{"$f":"IF(K117=17,Param!G117,IF(K117=28,Param!H117,IF(K117=45,Param!I117)))","v":"00:00:40"},{"$error":"#N/A"},null,1900,false,false]
[117,"-",null,null,null,null,115.40041067761807,null,null,null,45,{"$f":"VLOOKUP(A118,'Chrono+Classement'!G:O,5,FALSE)","v":{"$error":"#N/A"}},{"$f":"VLOOKUP(A118,'Chrono+Classement'!G:O,9,FALSE)","v":{"$error":"#N/A"}},{"$f":"IF(K118=17,Param!G118,IF(K118=28,Param!H118,IF(K118=45,Param!I118)))","v":"00:00:40"},{"$error":"#N/A"},null,1900,false,false]
[118,"-",null,null,null,null,115.40041067761807,null,null,null,45,{"$f":"VLOOKUP(A119,'Chrono+Classement'!G:O,5,FALSE)","v":{"$error":"#N/A"}},{"$f":"VLOOKUP(A119,'Chrono+Classement'!G:O,9,FALSE)","v":{"$error":"#N/A"}},{"$f":"IF(K119=17,Param!G119,IF(K119=28,Param!H119,IF(K119=45,Param!I119)))","v":"00:00:40"},{"$error":"#N/A"},null,1900,false,false]
[119,"-",null,null,null,null,115.40041067761807,null,null,null,45,{"$f":"VLOOKUP(A120,'Chrono+Classement'!G:O,5,FALSE)","v":{"$error":"#N/A"}},{"$f":"VLOOKUP(A120,'Chrono+Classement'!G:O,9,FALSE)","v":{"$error":"#N/A"}},{"$f":"IF(K120=17,Param!G120,IF(K120=28,Param!H120,IF(K120=45,Param!I120)))","v":"00:00:40"},{"$error":"#N/A"},null,1900,false,false]
[120,"-",null,null,null,null,115.40041067761807,null,null,null,45,{"$f":"VLOOKUP(A121,'Chrono+Classement'!G:O,5,FALSE)","v":{"$error":"#N/A"}},{"$f":"VLOOKUP(A121,'Chrono+Classement'!G:O,9,FALSE)","v":{"$error":"#N/A"}},{"$f":"IF(K121=17,Param!G121,IF(K121=28,Param!H121,IF(K121=45,Param!I121)))","v":"00:00:40"},{"$error":"#N/A"},null,1900,false,false]
[121,"-",null,null,null,null,115.40041067761807,null,null,null,45,{"$f":"VLOOKUP(A122,'Chrono+Classement'!G:O,5,FALSE)","v":{"$error":"#N/A"}},{"$f":"VLOOKUP(A122,'Chrono+Classement'!G:O,9,FALSE)","v":{"$error":"#N/A"}},{"$f":"IF(K122=17,Param!G122,IF(K122=28,Param!H122,IF(K122=45,Param!I122)))","v":"00:00:40"},{"$error":"#N/A"},null,1900,false,false]
[122,"-",null,null,null,null,115.40041067761807,null,null,null,45,{"$f":"VLOOKUP(A123,'Chrono+Classement'!G:O,5,FALSE)","v":{"$error":"#N/A"}},{"$f":"VLOOKUP(A123,'Chrono+Classement'!G:O,9,FALSE)","v":{"$error":"#N/A"}},{"$f":"IF(K123=17,Param!G123,IF(K123=28,Param!H123,IF(K123=45,Param!I123)))","v":"00:00:40"},{"$error":"#N/A"},null,1900,false,false]
[123,"-",null,null,null,null,115.40041067761807,null,null,null,45,{"$f":"VLOOKUP(A124,'Chrono+Classement'!G:O,5,FALSE)","v":{"$error":"#N/A"}},{"$f":"VLOOKUP(A124,'Chrono+Classement'!G:O,9,FALSE)","v":{"$error":"#N/A"}},{"$f":"IF(K124=17,Param!G124,IF(K124=28,Param!H124,IF(K124=45,Param!I124)))","v":"00:00:40"},{"$error":"#N/A"},null,1900,false,false]
[124,"-",null,null,null,null,115.40041067761807,null,null,null,45,{"$f":"VLOOKUP(A125,'Chrono+Classement'!G:O,5,FALSE)","v":{"$error":"#N/A"}},{"$f":"VLOOKUP(A125,'Chrono+Classement'!G:O,9,FALSE)","v":{"$error":"#N/A"}},{"$f":"IF(K125=17,Param!G125,IF(K125=28,Param!H125,IF(K125=45,Param!I125)))","v":"00:00:40"},{"$error":"#N/A"},null,1900,false,false]
[125,"-",null,null,null,null,115.40041067761807,null,null,null,45,{"$f":"VLOOKUP(A126,'Chrono+Classement'!G:O,5,FALSE)","v":{"$error":"#N/A"}},{"$f":"VLOOKUP(A126,'Chrono+Classement'!G:O,9,FALSE)","v":{"$error":"#N/A"}},{"$f":"IF(K126=17,Param!G126,IF(K126=28,Param!H126,IF(K126=45,Param!I126)))","v":"00:00:40"},{"$error":"#N/A"},null,1900,false,false]
[126,"-",null,null,null,null,115.40041067761807,null,null,null,45,{"$f":"VLOOKUP(A127,'Chrono+Classement'!G:O,5,FALSE)","v":{"$error":"#N/A"}},{"$f":"VLOOKUP(A127,'Chrono+Classement'!G:O,9,FALSE)","v":{"$error":"#N/A"}},{"$f":"IF(K127=17,Param!G127,IF(K127=28,Param!H127,IF(K127=45,Param!I127)))","v":"00:00:40"},{"$error":"#N/A"},null,1900,false,false]
[127,"-",null,null,null,null,115.40041067761807,null,null,null,45,{"$f":"VLOOKUP(A128,'Chrono+Classement'!G:O,5,FALSE)","v":{"$error":"#N/A"}},{"$f":"VLOOKUP(A128,'Chrono+Classement'!G:O,9,FALSE)","v":{"$error":"#N/A"}},{"$f":"IF(K128=17,Param!G128,IF(K128=28,Param!H128,IF(K128=45,Param!I128)))","v":"00:00:40"},{"$error":"#N/A"},null,1900,false,false]
[128,"-",null,null,null,null,115.40041067761807,null,null,null,45,{"$f":"VLOOKUP(A129,'Chrono+Classement'!G:O,5,FALSE)","v":{"$error":"#N/A"}},{"$f":"VLOOKUP(A129,'Chrono+Classement'!G:O,9,FALSE)","v":{"$error":"#N/A"}},{"$f":"IF(K129=17,Param!G129,IF(K129=28,Param!H129,IF(K129=45,Param!I129)))","v":"00:00:40"},{"$error":"#N/A"},null,1900,false,false]
[129,{"$f":"CONCATENATE(C130,\"-\",D130)","v":"-"},null,null,null,null,{"$f":"(TODAY()-F130)/365.25","v":115.40041067761807},null,null,null,45,{"$f":"VLOOKUP(A130,'Chrono+Classement'!G:O,5,FALSE)","v":{"$error":"#N/A"}},{"$f":"VLOOKUP(A130,'Chrono+Classement'!G:O,9,FALSE)","v":{"$error":"#N/A"}},{"$f":"IF(K130=17,Param!G130,IF(K130=28,Param!H130,IF(K130=45,Param!I130)))","v":"00:00:40"},{"$error":"#N/A"},null,{"$f":"YEAR(F130)","v":1900},{"$f":"IF(E130=\"M\",IF(Q130<=1965,\"Masters 5\",IF(Q130<=1975,\"Masters 3/4\",IF(Q130<=1985,\"Masters 1/2\",IF(Q130<=1992,\"Hommes\",IF(Q130<=1996,\"Espoirs\",IF(Q130<=1998,\"Juniors\",IF(Q130<=2000,\"Cadets\",0))))))))","v":false},{"$f":"IF(E130=\"F\",IF(Q130<=1992,\"Dames\",IF(Q130<=1996,\"Espoirs Dames\",IF(Q130<=1998,\"Juniors Dames\",IF(Q130<=2000,\"Cadettes\",0)))))","v":false}]
[130,"-",null,null,null,null,115.40041067761807,null,null,null,45,{"$f":"VLOOKUP(A131,'Chrono+Classement'!G:O,5,FALSE)","v":{"$error":"#N/A"}},{"$f":"VLOOKUP(A131,'Chrono+Classement'!G:O,9,FALSE)","v":{"$error":"#N/A"}},{"$f":"IF(K131=17,Param!G131,IF(K131=28,Param!H131,IF(K131=45,Param!I131)))","v":"00:00:40"},{"$error":"#N/A"},null,1900,false,false]
[131,"-",null,null,null,null,115.40041067761807,null,null,null,45,{"$f":"VLOOKUP(A132,'Chrono+Classement'!G:O,5,FALSE)","v":{"$error":"#N/A"}},{"$f":"VLOOKUP(A132,'Chrono+Classement'!G:O,9,FALSE)","v":{"$error":"#N/A"}},{"$f":"IF(K132=17,Param!G132,IF(K132=28,Param!H132,IF(K132=45,Param!I132)))","v":"00:00:40"},{"$error":"#N/A"},null,1900,false,false]
[132,"-",null,null,null,null,115.40041067761807,null,null,null,45,{"$f":"VLOOKUP(A133,'Chrono+Classement'!G:O,5,FALSE)","v":{"$error":"#N/A"}},{"$f":"VLOOKUP(A133,'Chrono+Classement'!G:O,9,FALSE)","v":{"$error":"#N/A"}},{"$f":"IF(K133=17,Param!G133,IF(K133=28,Param!H133,IF(K133=45,Param!I133)))","v":"00:00:40"},{"$error":"#N/A"},null,1900,false,false]
[133,"-",null,null,null,null,115.40041067761807,null,null,null,45,{"$f":"VLOOKUP(A134,'Chrono+Classement'!G:O,5,FALSE)","v":{"$error":"#N/A"}},{"$f":"VLOOKUP(A134,'Chrono+Classement'!G:O,9,FALSE)","v":{"$error":"#N/A"}},{"$f":"IF(K134=17,Param!G134,IF(K134=28,Param!H134,IF(K134=45,Param!I134)))","v":"00:00:40"},{"$error":"#N/A"},null,1900,false,false]
[134,"-",null,null,null,null,115.40041067761807,null,null,null,45,{"$f":"VLOOKUP(A135,'Chrono+Classement'!G:O,5,FALSE)","v":{"$error":"#N/A"}},{"$f":"VLOOKUP(A135,'Chrono+Classement'!G:O,9,FALSE)","v":{"$error":"#N/A"}},{"$f":"IF(K135=17,Param!G135,IF(K135=28,Param!H135,IF(K135=45,Param!I135)))","v":"00:00:40"},{"$error":"#N/A"},null,1900,false,false]
[135,"-",null,null,null,null,115.40041067761807,null,null,null,45,{"$f":"VLOOKUP(A136,'Chrono+Classement'!G:O,5,FALSE)","v":{"$error":"#N/A"}},{"$f":"VLOOKUP(A136,'Chrono+Classement'!G:O,9,FALSE)","v":{"$error":"#N/A"}},{"$f":"IF(K136=17,Param!G136,IF(K136=28,Param!H136,IF(K136=45,Param!I136)))","v":"00:00:40"},{"$error":"#N/A"},null,1900,false,false]
[136,"-",null,null,null,null,115.40041067761807,null,null,null,45,{"$f":"VLOOKUP(A137,'Chrono+Classement'!G:O,5,FALSE)","v":{"$error":"#N/A"}},{"$f":"VLOOKUP(A137,'Chrono+Classement'!G:O,9,FALSE)","v":{"$error":"#N/A"}},{"$f":"IF(K137=17,Param!G137,IF(K137=28,Param!H137,IF(K137=45,Param!I137)))","v":"00:00:40"},{"$error":"#N/A"},null,1900,false,false]
[137,"-",null,null,null,null,115.40041067761807,null,null,null,45,{"$f":"VLOOKUP(A138,'Chrono+Classement'!G:O,5,FALSE)","v":{"$error":"#N/A"}},{"$f":"VLOOKUP(A138,'Chrono+Classement'!G:O,9,FALSE)","v":{"$error":"#N/A"}},{"$f":"IF(K138=17,Param!G138,IF(K138=28,Param!H138,IF(K138=45,Param!I138)))","v":"00:00:40"},{"$error":"#N/A"},null,1900,false,false]
[138,"-",null,null,null,null,115.40041067761807,null,null,null,45,{"$f":"VLOOKUP(A139,'Chrono+Classement'!G:O,5,FALSE)","v":{"$error":"#N/A"}},{"$f":"VLOOKUP(A139,'Chrono+Classement'!G:O,9,FALSE)","v":{"$error":"#N/A"}},{"$f":"IF(K139=17,Param!G139,IF(K139=28,Param!H139,IF(K139=45,Param!I139)))","v":"00:00:40"},{"$error":"#N/A"},null,1900,false,false]
[139,"-",null,null,null,null,115.40041067761807,null,null,null,45,{"$f":"VLOOKUP(A140,'Chrono+Classement'!G:O,5,FALSE)","v":{"$error":"#N/A"}},{"$f":"VLOOKUP(A140,'Chrono+Classement'!G:O,9,FALSE)","v":{"$error":"#N/A"}},{"$f":"IF(K140=17,Param!G140,IF(K140=28,Param!H140,IF(K140=45,Param!I140)))","v":"00:00:40"},{"$error":"#N/A"},null,1900,false,false]
[140,"-",null,null,null,null,115.40041067761807,null,null,null,45,{"$f":"VLOOKUP(A141,'Chrono+Classement'!G:O,5,FALSE)","v":{"$error":"#N/A"}},{"$f":"VLOOKUP(A141,'Chrono+Classement'!G:O,9,FALSE)","v":{"$error":"#N/A"}},{"$f":"IF(K141=17,Param!G141,IF(K141=28,Param!H141,IF(K141=45,Param!I141)))","v":"00:00:40"},{"$error":"#N/A"},null,1900,false,false]
[141,"-",null,null,null,null,115.40041067761807,null,null,null,45,{"$f":"VLOOKUP(A142,'Chrono+Classement'!G:O,5,FALSE)","v":{"$error":"#N/A"}},{"$f":"VLOOKUP(A142,'Chrono+Classement'!G:O,9,FALSE)","v":{"$error":"#N/A"}},{"$f":"IF(K142=17,Param!G142,IF(K142=28,Param!H142,IF(K142=45,Param!I142)))","v":"00:00:40"},{"$error":"#N/A"},null,1900,false,false]
[142,"-",null,null,null,null,115.40041067761807,null,null,null,45,{"$f":"VLOOKUP(A143,'Chrono+Classement'!G:O,5,FALSE)","v":{"$error":"#N/A"}},{"$f":"VLOOKUP(A143,'Chrono+Classement'!G:O,9,FALSE)","v":{"$error":"#N/A"}},{"$f":"IF(K143=17,Param!G143,IF(K143=28,Param!H143,IF(K143=45,Param!I143)))","v":"00:00:40"},{"$error":"#N/A"},null,1900,false,false]
[143,"-",null,null,null,null,115.40041067761807,null,null,null,45,{"$f":"VLOOKUP(A144,'Chrono+Classement'!G:O,5,FALSE)","v":{"$error":"#N/A"}},{"$f":"VLOOKUP(A144,'Chrono+Classement'!G:O,9,FALSE)","v":{"$error":"#N/A"}},{"$f":"IF(K144=17,Param!G144,IF(K144=28,Param!H144,IF(K144=45,Param!I144)))","v":"00:00:40"},{"$error":"#N/A"},null,1900,false,false]
[144,"-",null,null,null,null,115.40041067761807,null,null,null,45,{"$f":"VLOOKUP(A145,'Chrono+Classement'!G:O,5,FALSE)","v":{"$error":"#N/A"}},{"$f":"VLOOKUP(A145,'Chrono+Classement'!G:O,9,FALSE)","v":{"$error":"#N/A"}},{"$f":"IF(K145=17,Param!G145,IF(K145=28,Param!H145,IF(K145=45,Param!I145)))","v":"00:00:40"},{"$error":"#N/A"},null,1900,false,false]
[145,"-",null,null,null,null,115.40041067761807,null,null,null,45,{"$f":"VLOOKUP(A146,'Chrono+Classement'!G:O,5,FALSE)","v":{"$error":"#N/A"}},{"$f":"VLOOKUP(A146,'Chrono+Classement'!G:O,9,FALSE)","v":{"$error":"#N/A"}},{"$f":"IF(K146=17,Param!G146,IF(K146=28,Param!H146,IF(K146=45,Param!I146)))","v":"00:00:40"},{"$error":"#N/A"},null,1900,false,false]
[146,"-",null,null,null,null,115.40041067761807,null,null,null,45,{"$f":"VLOOKUP(A147,'Chrono+Classement'!G:O,5,FALSE)","v":{"$error":"#N/A"}},{"$f":"VLOOKUP(A147,'Chrono+Classement'!G:O,9,FALSE)","v":{"$error":"#N/A"}},{"$f":"IF(K147=17,Param!G147,IF(K147=28,Param!H147,IF(K147=45,Param!I147)))","v":"00:00:40"},{"$error":"#N/A"},null,1900,false,false]
[147,"-",null,null,null,null,115.40041067761807,null,null,null,45,{"$f":"VLOOKUP(A148,'Chrono+Classement'!G:O,5,FALSE)","v":{"$error":"#N/A"}},{"$f":"VLOOKUP(A148,'Chrono+Classement'!G:O,9,FALSE)","v":{"$error":"#N/A"}},{"$f":"IF(K148=17,Param!G148,IF(K148=28,Param!H148,IF(K148=45,Param!I148)))","v":"00:00:40"},{"$error":"#N/A"},null,1900,false,false]
[148,"-",null,null,null,null,115.40041067761807,null,null,null,45,{"$f":"VLOOKUP(A149,'Chrono+Classement'!G:O,5,FALSE)","v":{"$error":"#N/A"}},{"$f":"VLOOKUP(A149,'Chrono+Classement'!G:O,9,FALSE)","v":{"$error":"#N/A"}},{"$f":"IF(K149=17,Param!G149,IF(K149=28,Param!H149,IF(K149=45,Param!I149)))","v":"00:00:40"},{"$error":"#N/A"},null,1900,false,false]
[149,"-",null,null,null,null,115.40041067761807,null,null,null,45,{"$f":"VLOOKUP(A150,'Chrono+Classement'!G:O,5,FALSE)","v":{"$error":"#N/A"}},{"$f":"VLOOKUP(A150,'Chrono+Classement'!G:O,9,FALSE)","v":{"$error":"#N/A"}},{"$f":"IF(K150=17,Param!G150,IF(K150=28,Param!H150,IF(K150=45,Param!I150)))","v":"00:00:40"},{"$error":"#N/A"},null,1900,false,false]
[150,"-",null,null,null,null,115.40041067761807,null,null,null,45,{"$f":"VLOOKUP(A151,'Chrono+Classement'!G:O,5,FALSE)","v":{"$error":"#N/A"}},{"$f":"VLOOKUP(A151,'Chrono+Classement'!G:O,9,FALSE)","v":{"$error":"#N/A"}},{"$f":"IF(K151=17,Param!G151,IF(K151=28,Param!H151,IF(K151=45,Param!I151)))","v":"00:00:40"},{"$error":"#N/A"},null,1900,false,false]
[151,"-",null,null,null,null,115.40041067761807,null,null,null,45,{"$f":"VLOOKUP(A152,'Chrono+Classement'!G:O,5,FALSE)","v":{"$error":"#N/A"}},{"$f":"VLOOKUP(A152,'Chrono+Classement'!G:O,9,FALSE)","v":{"$error":"#N/A"}},{"$f":"IF(K152=17,Param!G152,IF(K152=28,Param!H152,IF(K152=45,Param!I152)))","v":"00:00:40"},{"$error":"#N/A"},null,1900,false,false]
[152,"-",null,null,null,null,115.40041067761807,null,null,null,45,{"$f":"VLOOKUP(A153,'Chrono+Classement'!G:O,5,FALSE)","v":{"$error":"#N/A"}},{"$f":"VLOOKUP(A153,'Chrono+Classement'!G:O,9,FALSE)","v":{"$error":"#N/A"}},{"$f":"IF(K153=17,Param!G153,IF(K153=28,Param!H153,IF(K153=45,Param!I153)))","v":"00:00:40"},{"$error":"#N/A"},null,1900,false,false]
[153,"-",null,null,null,null,115.40041067761807,null,null,null,45,{"$f":"VLOOKUP(A154,'Chrono+Classement'!G:O,5,FALSE)","v":{"$error":"#N/A"}},{"$f":"VLOOKUP(A154,'Chrono+Classement'!G:O,9,FALSE)","v":{"$error":"#N/A"}},{"$f":"IF(K154=17,Param!G154,IF(K154=28,Param!H154,IF(K154=45,Param!I154)))","v":"00:00:40"},{"$error":"#N/A"},null,1900,false,false]
[154,"-",null,null,null,null,115.40041067761807,null,null,null,45,{"$f":"VLOOKUP(A155,'Chrono+Classement'!G:O,5,FALSE)","v":{"$error":"#N/A"}},{"$f":"VLOOKUP(A155,'Chrono+Classement'!G:O,9,FALSE)","v":{"$error":"#N/A"}},{"$f":"IF(K155=17,Param!G155,IF(K155=28,Param!H155,IF(K155=45,Param!I155)))","v":"00:00:40"},{"$error":"#N/A"},null,1900,false,false]
[155,"-",null,null,null,null,115.40041067761807,null,null,null,45,{"$f":"VLOOKUP(A156,'Chrono+Classement'!G:O,5,FALSE)","v":{"$error":"#N/A"}},{"$f":"VLOOKUP(A156,'Chrono+Classement'!G:O,9,FALSE)","v":{"$error":"#N/A"}},{"$f":"IF(K156=17,Param!G156,IF(K156=28,Param!H156,IF(K156=45,Param!I156)))","v":"00:00:40"},{"$error":"#N/A"},null,1900,false,false]
[156,"-",null,null,null,null,115.40041067761807,null,null,null,45,{"$f":"VLOOKUP(A157,'Chrono+Classement'!G:O,5,FALSE)","v":{"$error":"#N/A"}},{"$f":"VLOOKUP(A157,'Chrono+Classement'!G:O,9,FALSE)","v":{"$error":"#N/A"}},{"$f":"IF(K157=17,Param!G157,IF(K157=28,Param!H157,IF(K157=45,Param!I157)))","v":"00:00:40"},{"$error":"#N/A"},null,1900,false,false]
[157,"-",null,null,null,null,115.40041067761807,null,null,null,45,{"$f":"VLOOKUP(A158,'Chrono+Classement'!G:O,5,FALSE)","v":{"$error":"#N/A"}},{"$f":"VLOOKUP(A158,'Chrono+Classement'!G:O,9,FALSE)","v":{"$error":"#N/A"}},{"$f":"IF(K158=17,Param!G158,IF(K158=28,Param!H158,IF(K158=45,Param!I158)))","v":"00:00:40"},{"$error":"#N/A"},null,1900,false,false]
[158,"-",null,null,null,null,115.40041067761807,null,null,null,45,{"$f":"VLOOKUP(A159,'Chrono+Classement'!G:O,5,FALSE)","v":{"$error":"#N/A"}},{"$f":"VLOOKUP(A159,'Chrono+Classement'!G:O,9,FALSE)","v":{"$error":"#N/A"}},{"$f":"IF(K159=17,Param!G159,IF(K159=28,Param!H159,IF(K159=45,Param!I159)))","v":"00:00:40"},{"$error":"#N/A"},null,1900,false,false]
[159,"-",null,null,null,null,115.40041067761807,null,null,null,45,{"$f":"VLOOKUP(A160,'Chrono+Classement'!G:O,5,FALSE)","v":{"$error":"#N/A"}},{"$f":"VLOOKUP(A160,'Chrono+Classement'!G:O,9,FALSE)","v":{"$error":"#N/A"}},{"$f":"IF(K160=17,Param!G160,IF(K160=28,Param!H160,IF(K160=45,Param!I160)))","v":"00:00:40"},{"$error":"#N/A"},null,1900,false,false]
[160,"-",null,null,null,null,115.40041067761807,null,null,null,45,{"$f":"VLOOKUP(A161,'Chrono+Classement'!G:O,5,FALSE)","v":{"$error":"#N/A"}},{"$f":"VLOOKUP(A161,'Chrono+Classement'!G:O,9,FALSE)","v":{"$error":"#N/A"}},{"$f":"IF(K161=17,Param!G161,IF(K161=28,Param!H161,IF(K161=45,Param!I161)))","v":"00:00:40"},{"$error":"#N/A"},null,1900,false,false]
[161,"-",null,null,null,null,115.40041067761807,null,null,null,45,{"$f":"VLOOKUP(A162,'Chrono+Classement'!G:O,5,FALSE)","v":{"$error":"#N/A"}},{"$f":"VLOOKUP(A162,'Chrono+Classement'!G:O,9,FALSE)","v":{"$error":"#N/A"}},{"$f":"IF(K162=17,Param!G162,IF(K162=28,Param!H162,IF(K162=45,Param!I162)))","v":"00:00:40"},{"$error":"#N/A"},null,1900,false,false]
[162,"-",null,null,null,null,115.40041067761807,null,null,null,45,{"$f":"VLOOKUP(A163,'Chrono+Classement'!G:O,5,FALSE)","v":{"$error":"#N/A"}},{"$f":"VLOOKUP(A163,'Chrono+Classement'!G:O,9,FALSE)","v":{"$error":"#N/A"}},{"$f":"IF(K163=17,Param!G163,IF(K163=28,Param!H163,IF(K163=45,Param!I163)))","v":"00:00:40"},{"$error":"#N/A"},null,1900,false,false]
[163,"-",null,null,null,null,115.40041067761807,null,null,null,45,{"$f":"VLOOKUP(A164,'Chrono+Classement'!G:O,5,FALSE)","v":{"$error":"#N/A"}},{"$f":"VLOOKUP(A164,'Chrono+Classement'!G:O,9,FALSE)","v":{"$error":"#N/A"}},{"$f":"IF(K164=17,Param!G164,IF(K164=28,Param!H164,IF(K164=45,Param!I164)))","v":"00:00:40"},{"$error":"#N/A"},null,1900,false,false]
[164,"-",null,null,null,null,115.40041067761807,null,null,null,45,{"$f":"VLOOKUP(A165,'Chrono+Classement'!G:O,5,FALSE)","v":{"$error":"#N/A"}},{"$f":"VLOOKUP(A165,'Chrono+Classement'!G:O,9,FALSE)","v":{"$error":"#N/A"}},{"$f":"IF(K165=17,Param!G165,IF(K165=28,Param!H165,IF(K165=45,Param!I165)))","v":"00:00:40"},{"$f":"M165-N165","v":{"$error":"#N/A"}},null,1900,false,false]
[165,"-",null,null,null,null,115.40041067761807,null,null,null,45,{"$f":"VLOOKUP(A166,'Chrono+Classement'!G:O,5,FALSE)","v":{"$error":"#N/A"}},{"$f":"VLOOKUP(A166,'Chrono+Classement'!G:O,9,FALSE)","v":{"$error":"#N/A"}},{"$f":"IF(K166=17,Param!G166,IF(K166=28,Param!H166,IF(K166=45,Param!I166)))","v":"00:00:40"},{"$error":"#N/A"},null,1900,false,false]
[166,"-",null,null,null,null,115.40041067761807,null,null,null,45,{"$f":"VLOOKUP(A167,'Chrono+Classement'!G:O,5,FALSE)","v":{"$error":"#N/A"}},{"$f":"VLOOKUP(A167,'Chrono+Classement'!G:O,9,FALSE)","v":{"$error":"#N/A"}},{"$f":"IF(K167=17,Param!G167,IF(K167=28,Param!H167,IF(K167=45,Param!I167)))","v":"00:00:40"},{"$error":"#N/A"},null,1900,false,false]
[167,"-",null,null,null,null,115.40041067761807,null,null,null,45,{"$f":"VLOOKUP(A168,'Chrono+Classement'!G:O,5,FALSE)","v":{"$error":"#N/A"}},{"$f":"VLOOKUP(A168,'Chrono+Classement'!G:O,9,FALSE)","v":{"$error":"#N/A"}},{"$f":"IF(K168=17,Param!G168,IF(K168=28,Param!H168,IF(K168=45,Param!I168)))","v":"00:00:40"},{"$error":"#N/A"},null,1900,false,false]
[168,"-",null,null,null,null,115.40041067761807,null,null,null,45,{"$f":"VLOOKUP(A169,'Chrono+Classement'!G:O,5,FALSE)","v":{"$error":"#N/A"}},{"$f":"VLOOKUP(A169,'Chrono+Classement'!G:O,9,FALSE)","v":{"$error":"#N/A"}},{"$f":"IF(K169=17,Param!G169,IF(K169=28,Param!H169,IF(K169=45,Param!I169)))","v":"00:00:40"},{"$error":"#N/A"},null,1900,false,false]
[169,"-",null,null,null,null,115.40041067761807,null,null,null,45,{"$f":"VLOOKUP(A170,'Chrono+Classement'!G:O,5,FALSE)","v":{"$error":"#N/A"}},{"$f":"VLOOKUP(A170,'Chrono+Classement'!G:O,9,FALSE)","v":{"$error":"#N/A"}},{"$f":"IF(K170=17,Param!G170,IF(K170=28,Param!H170,IF(K170=45,Param!I170)))","v":"00:00:40"},{"$error":"#N/A"},null,1900,false,false]
[170,"-",null,null,null,null,115.40041067761807,null,null,null,45,{"$f":"VLOOKUP(A171,'Chrono+Classement'!G:O,5,FALSE)","v":{"$error":"#N/A"}},{"$f":"VLOOKUP(A171,'Chrono+Classement'!G:O,9,FALSE)","v":{"$error":"#N/A"}},{"$f":"IF(K171=17,Param!G171,IF(K171=28,Param!H171,IF(K171=45,Param!I171)))","v":"00:00:40"},{"$error":"#N/A"},null,1900,false,false]
[171,"-",null,null,null,null,115.40041067761807,null,null,null,45,{"$f":"VLOOKUP(A172,'Chrono+Classement'!G:O,5,FALSE)","v":{"$error":"#N/A"}},{"$f":"VLOOKUP(A172,'Chrono+Classement'!G:O,9,FALSE)","v":{"$error":"#N/A"}},{"$f":"IF(K172=17,Param!G172,IF(K172=28,Param!H172,IF(K172=45,Param!I172)))","v":"00:00:40"},{"$error":"#N/A"},null,1900,false,false]
[172,"-",null,null,null,null,115.40041067761807,null,null,null,45,{"$f":"VLOOKUP(A173,'Chrono+Classement'!G:O,5,FALSE)","v":{"$error":"#N/A"}},{"$f":"VLOOKUP(A173,'Chrono+Classement'!G:O,9,FALSE)","v":{"$error":"#N/A"}},{"$f":"IF(K173=17,Param!G173,IF(K173=28,Param!H173,IF(K173=45,Param!I173)))","v":"00:00:40"},{"$error":"#N/A"},null,1900,false,false]
[173,"-",null,null,null,null,115.40041067761807,null,null,null,45,{"$f":"VLOOKUP(A174,'Chrono+Classement'!G:O,5,FALSE)","v":{"$error":"#N/A"}},{"$f":"VLOOKUP(A174,'Chrono+Classement'!G:O,9,FALSE)","v":{"$error":"#N/A"}},{"$f":"IF(K174=17,Param!G174,IF(K174=28,Param!H174,IF(K174=45,Param!I174)))","v":"00:00:40"},{"$error":"#N/A"},null,1900,false,false]
[174,"-",null,null,null,null,115.40041067761807,null,null,null,45,{"$f":"VLOOKUP(A175,'Chrono+Classement'!G:O,5,FALSE)","v":{"$error":"#N/A"}},{"$f":"VLOOKUP(A175,'Chrono+Classement'!G:O,9,FALSE)","v":{"$error":"#N/A"}},{"$f":"IF(K175=17,Param!G175,IF(K175=28,Param!H175,IF(K175=45,Param!I175)))","v":"00:00:40"},{"$error":"#N/A"},null,1900,false,false]
[175,"-",null,null,null,null,115.40041067761807,null,null,null,45,{"$f":"VLOOKUP(A176,'Chrono+Classement'!G:O,5,FALSE)","v":{"$error":"#N/A"}},{"$f":"VLOOKUP(A176,'Chrono+Classement'!G:O,9,FALSE)","v":{"$error":"#N/A"}},{"$f":"IF(K176=17,Param!G176,IF(K176=28,Param!H176,IF(K176=45,Param!I176)))","v":"00:00:40"},{"$error":"#N/A"},null,1900,false,false]
[176,"-",null,null,null,null,115.40041067761807,null,null,null,45,{"$f":"VLOOKUP(A177,'Chrono+Classement'!G:O,5,FALSE)","v":{"$error":"#N/A"}},{"$f":"VLOOKUP(A177,'Chrono+Classement'!G:O,9,FALSE)","v":{"$error":"#N/A"}},{"$f":"IF(K177=17,Param!G177,IF(K177=28,Param!H177,IF(K177=45,Param!I177)))","v":"00:00:40"},{"$error":"#N/A"},null,1900,false,false]
[177,"-",null,null,null,null,115.40041067761807,null,null,null,45,{"$f":"VLOOKUP(A178,'Chrono+Classement'!G:O,5,FALSE)","v":{"$error":"#N/A"}},{"$f":"VLOOKUP(A178,'Chrono+Classement'!G:O,9,FALSE)","v":{"$error":"#N/A"}},{"$f":"IF(K178=17,Param!G178,IF(K178=28,Param!H178,IF(K178=45,Param!I178)))","v":"00:00:40"},{"$error":"#N/A"},null,1900,false,false]
[178,"-",null,null,null,null,115.40041067761807,null,null,null,45,{"$f":"VLOOKUP(A179,'Chrono+Classement'!G:O,5,FALSE)","v":{"$error":"#N/A"}},{"$f":"VLOOKUP(A179,'Chrono+Classement'!G:O,9,FALSE)","v":{"$error":"#N/A"}},{"$f":"IF(K179=17,Param!G179,IF(K179=28,Param!H179,IF(K179=45,Param!I179)))","v":"00:00:40"},{"$error":"#N/A"},null,1900,false,false]
[179,"-",null,null,null,null,115.40041067761807,null,null,null,45,{"$f":"VLOOKUP(A180,'Chrono+Classement'!G:O,5,FALSE)","v":{"$error":"#N/A"}},{"$f":"VLOOKUP(A180,'Chrono+Classement'!G:O,9,FALSE)","v":{"$error":"#N/A"}},{"$f":"IF(K180=17,Param!G180,IF(K180=28,Param!H180,IF(K180=45,Param!I180)))","v":"00:00:40"},{"$error":"#N/A"},null,1900,false,false]
[180,"-",null,null,null,null,115.40041067761807,null,null,null,45,{"$f":"VLOOKUP(A181,'Chrono+Classement'!G:O,5,FALSE)","v":{"$error":"#N/A"}},{"$f":"VLOOKUP(A181,'Chrono+Classement'!G:O,9,FALSE)","v":{"$error":"#N/A"}},{"$f":"IF(K181=17,Param!G181,IF(K181=28,Param!H181,IF(K181=45,Param!I181)))","v":"00:00:40"},{"$error":"#N/A"},null,1900,false,false]
[181,"-",null,null,null,null,115.40041067761807,null,null,null,45,{"$f":"VLOOKUP(A182,'Chrono+Classement'!G:O,5,FALSE)","v":{"$error":"#N/A"}},{"$f":"VLOOKUP(A182,'Chrono+Classement'!G:O,9,FALSE)","v":{"$error":"#N/A"}},{"$f":"IF(K182=17,Param!G182,IF(K182=28,Param!H182,IF(K182=45,Param!I182)))","v":"00:00:40"},{"$error":"#N/A"},null,1900,false,false]
[182,"-",null,null,null,null,115.40041067761807,null,null,null,45,{"$f":"VLOOKUP(A183,'Chrono+Classement'!G:O,5,FALSE)","v":{"$error":"#N/A"}},{"$f":"VLOOKUP(A183,'Chrono+Classement'!G:O,9,FALSE)","v":{"$error":"#N/A"}},{"$f":"IF(K183=17,Param!G183,IF(K183=28,Param!H183,IF(K183=45,Param!I183)))","v":"00:00:40"},{"$error":"#N/A"},null,1900,false,false]
[183,"-",null,null,null,null,115.40041067761807,null,null,null,45,{"$f":"VLOOKUP(A184,'Chrono+Classement'!G:O,5,FALSE)","v":{"$error":"#N/A"}},{"$f":"VLOOKUP(A184,'Chrono+Classement'!G:O,9,FALSE)","v":{"$error":"#N/A"}},{"$f":"IF(K184=17,Param!G184,IF(K184=28,Param!H184,IF(K184=45,Param!I184)))","v":"00:00:40"},{"$error":"#N/A"},null,1900,false,false]
[184,"-",null,null,null,null,115.40041067761807,null,null,null,45,{"$f":"VLOOKUP(A185,'Chrono+Classement'!G:O,5,FALSE)","v":{"$error":"#N/A"}},{"$f":"VLOOKUP(A185,'Chrono+Classement'!G:O,9,FALSE)","v":{"$error":"#N/A"}},{"$f":"IF(K185=17,Param!G185,IF(K185=28,Param!H185,IF(K185=45,Param!I185)))","v":"00:00:40"},{"$error":"#N/A"},null,1900,false,false]
[185,"-",null,null,null,null,115.40041067761807,null,null,null,45,{"$f":"VLOOKUP(A186,'Chrono+Classement'!G:O,5,FALSE)","v":{"$error":"#N/A"}},{"$f":"VLOOKUP(A186,'Chrono+Classement'!G:O,9,FALSE)","v":{"$error":"#N/A"}},{"$f":"IF(K186=17,Param!G186,IF(K186=28,Param!H186,IF(K186=45,Param!I186)))","v":"00:00:40"},{"$error":"#N/A"},null,1900,false,false]
[186,"-",null,null,null,null,115.40041067761807,null,null,null,45,{"$f":"VLOOKUP(A187,'Chrono+Classement'!G:O,5,FALSE)","v":{"$error":"#N/A"}},{"$f":"VLOOKUP(A187,'Chrono+Classement'!G:O,9,FALSE)","v":{"$error":"#N/A"}},{"$f":"IF(K187=17,Param!G187,IF(K187=28,Param!H187,IF(K187=45,Param!I187)))","v":"00:00:40"},{"$error":"#N/A"},null,1900,false,false]
[187,"-",null,null,null,null,115.40041067761807,null,null,null,45,{"$f":"VLOOKUP(A188,'Chrono+Classement'!G:O,5,FALSE)","v":{"$error":"#N/A"}},{"$f":"VLOOKUP(A188,'Chrono+Classement'!G:O,9,FALSE)","v":{"$error":"#N/A"}},{"$f":"IF(K188=17,Param!G188,IF(K188=28,Param!H188,IF(K188=45,Param!I188)))","v":"00:00:40"},{"$error":"#N/A"},null,1900,false,false]
[188,"-",null,null,null,null,115.40041067761807,null,null,null,45,{"$f":"VLOOKUP(A189,'Chrono+Classement'!G:O,5,FALSE)","v":{"$error":"#N/A"}},{"$f":"VLOOKUP(A189,'Chrono+Classement'!G:O,9,FALSE)","v":{"$error":"#N/A"}},{"$f":"IF(K189=17,Param!G189,IF(K189=28,Param!H189,IF(K189=45,Param!I189)))","v":"00:00:40"},{"$error":"#N/A"},null,1900,false,false]
[189,"-",null,null,null,null,115.40041067761807,null,null,null,45,{"$f":"VLOOKUP(A190,'Chrono+Classement'!G:O,5,FALSE)","v":{"$error":"#N/A"}},{"$f":"VLOOKUP(A190,'Chrono+Classement'!G:O,9,FALSE)","v":{"$error":"#N/A"}},{"$f":"IF(K190=17,Param!G190,IF(K190=28,Param!H190,IF(K190=45,Param!I190)))","v":"00:00:40"},{"$error":"#N/A"},null,1900,false,false]
[190,"-",null,null,null,null,115.40041067761807,null,null,null,45,{"$f":"VLOOKUP(A191,'Chrono+Classement'!G:O,5,FALSE)","v":{"$error":"#N/A"}},{"$f":"VLOOKUP(A191,'Chrono+Classement'!G:O,9,FALSE)","v":{"$error":"#N/A"}},{"$f":"IF(K191=17,Param!G191,IF(K191=28,Param!H191,IF(K191=45,Param!I191)))","v":"00:00:40"},{"$error":"#N/A"},null,1900,false,false]
[191,"-",null,null,null,null,115.40041067761807,null,null,null,45,{"$f":"VLOOKUP(A192,'Chrono+Classement'!G:O,5,FALSE)","v":{"$error":"#N/A"}},{"$f":"VLOOKUP(A192,'Chrono+Classement'!G:O,9,FALSE)","v":{"$error":"#N/A"}},{"$f":"IF(K192=17,Param!G192,IF(K192=28,Param!H192,IF(K192=45,Param!I192)))","v":"00:00:40"},{"$error":"#N/A"},null,1900,false,false]
[192,"-",null,null,null,null,115.40041067761807,null,null,null,45,{"$f":"VLOOKUP(A193,'Chrono+Classement'!G:O,5,FALSE)","v":{"$error":"#N/A"}},{"$f":"VLOOKUP(A193,'Chrono+Classement'!G:O,9,FALSE)","v":{"$error":"#N/A"}},{"$f":"IF(K193=17,Param!G193,IF(K193=28,Param!H193,IF(K193=45,Param!I193)))","v":"00:00:40"},{"$error":"#N/A"},null,1900,false,false]
[193,{"$f":"CONCATENATE(C194,\"-\",D194)","v":"-"},null,null,null,null,{"$f":"(TODAY()-F194)/365.25","v":115.40041067761807},null,null,null,45,{"$f":"VLOOKUP(A194,'Chrono+Classement'!G:O,5,FALSE)","v":{"$error":"#N/A"}},{"$f":"VLOOKUP(A194,'Chrono+Classement'!G:O,9,FALSE)","v":{"$error":"#N/A"}},{"$f":"IF(K194=17,Param!G194,IF(K194=28,Param!H194,IF(K194=45,Param!I194)))","v":"00:00:40"},{"$error":"#N/A"},null,{"$f":"YEAR(F194)","v":1900},{"$f":"IF(E194=\"M\",IF(Q194<=1965,\"Masters 5\",IF(Q194<=1975,\"Masters 3/4\",IF(Q194<=1985,\"Masters 1/2\",IF(Q194<=1992,\"Hommes\",IF(Q194<=1996,\"Espoirs\",IF(Q194<=1998,\"Juniors\",IF(Q194<=2000,\"Cadets\",0))))))))","v":false},{"$f":"IF(E194=\"F\",IF(Q194<=1992,\"Dames\",IF(Q194<=1996,\"Espoirs Dames\",IF(Q194<=1998,\"Juniors Dames\",IF(Q194<=2000,\"Cadettes\",0)))))","v":false}]
[194,"-",null,null,null,null,115.40041067761807,null,null,null,45,{"$f":"VLOOKUP(A195,'Chrono+Classement'!G:O,5,FALSE)","v":{"$error":"#N/A"}},{"$f":"VLOOKUP(A195,'Chrono+Classement'!G:O,9,FALSE)","v":{"$error":"#N/A"}},{"$f":"IF(K195=17,Param!G195,IF(K195=28,Param!H195,IF(K195=45,Param!I195)))","v":"00:00:40"},{"$error":"#N/A"},null,1900,false,false]
[195,"-",null,null,null,null,115.40041067761807,null,null,null,45,{"$f":"VLOOKUP(A196,'Chrono+Classement'!G:O,5,FALSE)","v":{"$error":"#N/A"}},{"$f":"VLOOKUP(A196,'Chrono+Classement'!G:O,9,FALSE)","v":{"$error":"#N/A"}},{"$f":"IF(K196=17,Param!G196,IF(K196=28,Param!H196,IF(K196=45,Param!I196)))","v":"00:00:40"},{"$error":"#N/A"},null,1900,false,false]
[196,"-",null,null,null,null,115.40041067761807,null,null,null,45,{"$f":"VLOOKUP(A197,'Chrono+Classement'!G:O,5,FALSE)","v":{"$error":"#N/A"}},{"$f":"VLOOKUP(A197,'Chrono+Classement'!G:O,9,FALSE)","v":{"$error":"#N/A"}},{"$f":"IF(K197=17,Param!G197,IF(K197=28,Param!H197,IF(K197=45,Param!I197)))","v":"00:00:40"},{"$error":"#N/A"},null,1900,false,false]
[197,"-",null,null,null,null,115.40041067761807,null,null,null,45,{"$f":"VLOOKUP(A198,'Chrono+Classement'!G:O,5,FALSE)","v":{"$error":"#N/A"}},{"$f":"VLOOKUP(A198,'Chrono+Classement'!G:O,9,FALSE)","v":{"$error":"#N/A"}},{"$f":"IF(K198=17,Param!G198,IF(K198=28,Param!H198,IF(K198=45,Param!I198)))","v":"00:00:40"},{"$error":"#N/A"},null,1900,false,false]
[198,"-",null,null,null,null,115.40041067761807,null,null,null,45,{"$f":"VLOOKUP(A199,'Chrono+Classement'!G:O,5,FALSE)","v":{"$error":"#N/A"}},{"$f":"VLOOKUP(A199,'Chrono+Classement'!G:O,9,FALSE)","v":{"$error":"#N/A"}},{"$f":"IF(K199=17,Param!G199,IF(K199=28,Param!H199,IF(K199=45,Param!I199)))","v":"00:00:40"},{"$error":"#N/A"},null,1900,false,false]
[199,"-",null,null,null,null,115.40041067761807,null,null,null,45,{"$f":"VLOOKUP(A200,'Chrono+Classement'!G:O,5,FALSE)","v":{"$error":"#N/A"}},{"$f":"VLOOKUP(A200,'Chrono+Classement'!G:O,9,FALSE)","v":{"$error":"#N/A"}},{"$f":"IF(K200=17,Param!G200,IF(K200=28,Param!H200,IF(K200=45,Param!I200)))","v":"00:00:40"},{"$error":"#N/A"},null,1900,false,false]
[200,"-",null,null,null,null,115.40041067761807,null,null,null,45,{"$f":"VLOOKUP(A201,'Chrono+Classement'!G:O,5,FALSE)","v":{"$error":"#N/A"}},{"$f":"VLOOKUP(A201,'Chrono+Classement'!G:O,9,FALSE)","v":{"$error":"#N/A"}},{"$f":"IF(K201=17,Param!G201,IF(K201=28,Param!H201,IF(K201=45,Param!I201)))","v":"00:00:40"},{"$error":"#N/A"},null,1900,false,false]
[201,"-",null,null,null,null,115.40041067761807,null,null,null,45,{"$f":"VLOOKUP(A202,'Chrono+Classement'!G:O,5,FALSE)","v":{"$error":"#N/A"}},{"$f":"VLOOKUP(A202,'Chrono+Classement'!G:O,9,FALSE)","v":{"$error":"#N/A"}},{"$f":"IF(K202=17,Param!G202,IF(K202=28,Param!H202,IF(K202=45,Param!I202)))","v":"00:00:40"},{"$error":"#N/A"},null,1900,false,false]
[202,"-",null,null,null,null,115.40041067761807,null,null,null,45,{"$f":"VLOOKUP(A203,'Chrono+Classement'!G:O,5,FALSE)","v":{"$error":"#N/A"}},{"$f":"VLOOKUP(A203,'Chrono+Classement'!G:O,9,FALSE)","v":{"$error":"#N/A"}},{"$f":"IF(K203=17,Param!G203,IF(K203=28,Param!H203,IF(K203=45,Param!I203)))","v":"00:00:40"},{"$error":"#N/A"},null,1900,false,false]
[203,"-",null,null,null,null,115.40041067761807,null,null,null,45,{"$f":"VLOOKUP(A204,'Chrono+Classement'!G:O,5,FALSE)","v":{"$error":"#N/A"}},{"$f":"VLOOKUP(A204,'Chrono+Classement'!G:O,9,FALSE)","v":{"$error":"#N/A"}},{"$f":"IF(K204=17,Param!G204,IF(K204=28,Param!H204,IF(K204=45,Param!I204)))","v":"00:00:40"},{"$error":"#N/A"},null,1900,false,false]
[204,"-",null,null,null,null,115.40041067761807,null,null,null,45,{"$f":"VLOOKUP(A205,'Chrono+Classement'!G:O,5,FALSE)","v":{"$error":"#N/A"}},{"$f":"VLOOKUP(A205,'Chrono+Classement'!G:O,9,FALSE)","v":{"$error":"#N/A"}},{"$f":"IF(K205=17,Param!G205,IF(K205=28,Param!H205,IF(K205=45,Param!I205)))","v":"00:00:40"},{"$error":"#N/A"},null,1900,false,false]
[205,"-",null,null,null,null,115.40041067761807,null,null,null,45,{"$f":"VLOOKUP(A206,'Chrono+Classement'!G:O,5,FALSE)","v":{"$error":"#N/A"}},{"$f":"VLOOKUP(A206,'Chrono+Classement'!G:O,9,FALSE)","v":{"$error":"#N/A"}},{"$f":"IF(K206=17,Param!G206,IF(K206=28,Param!H206,IF(K206=45,Param!I206)))","v":"00:00:40"},{"$error":"#N/A"},null,1900,false,false]
[206,"-",null,null,null,null,115.40041067761807,null,null,null,45,{"$f":"VLOOKUP(A207,'Chrono+Classement'!G:O,5,FALSE)","v":{"$error":"#N/A"}},{"$f":"VLOOKUP(A207,'Chrono+Classement'!G:O,9,FALSE)","v":{"$error":"#N/A"}},{"$f":"IF(K207=17,Param!G207,IF(K207=28,Param!H207,IF(K207=45,Param!I207)))","v":"00:00:40"},{"$error":"#N/A"},null,1900,false,false]
[207,"-",null,null,null,null,115.40041067761807,null,null,null,45,{"$f":"VLOOKUP(A208,'Chrono+Classement'!G:O,5,FALSE)","v":{"$error":"#N/A"}},{"$f":"VLOOKUP(A208,'Chrono+Classement'!G:O,9,FALSE)","v":{"$error":"#N/A"}},{"$f":"IF(K208=17,Param!G208,IF(K208=28,Param!H208,IF(K208=45,Param!I208)))","v":"00:00:40"},{"$error":"#N/A"},null,1900,false,false]
[208,"-",null,null,null,null,115.40041067761807,null,null,null,45,{"$f":"VLOOKUP(A209,'Chrono+Classement'!G:O,5,FALSE)","v":{"$error":"#N/A"}},{"$f":"VLOOKUP(A209,'Chrono+Classement'!G:O,9,FALSE)","v":{"$error":"#N/A"}},{"$f":"IF(K209=17,Param!G209,IF(K209=28,Param!H209,IF(K209=45,Param!I209)))","v":"00:00:40"},{"$error":"#N/A"},null,1900,false,false]
[209,"-",null,null,null,null,115.40041067761807,null,null,null,45,{"$f":"VLOOKUP(A210,'Chrono+Classement'!G:O,5,FALSE)","v":{"$error":"#N/A"}},{"$f":"VLOOKUP(A210,'Chrono+Classement'!G:O,9,FALSE)","v":{"$error":"#N/A"}},{"$f":"IF(K210=17,Param!G210,IF(K210=28,Param!H210,IF(K210=45,Param!I210)))","v":"00:00:40"},{"$error":"#N/A"},null,1900,false,false]
[210,"-",null,null,null,null,115.40041067761807,null,null,null,45,{"$f":"VLOOKUP(A211,'Chrono+Classement'!G:O,5,FALSE)","v":{"$error":"#N/A"}},{"$f":"VLOOKUP(A211,'Chrono+Classement'!G:O,9,FALSE)","v":{"$error":"#N/A"}},{"$f":"IF(K211=17,Param!G211,IF(K211=28,Param!H211,IF(K211=45,Param!I211)))","v":"00:00:40"},{"$error":"#N/A"},null,1900,false,false]
[211,"-",null,null,null,null,115.40041067761807,null,null,null,45,{"$f":"VLOOKUP(A212,'Chrono+Classement'!G:O,5,FALSE)","v":{"$error":"#N/A"}},{"$f":"VLOOKUP(A212,'Chrono+Classement'!G:O,9,FALSE)","v":{"$error":"#N/A"}},{"$f":"IF(K212=17,Param!G212,IF(K212=28,Param!H212,IF(K212=45,Param!I212)))","v":"00:00:40"},{"$error":"#N/A"},null,1900,false,false]
[212,"-",null,null,null,null,115.40041067761807,null,null,null,45,{"$f":"VLOOKUP(A213,'Chrono+Classement'!G:O,5,FALSE)","v":{"$error":"#N/A"}},{"$f":"VLOOKUP(A213,'Chrono+Classement'!G:O,9,FALSE)","v":{"$error":"#N/A"}},{"$f":"IF(K213=17,Param!G213,IF(K213=28,Param!H213,IF(K213=45,Param!I213)))","v":"00:00:40"},{"$error":"#N/A"},null,1900,false,false]
[213,"-",null,null,null,null,115.40041067761807,null,null,null,45,{"$f":"VLOOKUP(A214,'Chrono+Classement'!G:O,5,FALSE)","v":{"$error":"#N/A"}},{"$f":"VLOOKUP(A214,'Chrono+Classement'!G:O,9,FALSE)","v":{"$error":"#N/A"}},{"$f":"IF(K214=17,Param!G214,IF(K214=28,Param!H214,IF(K214=45,Param!I214)))","v":"00:00:40"},{"$error":"#N/A"},null,1900,false,false]
[214,"-",null,null,null,null,115.40041067761807,null,null,null,45,{"$f":"VLOOKUP(A215,'Chrono+Classement'!G:O,5,FALSE)","v":{"$error":"#N/A"}},{"$f":"VLOOKUP(A215,'Chrono+Classement'!G:O,9,FALSE)","v":{"$error":"#N/A"}},{"$f":"IF(K215=17,Param!G215,IF(K215=28,Param!H215,IF(K215=45,Param!I215)))","v":"00:00:40"},{"$error":"#N/A"},null,1900,false,false]
[215,"-",null,null,null,null,115.40041067761807,null,null,null,45,{"$f":"VLOOKUP(A216,'Chrono+Classement'!G:O,5,FALSE)","v":{"$error":"#N/A"}},{"$f":"VLOOKUP(A216,'Chrono+Classement'!G:O,9,FALSE)","v":{"$error":"#N/A"}},{"$f":"IF(K216=17,Param!G216,IF(K216=28,Param!H216,IF(K216=45,Param!I216)))","v":"00:00:40"},{"$error":"#N/A"},null,1900,false,false]
[216,"-",null,null,null,null,115.40041067761807,null,null,null,45,{"$f":"VLOOKUP(A217,'Chrono+Classement'!G:O,5,FALSE)","v":{"$error":"#N/A"}},{"$f":"VLOOKUP(A217,'Chrono+Classement'!G:O,9,FALSE)","v":{"$error":"#N/A"}},{"$f":"IF(K217=17,Param!G217,IF(K217=28,Param!H217,IF(K217=45,Param!I217)))","v":"00:00:40"},{"$error":"#N/A"},null,1900,false,false]
[217,"-",null,null,null,null,115.40041067761807,null,null,null,45,{"$f":"VLOOKUP(A218,'Chrono+Classement'!G:O,5,FALSE)","v":{"$error":"#N/A"}},{"$f":"VLOOKUP(A218,'Chrono+Classement'!G:O,9,FALSE)","v":{"$error":"#N/A"}},{"$f":"IF(K218=17,Param!G218,IF(K218=28,Param!H218,IF(K218=45,Param!I218)))","v":"00:00:40"},{"$error":"#N/A"},null,1900,false,false]
[218,"-",null,null,null,null,115.40041067761807,null,null,null,45,{"$f":"VLOOKUP(A219,'Chrono+Classement'!G:O,5,FALSE)","v":{"$error":"#N/A"}},{"$f":"VLOOKUP(A219,'Chrono+Classement'!G:O,9,FALSE)","v":{"$error":"#N/A"}},{"$f":"IF(K219=17,Param!G219,IF(K219=28,Param!H219,IF(K219=45,Param!I219)))","v":"00:00:40"},{"$error":"#N/A"},null,1900,false,false]
[219,"-",null,null,null,null,115.40041067761807,null,null,null,45,{"$f":"VLOOKUP(A220,'Chrono+Classement'!G:O,5,FALSE)","v":{"$error":"#N/A"}},{"$f":"VLOOKUP(A220,'Chrono+Classement'!G:O,9,FALSE)","v":{"$error":"#N/A"}},{"$f":"IF(K220=17,Param!G220,IF(K220=28,Param!H220,IF(K220=45,Param!I220)))","v":"00:00:40"},{"$error":"#N/A"},null,1900,false,false]
[220,"-",null,null,null,null,115.40041067761807,null,null,null,45,{"$f":"VLOOKUP(A221,'Chrono+Classement'!G:O,5,FALSE)","v":{"$error":"#N/A"}},{"$f":"VLOOKUP(A221,'Chrono+Classement'!G:O,9,FALSE)","v":{"$error":"#N/A"}},{"$f":"IF(K221=17,Param!G221,IF(K221=28,Param!H221,IF(K221=45,Param!I221)))","v":"00:00:40"},{"$error":"#N/A"},null,1900,false,false]
[221,"-",null,null,null,null,115.40041067761807,null,null,null,45,{"$f":"VLOOKUP(A222,'Chrono+Classement'!G:O,5,FALSE)","v":{"$error":"#N/A"}},{"$f":"VLOOKUP(A222,'Chrono+Classement'!G:O,9,FALSE)","v":{"$error":"#N/A"}},{"$f":"IF(K222=17,Param!G222,IF(K222=28,Param!H222,IF(K222=45,Param!I222)))","v":"00:00:40"},{"$error":"#N/A"},null,1900,false,false]
[222,"-",null,null,null,null,115.40041067761807,null,null,null,45,{"$f":"VLOOKUP(A223,'Chrono+Classement'!G:O,5,FALSE)","v":{"$error":"#N/A"}},{"$f":"VLOOKUP(A223,'Chrono+Classement'!G:O,9,FALSE)","v":{"$error":"#N/A"}},{"$f":"IF(K223=17,Param!G223,IF(K223=28,Param!H223,IF(K223=45,Param!I223)))","v":"00:00:40"},{"$error":"#N/A"},null,1900,false,false]
[223,"-",null,null,null,null,115.40041067761807,null,null,null,45,{"$f":"VLOOKUP(A224,'Chrono+Classement'!G:O,5,FALSE)","v":{"$error":"#N/A"}},{"$f":"VLOOKUP(A224,'Chrono+Classement'!G:O,9,FALSE)","v":{"$error":"#N/A"}},{"$f":"IF(K224=17,Param!G224,IF(K224=28,Param!H224,IF(K224=45,Param!I224)))","v":"00:00:40"},{"$error":"#N/A"},null,1900,false,false]
[224,"-",null,null,null,null,115.40041067761807,null,null,null,45,{"$f":"VLOOKUP(A225,'Chrono+Classement'!G:O,5,FALSE)","v":{"$error":"#N/A"}},{"$f":"VLOOKUP(A225,'Chrono+Classement'!G:O,9,FALSE)","v":{"$error":"#N/A"}},{"$f":"IF(K225=17,Param!G225,IF(K225=28,Param!H225,IF(K225=45,Param!I225)))","v":"00:00:40"},{"$error":"#N/A"},null,1900,false,false]
[225,"-",null,null,null,null,115.40041067761807,null,null,null,45,{"$f":"VLOOKUP(A226,'Chrono+Classement'!G:O,5,FALSE)","v":{"$error":"#N/A"}},{"$f":"VLOOKUP(A226,'Chrono+Classement'!G:O,9,FALSE)","v":{"$error":"#N/A"}},{"$f":"IF(K226=17,Param!G226,IF(K226=28,Param!H226,IF(K226=45,Param!I226)))","v":"00:00:40"},{"$error":"#N/A"},null,1900,false,false]
[226,"-",null,null,null,null,115.40041067761807,null,null,null,45,{"$f":"VLOOKUP(A227,'Chrono+Classement'!G:O,5,FALSE)","v":{"$error":"#N/A"}},{"$f":"VLOOKUP(A227,'Chrono+Classement'!G:O,9,FALSE)","v":{"$error":"#N/A"}},{"$f":"IF(K227=17,Param!G227,IF(K227=28,Param!H227,IF(K227=45,Param!I227)))","v":"00:00:40"},{"$error":"#N/A"},null,1900,false,false]
[227,"-",null,null,null,null,115.40041067761807,null,null,null,45,{"$f":"VLOOKUP(A228,'Chrono+Classement'!G:O,5,FALSE)","v":{"$error":"#N/A"}},{"$f":"VLOOKUP(A228,'Chrono+Classement'!G:O,9,FALSE)","v":{"$error":"#N/A"}},{"$f":"IF(K228=17,Param!G228,IF(K228=28,Param!H228,IF(K228=45,Param!I228)))","v":"00:00:40"},{"$error":"#N/A"},null,1900,false,false]
[228,"-",null,null,null,null,115.40041067761807,null,null,null,45,{"$f":"VLOOKUP(A229,'Chrono+Classement'!G:O,5,FALSE)","v":{"$error":"#N/A"}},{"$f":"VLOOKUP(A229,'Chrono+Classement'!G:O,9,FALSE)","v":{"$error":"#N/A"}},{"$f":"IF(K229=17,Param!G229,IF(K229=28,Param!H229,IF(K229=45,Param!I229)))","v":"00:00:40"},{"$f":"M229-N229","v":{"$error":"#N/A"}},null,1900,false,false]
[229,"-",null,null,null,null,115.40041067761807,null,null,null,45,{"$f":"VLOOKUP(A230,'Chrono+Classement'!G:O,5,FALSE)","v":{"$error":"#N/A"}},{"$f":"VLOOKUP(A230,'Chrono+Classement'!G:O,9,FALSE)","v":{"$error":"#N/A"}},{"$f":"IF(K230=17,Param!G230,IF(K230=28,Param!H230,IF(K230=45,Param!I230)))","v":"00:00:40"},{"$error":"#N/A"},null,1900,false,false]
[230,"-",null,null,null,null,115.40041067761807,null,null,null,45,{"$f":"VLOOKUP(A231,'Chrono+Classement'!G:O,5,FALSE)","v":{"$error":"#N/A"}},{"$f":"VLOOKUP(A231,'Chrono+Classement'!G:O,9,FALSE)","v":{"$error":"#N/A"}},{"$f":"IF(K231=17,Param!G231,IF(K231=28,Param!H231,IF(K231=45,Param!I231)))","v":"00:00:40"},{"$error":"#N/A"},null,1900,false,false]
[231,"-",null,null,null,null,115.40041067761807,null,null,null,45,{"$f":"VLOOKUP(A232,'Chrono+Classement'!G:O,5,FALSE)","v":{"$error":"#N/A"}},{"$f":"VLOOKUP(A232,'Chrono+Classement'!G:O,9,FALSE)","v":{"$error":"#N/A"}},{"$f":"IF(K232=17,Param!G232,IF(K232=28,Param!H232,IF(K232=45,Param!I232)))","v":"00:00:40"},{"$error":"#N/A"},null,1900,false,false]
[232,"-",null,null,null,null,115.40041067761807,null,null,null,45,{"$f":"VLOOKUP(A233,'Chrono+Classement'!G:O,5,FALSE)","v":{"$error":"#N/A"}},{"$f":"VLOOKUP(A233,'Chrono+Classement'!G:O,9,FALSE)","v":{"$error":"#N/A"}},{"$f":"IF(K233=17,Param!G233,IF(K233=28,Param!H233,IF(K233=45,Param!I233)))","v":"00:00:40"},{"$error":"#N/A"},null,1900,false,false]
[233,"-",null,null,null,null,115.40041067761807,null,null,null,45,{"$f":"VLOOKUP(A234,'Chrono+Classement'!G:O,5,FALSE)","v":{"$error":"#N/A"}},{"$f":"VLOOKUP(A234,'Chrono+Classement'!G:O,9,FALSE)","v":{"$error":"#N/A"}},{"$f":"IF(K234=17,Param!G234,IF(K234=28,Param!H234,IF(K234=45,Param!I234)))","v":"00:00:40"},{"$error":"#N/A"},null,1900,false,false]
[234,"-",null,null,null,null,115.40041067761807,null,null,null,45,{"$f":"VLOOKUP(A235,'Chrono+Classement'!G:O,5,FALSE)","v":{"$error":"#N/A"}},{"$f":"VLOOKUP(A235,'Chrono+Classement'!G:O,9,FALSE)","v":{"$error":"#N/A"}},{"$f":"IF(K235=17,Param!G235,IF(K235=28,Param!H235,IF(K235=45,Param!I235)))","v":"00:00:40"},{"$error":"#N/A"},null,1900,false,false]
[235,"-",null,null,null,null,115.40041067761807,null,null,null,45,{"$f":"VLOOKUP(A236,'Chrono+Classement'!G:O,5,FALSE)","v":{"$error":"#N/A"}},{"$f":"VLOOKUP(A236,'Chrono+Classement'!G:O,9,FALSE)","v":{"$error":"#N/A"}},{"$f":"IF(K236=17,Param!G236,IF(K236=28,Param!H236,IF(K236=45,Param!I236)))","v":"00:00:40"},{"$error":"#N/A"},null,1900,false,false]
[236,"-",null,null,null,null,115.40041067761807,null,null,null,45,{"$f":"VLOOKUP(A237,'Chrono+Classement'!G:O,5,FALSE)","v":{"$error":"#N/A"}},{"$f":"VLOOKUP(A237,'Chrono+Classement'!G:O,9,FALSE)","v":{"$error":"#N/A"}},{"$f":"IF(K237=17,Param!G237,IF(K237=28,Param!H237,IF(K237=45,Param!I237)))","v":"00:00:40"},{"$error":"#N/A"},null,1900,false,false]
[237,"-",null,null,null,null,115.40041067761807,null,null,null,45,{"$f":"VLOOKUP(A238,'Chrono+Classement'!G:O,5,FALSE)","v":{"$error":"#N/A"}},{"$f":"VLOOKUP(A238,'Chrono+Classement'!G:O,9,FALSE)","v":{"$error":"#N/A"}},{"$f":"IF(K238=17,Param!G238,IF(K238=28,Param!H238,IF(K238=45,Param!I238)))","v":"00:00:40"},{"$error":"#N/A"},null,1900,false,false]
[238,"-",null,null,null,null,115.40041067761807,null,null,null,45,{"$f":"VLOOKUP(A239,'Chrono+Classement'!G:O,5,FALSE)","v":{"$error":"#N/A"}},{"$f":"VLOOKUP(A239,'Chrono+Classement'!G:O,9,FALSE)","v":{"$error":"#N/A"}},{"$f":"IF(K239=17,Param!G239,IF(K239=28,Param!H239,IF(K239=45,Param!I239)))","v":"00:00:40"},{"$error":"#N/A"},null,1900,false,false]
[239,"-",null,null,null,null,115.40041067761807,null,null,null,45,{"$f":"VLOOKUP(A240,'Chrono+Classement'!G:O,5,FALSE)","v":{"$error":"#N/A"}},{"$f":"VLOOKUP(A240,'Chrono+Classement'!G:O,9,FALSE)","v":{"$error":"#N/A"}},{"$f":"IF(K240=17,Param!G240,IF(K240=28,Param!H240,IF(K240=45,Param!I240)))","v":"00:00:40"},{"$error":"#N/A"},null,1900,false,false]
[240,"-",null,null,null,null,115.40041067761807,null,null,null,45,{"$f":"VLOOKUP(A241,'Chrono+Classement'!G:O,5,FALSE)","v":{"$error":"#N/A"}},{"$f":"VLOOKUP(A241,'Chrono+Classement'!G:O,9,FALSE)","v":{"$error":"#N/A"}},{"$f":"IF(K241=17,Param!G241,IF(K241=28,Param!H241,IF(K241=45,Param!I241)))","v":"00:00:40"},{"$error":"#N/A"},null,1900,false,false]
[241,"-",null,null,null,null,115.40041067761807,null,null,null,45,{"$f":"VLOOKUP(A242,'Chrono+Classement'!G:O,5,FALSE)","v":{"$error":"#N/A"}},{"$f":"VLOOKUP(A242,'Chrono+Classement'!G:O,9,FALSE)","v":{"$error":"#N/A"}},{"$f":"IF(K242=17,Param!G242,IF(K242=28,Param!H242,IF(K242=45,Param!I242)))","v":"00:00:40"},{"$error":"#N/A"},null,1900,false,false]
[242,"-",null,null,null,null,115.40041067761807,null,null,null,45,{"$f":"VLOOKUP(A243,'Chrono+Classement'!G:O,5,FALSE)","v":{"$error":"#N/A"}},{"$f":"VLOOKUP(A243,'Chrono+Classement'!G:O,9,FALSE)","v":{"$error":"#N/A"}},{"$f":"IF(K243=17,Param!G243,IF(K243=28,Param!H243,IF(K243=45,Param!I243)))","v":"00:00:40"},{"$error":"#N/A"},null,1900,false,false]
[243,"-",null,null,null,null,115.40041067761807,null,null,null,45,{"$f":"VLOOKUP(A244,'Chrono+Classement'!G:O,5,FALSE)","v":{"$error":"#N/A"}},{"$f":"VLOOKUP(A244,'Chrono+Classement'!G:O,9,FALSE)","v":{"$error":"#N/A"}},{"$f":"IF(K244=17,Param!G244,IF(K244=28,Param!H244,IF(K244=45,Param!I244)))","v":"00:00:40"},{"$error":"#N/A"},null,1900,false,false]
[244,"-",null,null,null,null,115.40041067761807,null,null,null,45,{"$f":"VLOOKUP(A245,'Chrono+Classement'!G:O,5,FALSE)","v":{"$error":"#N/A"}},{"$f":"VLOOKUP(A245,'Chrono+Classement'!G:O,9,FALSE)","v":{"$error":"#N/A"}},{"$f":"IF(K245=17,Param!G245,IF(K245=28,Param!H245,IF(K245=45,Param!I245)))","v":"00:00:40"},{"$error":"#N/A"},null,1900,false,false]
[245,"-",null,null,null,null,115.40041067761807,null,null,null,45,{"$f":"VLOOKUP(A246,'Chrono+Classement'!G:O,5,FALSE)","v":{"$error":"#N/A"}},{"$f":"VLOOKUP(A246,'Chrono+Classement'!G:O,9,FALSE)","v":{"$error":"#N/A"}},{"$f":"IF(K246=17,Param!G246,IF(K246=28,Param!H246,IF(K246=45,Param!I246)))","v":"00:00:40"},{"$error":"#N/A"},null,1900,false,false]
[246,"-",null,null,null,null,115.40041067761807,null,null,null,45,{"$f":"VLOOKUP(A247,'Chrono+Classement'!G:O,5,FALSE)","v":{"$error":"#N/A"}},{"$f":"VLOOKUP(A247,'Chrono+Classement'!G:O,9,FALSE)","v":{"$error":"#N/A"}},{"$f":"IF(K247=17,Param!G247,IF(K247=28,Param!H247,IF(K247=45,Param!I247)))","v":"00:00:40"},{"$error":"#N/A"},null,1900,false,false]
[247,"-",null,null,null,null,115.40041067761807,null,null,null,45,{"$f":"VLOOKUP(A248,'Chrono+Classement'!G:O,5,FALSE)","v":{"$error":"#N/A"}},{"$f":"VLOOKUP(A248,'Chrono+Classement'!G:O,9,FALSE)","v":{"$error":"#N/A"}},{"$f":"IF(K248=17,Param!G248,IF(K248=28,Param!H248,IF(K248=45,Param!I248)))","v":"00:00:40"},{"$error":"#N/A"},null,1900,false,false]
[248,"-",null,null,null,null,115.40041067761807,null,null,null,45,{"$f":"VLOOKUP(A249,'Chrono+Classement'!G:O,5,FALSE)","v":{"$error":"#N/A"}},{"$f":"VLOOKUP(A249,'Chrono+Classement'!G:O,9,FALSE)","v":{"$error":"#N/A"}},{"$f":"IF(K249=17,Param!G249,IF(K249=28,Param!H249,IF(K249=45,Param!I249)))","v":"00:00:40"},{"$error":"#N/A"},null,1900,false,false]
[249,"-",null,null,null,null,115.40041067761807,null,null,null,45,{"$f":"VLOOKUP(A250,'Chrono+Classement'!G:O,5,FALSE)","v":{"$error":"#N/A"}},{"$f":"VLOOKUP(A250,'Chrono+Classement'!G:O,9,FALSE)","v":{"$error":"#N/A"}},{"$f":"IF(K250=17,Param!G250,IF(K250=28,Param!H250,IF(K250=45,Param!I250)))","v":"00:00:40"},{"$error":"#N/A"},null,1900,false,false]
[250,"-",null,null,null,null,115.40041067761807,null,null,null,45,{"$f":"VLOOKUP(A251,'Chrono+Classement'!G:O,5,FALSE)","v":{"$error":"#N/A"}},{"$f":"VLOOKUP(A251,'Chrono+Classement'!G:O,9,FALSE)","v":{"$error":"#N/A"}},{"$f":"IF(K251=17,Param!G251,IF(K251=28,Param!H251,IF(K251=45,Param!I251)))","v":"00:00:40"},{"$error":"#N/A"},null,1900,false,false]
[251,"-",null,null,null,null,115.40041067761807,null,null,null,45,{"$f":"VLOOKUP(A252,'Chrono+Classement'!G:O,5,FALSE)","v":{"$error":"#N/A"}},{"$f":"VLOOKUP(A252,'Chrono+Classement'!G:O,9,FALSE)","v":{"$error":"#N/A"}},{"$f":"IF(K252=17,Param!G252,IF(K252=28,Param!H252,IF(K252=45,Param!I252)))","v":"00:00:40"},{"$error":"#N/A"},null,1900,false,false]
[252,"-",null,null,null,null,115.40041067761807,null,null,null,45,{"$f":"VLOOKUP(A253,'Chrono+Classement'!G:O,5,FALSE)","v":{"$error":"#N/A"}},{"$f":"VLOOKUP(A253,'Chrono+Classement'!G:O,9,FALSE)","v":{"$error":"#N/A"}},{"$f":"IF(K253=17,Param!G253,IF(K253=28,Param!H253,IF(K253=45,Param!I253)))","v":"00:00:40"},{"$error":"#N/A"},null,1900,false,false]
[253,"-",null,null,null,null,115.40041067761807,null,null,null,45,{"$f":"VLOOKUP(A254,'Chrono+Classement'!G:O,5,FALSE)","v":{"$error":"#N/A"}},{"$f":"VLOOKUP(A254,'Chrono+Classement'!G:O,9,FALSE)","v":{"$error":"#N/A"}},{"$f":"IF(K254=17,Param!G254,IF(K254=28,Param!H254,IF(K254=45,Param!I254)))","v":"00:00:40"},{"$error":"#N/A"},null,1900,false,false]
[254,"-",null,null,null,null,115.40041067761807,null,null,null,45,{"$f":"VLOOKUP(A255,'Chrono+Classement'!G:O,5,FALSE)","v":{"$error":"#N/A"}},{"$f":"VLOOKUP(A255,'Chrono+Classement'!G:O,9,FALSE)","v":{"$error":"#N/A"}},{"$f":"IF(K255=17,Param!G255,IF(K255=28,Param!H255,IF(K255=45,Param!I255)))","v":"00:00:40"},{"$error":"#N/A"},null,1900,false,false]
[255,"-",null,null,null,null,115.40041067761807,null,null,null,45,{"$f":"VLOOKUP(A256,'Chrono+Classement'!G:O,5,FALSE)","v":{"$error":"#N/A"}},{"$f":"VLOOKUP(A256,'Chrono+Classement'!G:O,9,FALSE)","v":{"$error":"#N/A"}},{"$f":"IF(K256=17,Param!G256,IF(K256=28,Param!H256,IF(K256=45,Param!I256)))","v":"00:00:40"},{"$error":"#N/A"},null,1900,false,false]
[256,"-",null,null,null,null,115.40041067761807,null,null,null,45,{"$f":"VLOOKUP(A257,'Chrono+Classement'!G:O,5,FALSE)","v":{"$error":"#N/A"}},{"$f":"VLOOKUP(A257,'Chrono+Classement'!G:O,9,FALSE)","v":{"$error":"#N/A"}},{"$f":"IF(K257=17,Param!G257,IF(K257=28,Param!H257,IF(K257=45,Param!I257)))","v":"00:00:40"},{"$error":"#N/A"},null,1900,false,false]
[257,{"$f":"CONCATENATE(C258,\"-\",D258)","v":"-"},null,null,null,null,{"$f":"(TODAY()-F258)/365.25","v":115.40041067761807},null,null,null,45,{"$f":"VLOOKUP(A258,'Chrono+Classement'!G:O,5,FALSE)","v":{"$error":"#N/A"}},{"$f":"VLOOKUP(A258,'Chrono+Classement'!G:O,9,FALSE)","v":{"$error":"#N/A"}},{"$f":"IF(K258=17,Param!G258,IF(K258=28,Param!H258,IF(K258=45,Param!I258)))","v":"00:00:40"},{"$error":"#N/A"},null,{"$f":"YEAR(F258)","v":1900},{"$f":"IF(E258=\"M\",IF(Q258<=1965,\"Masters 5\",IF(Q258<=1975,\"Masters 3/4\",IF(Q258<=1985,\"Masters 1/2\",IF(Q258<=1992,\"Hommes\",IF(Q258<=1996,\"Espoirs\",IF(Q258<=1998,\"Juniors\",IF(Q258<=2000,\"Cadets\",0))))))))","v":false},{"$f":"IF(E258=\"F\",IF(Q258<=1992,\"Dames\",IF(Q258<=1996,\"Espoirs Dames\",IF(Q258<=1998,\"Juniors Dames\",IF(Q258<=2000,\"Cadettes\",0)))))","v":false}]
[258,"-",null,null,null,null,115.40041067761807,null,null,null,45,{"$f":"VLOOKUP(A259,'Chrono+Classement'!G:O,5,FALSE)","v":{"$error":"#N/A"}},{"$f":"VLOOKUP(A259,'Chrono+Classement'!G:O,9,FALSE)","v":{"$error":"#N/A"}},{"$f":"IF(K259=17,Param!G259,IF(K259=28,Param!H259,IF(K259=45,Param!I259)))","v":"00:00:40"},{"$error":"#N/A"},null,1900,false,false]
[259,"-",null,null,null,null,115.40041067761807,null,null,null,45,{"$f":"VLOOKUP(A260,'Chrono+Classement'!G:O,5,FALSE)","v":{"$error":"#N/A"}},{"$f":"VLOOKUP(A260,'Chrono+Classement'!G:O,9,FALSE)","v":{"$error":"#N/A"}},{"$f":"IF(K260=17,Param!G260,IF(K260=28,Param!H260,IF(K260=45,Param!I260)))","v":"00:00:40"},{"$error":"#N/A"},null,1900,false,false]
[260,"-",null,null,null,null,115.40041067761807,null,null,null,45,{"$f":"VLOOKUP(A261,'Chrono+Classement'!G:O,5,FALSE)","v":{"$error":"#N/A"}},{"$f":"VLOOKUP(A261,'Chrono+Classement'!G:O,9,FALSE)","v":{"$error":"#N/A"}},{"$f":"IF(K261=17,Param!G261,IF(K261=28,Param!H261,IF(K261=45,Param!I261)))","v":"00:00:40"},{"$error":"#N/A"},null,1900,false,false]
[261,"-",null,null,null,null,115.40041067761807,null,null,null,45,{"$f":"VLOOKUP(A262,'Chrono+Classement'!G:O,5,FALSE)","v":{"$error":"#N/A"}},{"$f":"VLOOKUP(A262,'Chrono+Classement'!G:O,9,FALSE)","v":{"$error":"#N/A"}},{"$f":"IF(K262=17,Param!G262,IF(K262=28,Param!H262,IF(K262=45,Param!I262)))","v":"00:00:40"},{"$error":"#N/A"},null,1900,false,false]
[262,"-",null,null,null,null,115.40041067761807,null,null,null,45,{"$f":"VLOOKUP(A263,'Chrono+Classement'!G:O,5,FALSE)","v":{"$error":"#N/A"}},{"$f":"VLOOKUP(A263,'Chrono+Classement'!G:O,9,FALSE)","v":{"$error":"#N/A"}},{"$f":"IF(K263=17,Param!G263,IF(K263=28,Param!H263,IF(K263=45,Param!I263)))","v":"00:00:40"},{"$error":"#N/A"},null,1900,false,false]
[263,"-",null,null,null,null,115.40041067761807,null,null,null,45,{"$f":"VLOOKUP(A264,'Chrono+Classement'!G:O,5,FALSE)","v":{"$error":"#N/A"}},{"$f":"VLOOKUP(A264,'Chrono+Classement'!G:O,9,FALSE)","v":{"$error":"#N/A"}},{"$f":"IF(K264=17,Param!G264,IF(K264=28,Param!H264,IF(K264=45,Param!I264)))","v":"00:00:40"},{"$error":"#N/A"},null,1900,false,false]
[264,"-",null,null,null,null,115.40041067761807,null,null,null,45,{"$f":"VLOOKUP(A265,'Chrono+Classement'!G:O,5,FALSE)","v":{"$error":"#N/A"}},{"$f":"VLOOKUP(A265,'Chrono+Classement'!G:O,9,FALSE)","v":{"$error":"#N/A"}},{"$f":"IF(K265=17,Param!G265,IF(K265=28,Param!H265,IF(K265=45,Param!I265)))","v":"00:00:40"},{"$error":"#N/A"},null,1900,false,false]
[265,"-",null,null,null,null,115.40041067761807,null,null,null,45,{"$f":"VLOOKUP(A266,'Chrono+Classement'!G:O,5,FALSE)","v":{"$error":"#N/A"}},{"$f":"VLOOKUP(A266,'Chrono+Classement'!G:O,9,FALSE)","v":{"$error":"#N/A"}},{"$f":"IF(K266=17,Param!G266,IF(K266=28,Param!H266,IF(K266=45,Param!I266)))","v":"00:00:40"},{"$error":"#N/A"},null,1900,false,false]
[266,"-",null,null,null,null,115.40041067761807,null,null,null,45,{"$f":"VLOOKUP(A267,'Chrono+Classement'!G:O,5,FALSE)","v":{"$error":"#N/A"}},{"$f":"VLOOKUP(A267,'Chrono+Classement'!G:O,9,FALSE)","v":{"$error":"#N/A"}},{"$f":"IF(K267=17,Param!G267,IF(K267=28,Param!H267,IF(K267=45,Param!I267)))","v":"00:00:40"},{"$error":"#N/A"},null,1900,false,false]
[267,"-",null,null,null,null,115.40041067761807,null,null,null,45,{"$f":"VLOOKUP(A268,'Chrono+Classement'!G:O,5,FALSE)","v":{"$error":"#N/A"}},{"$f":"VLOOKUP(A268,'Chrono+Classement'!G:O,9,FALSE)","v":{"$error":"#N/A"}},{"$f":"IF(K268=17,Param!G268,IF(K268=28,Param!H268,IF(K268=45,Param!I268)))","v":"00:00:40"},{"$error":"#N/A"},null,1900,false,false]
[268,"-",null,null,null,null,115.40041067761807,null,null,null,45,{"$f":"VLOOKUP(A269,'Chrono+Classement'!G:O,5,FALSE)","v":{"$error":"#N/A"}},{"$f":"VLOOKUP(A269,'Chrono+Classement'!G:O,9,FALSE)","v":{"$error":"#N/A"}},{"$f":"IF(K269=17,Param!G269,IF(K269=28,Param!H269,IF(K269=45,Param!I269)))","v":"00:00:40"},{"$error":"#N/A"},null,1900,false,false]
[269,"-",null,null,null,null,115.40041067761807,null,null,null,45,{"$f":"VLOOKUP(A270,'Chrono+Classement'!G:O,5,FALSE)","v":{"$error":"#N/A"}},{"$f":"VLOOKUP(A270,'Chrono+Classement'!G:O,9,FALSE)","v":{"$error":"#N/A"}},{"$f":"IF(K270=17,Param!G270,IF(K270=28,Param!H270,IF(K270=45,Param!I270)))","v":"00:00:40"},{"$error":"#N/A"},null,1900,false,false]
[270,"-",null,null,null,null,115.40041067761807,null,null,null,45,{"$f":"VLOOKUP(A271,'Chrono+Classement'!G:O,5,FALSE)","v":{"$error":"#N/A"}},{"$f":"VLOOKUP(A271,'Chrono+Classement'!G:O,9,FALSE)","v":{"$error":"#N/A"}},{"$f":"IF(K271=17,Param!G271,IF(K271=28,Param!H271,IF(K271=45,Param!I271)))","v":"00:00:40"},{"$error":"#N/A"},null,1900,false,false]
[271,"-",null,null,null,null,115.40041067761807,null,null,null,45,{"$f":"VLOOKUP(A272,'Chrono+Classement'!G:O,5,FALSE)","v":{"$error":"#N/A"}},{"$f":"VLOOKUP(A272,'Chrono+Classement'!G:O,9,FALSE)","v":{"$error":"#N/A"}},{"$f":"IF(K272=17,Param!G272,IF(K272=28,Param!H272,IF(K272=45,Param!I272)))","v":"00:00:40"},{"$error":"#N/A"},null,1900,false,false]
[272,"-",null,null,null,null,115.40041067761807,null,null,null,45,{"$f":"VLOOKUP(A273,'Chrono+Classement'!G:O,5,FALSE)","v":{"$error":"#N/A"}},{"$f":"VLOOKUP(A273,'Chrono+Classement'!G:O,9,FALSE)","v":{"$error":"#N/A"}},{"$f":"IF(K273=17,Param!G273,IF(K273=28,Param!H273,IF(K273=45,Param!I273)))","v":"00:00:40"},{"$error":"#N/A"},null,1900,false,false]
[273,"-",null,null,null,null,115.40041067761807,null,null,null,45,{"$f":"VLOOKUP(A274,'Chrono+Classement'!G:O,5,FALSE)","v":{"$error":"#N/A"}},{"$f":"VLOOKUP(A274,'Chrono+Classement'!G:O,9,FALSE)","v":{"$error":"#N/A"}},{"$f":"IF(K274=17,Param!G274,IF(K274=28,Param!H274,IF(K274=45,Param!I274)))","v":"00:00:40"},{"$error":"#N/A"},null,1900,false,false]
[274,"-",null,null,null,null,115.40041067761807,null,null,null,45,{"$f":"VLOOKUP(A275,'Chrono+Classement'!G:O,5,FALSE)","v":{"$error":"#N/A"}},{"$f":"VLOOKUP(A275,'Chrono+Classement'!G:O,9,FALSE)","v":{"$error":"#N/A"}},{"$f":"IF(K275=17,Param!G275,IF(K275=28,Param!H275,IF(K275=45,Param!I275)))","v":"00:00:40"},{"$error":"#N/A"},null,1900,false,false]
[275,"-",null,null,null,null,115.40041067761807,null,null,null,45,{"$f":"VLOOKUP(A276,'Chrono+Classement'!G:O,5,FALSE)","v":{"$error":"#N/A"}},{"$f":"VLOOKUP(A276,'Chrono+Classement'!G:O,9,FALSE)","v":{"$error":"#N/A"}},{"$f":"IF(K276=17,Param!G276,IF(K276=28,Param!H276,IF(K276=45,Param!I276)))","v":"00:00:40"},{"$error":"#N/A"},null,1900,false,false]
[276,"-",null,null,null,null,115.40041067761807,null,null,null,45,{"$f":"VLOOKUP(A277,'Chrono+Classement'!G:O,5,FALSE)","v":{"$error":"#N/A"}},{"$f":"VLOOKUP(A277,'Chrono+Classement'!G:O,9,FALSE)","v":{"$error":"#N/A"}},{"$f":"IF(K277=17,Param!G277,IF(K277=28,Param!H277,IF(K277=45,Param!I277)))","v":"00:00:40"},{"$error":"#N/A"},null,1900,false,false]
[277,"-",null,null,null,null,115.40041067761807,null,null,null,45,{"$f":"VLOOKUP(A278,'Chrono+Classement'!G:O,5,FALSE)","v":{"$error":"#N/A"}},{"$f":"VLOOKUP(A278,'Chrono+Classement'!G:O,9,FALSE)","v":{"$error":"#N/A"}},{"$f":"IF(K278=17,Param!G278,IF(K278=28,Param!H278,IF(K278=45,Param!I278)))","v":"00:00:40"},{"$error":"#N/A"},null,1900,false,false]
[278,"-",null,null,null,null,115.40041067761807,null,null,null,45,{"$f":"VLOOKUP(A279,'Chrono+Classement'!G:O,5,FALSE)","v":{"$error":"#N/A"}},{"$f":"VLOOKUP(A279,'Chrono+Classement'!G:O,9,FALSE)","v":{"$error":"#N/A"}},{"$f":"IF(K279=17,Param!G279,IF(K279=28,Param!H279,IF(K279=45,Param!I279)))","v":"00:00:40"},{"$error":"#N/A"},null,1900,false,false]
[279,"-",null,null,null,null,115.40041067761807,null,null,null,45,{"$f":"VLOOKUP(A280,'Chrono+Classement'!G:O,5,FALSE)","v":{"$error":"#N/A"}},{"$f":"VLOOKUP(A280,'Chrono+Classement'!G:O,9,FALSE)","v":{"$error":"#N/A"}},{"$f":"IF(K280=17,Param!G280,IF(K280=28,Param!H280,IF(K280=45,Param!I280)))","v":"00:00:40"},{"$error":"#N/A"},null,1900,false,false]
[280,"-",null,null,null,null,115.40041067761807,null,null,null,45,{"$f":"VLOOKUP(A281,'Chrono+Classement'!G:O,5,FALSE)","v":{"$error":"#N/A"}},{"$f":"VLOOKUP(A281,'Chrono+Classement'!G:O,9,FALSE)","v":{"$error":"#N/A"}},{"$f":"IF(K281=17,Param!G281,IF(K281=28,Param!H281,IF(K281=45,Param!I281)))","v":"00:00:40"},{"$error":"#N/A"},null,1900,false,false]
[281,"-",null,null,null,null,115.40041067761807,null,null,null,45,{"$f":"VLOOKUP(A282,'Chrono+Classement'!G:O,5,FALSE)","v":{"$error":"#N/A"}},{"$f":"VLOOKUP(A282,'Chrono+Classement'!G:O,9,FALSE)","v":{"$error":"#N/A"}},{"$f":"IF(K282=17,Param!G282,IF(K282=28,Param!H282,IF(K282=45,Param!I282)))","v":"00:00:40"},{"$error":"#N/A"},null,1900,false,false]
[282,"-",null,null,null,null,115.40041067761807,null,null,null,45,{"$f":"VLOOKUP(A283,'Chrono+Classement'!G:O,5,FALSE)","v":{"$error":"#N/A"}},{"$f":"VLOOKUP(A283,'Chrono+Classement'!G:O,9,FALSE)","v":{"$error":"#N/A"}},{"$f":"IF(K283=17,Param!G283,IF(K283=28,Param!H283,IF(K283=45,Param!I283)))","v":"00:00:40"},{"$error":"#N/A"},null,1900,false,false]
[283,"-",null,null,null,null,115.40041067761807,null,null,null,45,{"$f":"VLOOKUP(A284,'Chrono+Classement'!G:O,5,FALSE)","v":{"$error":"#N/A"}},{"$f":"VLOOKUP(A284,'Chrono+Classement'!G:O,9,FALSE)","v":{"$error":"#N/A"}},{"$f":"IF(K284=17,Param!G284,IF(K284=28,Param!H284,IF(K284=45,Param!I284)))","v":"00:00:40"},{"$error":"#N/A"},null,1900,false,false]
[284,"-",null,null,null,null,115.40041067761807,null,null,null,45,{"$f":"VLOOKUP(A285,'Chrono+Classement'!G:O,5,FALSE)","v":{"$error":"#N/A"}},{"$f":"VLOOKUP(A285,'Chrono+Classement'!G:O,9,FALSE)","v":{"$error":"#N/A"}},{"$f":"IF(K285=17,Param!G285,IF(K285=28,Param!H285,IF(K285=45,Param!I285)))","v":"00:00:40"},{"$error":"#N/A"},null,1900,false,false]
[285,"-",null,null,null,null,115.40041067761807,null,null,null,45,{"$f":"VLOOKUP(A286,'Chrono+Classement'!G:O,5,FALSE)","v":{"$error":"#N/A"}},{"$f":"VLOOKUP(A286,'Chrono+Classement'!G:O,9,FALSE)","v":{"$error":"#N/A"}},{"$f":"IF(K286=17,Param!G286,IF(K286=28,Param!H286,IF(K286=45,Param!I286)))","v":"00:00:40"},{"$error":"#N/A"},null,1900,false,false]
[286,"-",null,null,null,null,115.40041067761807,null,null,null,45,{"$f":"VLOOKUP(A287,'Chrono+Classement'!G:O,5,FALSE)","v":{"$error":"#N/A"}},{"$f":"VLOOKUP(A287,'Chrono+Classement'!G:O,9,FALSE)","v":{"$error":"#N/A"}},{"$f":"IF(K287=17,Param!G287,IF(K287=28,Param!H287,IF(K287=45,Param!I287)))","v":"00:00:40"},{"$error":"#N/A"},null,1900,false,false]
[287,"-",null,null,null,null,115.40041067761807,null,null,null,45,{"$f":"VLOOKUP(A288,'Chrono+Classement'!G:O,5,FALSE)","v":{"$error":"#N/A"}},{"$f":"VLOOKUP(A288,'Chrono+Classement'!G:O,9,FALSE)","v":{"$error":"#N/A"}},{"$f":"IF(K288=17,Param!G288,IF(K288=28,Param!H288,IF(K288=45,Param!I288)))","v":"00:00:40"},{"$error":"#N/A"},null,1900,false,false]
[288,"-",null,null,null,null,115.40041067761807,null,null,null,45,{"$f":"VLOOKUP(A289,'Chrono+Classement'!G:O,5,FALSE)","v":{"$error":"#N/A"}},{"$f":"VLOOKUP(A289,'Chrono+Classement'!G:O,9,FALSE)","v":{"$error":"#N/A"}},{"$f":"IF(K289=17,Param!G289,IF(K289=28,Param!H289,IF(K289=45,Param!I289)))","v":"00:00:40"},{"$error":"#N/A"},null,1900,false,false]
[289,"-",null,null,null,null,115.40041067761807,null,null,null,45,{"$f":"VLOOKUP(A290,'Chrono+Classement'!G:O,5,FALSE)","v":{"$error":"#N/A"}},{"$f":"VLOOKUP(A290,'Chrono+Classement'!G:O,9,FALSE)","v":{"$error":"#N/A"}},{"$f":"IF(K290=17,Param!G290,IF(K290=28,Param!H290,IF(K290=45,Param!I290)))","v":"00:00:40"},{"$error":"#N/A"},null,1900,false,false]
[290,"-",null,null,null,null,115.40041067761807,null,null,null,45,{"$f":"VLOOKUP(A291,'Chrono+Classement'!G:O,5,FALSE)","v":{"$error":"#N/A"}},{"$f":"VLOOKUP(A291,'Chrono+Classement'!G:O,9,FALSE)","v":{"$error":"#N/A"}},{"$f":"IF(K291=17,Param!G291,IF(K291=28,Param!H291,IF(K291=45,Param!I291)))","v":"00:00:40"},{"$error":"#N/A"},null,1900,false,false]
[291,"-",null,null,null,null,115.40041067761807,null,null,null,45,{"$f":"VLOOKUP(A292,'Chrono+Classement'!G:O,5,FALSE)","v":{"$error":"#N/A"}},{"$f":"VLOOKUP(A292,'Chrono+Classement'!G:O,9,FALSE)","v":{"$error":"#N/A"}},{"$f":"IF(K292=17,Param!G292,IF(K292=28,Param!H292,IF(K292=45,Param!I292)))","v":"00:00:40"},{"$error":"#N/A"},null,1900,false,false]
[292,"-",null,null,null,null,115.40041067761807,null,null,null,45,{"$f":"VLOOKUP(A293,'Chrono+Classement'!G:O,5,FALSE)","v":{"$error":"#N/A"}},{"$f":"VLOOKUP(A293,'Chrono+Classement'!G:O,9,FALSE)","v":{"$error":"#N/A"}},{"$f":"IF(K293=17,Param!G293,IF(K293=28,Param!H293,IF(K293=45,Param!I293)))","v":"00:00:40"},{"$f":"M293-N293","v":{"$error":"#N/A"}},null,1900,false,false]
[293,"-",null,null,null,null,115.40041067761807,null,null,null,45,{"$f":"VLOOKUP(A294,'Chrono+Classement'!G:O,5,FALSE)","v":{"$error":"#N/A"}},{"$f":"VLOOKUP(A294,'Chrono+Classement'!G:O,9,FALSE)","v":{"$error":"#N/A"}},{"$f":"IF(K294=17,Param!G294,IF(K294=28,Param!H294,IF(K294=45,Param!I294)))","v":"00:00:40"},{"$error":"#N/A"},null,1900,false,false]
[294,"-",null,null,null,null,115.40041067761807,null,null,null,45,{"$f":"VLOOKUP(A295,'Chrono+Classement'!G:O,5,FALSE)","v":{"$error":"#N/A"}},{"$f":"VLOOKUP(A295,'Chrono+Classement'!G:O,9,FALSE)","v":{"$error":"#N/A"}},{"$f":"IF(K295=17,Param!G295,IF(K295=28,Param!H295,IF(K295=45,Param!I295)))","v":"00:00:40"},{"$error":"#N/A"},null,1900,false,false]
[295,"-",null,null,null,null,115.40041067761807,null,null,null,45,{"$f":"VLOOKUP(A296,'Chrono+Classement'!G:O,5,FALSE)","v":{"$error":"#N/A"}},{"$f":"VLOOKUP(A296,'Chrono+Classement'!G:O,9,FALSE)","v":{"$error":"#N/A"}},{"$f":"IF(K296=17,Param!G296,IF(K296=28,Param!H296,IF(K296=45,Param!I296)))","v":"00:00:40"},{"$error":"#N/A"},null,1900,false,false]
[296,"-",null,null,null,null,115.40041067761807,null,null,null,45,{"$f":"VLOOKUP(A297,'Chrono+Classement'!G:O,5,FALSE)","v":{"$error":"#N/A"}},{"$f":"VLOOKUP(A297,'Chrono+Classement'!G:O,9,FALSE)","v":{"$error":"#N/A"}},{"$f":"IF(K297=17,Param!G297,IF(K297=28,Param!H297,IF(K297=45,Param!I297)))","v":"00:00:40"},{"$error":"#N/A"},null,1900,false,false]
[297,"-",null,null,null,null,115.40041067761807,null,null,null,45,{"$f":"VLOOKUP(A298,'Chrono+Classement'!G:O,5,FALSE)","v":{"$error":"#N/A"}},{"$f":"VLOOKUP(A298,'Chrono+Classement'!G:O,9,FALSE)","v":{"$error":"#N/A"}},{"$f":"IF(K298=17,Param!G298,IF(K298=28,Param!H298,IF(K298=45,Param!I298)))","v":"00:00:40"},{"$error":"#N/A"},null,1900,false,false]
[298,"-",null,null,null,null,115.40041067761807,null,null,null,45,{"$f":"VLOOKUP(A299,'Chrono+Classement'!G:O,5,FALSE)","v":{"$error":"#N/A"}},{"$f":"VLOOKUP(A299,'Chrono+Classement'!G:O,9,FALSE)","v":{"$error":"#N/A"}},{"$f":"IF(K299=17,Param!G299,IF(K299=28,Param!H299,IF(K299=45,Param!I299)))","v":"00:00:40"},{"$error":"#N/A"},null,1900,false,false]
[299,"-",null,null,null,null,115.40041067761807,null,null,null,45,{"$f":"VLOOKUP(A300,'Chrono+Classement'!G:O,5,FALSE)","v":{"$error":"#N/A"}},{"$f":"VLOOKUP(A300,'Chrono+Classement'!G:O,9,FALSE)","v":{"$error":"#N/A"}},{"$f":"IF(K300=17,Param!G300,IF(K300=28,Param!H300,IF(K300=45,Param!I300)))","v":"00:00:40"},{"$error":"#N/A"},null,1900,false,false]
[300,"-",null,null,null,null,115.40041067761807,null,null,null,45,{"$f":"VLOOKUP(A301,'Chrono+Classement'!G:O,5,FALSE)","v":{"$error":"#N/A"}},{"$f":"VLOOKUP(A301,'Chrono+Classement'!G:O,9,FALSE)","v":{"$error":"#N/A"}},{"$f":"IF(K301=17,Param!G301,IF(K301=28,Param!H301,IF(K301=45,Param!I301)))","v":"00:00:40"},{"$error":"#N/A"},null,1900,false,false]
[301,"-",null,null,null,null,115.40041067761807,null,null,null,45,{"$f":"VLOOKUP(A302,'Chrono+Classement'!G:O,5,FALSE)","v":{"$error":"#N/A"}},{"$f":"VLOOKUP(A302,'Chrono+Classement'!G:O,9,FALSE)","v":{"$error":"#N/A"}},{"$f":"IF(K302=17,Param!G302,IF(K302=28,Param!H302,IF(K302=45,Param!I302)))","v":"00:00:40"},{"$error":"#N/A"},null,1900,false,false]
[302,"-",null,null,null,null,115.40041067761807,null,null,null,45,{"$f":"VLOOKUP(A303,'Chrono+Classement'!G:O,5,FALSE)","v":{"$error":"#N/A"}},{"$f":"VLOOKUP(A303,'Chrono+Classement'!G:O,9,FALSE)","v":{"$error":"#N/A"}},{"$f":"IF(K303=17,Param!G303,IF(K303=28,Param!H303,IF(K303=45,Param!I303)))","v":"00:00:40"},{"$error":"#N/A"},null,1900,false,false]
[303,"-",null,null,null,null,115.40041067761807,null,null,null,45,{"$f":"VLOOKUP(A304,'Chrono+Classement'!G:O,5,FALSE)","v":{"$error":"#N/A"}},{"$f":"VLOOKUP(A304,'Chrono+Classement'!G:O,9,FALSE)","v":{"$error":"#N/A"}},{"$f":"IF(K304=17,Param!G304,IF(K304=28,Param!H304,IF(K304=45,Param!I304)))","v":"00:00:40"},{"$error":"#N/A"},null,1900,false,false]
[304,"-",null,null,null,null,115.40041067761807,null,null,null,45,{"$f":"VLOOKUP(A305,'Chrono+Classement'!G:O,5,FALSE)","v":{"$error":"#N/A"}},{"$f":"VLOOKUP(A305,'Chrono+Classement'!G:O,9,FALSE)","v":{"$error":"#N/A"}},{"$f":"IF(K305=17,Param!G305,IF(K305=28,Param!H305,IF(K305=45,Param!I305)))","v":"00:00:40"},{"$error":"#N/A"},null,1900,false,false]
[305,"-",null,null,null,null,115.40041067761807,null,null,null,45,{"$f":"VLOOKUP(A306,'Chrono+Classement'!G:O,5,FALSE)","v":{"$error":"#N/A"}},{"$f":"VLOOKUP(A306,'Chrono+Classement'!G:O,9,FALSE)","v":{"$error":"#N/A"}},{"$f":"IF(K306=17,Param!G306,IF(K306=28,Param!H306,IF(K306=45,Param!I306)))","v":"00:00:40"},{"$error":"#N/A"},null,1900,false,false]
[306,"-",null,null,null,null,115.40041067761807,null,null,null,45,{"$f":"VLOOKUP(A307,'Chrono+Classement'!G:O,5,FALSE)","v":{"$error":"#N/A"}},{"$f":"VLOOKUP(A307,'Chrono+Classement'!G:O,9,FALSE)","v":{"$error":"#N/A"}},{"$f":"IF(K307=17,Param!G307,IF(K307=28,Param!H307,IF(K307=45,Param!I307)))","v":"00:00:40"},{"$error":"#N/A"},null,1900,false,false]
[307,"-",null,null,null,null,115.40041067761807,null,null,null,45,{"$f":"VLOOKUP(A308,'Chrono+Classement'!G:O,5,FALSE)","v":{"$error":"#N/A"}},{"$f":"VLOOKUP(A308,'Chrono+Classement'!G:O,9,FALSE)","v":{"$error":"#N/A"}},{"$f":"IF(K308=17,Param!G308,IF(K308=28,Param!H308,IF(K308=45,Param!I308)))","v":"00:00:40"},{"$error":"#N/A"},null,1900,false,false]
[308,"-",null,null,null,null,115.40041067761807,null,null,null,45,{"$f":"VLOOKUP(A309,'Chrono+Classement'!G:O,5,FALSE)","v":{"$error":"#N/A"}},{"$f":"VLOOKUP(A309,'Chrono+Classement'!G:O,9,FALSE)","v":{"$error":"#N/A"}},{"$f":"IF(K309=17,Param!G309,IF(K309=28,Param!H309,IF(K309=45,Param!I309)))","v":"00:00:40"},{"$error":"#N/A"},null,1900,false,false]
[309,"-",null,null,null,null,115.40041067761807,null,null,null,45,{"$f":"VLOOKUP(A310,'Chrono+Classement'!G:O,5,FALSE)","v":{"$error":"#N/A"}},{"$f":"VLOOKUP(A310,'Chrono+Classement'!G:O,9,FALSE)","v":{"$error":"#N/A"}},{"$f":"IF(K310=17,Param!G310,IF(K310=28,Param!H310,IF(K310=45,Param!I310)))","v":"00:00:40"},{"$error":"#N/A"},null,1900,false,false]
[310,"-",null,null,null,null,115.40041067761807,null,null,null,45,{"$f":"VLOOKUP(A311,'Chrono+Classement'!G:O,5,FALSE)","v":{"$error":"#N/A"}},{"$f":"VLOOKUP(A311,'Chrono+Classement'!G:O,9,FALSE)","v":{"$error":"#N/A"}},{"$f":"IF(K311=17,Param!G311,IF(K311=28,Param!H311,IF(K311=45,Param!I311)))","v":"00:00:40"},{"$error":"#N/A"},null,1900,false,false]
[311,"-",null,null,null,null,115.40041067761807,null,null,null,45,{"$f":"VLOOKUP(A312,'Chrono+Classement'!G:O,5,FALSE)","v":{"$error":"#N/A"}},{"$f":"VLOOKUP(A312,'Chrono+Classement'!G:O,9,FALSE)","v":{"$error":"#N/A"}},{"$f":"IF(K312=17,Param!G312,IF(K312=28,Param!H312,IF(K312=45,Param!I312)))","v":"00:00:40"},{"$error":"#N/A"},null,1900,false,false]
[312,"-",null,null,null,null,115.40041067761807,null,null,null,45,{"$f":"VLOOKUP(A313,'Chrono+Classement'!G:O,5,FALSE)","v":{"$error":"#N/A"}},{"$f":"VLOOKUP(A313,'Chrono+Classement'!G:O,9,FALSE)","v":{"$error":"#N/A"}},{"$f":"IF(K313=17,Param!G313,IF(K313=28,Param!H313,IF(K313=45,Param!I313)))","v":"00:00:40"},{"$error":"#N/A"},null,1900,false,false]
[313,"-",null,null,null,null,115.40041067761807,null,null,null,45,{"$f":"VLOOKUP(A314,'Chrono+Classement'!G:O,5,FALSE)","v":{"$error":"#N/A"}},{"$f":"VLOOKUP(A314,'Chrono+Classement'!G:O,9,FALSE)","v":{"$error":"#N/A"}},{"$f":"IF(K314=17,Param!G314,IF(K314=28,Param!H314,IF(K314=45,Param!I314)))","v":"00:00:40"},{"$error":"#N/A"},null,1900,false,false]
[314,"-",null,null,null,null,115.40041067761807,null,null,null,45,{"$f":"VLOOKUP(A315,'Chrono+Classement'!G:O,5,FALSE)","v":{"$error":"#N/A"}},{"$f":"VLOOKUP(A315,'Chrono+Classement'!G:O,9,FALSE)","v":{"$error":"#N/A"}},{"$f":"IF(K315=17,Param!G315,IF(K315=28,Param!H315,IF(K315=45,Param!I315)))","v":"00:00:40"},{"$error":"#N/A"},null,1900,false,false]
[315,"-",null,null,null,null,115.40041067761807,null,null,null,45,{"$f":"VLOOKUP(A316,'Chrono+Classement'!G:O,5,FALSE)","v":{"$error":"#N/A"}},{"$f":"VLOOKUP(A316,'Chrono+Classement'!G:O,9,FALSE)","v":{"$error":"#N/A"}},{"$f":"IF(K316=17,Param!G316,IF(K316=28,Param!H316,IF(K316=45,Param!I316)))","v":"00:00:40"},{"$error":"#N/A"},null,1900,false,false]
[316,"-",null,null,null,null,115.40041067761807,null,null,null,45,{"$f":"VLOOKUP(A317,'Chrono+Classement'!G:O,5,FALSE)","v":{"$error":"#N/A"}},{"$f":"VLOOKUP(A317,'Chrono+Classement'!G:O,9,FALSE)","v":{"$error":"#N/A"}},{"$f":"IF(K317=17,Param!G317,IF(K317=28,Param!H317,IF(K317=45,Param!I317)))","v":"00:00:40"},{"$error":"#N/A"},null,1900,false,false]
[317,"-",null,null,null,null,115.40041067761807,null,null,null,45,{"$f":"VLOOKUP(A318,'Chrono+Classement'!G:O,5,FALSE)","v":{"$error":"#N/A"}},{"$f":"VLOOKUP(A318,'Chrono+Classement'!G:O,9,FALSE)","v":{"$error":"#N/A"}},{"$f":"IF(K318=17,Param!G318,IF(K318=28,Param!H318,IF(K318=45,Param!I318)))","v":"00:00:40"},{"$error":"#N/A"},null,1900,false,false]
[318,"-",null,null,null,null,115.40041067761807,null,null,null,45,{"$f":"VLOOKUP(A319,'Chrono+Classement'!G:O,5,FALSE)","v":{"$error":"#N/A"}},{"$f":"VLOOKUP(A319,'Chrono+Classement'!G:O,9,FALSE)","v":{"$error":"#N/A"}},{"$f":"IF(K319=17,Param!G319,IF(K319=28,Param!H319,IF(K319=45,Param!I319)))","v":"00:00:40"},{"$error":"#N/A"},null,1900,false,false]
[319,"-",null,null,null,null,115.40041067761807,null,null,null,45,{"$f":"VLOOKUP(A320,'Chrono+Classement'!G:O,5,FALSE)","v":{"$error":"#N/A"}},{"$f":"VLOOKUP(A320,'Chrono+Classement'!G:O,9,FALSE)","v":{"$error":"#N/A"}},{"$f":"IF(K320=17,Param!G320,IF(K320=28,Param!H320,IF(K320=45,Param!I320)))","v":"00:00:40"},{"$error":"#N/A"},null,1900,false,false]
[320,"-",null,null,null,null,115.40041067761807,null,null,null,45,{"$f":"VLOOKUP(A321,'Chrono+Classement'!G:O,5,FALSE)","v":{"$error":"#N/A"}},{"$f":"VLOOKUP(A321,'Chrono+Classement'!G:O,9,FALSE)","v":{"$error":"#N/A"}},{"$f":"IF(K321=17,Param!G321,IF(K321=28,Param!H321,IF(K321=45,Param!I321)))","v":"00:00:40"},{"$error":"#N/A"},null,1900,false,false]
[321,{"$f":"CONCATENATE(C322,\"-\",D322)","v":"-"},null,null,null,null,{"$f":"(TODAY()-F322)/365.25","v":115.40041067761807},null,null,null,45,{"$f":"VLOOKUP(A322,'Chrono+Classement'!G:O,5,FALSE)","v":{"$error":"#N/A"}},{"$f":"VLOOKUP(A322,'Chrono+Classement'!G:O,9,FALSE)","v":{"$error":"#N/A"}},{"$f":"IF(K322=17,Param!G322,IF(K322=28,Param!H322,IF(K322=45,Param!I322)))","v":"00:00:40"},{"$error":"#N/A"},null,{"$f":"YEAR(F322)","v":1900},{"$f":"IF(E322=\"M\",IF(Q322<=1965,\"Masters 5\",IF(Q322<=1975,\"Masters 3/4\",IF(Q322<=1985,\"Masters 1/2\",IF(Q322<=1992,\"Hommes\",IF(Q322<=1996,\"Espoirs\",IF(Q322<=1998,\"Juniors\",IF(Q322<=2000,\"Cadets\",0))))))))","v":false},{"$f":"IF(E322=\"F\",IF(Q322<=1992,\"Dames\",IF(Q322<=1996,\"Espoirs Dames\",IF(Q322<=1998,\"Juniors Dames\",IF(Q322<=2000,\"Cadettes\",0)))))","v":false}]
[322,"-",null,null,null,null,115.40041067761807,null,null,null,45,{"$f":"VLOOKUP(A323,'Chrono+Classement'!G:O,5,FALSE)","v":{"$error":"#N/A"}},{"$f":"VLOOKUP(A323,'Chrono+Classement'!G:O,9,FALSE)","v":{"$error":"#N/A"}},{"$f":"IF(K323=17,Param!G323,IF(K323=28,Param!H323,IF(K323=45,Param!I323)))","v":"00:00:40"},{"$error":"#N/A"},null,1900,false,false]
[323,"-",null,null,null,null,115.40041067761807,null,null,null,45,{"$f":"VLOOKUP(A324,'Chrono+Classement'!G:O,5,FALSE)","v":{"$error":"#N/A"}},{"$f":"VLOOKUP(A324,'Chrono+Classement'!G:O,9,FALSE)","v":{"$error":"#N/A"}},{"$f":"IF(K324=17,Param!G324,IF(K324=28,Param!H324,IF(K324=45,Param!I324)))","v":"00:00:40"},{"$error":"#N/A"},null,1900,false,false]
[324,"-",null,null,null,null,115.40041067761807,null,null,null,45,{"$f":"VLOOKUP(A325,'Chrono+Classement'!G:O,5,FALSE)","v":{"$error":"#N/A"}},{"$f":"VLOOKUP(A325,'Chrono+Classement'!G:O,9,FALSE)","v":{"$error":"#N/A"}},{"$f":"IF(K325=17,Param!G325,IF(K325=28,Param!H325,IF(K325=45,Param!I325)))","v":"00:00:40"},{"$error":"#N/A"},null,1900,false,false]
[325,"-",null,null,null,null,115.40041067761807,null,null,null,45,{"$f":"VLOOKUP(A326,'Chrono+Classement'!G:O,5,FALSE)","v":{"$error":"#N/A"}},{"$f":"VLOOKUP(A326,'Chrono+Classement'!G:O,9,FALSE)","v":{"$error":"#N/A"}},{"$f":"IF(K326=17,Param!G326,IF(K326=28,Param!H326,IF(K326=45,Param!I326)))","v":"00:00:40"},{"$error":"#N/A"},null,1900,false,false]
[326,"-",null,null,null,null,115.40041067761807,null,null,null,45,{"$f":"VLOOKUP(A327,'Chrono+Classement'!G:O,5,FALSE)","v":{"$error":"#N/A"}},{"$f":"VLOOKUP(A327,'Chrono+Classement'!G:O,9,FALSE)","v":{"$error":"#N/A"}},{"$f":"IF(K327=17,Param!G327,IF(K327=28,Param!H327,IF(K327=45,Param!I327)))","v":"00:00:40"},{"$error":"#N/A"},null,1900,false,false]
[327,"-",null,null,null,null,115.40041067761807,null,null,null,45,{"$f":"VLOOKUP(A328,'Chrono+Classement'!G:O,5,FALSE)","v":{"$error":"#N/A"}},{"$f":"VLOOKUP(A328,'Chrono+Classement'!G:O,9,FALSE)","v":{"$error":"#N/A"}},{"$f":"IF(K328=17,Param!G328,IF(K328=28,Param!H328,IF(K328=45,Param!I328)))","v":"00:00:40"},{"$error":"#N/A"},null,1900,false,false]
[328,"-",null,null,null,null,115.40041067761807,null,null,null,45,{"$f":"VLOOKUP(A329,'Chrono+Classement'!G:O,5,FALSE)","v":{"$error":"#N/A"}},{"$f":"VLOOKUP(A329,'Chrono+Classement'!G:O,9,FALSE)","v":{"$error":"#N/A"}},{"$f":"IF(K329=17,Param!G329,IF(K329=28,Param!H329,IF(K329=45,Param!I329)))","v":"00:00:40"},{"$error":"#N/A"},null,1900,false,false]
[329,"-",null,null,null,null,115.40041067761807,null,null,null,45,{"$f":"VLOOKUP(A330,'Chrono+Classement'!G:O,5,FALSE)","v":{"$error":"#N/A"}},{"$f":"VLOOKUP(A330,'Chrono+Classement'!G:O,9,FALSE)","v":{"$error":"#N/A"}},{"$f":"IF(K330=17,Param!G330,IF(K330=28,Param!H330,IF(K330=45,Param!I330)))","v":"00:00:40"},{"$error":"#N/A"},null,1900,false,false]
[330,"-",null,null,null,null,115.40041067761807,null,null,null,45,{"$f":"VLOOKUP(A331,'Chrono+Classement'!G:O,5,FALSE)","v":{"$error":"#N/A"}},{"$f":"VLOOKUP(A331,'Chrono+Classement'!G:O,9,FALSE)","v":{"$error":"#N/A"}},{"$f":"IF(K331=17,Param!G331,IF(K331=28,Param!H331,IF(K331=45,Param!I331)))","v":"00:00:40"},{"$error":"#N/A"},null,1900,false,false]
[331,"-",null,null,null,null,115.40041067761807,null,null,null,45,{"$f":"VLOOKUP(A332,'Chrono+Classement'!G:O,5,FALSE)","v":{"$error":"#N/A"}},{"$f":"VLOOKUP(A332,'Chrono+Classement'!G:O,9,FALSE)","v":{"$error":"#N/A"}},{"$f":"IF(K332=17,Param!G332,IF(K332=28,Param!H332,IF(K332=45,Param!I332)))","v":"00:00:40"},{"$error":"#N/A"},null,1900,false,false]
[332,"-",null,null,null,null,115.40041067761807,null,null,null,45,{"$f":"VLOOKUP(A333,'Chrono+Classement'!G:O,5,FALSE)","v":{"$error":"#N/A"}},{"$f":"VLOOKUP(A333,'Chrono+Classement'!G:O,9,FALSE)","v":{"$error":"#N/A"}},{"$f":"IF(K333=17,Param!G333,IF(K333=28,Param!H333,IF(K333=45,Param!I333)))","v":"00:00:40"},{"$error":"#N/A"},null,1900,false,false]
[333,"-",null,null,null,null,115.40041067761807,null,null,null,45,{"$f":"VLOOKUP(A334,'Chrono+Classement'!G:O,5,FALSE)","v":{"$error":"#N/A"}},{"$f":"VLOOKUP(A334,'Chrono+Classement'!G:O,9,FALSE)","v":{"$error":"#N/A"}},{"$f":"IF(K334=17,Param!G334,IF(K334=28,Param!H334,IF(K334=45,Param!I334)))","v":"00:00:40"},{"$error":"#N/A"},null,1900,false,false]
[334,"-",null,null,null,null,115.40041067761807,null,null,null,45,{"$f":"VLOOKUP(A335,'Chrono+Classement'!G:O,5,FALSE)","v":{"$error":"#N/A"}},{"$f":"VLOOKUP(A335,'Chrono+Classement'!G:O,9,FALSE)","v":{"$error":"#N/A"}},{"$f":"IF(K335=17,Param!G335,IF(K335=28,Param!H335,IF(K335=45,Param!I335)))","v":"00:00:40"},{"$error":"#N/A"},null,1900,false,false]
[335,"-",null,null,null,null,115.40041067761807,null,null,null,45,{"$f":"VLOOKUP(A336,'Chrono+Classement'!G:O,5,FALSE)","v":{"$error":"#N/A"}},{"$f":"VLOOKUP(A336,'Chrono+Classement'!G:O,9,FALSE)","v":{"$error":"#N/A"}},{"$f":"IF(K336=17,Param!G336,IF(K336=28,Param!H336,IF(K336=45,Param!I336)))","v":"00:00:40"},{"$error":"#N/A"},null,1900,false,false]
[336,"-",null,null,null,null,115.40041067761807,null,null,null,45,{"$f":"VLOOKUP(A337,'Chrono+Classement'!G:O,5,FALSE)","v":{"$error":"#N/A"}},{"$f":"VLOOKUP(A337,'Chrono+Classement'!G:O,9,FALSE)","v":{"$error":"#N/A"}},{"$f":"IF(K337=17,Param!G337,IF(K337=28,Param!H337,IF(K337=45,Param!I337)))","v":"00:00:40"},{"$error":"#N/A"},null,1900,false,false]
[337,"-",null,null,null,null,115.40041067761807,null,null,null,45,{"$f":"VLOOKUP(A338,'Chrono+Classement'!G:O,5,FALSE)","v":{"$error":"#N/A"}},{"$f":"VLOOKUP(A338,'Chrono+Classement'!G:O,9,FALSE)","v":{"$error":"#N/A"}},{"$f":"IF(K338=17,Param!G338,IF(K338=28,Param!H338,IF(K338=45,Param!I338)))","v":"00:00:40"},{"$error":"#N/A"},null,1900,false,false]
[338,"-",null,null,null,null,115.40041067761807,null,null,null,45,{"$f":"VLOOKUP(A339,'Chrono+Classement'!G:O,5,FALSE)","v":{"$error":"#N/A"}},{"$f":"VLOOKUP(A339,'Chrono+Classement'!G:O,9,FALSE)","v":{"$error":"#N/A"}},{"$f":"IF(K339=17,Param!G339,IF(K339=28,Param!H339,IF(K339=45,Param!I339)))","v":"00:00:40"},{"$error":"#N/A"},null,1900,false,false]
[339,"-",null,null,null,null,115.40041067761807,null,null,null,45,{"$f":"VLOOKUP(A340,'Chrono+Classement'!G:O,5,FALSE)","v":{"$error":"#N/A"}},{"$f":"VLOOKUP(A340,'Chrono+Classement'!G:O,9,FALSE)","v":{"$error":"#N/A"}},{"$f":"IF(K340=17,Param!G340,IF(K340=28,Param!H340,IF(K340=45,Param!I340)))","v":"00:00:40"},{"$error":"#N/A"},null,1900,false,false]
[340,"-",null,null,null,null,115.40041067761807,null,null,null,45,{"$f":"VLOOKUP(A341,'Chrono+Classement'!G:O,5,FALSE)","v":{"$error":"#N/A"}},{"$f":"VLOOKUP(A341,'Chrono+Classement'!G:O,9,FALSE)","v":{"$error":"#N/A"}},{"$f":"IF(K341=17,Param!G341,IF(K341=28,Param!H341,IF(K341=45,Param!I341)))","v":"00:00:40"},{"$error":"#N/A"},null,1900,false,false]
[341,"-",null,null,null,null,115.40041067761807,null,null,null,45,{"$f":"VLOOKUP(A342,'Chrono+Classement'!G:O,5,FALSE)","v":{"$error":"#N/A"}},{"$f":"VLOOKUP(A342,'Chrono+Classement'!G:O,9,FALSE)","v":{"$error":"#N/A"}},{"$f":"IF(K342=17,Param!G342,IF(K342=28,Param!H342,IF(K342=45,Param!I342)))","v":"00:00:40"},{"$error":"#N/A"},null,1900,false,false]
[342,"-",null,null,null,null,115.40041067761807,null,null,null,45,{"$f":"VLOOKUP(A343,'Chrono+Classement'!G:O,5,FALSE)","v":{"$error":"#N/A"}},{"$f":"VLOOKUP(A343,'Chrono+Classement'!G:O,9,FALSE)","v":{"$error":"#N/A"}},{"$f":"IF(K343=17,Param!G343,IF(K343=28,Param!H343,IF(K343=45,Param!I343)))","v":"00:00:40"},{"$error":"#N/A"},null,1900,false,false]
[343,"-",null,null,null,null,115.40041067761807,null,null,null,45,{"$f":"VLOOKUP(A344,'Chrono+Classement'!G:O,5,FALSE)","v":{"$error":"#N/A"}},{"$f":"VLOOKUP(A344,'Chrono+Classement'!G:O,9,FALSE)","v":{"$error":"#N/A"}},{"$f":"IF(K344=17,Param!G344,IF(K344=28,Param!H344,IF(K344=45,Param!I344)))","v":"00:00:40"},{"$error":"#N/A"},null,1900,false,false]
[344,"-",null,null,null,null,115.40041067761807,null,null,null,45,{"$f":"VLOOKUP(A345,'Chrono+Classement'!G:O,5,FALSE)","v":{"$error":"#N/A"}},{"$f":"VLOOKUP(A345,'Chrono+Classement'!G:O,9,FALSE)","v":{"$error":"#N/A"}},{"$f":"IF(K345=17,Param!G345,IF(K345=28,Param!H345,IF(K345=45,Param!I345)))","v":"00:00:40"},{"$error":"#N/A"},null,1900,false,false]
[345,"-",null,null,null,null,115.40041067761807,null,null,null,45,{"$f":"VLOOKUP(A346,'Chrono+Classement'!G:O,5,FALSE)","v":{"$error":"#N/A"}},{"$f":"VLOOKUP(A346,'Chrono+Classement'!G:O,9,FALSE)","v":{"$error":"#N/A"}},{"$f":"IF(K346=17,Param!G346,IF(K346=28,Param!H346,IF(K346=45,Param!I346)))","v":"00:00:40"},{"$error":"#N/A"},null,1900,false,false]
[346,"-",null,null,null,null,115.40041067761807,null,null,null,45,{"$f":"VLOOKUP(A347,'Chrono+Classement'!G:O,5,FALSE)","v":{"$error":"#N/A"}},{"$f":"VLOOKUP(A347,'Chrono+Classement'!G:O,9,FALSE)","v":{"$error":"#N/A"}},{"$f":"IF(K347=17,Param!G347,IF(K347=28,Param!H347,IF(K347=45,Param!I347)))","v":"00:00:40"},{"$error":"#N/A"},null,1900,false,false]
[347,"-",null,null,null,null,115.40041067761807,null,null,null,45,{"$f":"VLOOKUP(A348,'Chrono+Classement'!G:O,5,FALSE)","v":{"$error":"#N/A"}},{"$f":"VLOOKUP(A348,'Chrono+Classement'!G:O,9,FALSE)","v":{"$error":"#N/A"}},{"$f":"IF(K348=17,Param!G348,IF(K348=28,Param!H348,IF(K348=45,Param!I348)))","v":"00:00:40"},{"$error":"#N/A"},null,1900,false,false]
[348,"-",null,null,null,null,115.40041067761807,null,null,null,45,{"$f":"VLOOKUP(A349,'Chrono+Classement'!G:O,5,FALSE)","v":{"$error":"#N/A"}},{"$f":"VLOOKUP(A349,'Chrono+Classement'!G:O,9,FALSE)","v":{"$error":"#N/A"}},{"$f":"IF(K349=17,Param!G349,IF(K349=28,Param!H349,IF(K349=45,Param!I349)))","v":"00:00:40"},{"$error":"#N/A"},null,1900,false,false]
[349,"-",null,null,null,null,115.40041067761807,null,null,null,45,{"$f":"VLOOKUP(A350,'Chrono+Classement'!G:O,5,FALSE)","v":{"$error":"#N/A"}},{"$f":"VLOOKUP(A350,'Chrono+Classement'!G:O,9,FALSE)","v":{"$error":"#N/A"}},{"$f":"IF(K350=17,Param!G350,IF(K350=28,Param!H350,IF(K350=45,Param!I350)))","v":"00:00:40"},{"$error":"#N/A"},null,1900,false,false]
[350,"-",null,null,null,null,115.40041067761807,null,null,null,45,{"$f":"VLOOKUP(A351,'Chrono+Classement'!G:O,5,FALSE)","v":{"$error":"#N/A"}},{"$f":"VLOOKUP(A351,'Chrono+Classement'!G:O,9,FALSE)","v":{"$error":"#N/A"}},{"$f":"IF(K351=17,Param!G351,IF(K351=28,Param!H351,IF(K351=45,Param!I351)))","v":"00:00:40"},{"$error":"#N/A"},null,1900,false,false]
[351,"-",null,null,null,null,115.40041067761807,null,null,null,45,{"$f":"VLOOKUP(A352,'Chrono+Classement'!G:O,5,FALSE)","v":{"$error":"#N/A"}},{"$f":"VLOOKUP(A352,'Chrono+Classement'!G:O,9,FALSE)","v":{"$error":"#N/A"}},{"$f":"IF(K352=17,Param!G352,IF(K352=28,Param!H352,IF(K352=45,Param!I352)))","v":"00:00:40"},{"$error":"#N/A"},null,1900,false,false]
[352,"-",null,null,null,null,115.40041067761807,null,null,null,45,{"$f":"VLOOKUP(A353,'Chrono+Classement'!G:O,5,FALSE)","v":{"$error":"#N/A"}},{"$f":"VLOOKUP(A353,'Chrono+Classement'!G:O,9,FALSE)","v":{"$error":"#N/A"}},{"$f":"IF(K353=17,Param!G353,IF(K353=28,Param!H353,IF(K353=45,Param!I353)))","v":"00:00:40"},{"$error":"#N/A"},null,1900,false,false]
[353,"-",null,null,null,null,115.40041067761807,null,null,null,45,{"$f":"VLOOKUP(A354,'Chrono+Classement'!G:O,5,FALSE)","v":{"$error":"#N/A"}},{"$f":"VLOOKUP(A354,'Chrono+Classement'!G:O,9,FALSE)","v":{"$error":"#N/A"}},{"$f":"IF(K354=17,Param!G354,IF(K354=28,Param!H354,IF(K354=45,Param!I354)))","v":"00:00:40"},{"$error":"#N/A"},null,1900,false,false]
[354,"-",null,null,null,null,115.40041067761807,null,null,null,45,{"$f":"VLOOKUP(A355,'Chrono+Classement'!G:O,5,FALSE)","v":{"$error":"#N/A"}},{"$f":"VLOOKUP(A355,'Chrono+Classement'!G:O,9,FALSE)","v":{"$error":"#N/A"}},{"$f":"IF(K355=17,Param!G355,IF(K355=28,Param!H355,IF(K355=45,Param!I355)))","v":"00:00:40"},{"$error":"#N/A"},null,1900,false,false]
[355,"-",null,null,null,null,115.40041067761807,null,null,null,45,{"$f":"VLOOKUP(A356,'Chrono+Classement'!G:O,5,FALSE)","v":{"$error":"#N/A"}},{"$f":"VLOOKUP(A356,'Chrono+Classement'!G:O,9,FALSE)","v":{"$error":"#N/A"}},{"$f":"IF(K356=17,Param!G356,IF(K356=28,Param!H356,IF(K356=45,Param!I356)))","v":"00:00:40"},{"$error":"#N/A"},null,1900,false,false]
[356,"-",null,null,null,null,115.40041067761807,null,null,null,45,{"$f":"VLOOKUP(A357,'Chrono+Classement'!G:O,5,FALSE)","v":{"$error":"#N/A"}},{"$f":"VLOOKUP(A357,'Chrono+Classement'!G:O,9,FALSE)","v":{"$error":"#N/A"}},{"$f":"IF(K357=17,Param!G357,IF(K357=28,Param!H357,IF(K357=45,Param!I357)))","v":"00:00:40"},{"$f":"M357-N357","v":{"$error":"#N/A"}},null,1900,false,false]
[357,"-",null,null,null,null,115.40041067761807,null,null,null,45,{"$f":"VLOOKUP(A358,'Chrono+Classement'!G:O,5,FALSE)","v":{"$error":"#N/A"}},{"$f":"VLOOKUP(A358,'Chrono+Classement'!G:O,9,FALSE)","v":{"$error":"#N/A"}},{"$f":"IF(K358=17,Param!G358,IF(K358=28,Param!H358,IF(K358=45,Param!I358)))","v":"00:00:40"},{"$error":"#N/A"},null,1900,false,false]
[358,"-",null,null,null,null,115.40041067761807,null,null,null,45,{"$f":"VLOOKUP(A359,'Chrono+Classement'!G:O,5,FALSE)","v":{"$error":"#N/A"}},{"$f":"VLOOKUP(A359,'Chrono+Classement'!G:O,9,FALSE)","v":{"$error":"#N/A"}},{"$f":"IF(K359=17,Param!G359,IF(K359=28,Param!H359,IF(K359=45,Param!I359)))","v":"00:00:40"},{"$error":"#N/A"},null,1900,false,false]
[359,"-",null,null,null,null,115.40041067761807,null,null,null,45,{"$f":"VLOOKUP(A360,'Chrono+Classement'!G:O,5,FALSE)","v":{"$error":"#N/A"}},{"$f":"VLOOKUP(A360,'Chrono+Classement'!G:O,9,FALSE)","v":{"$error":"#N/A"}},{"$f":"IF(K360=17,Param!G360,IF(K360=28,Param!H360,IF(K360=45,Param!I360)))","v":"00:00:40"},{"$error":"#N/A"},null,1900,false,false]
[360,"-",null,null,null,null,115.40041067761807,null,null,null,45,{"$f":"VLOOKUP(A361,'Chrono+Classement'!G:O,5,FALSE)","v":{"$error":"#N/A"}},{"$f":"VLOOKUP(A361,'Chrono+Classement'!G:O,9,FALSE)","v":{"$error":"#N/A"}},{"$f":"IF(K361=17,Param!G361,IF(K361=28,Param!H361,IF(K361=45,Param!I361)))","v":"00:00:40"},{"$error":"#N/A"},null,1900,false,false]
[361,"-",null,null,null,null,115.40041067761807,null,null,null,45,{"$f":"VLOOKUP(A362,'Chrono+Classement'!G:O,5,FALSE)","v":{"$error":"#N/A"}},{"$f":"VLOOKUP(A362,'Chrono+Classement'!G:O,9,FALSE)","v":{"$error":"#N/A"}},{"$f":"IF(K362=17,Param!G362,IF(K362=28,Param!H362,IF(K362=45,Param!I362)))","v":"00:00:40"},{"$error":"#N/A"},null,1900,false,false]
[362,"-",null,null,null,null,115.40041067761807,null,null,null,45,{"$f":"VLOOKUP(A363,'Chrono+Classement'!G:O,5,FALSE)","v":{"$error":"#N/A"}},{"$f":"VLOOKUP(A363,'Chrono+Classement'!G:O,9,FALSE)","v":{"$error":"#N/A"}},{"$f":"IF(K363=17,Param!G363,IF(K363=28,Param!H363,IF(K363=45,Param!I363)))","v":"00:00:40"},{"$error":"#N/A"},null,1900,false,false]
[363,"-",null,null,null,null,115.40041067761807,null,null,null,45,{"$f":"VLOOKUP(A364,'Chrono+Classement'!G:O,5,FALSE)","v":{"$error":"#N/A"}},{"$f":"VLOOKUP(A364,'Chrono+Classement'!G:O,9,FALSE)","v":{"$error":"#N/A"}},{"$f":"IF(K364=17,Param!G364,IF(K364=28,Param!H364,IF(K364=45,Param!I364)))","v":"00:00:40"},{"$error":"#N/A"},null,1900,false,false]
[364,"-",null,null,null,null,115.40041067761807,null,null,null,45,{"$f":"VLOOKUP(A365,'Chrono+Classement'!G:O,5,FALSE)","v":{"$error":"#N/A"}},{"$f":"VLOOKUP(A365,'Chrono+Classement'!G:O,9,FALSE)","v":{"$error":"#N/A"}},{"$f":"IF(K365=17,Param!G365,IF(K365=28,Param!H365,IF(K365=45,Param!I365)))","v":"00:00:40"},{"$error":"#N/A"},null,1900,false,false]
[365,"-",null,null,null,null,115.40041067761807,null,null,null,45,{"$f":"VLOOKUP(A366,'Chrono+Classement'!G:O,5,FALSE)","v":{"$error":"#N/A"}},{"$f":"VLOOKUP(A366,'Chrono+Classement'!G:O,9,FALSE)","v":{"$error":"#N/A"}},{"$f":"IF(K366=17,Param!G366,IF(K366=28,Param!H366,IF(K366=45,Param!I366)))","v":"00:00:40"},{"$error":"#N/A"},null,1900,false,false]
[366,"-",null,null,null,null,115.40041067761807,null,null,null,45,{"$f":"VLOOKUP(A367,'Chrono+Classement'!G:O,5,FALSE)","v":{"$error":"#N/A"}},{"$f":"VLOOKUP(A367,'Chrono+Classement'!G:O,9,FALSE)","v":{"$error":"#N/A"}},{"$f":"IF(K367=17,Param!G367,IF(K367=28,Param!H367,IF(K367=45,Param!I367)))","v":"00:00:40"},{"$error":"#N/A"},null,1900,false,false]
[367,"-",null,null,null,null,115.40041067761807,null,null,null,45,{"$f":"VLOOKUP(A368,'Chrono+Classement'!G:O,5,FALSE)","v":{"$error":"#N/A"}},{"$f":"VLOOKUP(A368,'Chrono+Classement'!G:O,9,FALSE)","v":{"$error":"#N/A"}},{"$f":"IF(K368=17,Param!G368,IF(K368=28,Param!H368,IF(K368=45,Param!I368)))","v":"00:00:40"},{"$error":"#N/A"},null,1900,false,false]
[368,"-",null,null,null,null,115.40041067761807,null,null,null,45,{"$f":"VLOOKUP(A369,'Chrono+Classement'!G:O,5,FALSE)","v":{"$error":"#N/A"}},{"$f":"VLOOKUP(A369,'Chrono+Classement'!G:O,9,FALSE)","v":{"$error":"#N/A"}},{"$f":"IF(K369=17,Param!G369,IF(K369=28,Param!H369,IF(K369=45,Param!I369)))","v":"00:00:40"},{"$error":"#N/A"},null,1900,false,false]
[369,"-",null,null,null,null,115.40041067761807,null,null,null,45,{"$f":"VLOOKUP(A370,'Chrono+Classement'!G:O,5,FALSE)","v":{"$error":"#N/A"}},{"$f":"VLOOKUP(A370,'Chrono+Classement'!G:O,9,FALSE)","v":{"$error":"#N/A"}},{"$f":"IF(K370=17,Param!G370,IF(K370=28,Param!H370,IF(K370=45,Param!I370)))","v":"00:00:40"},{"$error":"#N/A"},null,1900,false,false]
[370,"-",null,null,null,null,115.40041067761807,null,null,null,45,{"$f":"VLOOKUP(A371,'Chrono+Classement'!G:O,5,FALSE)","v":{"$error":"#N/A"}},{"$f":"VLOOKUP(A371,'Chrono+Classement'!G:O,9,FALSE)","v":{"$error":"#N/A"}},{"$f":"IF(K371=17,Param!G371,IF(K371=28,Param!H371,IF(K371=45,Param!I371)))","v":"00:00:40"},{"$error":"#N/A"},null,1900,false,false]
[371,"-",null,null,null,null,115.40041067761807,null,null,null,45,{"$f":"VLOOKUP(A372,'Chrono+Classement'!G:O,5,FALSE)","v":{"$error":"#N/A"}},{"$f":"VLOOKUP(A372,'Chrono+Classement'!G:O,9,FALSE)","v":{"$error":"#N/A"}},{"$f":"IF(K372=17,Param!G372,IF(K372=28,Param!H372,IF(K372=45,Param!I372)))","v":"00:00:40"},{"$error":"#N/A"},null,1900,false,false]
[372,"-",null,null,null,null,115.40041067761807,null,null,null,45,{"$f":"VLOOKUP(A373,'Chrono+Classement'!G:O,5,FALSE)","v":{"$error":"#N/A"}},{"$f":"VLOOKUP(A373,'Chrono+Classement'!G:O,9,FALSE)","v":{"$error":"#N/A"}},{"$f":"IF(K373=17,Param!G373,IF(K373=28,Param!H373,IF(K373=45,Param!I373)))","v":"00:00:40"},{"$error":"#N/A"},null,1900,false,false]
[373,"-",null,null,null,null,115.40041067761807,null,null,null,45,{"$f":"VLOOKUP(A374,'Chrono+Classement'!G:O,5,FALSE)","v":{"$error":"#N/A"}},{"$f":"VLOOKUP(A374,'Chrono+Classement'!G:O,9,FALSE)","v":{"$error":"#N/A"}},{"$f":"IF(K374=17,Param!G374,IF(K374=28,Param!H374,IF(K374=45,Param!I374)))","v":"00:00:40"},{"$error":"#N/A"},null,1900,false,false]
[374,"-",null,null,null,null,115.40041067761807,null,null,null,45,{"$f":"VLOOKUP(A375,'Chrono+Classement'!G:O,5,FALSE)","v":{"$error":"#N/A"}},{"$f":"VLOOKUP(A375,'Chrono+Classement'!G:O,9,FALSE)","v":{"$error":"#N/A"}},{"$f":"IF(K375=17,Param!G375,IF(K375=28,Param!H375,IF(K375=45,Param!I375)))","v":"00:00:40"},{"$error":"#N/A"},null,1900,false,false]
[375,"-",null,null,null,null,115.40041067761807,null,null,null,45,{"$f":"VLOOKUP(A376,'Chrono+Classement'!G:O,5,FALSE)","v":{"$error":"#N/A"}},{"$f":"VLOOKUP(A376,'Chrono+Classement'!G:O,9,FALSE)","v":{"$error":"#N/A"}},{"$f":"IF(K376=17,Param!G376,IF(K376=28,Param!H376,IF(K376=45,Param!I376)))","v":"00:00:40"},{"$error":"#N/A"},null,1900,false,false]
[376,"-",null,null,null,null,115.40041067761807,null,null,null,45,{"$f":"VLOOKUP(A377,'Chrono+Classement'!G:O,5,FALSE)","v":{"$error":"#N/A"}},{"$f":"VLOOKUP(A377,'Chrono+Classement'!G:O,9,FALSE)","v":{"$error":"#N/A"}},{"$f":"IF(K377=17,Param!G377,IF(K377=28,Param!H377,IF(K377=45,Param!I377)))","v":"00:00:40"},{"$error":"#N/A"},null,1900,false,false]
[377,"-",null,null,null,null,115.40041067761807,null,null,null,45,{"$f":"VLOOKUP(A378,'Chrono+Classement'!G:O,5,FALSE)","v":{"$error":"#N/A"}},{"$f":"VLOOKUP(A378,'Chrono+Classement'!G:O,9,FALSE)","v":{"$error":"#N/A"}},{"$f":"IF(K378=17,Param!G378,IF(K378=28,Param!H378,IF(K378=45,Param!I378)))","v":"00:00:40"},{"$error":"#N/A"},null,1900,false,false]
[378,"-",null,null,null,null,115.40041067761807,null,null,null,45,{"$f":"VLOOKUP(A379,'Chrono+Classement'!G:O,5,FALSE)","v":{"$error":"#N/A"}},{"$f":"VLOOKUP(A379,'Chrono+Classement'!G:O,9,FALSE)","v":{"$error":"#N/A"}},{"$f":"IF(K379=17,Param!G379,IF(K379=28,Param!H379,IF(K379=45,Param!I379)))","v":"00:00:40"},{"$error":"#N/A"},null,1900,false,false]
[379,"-",null,null,null,null,115.40041067761807,null,null,null,45,{"$f":"VLOOKUP(A380,'Chrono+Classement'!G:O,5,FALSE)","v":{"$error":"#N/A"}},{"$f":"VLOOKUP(A380,'Chrono+Classement'!G:O,9,FALSE)","v":{"$error":"#N/A"}},{"$f":"IF(K380=17,Param!G380,IF(K380=28,Param!H380,IF(K380=45,Param!I380)))","v":"00:00:40"},{"$error":"#N/A"},null,1900,false,false]
[380,"-",null,null,null,null,115.40041067761807,null,null,null,45,{"$f":"VLOOKUP(A381,'Chrono+Classement'!G:O,5,FALSE)","v":{"$error":"#N/A"}},{"$f":"VLOOKUP(A381,'Chrono+Classement'!G:O,9,FALSE)","v":{"$error":"#N/A"}},{"$f":"IF(K381=17,Param!G381,IF(K381=28,Param!H381,IF(K381=45,Param!I381)))","v":"00:00:40"},{"$error":"#N/A"},null,1900,false,false]
[381,"-",null,null,null,null,115.40041067761807,null,null,null,45,{"$f":"VLOOKUP(A382,'Chrono+Classement'!G:O,5,FALSE)","v":{"$error":"#N/A"}},{"$f":"VLOOKUP(A382,'Chrono+Classement'!G:O,9,FALSE)","v":{"$error":"#N/A"}},{"$f":"IF(K382=17,Param!G382,IF(K382=28,Param!H382,IF(K382=45,Param!I382)))","v":"00:00:40"},{"$error":"#N/A"},null,1900,false,false]
[382,"-",null,null,null,null,115.40041067761807,null,null,null,45,{"$f":"VLOOKUP(A383,'Chrono+Classement'!G:O,5,FALSE)","v":{"$error":"#N/A"}},{"$f":"VLOOKUP(A383,'Chrono+Classement'!G:O,9,FALSE)","v":{"$error":"#N/A"}},{"$f":"IF(K383=17,Param!G383,IF(K383=28,Param!H383,IF(K383=45,Param!I383)))","v":"00:00:40"},{"$error":"#N/A"},null,1900,false,false]
[383,"-",null,null,null,null,115.40041067761807,null,null,null,45,{"$f":"VLOOKUP(A384,'Chrono+Classement'!G:O,5,FALSE)","v":{"$error":"#N/A"}},{"$f":"VLOOKUP(A384,'Chrono+Classement'!G:O,9,FALSE)","v":{"$error":"#N/A"}},{"$f":"IF(K384=17,Param!G384,IF(K384=28,Param!H384,IF(K384=45,Param!I384)))","v":"00:00:40"},{"$error":"#N/A"},null,1900,false,false]
[384,"-",null,null,null,null,115.40041067761807,null,null,null,45,{"$f":"VLOOKUP(A385,'Chrono+Classement'!G:O,5,FALSE)","v":{"$error":"#N/A"}},{"$f":"VLOOKUP(A385,'Chrono+Classement'!G:O,9,FALSE)","v":{"$error":"#N/A"}},{"$f":"IF(K385=17,Param!G385,IF(K385=28,Param!H385,IF(K385=45,Param!I385)))","v":"00:00:40"},{"$error":"#N/A"},null,1900,false,false]
[385,{"$f":"CONCATENATE(C386,\"-\",D386)","v":"-"},null,null,null,null,{"$f":"(TODAY()-F386)/365.25","v":115.40041067761807},null,null,null,45,{"$f":"VLOOKUP(A386,'Chrono+Classement'!G:O,5,FALSE)","v":{"$error":"#N/A"}},{"$f":"VLOOKUP(A386,'Chrono+Classement'!G:O,9,FALSE)","v":{"$error":"#N/A"}},{"$f":"IF(K386=17,Param!G386,IF(K386=28,Param!H386,IF(K386=45,Param!I386)))","v":"00:00:40"},{"$error":"#N/A"},null,{"$f":"YEAR(F386)","v":1900},{"$f":"IF(E386=\"M\",IF(Q386<=1965,\"Masters 5\",IF(Q386<=1975,\"Masters 3/4\",IF(Q386<=1985,\"Masters 1/2\",IF(Q386<=1992,\"Hommes\",IF(Q386<=1996,\"Espoirs\",IF(Q386<=1998,\"Juniors\",IF(Q386<=2000,\"Cadets\",0))))))))","v":false},{"$f":"IF(E386=\"F\",IF(Q386<=1992,\"Dames\",IF(Q386<=1996,\"Espoirs Dames\",IF(Q386<=1998,\"Juniors Dames\",IF(Q386<=2000,\"Cadettes\",0)))))","v":false}]
[386,"-",null,null,null,null,115.40041067761807,null,null,null,45,{"$f":"VLOOKUP(A387,'Chrono+Classement'!G:O,5,FALSE)","v":{"$error":"#N/A"}},{"$f":"VLOOKUP(A387,'Chrono+Classement'!G:O,9,FALSE)","v":{"$error":"#N/A"}},{"$f":"IF(K387=17,Param!G387,IF(K387=28,Param!H387,IF(K387=45,Param!I387)))","v":"00:00:40"},{"$error":"#N/A"},null,1900,false,false]
[387,"-",null,null,null,null,115.40041067761807,null,null,null,45,{"$f":"VLOOKUP(A388,'Chrono+Classement'!G:O,5,FALSE)","v":{"$error":"#N/A"}},{"$f":"VLOOKUP(A388,'Chrono+Classement'!G:O,9,FALSE)","v":{"$error":"#N/A"}},{"$f":"IF(K388=17,Param!G388,IF(K388=28,Param!H388,IF(K388=45,Param!I388)))","v":"00:00:40"},{"$error":"#N/A"},null,1900,false,false]
[388,"-",null,null,null,null,115.40041067761807,null,null,null,45,{"$f":"VLOOKUP(A389,'Chrono+Classement'!G:O,5,FALSE)","v":{"$error":"#N/A"}},{"$f":"VLOOKUP(A389,'Chrono+Classement'!G:O,9,FALSE)","v":{"$error":"#N/A"}},{"$f":"IF(K389=17,Param!G389,IF(K389=28,Param!H389,IF(K389=45,Param!I389)))","v":"00:00:40"},{"$error":"#N/A"},null,1900,false,false]
[389,"-",null,null,null,null,115.40041067761807,null,null,null,45,{"$f":"VLOOKUP(A390,'Chrono+Classement'!G:O,5,FALSE)","v":{"$error":"#N/A"}},{"$f":"VLOOKUP(A390,'Chrono+Classement'!G:O,9,FALSE)","v":{"$error":"#N/A"}},{"$f":"IF(K390=17,Param!G390,IF(K390=28,Param!H390,IF(K390=45,Param!I390)))","v":"00:00:40"},{"$error":"#N/A"},null,1900,false,false]
[390,"-",null,null,null,null,115.40041067761807,null,null,null,45,{"$f":"VLOOKUP(A391,'Chrono+Classement'!G:O,5,FALSE)","v":{"$error":"#N/A"}},{"$f":"VLOOKUP(A391,'Chrono+Classement'!G:O,9,FALSE)","v":{"$error":"#N/A"}},{"$f":"IF(K391=17,Param!G391,IF(K391=28,Param!H391,IF(K391=45,Param!I391)))","v":"00:00:40"},{"$error":"#N/A"},null,1900,false,false]
[391,"-",null,null,null,null,115.40041067761807,null,null,null,45,{"$f":"VLOOKUP(A392,'Chrono+Classement'!G:O,5,FALSE)","v":{"$error":"#N/A"}},{"$f":"VLOOKUP(A392,'Chrono+Classement'!G:O,9,FALSE)","v":{"$error":"#N/A"}},{"$f":"IF(K392=17,Param!G392,IF(K392=28,Param!H392,IF(K392=45,Param!I392)))","v":"00:00:40"},{"$error":"#N/A"},null,1900,false,false]
[392,"-",null,null,null,null,115.40041067761807,null,null,null,45,{"$f":"VLOOKUP(A393,'Chrono+Classement'!G:O,5,FALSE)","v":{"$error":"#N/A"}},{"$f":"VLOOKUP(A393,'Chrono+Classement'!G:O,9,FALSE)","v":{"$error":"#N/A"}},{"$f":"IF(K393=17,Param!G393,IF(K393=28,Param!H393,IF(K393=45,Param!I393)))","v":"00:00:40"},{"$error":"#N/A"},null,1900,false,false]
[393,"-",null,null,null,null,115.40041067761807,null,null,null,45,{"$f":"VLOOKUP(A394,'Chrono+Classement'!G:O,5,FALSE)","v":{"$error":"#N/A"}},{"$f":"VLOOKUP(A394,'Chrono+Classement'!G:O,9,FALSE)","v":{"$error":"#N/A"}},{"$f":"IF(K394=17,Param!G394,IF(K394=28,Param!H394,IF(K394=45,Param!I394)))","v":"00:00:40"},{"$error":"#N/A"},null,1900,false,false]
[394,"-",null,null,null,null,115.40041067761807,null,null,null,45,{"$f":"VLOOKUP(A395,'Chrono+Classement'!G:O,5,FALSE)","v":{"$error":"#N/A"}},{"$f":"VLOOKUP(A395,'Chrono+Classement'!G:O,9,FALSE)","v":{"$error":"#N/A"}},{"$f":"IF(K395=17,Param!G395,IF(K395=28,Param!H395,IF(K395=45,Param!I395)))","v":"00:00:40"},{"$error":"#N/A"},null,1900,false,false]
[395,"-",null,null,null,null,115.40041067761807,null,null,null,45,{"$f":"VLOOKUP(A396,'Chrono+Classement'!G:O,5,FALSE)","v":{"$error":"#N/A"}},{"$f":"VLOOKUP(A396,'Chrono+Classement'!G:O,9,FALSE)","v":{"$error":"#N/A"}},{"$f":"IF(K396=17,Param!G396,IF(K396=28,Param!H396,IF(K396=45,Param!I396)))","v":"00:00:40"},{"$error":"#N/A"},null,1900,false,false]
[396,"-",null,null,null,null,115.40041067761807,null,null,null,45,{"$f":"VLOOKUP(A397,'Chrono+Classement'!G:O,5,FALSE)","v":{"$error":"#N/A"}},{"$f":"VLOOKUP(A397,'Chrono+Classement'!G:O,9,FALSE)","v":{"$error":"#N/A"}},{"$f":"IF(K397=17,Param!G397,IF(K397=28,Param!H397,IF(K397=45,Param!I397)))","v":"00:00:40"},{"$error":"#N/A"},null,1900,false,false]
[397,"-",null,null,null,null,115.40041067761807,null,null,null,45,{"$f":"VLOOKUP(A398,'Chrono+Classement'!G:O,5,FALSE)","v":{"$error":"#N/A"}},{"$f":"VLOOKUP(A398,'Chrono+Classement'!G:O,9,FALSE)","v":{"$error":"#N/A"}},{"$f":"IF(K398=17,Param!G398,IF(K398=28,Param!H398,IF(K398=45,Param!I398)))","v":"00:00:40"},{"$error":"#N/A"},null,1900,false,false]
[398,"-",null,null,null,null,115.40041067761807,null,null,null,45,{"$f":"VLOOKUP(A399,'Chrono+Classement'!G:O,5,FALSE)","v":{"$error":"#N/A"}},{"$f":"VLOOKUP(A399,'Chrono+Classement'!G:O,9,FALSE)","v":{"$error":"#N/A"}},{"$f":"IF(K399=17,Param!G399,IF(K399=28,Param!H399,IF(K399=45,Param!I399)))","v":"00:00:40"},{"$error":"#N/A"},null,1900,false,false]
[399,"-",null,null,null,null,115.40041067761807,null,null,null,45,{"$f":"VLOOKUP(A400,'Chrono+Classement'!G:O,5,FALSE)","v":{"$error":"#N/A"}},{"$f":"VLOOKUP(A400,'Chrono+Classement'!G:O,9,FALSE)","v":{"$error":"#N/A"}},{"$f":"IF(K400=17,Param!G400,IF(K400=28,Param!H400,IF(K400=45,Param!I400)))","v":"00:00:40"},{"$error":"#N/A"},null,1900,false,false]
[400,"SANCHEZ-Mathias","SANCHEZ","Mathias","M","1997-12-18",17.434633812457221,"US Fronton","FFC","Juniors",28,{"$f":"VLOOKUP(A401,'Chrono+Classement'!G:O,5,FALSE)","v":10},{"$f":"VLOOKUP(A401,'Chrono+Classement'!G:O,9,FALSE)","v":"02:07:38"},{"$f":"IF(K401=17,Param!G401,IF(K401=28,Param!H401,IF(K401=45,Param!I401)))","v":"00:00:42"},"02:06:56",null,1997,"Juniors",false]
[401,"CHAUVET-Clara","CHAUVET","Clara","F","1989-02-22",26.253251197809718,null,"NL","Dames",28,{"$f":"VLOOKUP(A402,'Chrono+Classement'!G:O,5,FALSE)","v":12},{"$f":"VLOOKUP(A402,'Chrono+Classement'!G:O,9,FALSE)","v":"02:11:47"},{"$f":"IF(K402=17,Param!G402,IF(K402=28,Param!H402,IF(K402=45,Param!I402)))","v":"00:00:42"},"02:11:05",null,1989,false,"Dames"]
[402,"CONFOLENS-Eric","CONFOLENS","Eric","M","1972-04-09",43.126625598904859,"CHEVREUILS VTT","FFC","Masters 3/4",28,{"$f":"VLOOKUP(A403,'Chrono+Classement'!G:O,5,FALSE)","v":3},{"$f":"VLOOKUP(A403,'Chrono+Classement'!G:O,9,FALSE)","v":"01:31:55"},{"$f":"IF(K403=17,Param!G403,IF(K403=28,Param!H403,IF(K403=45,Param!I403)))","v":"00:00:42"},"01:31:13",null,1972,"Masters 3/4",false]
[403,"BIBET-Laurent","BIBET","Laurent","M","1972-11-22",42.505133470225871,"ALBI Velo Sport","FFC","Masters 3/4",28,{"$f":"VLOOKUP(A404,'Chrono+Classement'!G:O,5,FALSE)","v":1},{"$f":"VLOOKUP(A404,'Chrono+Classement'!G:O,9,FALSE)","v":"01:26:55"},{"$f":"IF(K404=17,Param!G404,IF(K404=28,Param!H404,IF(K404=45,Param!I404)))","v":"00:00:42"},"01:26:13",null,1972,"Masters 3/4",false]
[404,"SIRVEN-Patrick","SIRVEN","Patrick","M","1963-12-10",51.457905544147842,null,"NL","Masters 5",28,{"$f":"VLOOKUP(A405,'Chrono+Classement'!G:O,5,FALSE)","v":43},{"$f":"VLOOKUP(A405,'Chrono+Classement'!G:O,9,FALSE)","v":"03:14:19"},{"$f":"IF(K405=17,Param!G405,IF(K405=28,Param!H405,IF(K405=45,Param!I405)))","v":"00:00:42"},"03:13:37",null,1963,"Masters 5",false]
[405,"xxxxx-","xxxxx",null,null,null,115.40041067761807,null,null,null,28,{"$f":"VLOOKUP(A406,'Chrono+Classement'!G:O,5,FALSE)","v":{"$error":"#N/A"}},{"$f":"VLOOKUP(A406,'Chrono+Classement'!G:O,9,FALSE)","v":{"$error":"#N/A"}},{"$f":"IF(K406=17,Param!G406,IF(K406=28,Param!H406,IF(K406=45,Param!I406)))","v":"00:00:42"},{"$error":"#N/A"},null,1900,false,false]
[406,"FAGEDET-Pascal","FAGEDET","Pascal","M","1965-08-29",49.738535249828885,"CASTELNAU Cyclo  Club","FSGT","Masters 5",28,{"$f":"VLOOKUP(A407,'Chrono+Classement'!G:O,5,FALSE)","v":9},{"$f":"VLOOKUP(A407,'Chrono+Classement'!G:O,9,FALSE)","v":"01:53:18"},{"$f":"IF(K407=17,Param!G407,IF(K407=28,Param!H407,IF(K407=45,Param!I407)))","v":"00:00:42"},"01:52:36",null,1965,"Masters 5",false]
[407,"PASQUET-Daniel","PASQUET","Daniel","M","1964-08-30",50.735112936344969,"Les ZACCROS","FFC","Masters 5",28,{"$f":"VLOOKUP(A408,'Chrono+Classement'!G:O,5,FALSE)","v":2},{"$f":"VLOOKUP(A408,'Chrono+Classement'!G:O,9,FALSE)","v":"01:28:32"},{"$f":"IF(K408=17,Param!G408,IF(K408=28,Param!H408,IF(K408=45,Param!I408)))","v":"00:00:42"},"01:27:50",null,1964,"Masters 5",false]
[408,"COSTES-Joel","COSTES","Joel","M","1965-05-26",49.998631074606436,"Marssac Aventure","FFC","Masters 5",28,{"$f":"VLOOKUP(A409,'Chrono+Classement'!G:O,5,FALSE)","v":6},{"$f":"VLOOKUP(A409,'Chrono+Classement'!G:O,9,FALSE)","v":"01:43:05"},{"$f":"IF(K409=17,Param!G409,IF(K409=28,Param!H409,IF(K409=45,Param!I409)))","v":"00:00:42"},"01:42:23",null,1965,"Masters 5",false]
[409,"TEYSSIER-Eric","TEYSSIER","Eric","M","1967-09-13",47.698836413415471,null,"NL","Masters 3/4",28,{"$f":"VLOOKUP(A410,'Chrono+Classement'!G:O,5,FALSE)","v":8},{"$f":"VLOOKUP(A410,'Chrono+Classement'!G:O,9,FALSE)","v":"01:50:53"},{"$f":"IF(K410=17,Param!G410,IF(K410=28,Param!H410,IF(K410=45,Param!I410)))","v":"00:00:42"},"01:50:11",null,1967,"Masters 3/4",false]
[410,"CUBURY-Thierry","CUBURY","Thierry","M","1965-12-13",49.448323066392881,"TOAC","FFC","Masters 5",28,{"$f":"VLOOKUP(A411,'Chrono+Classement'!G:O,5,FALSE)","v":7},{"$f":"VLOOKUP(A411,'Chrono+Classement'!G:O,9,FALSE)","v":"01:49:06"},{"$f":"IF(K411=17,Param!G411,IF(K411=28,Param!H411,IF(K411=45,Param!I411)))","v":"00:00:42"},"01:48:24",null,1965,"Masters 5",false]
[411,"LIABAT-Stéphane","LIABAT","Stéphane","M","1973-06-18",41.935660506502394,"VC Graulhet","FFC","Masters 3/4",28,{"$f":"VLOOKUP(A412,'Chrono+Classement'!G:O,5,FALSE)","v":5},{"$f":"VLOOKUP(A412,'Chrono+Classement'!G:O,9,FALSE)","v":"01:41:04"},{"$f":"IF(K412=17,Param!G412,IF(K412=28,Param!H412,IF(K412=45,Param!I412)))","v":"00:00:42"},"01:40:22",null,1973,"Masters 3/4",false]
[412,"TURON-David","TURON","David","M","1974-05-09",41.045859000684466,null,"NL","Masters 3/4",28,{"$f":"VLOOKUP(A413,'Chrono+Classement'!G:O,5,FALSE)","v":40},{"$f":"VLOOKUP(A413,'Chrono+Classement'!G:O,9,FALSE)","v":"03:03:34"},{"$f":"IF(K413=17,Param!G413,IF(K413=28,Param!H413,IF(K413=45,Param!I413)))","v":"00:00:42"},"03:02:52",null,1974,"Masters 3/4",false]
[413,"DELAHAYE-Fabrice","DELAHAYE","Fabrice","M","1975-10-24",39.586584531143053,"VCRO","FSGT","Masters 3/4",28,{"$f":"VLOOKUP(A414,'Chrono+Classement'!G:O,5,FALSE)","v":4},{"$f":"VLOOKUP(A414,'Chrono+Classement'!G:O,9,FALSE)","v":"01:31:57"},{"$f":"IF(K414=17,Param!G414,IF(K414=28,Param!H414,IF(K414=45,Param!I414)))","v":"00:00:42"},"01:31:15",null,1975,"Masters 3/4",false]
[414,"-",null,null,null,null,115.40041067761807,null,null,null,28,{"$f":"VLOOKUP(A415,'Chrono+Classement'!G:O,5,FALSE)","v":{"$error":"#N/A"}},{"$f":"VLOOKUP(A415,'Chrono+Classement'!G:O,9,FALSE)","v":{"$error":"#N/A"}},{"$f":"IF(K415=17,Param!G415,IF(K415=28,Param!H415,IF(K415=45,Param!I415)))","v":"00:00:42"},{"$error":"#N/A"},null,1900,false,false]
[415,"-",null,null,null,null,115.40041067761807,null,null,null,28,{"$f":"VLOOKUP(A416,'Chrono+Classement'!G:O,5,FALSE)","v":{"$error":"#N/A"}},{"$f":"VLOOKUP(A416,'Chrono+Classement'!G:O,9,FALSE)","v":{"$error":"#N/A"}},{"$f":"IF(K416=17,Param!G416,IF(K416=28,Param!H416,IF(K416=45,Param!I416)))","v":"00:00:42"},{"$error":"#N/A"},null,1900,false,false]
[416,"-",null,null,null,null,115.40041067761807,null,null,null,28,{"$f":"VLOOKUP(A417,'Chrono+Classement'!G:O,5,FALSE)","v":{"$error":"#N/A"}},{"$f":"VLOOKUP(A417,'Chrono+Classement'!G:O,9,FALSE)","v":{"$error":"#N/A"}},{"$f":"IF(K417=17,Param!G417,IF(K417=28,Param!H417,IF(K417=45,Param!I417)))","v":"00:00:42"},{"$error":"#N/A"},null,1900,false,false]
[417,"-",null,null,null,null,115.40041067761807,null,null,null,28,{"$f":"VLOOKUP(A418,'Chrono+Classement'!G:O,5,FALSE)","v":{"$error":"#N/A"}},{"$f":"VLOOKUP(A418,'Chrono+Classement'!G:O,9,FALSE)","v":{"$error":"#N/A"}},{"$f":"IF(K418=17,Param!G418,IF(K418=28,Param!H418,IF(K418=45,Param!I418)))","v":"00:00:42"},{"$error":"#N/A"},null,1900,false,false]
[418,"-",null,null,null,null,115.40041067761807,null,null,null,28,{"$f":"VLOOKUP(A419,'Chrono+Classement'!G:O,5,FALSE)","v":{"$error":"#N/A"}},{"$f":"VLOOKUP(A419,'Chrono+Classement'!G:O,9,FALSE)","v":{"$error":"#N/A"}},{"$f":"IF(K419=17,Param!G419,IF(K419=28,Param!H419,IF(K419=45,Param!I419)))","v":"00:00:42"},{"$error":"#N/A"},null,1900,false,false]
[419,"-",null,null,null,null,115.40041067761807,null,null,null,28,{"$f":"VLOOKUP(A420,'Chrono+Classement'!G:O,5,FALSE)","v":{"$error":"#N/A"}},{"$f":"VLOOKUP(A420,'Chrono+Classement'!G:O,9,FALSE)","v":{"$error":"#N/A"}},{"$f":"IF(K420=17,Param!G420,IF(K420=28,Param!H420,IF(K420=45,Param!I420)))","v":"00:00:42"},{"$error":"#N/A"},null,1900,false,false]
[420,"-",null,null,null,null,115.40041067761807,null,null,null,28,{"$f":"VLOOKUP(A421,'Chrono+Classement'!G:O,5,FALSE)","v":{"$error":"#N/A"}},{"$f":"VLOOKUP(A421,'Chrono+Classement'!G:O,9,FALSE)","v":{"$error":"#N/A"}},{"$f":"IF(K421=17,Param!G421,IF(K421=28,Param!H421,IF(K421=45,Param!I421)))","v":"00:00:42"},{"$f":"M421-N421","v":{"$error":"#N/A"}},null,1900,false,false]
[421,"-",null,null,null,null,115.40041067761807,null,null,null,28,{"$f":"VLOOKUP(A422,'Chrono+Classement'!G:O,5,FALSE)","v":{"$error":"#N/A"}},{"$f":"VLOOKUP(A422,'Chrono+Classement'!G:O,9,FALSE)","v":{"$error":"#N/A"}},{"$f":"IF(K422=17,Param!G422,IF(K422=28,Param!H422,IF(K422=45,Param!I422)))","v":"00:00:42"},{"$error":"#N/A"},null,1900,false,false]
[422,"-",null,null,null,null,115.40041067761807,null,null,null,28,{"$f":"VLOOKUP(A423,'Chrono+Classement'!G:O,5,FALSE)","v":{"$error":"#N/A"}},{"$f":"VLOOKUP(A423,'Chrono+Classement'!G:O,9,FALSE)","v":{"$error":"#N/A"}},{"$f":"IF(K423=17,Param!G423,IF(K423=28,Param!H423,IF(K423=45,Param!I423)))","v":"00:00:42"},{"$error":"#N/A"},null,1900,false,false]
[423,"-",null,null,null,null,115.40041067761807,null,null,null,28,{"$f":"VLOOKUP(A424,'Chrono+Classement'!G:O,5,FALSE)","v":{"$error":"#N/A"}},{"$f":"VLOOKUP(A424,'Chrono+Classement'!G:O,9,FALSE)","v":{"$error":"#N/A"}},{"$f":"IF(K424=17,Param!G424,IF(K424=28,Param!H424,IF(K424=45,Param!I424)))","v":"00:00:42"},{"$error":"#N/A"},null,1900,false,false]
[424,"-",null,null,null,null,115.40041067761807,null,null,null,28,{"$f":"VLOOKUP(A425,'Chrono+Classement'!G:O,5,FALSE)","v":{"$error":"#N/A"}},{"$f":"VLOOKUP(A425,'Chrono+Classement'!G:O,9,FALSE)","v":{"$error":"#N/A"}},{"$f":"IF(K425=17,Param!G425,IF(K425=28,Param!H425,IF(K425=45,Param!I425)))","v":"00:00:42"},{"$error":"#N/A"},null,1900,false,false]
[425,"-",null,null,null,null,115.40041067761807,null,null,null,28,{"$f":"VLOOKUP(A426,'Chrono+Classement'!G:O,5,FALSE)","v":{"$error":"#N/A"}},{"$f":"VLOOKUP(A426,'Chrono+Classement'!G:O,9,FALSE)","v":{"$error":"#N/A"}},{"$f":"IF(K426=17,Param!G426,IF(K426=28,Param!H426,IF(K426=45,Param!I426)))","v":"00:00:42"},{"$error":"#N/A"},null,1900,false,false]
[426,"-",null,null,null,null,115.40041067761807,null,null,null,28,{"$f":"VLOOKUP(A427,'Chrono+Classement'!G:O,5,FALSE)","v":{"$error":"#N/A"}},{"$f":"VLOOKUP(A427,'Chrono+Classement'!G:O,9,FALSE)","v":{"$error":"#N/A"}},{"$f":"IF(K427=17,Param!G427,IF(K427=28,Param!H427,IF(K427=45,Param!I427)))","v":"00:00:42"},{"$error":"#N/A"},null,1900,false,false]
[427,"-",null,null,null,null,115.40041067761807,null,null,null,28,{"$f":"VLOOKUP(A428,'Chrono+Classement'!G:O,5,FALSE)","v":{"$error":"#N/A"}},{"$f":"VLOOKUP(A428,'Chrono+Classement'!G:O,9,FALSE)","v":{"$error":"#N/A"}},{"$f":"IF(K428=17,Param!G428,IF(K428=28,Param!H428,IF(K428=45,Param!I428)))","v":"00:00:42"},{"$error":"#N/A"},null,1900,false,false]
[428,"-",null,null,null,null,115.40041067761807,null,null,null,28,{"$f":"VLOOKUP(A429,'Chrono+Classement'!G:O,5,FALSE)","v":{"$error":"#N/A"}},{"$f":"VLOOKUP(A429,'Chrono+Classement'!G:O,9,FALSE)","v":{"$error":"#N/A"}},{"$f":"IF(K429=17,Param!G429,IF(K429=28,Param!H429,IF(K429=45,Param!I429)))","v":"00:00:42"},{"$error":"#N/A"},null,1900,false,false]
[429,"-",null,null,null,null,115.40041067761807,null,null,null,28,{"$f":"VLOOKUP(A430,'Chrono+Classement'!G:O,5,FALSE)","v":{"$error":"#N/A"}},{"$f":"VLOOKUP(A430,'Chrono+Classement'!G:O,9,FALSE)","v":{"$error":"#N/A"}},{"$f":"IF(K430=17,Param!G430,IF(K430=28,Param!H430,IF(K430=45,Param!I430)))","v":"00:00:42"},{"$error":"#N/A"},null,1900,false,false]
[430,"-",null,null,null,null,115.40041067761807,null,null,null,28,{"$f":"VLOOKUP(A431,'Chrono+Classement'!G:O,5,FALSE)","v":{"$error":"#N/A"}},{"$f":"VLOOKUP(A431,'Chrono+Classement'!G:O,9,FALSE)","v":{"$error":"#N/A"}},{"$f":"IF(K431=17,Param!G431,IF(K431=28,Param!H431,IF(K431=45,Param!I431)))","v":"00:00:42"},{"$error":"#N/A"},null,1900,false,false]
[431,"-",null,null,null,null,115.40041067761807,null,null,null,28,{"$f":"VLOOKUP(A432,'Chrono+Classement'!G:O,5,FALSE)","v":{"$error":"#N/A"}},{"$f":"VLOOKUP(A432,'Chrono+Classement'!G:O,9,FALSE)","v":{"$error":"#N/A"}},{"$f":"IF(K432=17,Param!G432,IF(K432=28,Param!H432,IF(K432=45,Param!I432)))","v":"00:00:42"},{"$error":"#N/A"},null,1900,false,false]
[432,"-",null,null,null,null,115.40041067761807,null,null,null,28,{"$f":"VLOOKUP(A433,'Chrono+Classement'!G:O,5,FALSE)","v":{"$error":"#N/A"}},{"$f":"VLOOKUP(A433,'Chrono+Classement'!G:O,9,FALSE)","v":{"$error":"#N/A"}},{"$f":"IF(K433=17,Param!G433,IF(K433=28,Param!H433,IF(K433=45,Param!I433)))","v":"00:00:42"},{"$error":"#N/A"},null,1900,false,false]
[433,"-",null,null,null,null,115.40041067761807,null,null,null,28,{"$f":"VLOOKUP(A434,'Chrono+Classement'!G:O,5,FALSE)","v":{"$error":"#N/A"}},{"$f":"VLOOKUP(A434,'Chrono+Classement'!G:O,9,FALSE)","v":{"$error":"#N/A"}},{"$f":"IF(K434=17,Param!G434,IF(K434=28,Param!H434,IF(K434=45,Param!I434)))","v":"00:00:42"},{"$error":"#N/A"},null,1900,false,false]
[434,"-",null,null,null,null,115.40041067761807,null,null,null,28,{"$f":"VLOOKUP(A435,'Chrono+Classement'!G:O,5,FALSE)","v":{"$error":"#N/A"}},{"$f":"VLOOKUP(A435,'Chrono+Classement'!G:O,9,FALSE)","v":{"$error":"#N/A"}},{"$f":"IF(K435=17,Param!G435,IF(K435=28,Param!H435,IF(K435=45,Param!I435)))","v":"00:00:42"},{"$error":"#N/A"},null,1900,false,false]
[435,"-",null,null,null,null,115.40041067761807,null,null,null,28,{"$f":"VLOOKUP(A436,'Chrono+Classement'!G:O,5,FALSE)","v":{"$error":"#N/A"}},{"$f":"VLOOKUP(A436,'Chrono+Classement'!G:O,9,FALSE)","v":{"$error":"#N/A"}},{"$f":"IF(K436=17,Param!G436,IF(K436=28,Param!H436,IF(K436=45,Param!I436)))","v":"00:00:42"},{"$error":"#N/A"},null,1900,false,false]
[436,"-",null,null,null,null,115.40041067761807,null,null,null,28,{"$f":"VLOOKUP(A437,'Chrono+Classement'!G:O,5,FALSE)","v":{"$error":"#N/A"}},{"$f":"VLOOKUP(A437,'Chrono+Classement'!G:O,9,FALSE)","v":{"$error":"#N/A"}},{"$f":"IF(K437=17,Param!G437,IF(K437=28,Param!H437,IF(K437=45,Param!I437)))","v":"00:00:42"},{"$error":"#N/A"},null,1900,false,false]
[437,"-",null,null,null,null,115.40041067761807,null,null,null,28,{"$f":"VLOOKUP(A438,'Chrono+Classement'!G:O,5,FALSE)","v":{"$error":"#N/A"}},{"$f":"VLOOKUP(A438,'Chrono+Classement'!G:O,9,FALSE)","v":{"$error":"#N/A"}},{"$f":"IF(K438=17,Param!G438,IF(K438=28,Param!H438,IF(K438=45,Param!I438)))","v":"00:00:42"},{"$error":"#N/A"},null,1900,false,false]
[438,"-",null,null,null,null,115.40041067761807,null,null,null,28,{"$f":"VLOOKUP(A439,'Chrono+Classement'!G:O,5,FALSE)","v":{"$error":"#N/A"}},{"$f":"VLOOKUP(A439,'Chrono+Classement'!G:O,9,FALSE)","v":{"$error":"#N/A"}},{"$f":"IF(K439=17,Param!G439,IF(K439=28,Param!H439,IF(K439=45,Param!I439)))","v":"00:00:42"},{"$error":"#N/A"},null,1900,false,false]
[439,"-",null,null,null,null,115.40041067761807,null,null,null,28,{"$f":"VLOOKUP(A440,'Chrono+Classement'!G:O,5,FALSE)","v":{"$error":"#N/A"}},{"$f":"VLOOKUP(A440,'Chrono+Classement'!G:O,9,FALSE)","v":{"$error":"#N/A"}},{"$f":"IF(K440=17,Param!G440,IF(K440=28,Param!H440,IF(K440=45,Param!I440)))","v":"00:00:42"},{"$error":"#N/A"},null,1900,false,false]
[440,"-",null,null,null,null,115.40041067761807,null,null,null,28,{"$f":"VLOOKUP(A441,'Chrono+Classement'!G:O,5,FALSE)","v":{"$error":"#N/A"}},{"$f":"VLOOKUP(A441,'Chrono+Classement'!G:O,9,FALSE)","v":{"$error":"#N/A"}},{"$f":"IF(K441=17,Param!G441,IF(K441=28,Param!H441,IF(K441=45,Param!I441)))","v":"00:00:42"},{"$error":"#N/A"},null,1900,false,false]
[441,"-",null,null,null,null,115.40041067761807,null,null,null,28,{"$f":"VLOOKUP(A442,'Chrono+Classement'!G:O,5,FALSE)","v":{"$error":"#N/A"}},{"$f":"VLOOKUP(A442,'Chrono+Classement'!G:O,9,FALSE)","v":{"$error":"#N/A"}},{"$f":"IF(K442=17,Param!G442,IF(K442=28,Param!H442,IF(K442=45,Param!I442)))","v":"00:00:42"},{"$error":"#N/A"},null,1900,false,false]
[442,"-",null,null,null,null,115.40041067761807,null,null,null,28,{"$f":"VLOOKUP(A443,'Chrono+Classement'!G:O,5,FALSE)","v":{"$error":"#N/A"}},{"$f":"VLOOKUP(A443,'Chrono+Classement'!G:O,9,FALSE)","v":{"$error":"#N/A"}},{"$f":"IF(K443=17,Param!G443,IF(K443=28,Param!H443,IF(K443=45,Param!I443)))","v":"00:00:42"},{"$error":"#N/A"},null,1900,false,false]
[443,"-",null,null,null,null,115.40041067761807,null,null,null,28,{"$f":"VLOOKUP(A444,'Chrono+Classement'!G:O,5,FALSE)","v":{"$error":"#N/A"}},{"$f":"VLOOKUP(A444,'Chrono+Classement'!G:O,9,FALSE)","v":{"$error":"#N/A"}},{"$f":"IF(K444=17,Param!G444,IF(K444=28,Param!H444,IF(K444=45,Param!I444)))","v":"00:00:42"},{"$error":"#N/A"},null,1900,false,false]
[444,"-",null,null,null,null,115.40041067761807,null,null,null,28,{"$f":"VLOOKUP(A445,'Chrono+Classement'!G:O,5,FALSE)","v":{"$error":"#N/A"}},{"$f":"VLOOKUP(A445,'Chrono+Classement'!G:O,9,FALSE)","v":{"$error":"#N/A"}},{"$f":"IF(K445=17,Param!G445,IF(K445=28,Param!H445,IF(K445=45,Param!I445)))","v":"00:00:42"},{"$error":"#N/A"},null,1900,false,false]
[445,"-",null,null,null,null,115.40041067761807,null,null,null,28,{"$f":"VLOOKUP(A446,'Chrono+Classement'!G:O,5,FALSE)","v":{"$error":"#N/A"}},{"$f":"VLOOKUP(A446,'Chrono+Classement'!G:O,9,FALSE)","v":{"$error":"#N/A"}},{"$f":"IF(K446=17,Param!G446,IF(K446=28,Param!H446,IF(K446=45,Param!I446)))","v":"00:00:42"},{"$error":"#N/A"},null,1900,false,false]
[446,"-",null,null,null,null,115.40041067761807,null,null,null,28,{"$f":"VLOOKUP(A447,'Chrono+Classement'!G:O,5,FALSE)","v":{"$error":"#N/A"}},{"$f":"VLOOKUP(A447,'Chrono+Classement'!G:O,9,FALSE)","v":{"$error":"#N/A"}},{"$f":"IF(K447=17,Param!G447,IF(K447=28,Param!H447,IF(K447=45,Param!I447)))","v":"00:00:42"},{"$error":"#N/A"},null,1900,false,false]
[447,"-",null,null,null,null,115.40041067761807,null,null,null,28,{"$f":"VLOOKUP(A448,'Chrono+Classement'!G:O,5,FALSE)","v":{"$error":"#N/A"}},{"$f":"VLOOKUP(A448,'Chrono+Classement'!G:O,9,FALSE)","v":{"$error":"#N/A"}},{"$f":"IF(K448=17,Param!G448,IF(K448=28,Param!H448,IF(K448=45,Param!I448)))","v":"00:00:42"},{"$error":"#N/A"},null,1900,false,false]
[448,"-",null,null,null,null,115.40041067761807,null,null,null,28,{"$f":"VLOOKUP(A449,'Chrono+Classement'!G:O,5,FALSE)","v":{"$error":"#N/A"}},{"$f":"VLOOKUP(A449,'Chrono+Classement'!G:O,9,FALSE)","v":{"$error":"#N/A"}},{"$f":"IF(K449=17,Param!G449,IF(K449=28,Param!H449,IF(K449=45,Param!I449)))","v":"00:00:42"},{"$error":"#N/A"},null,1900,false,false]
[449,{"$f":"CONCATENATE(C450,\"-\",D450)","v":"-"},null,null,null,null,{"$f":"(TODAY()-F450)/365.25","v":115.40041067761807},null,null,null,28,{"$f":"VLOOKUP(A450,'Chrono+Classement'!G:O,5,FALSE)","v":{"$error":"#N/A"}},{"$f":"VLOOKUP(A450,'Chrono+Classement'!G:O,9,FALSE)","v":{"$error":"#N/A"}},{"$f":"IF(K450=17,Param!G450,IF(K450=28,Param!H450,IF(K450=45,Param!I450)))","v":"00:00:42"},{"$error":"#N/A"},null,{"$f":"YEAR(F450)","v":1900},{"$f":"IF(E450=\"M\",IF(Q450<=1965,\"Masters 5\",IF(Q450<=1975,\"Masters 3/4\",IF(Q450<=1985,\"Masters 1/2\",IF(Q450<=1992,\"Hommes\",IF(Q450<=1996,\"Espoirs\",IF(Q450<=1998,\"Juniors\",IF(Q450<=2000,\"Cadets\",0))))))))","v":false},{"$f":"IF(E450=\"F\",IF(Q450<=1992,\"Dames\",IF(Q450<=1996,\"Espoirs Dames\",IF(Q450<=1998,\"Juniors Dames\",IF(Q450<=2000,\"Cadettes\",0)))))","v":false}]
[450,"-",null,null,null,null,115.40041067761807,null,null,null,28,{"$f":"VLOOKUP(A451,'Chrono+Classement'!G:O,5,FALSE)","v":{"$error":"#N/A"}},{"$f":"VLOOKUP(A451,'Chrono+Classement'!G:O,9,FALSE)","v":{"$error":"#N/A"}},{"$f":"IF(K451=17,Param!G451,IF(K451=28,Param!H451,IF(K451=45,Param!I451)))","v":"00:00:42"},{"$error":"#N/A"},null,1900,false,false]
[451,"-",null,null,null,null,115.40041067761807,null,null,null,28,{"$f":"VLOOKUP(A452,'Chrono+Classement'!G:O,5,FALSE)","v":{"$error":"#N/A"}},{"$f":"VLOOKUP(A452,'Chrono+Classement'!G:O,9,FALSE)","v":{"$error":"#N/A"}},{"$f":"IF(K452=17,Param!G452,IF(K452=28,Param!H452,IF(K452=45,Param!I452)))","v":"00:00:42"},{"$error":"#N/A"},null,1900,false,false]
[452,"-",null,null,null,null,115.40041067761807,null,null,null,28,{"$f":"VLOOKUP(A453,'Chrono+Classement'!G:O,5,FALSE)","v":{"$error":"#N/A"}},{"$f":"VLOOKUP(A453,'Chrono+Classement'!G:O,9,FALSE)","v":{"$error":"#N/A"}},{"$f":"IF(K453=17,Param!G453,IF(K453=28,Param!H453,IF(K453=45,Param!I453)))","v":"00:00:42"},{"$error":"#N/A"},null,1900,false,false]
[453,"-",null,null,null,null,115.40041067761807,null,null,null,28,{"$f":"VLOOKUP(A454,'Chrono+Classement'!G:O,5,FALSE)","v":{"$error":"#N/A"}},{"$f":"VLOOKUP(A454,'Chrono+Classement'!G:O,9,FALSE)","v":{"$error":"#N/A"}},{"$f":"IF(K454=17,Param!G454,IF(K454=28,Param!H454,IF(K454=45,Param!I454)))","v":"00:00:42"},{"$error":"#N/A"},null,1900,false,false]
[454,"-",null,null,null,null,115.40041067761807,null,null,null,28,{"$f":"VLOOKUP(A455,'Chrono+Classement'!G:O,5,FALSE)","v":{"$error":"#N/A"}},{"$f":"VLOOKUP(A455,'Chrono+Classement'!G:O,9,FALSE)","v":{"$error":"#N/A"}},{"$f":"IF(K455=17,Param!G455,IF(K455=28,Param!H455,IF(K455=45,Param!I455)))","v":"00:00:42"},{"$error":"#N/A"},null,1900,false,false]
[455,"-",null,null,null,null,115.40041067761807,null,null,null,28,{"$f":"VLOOKUP(A456,'Chrono+Classement'!G:O,5,FALSE)","v":{"$error":"#N/A"}},{"$f":"VLOOKUP(A456,'Chrono+Classement'!G:O,9,FALSE)","v":{"$error":"#N/A"}},{"$f":"IF(K456=17,Param!G456,IF(K456=28,Param!H456,IF(K456=45,Param!I456)))","v":"00:00:42"},{"$error":"#N/A"},null,1900,false,false]
[456,"-",null,null,null,null,115.40041067761807,null,null,null,28,{"$f":"VLOOKUP(A457,'Chrono+Classement'!G:O,5,FALSE)","v":{"$error":"#N/A"}},{"$f":"VLOOKUP(A457,'Chrono+Classement'!G:O,9,FALSE)","v":{"$error":"#N/A"}},{"$f":"IF(K457=17,Param!G457,IF(K457=28,Param!H457,IF(K457=45,Param!I457)))","v":"00:00:42"},{"$error":"#N/A"},null,1900,false,false]
[457,"-",null,null,null,null,115.40041067761807,null,null,null,28,{"$f":"VLOOKUP(A458,'Chrono+Classement'!G:O,5,FALSE)","v":{"$error":"#N/A"}},{"$f":"VLOOKUP(A458,'Chrono+Classement'!G:O,9,FALSE)","v":{"$error":"#N/A"}},{"$f":"IF(K458=17,Param!G458,IF(K458=28,Param!H458,IF(K458=45,Param!I458)))","v":"00:00:42"},{"$error":"#N/A"},null,1900,false,false]
[458,"-",null,null,null,null,115.40041067761807,null,null,null,28,{"$f":"VLOOKUP(A459,'Chrono+Classement'!G:O,5,FALSE)","v":{"$error":"#N/A"}},{"$f":"VLOOKUP(A459,'Chrono+Classement'!G:O,9,FALSE)","v":{"$error":"#N/A"}},{"$f":"IF(K459=17,Param!G459,IF(K459=28,Param!H459,IF(K459=45,Param!I459)))","v":"00:00:42"},{"$error":"#N/A"},null,1900,false,false]
[459,"-",null,null,null,null,115.40041067761807,null,null,null,28,{"$f":"VLOOKUP(A460,'Chrono+Classement'!G:O,5,FALSE)","v":{"$error":"#N/A"}},{"$f":"VLOOKUP(A460,'Chrono+Classement'!G:O,9,FALSE)","v":{"$error":"#N/A"}},{"$f":"IF(K460=17,Param!G460,IF(K460=28,Param!H460,IF(K460=45,Param!I460)))","v":"00:00:42"},{"$error":"#N/A"},null,1900,false,false]
[460,"-",null,null,null,null,115.40041067761807,null,null,null,28,{"$f":"VLOOKUP(A461,'Chrono+Classement'!G:O,5,FALSE)","v":{"$error":"#N/A"}},{"$f":"VLOOKUP(A461,'Chrono+Classement'!G:O,9,FALSE)","v":{"$error":"#N/A"}},{"$f":"IF(K461=17,Param!G461,IF(K461=28,Param!H461,IF(K461=45,Param!I461)))","v":"00:00:42"},{"$error":"#N/A"},null,1900,false,false]
[461,"-",null,null,null,null,115.40041067761807,null,null,null,28,{"$f":"VLOOKUP(A462,'Chrono+Classement'!G:O,5,FALSE)","v":{"$error":"#N/A"}},{"$f":"VLOOKUP(A462,'Chrono+Classement'!G:O,9,FALSE)","v":{"$error":"#N/A"}},{"$f":"IF(K462=17,Param!G462,IF(K462=28,Param!H462,IF(K462=45,Param!I462)))","v":"00:00:42"},{"$error":"#N/A"},null,1900,false,false]
[462,"-",null,null,null,null,115.40041067761807,null,null,null,28,{"$f":"VLOOKUP(A463,'Chrono+Classement'!G:O,5,FALSE)","v":{"$error":"#N/A"}},{"$f":"VLOOKUP(A463,'Chrono+Classement'!G:O,9,FALSE)","v":{"$error":"#N/A"}},{"$f":"IF(K463=17,Param!G463,IF(K463=28,Param!H463,IF(K463=45,Param!I463)))","v":"00:00:42"},{"$error":"#N/A"},null,1900,false,false]
[463,"-",null,null,null,null,115.40041067761807,null,null,null,28,{"$f":"VLOOKUP(A464,'Chrono+Classement'!G:O,5,FALSE)","v":{"$error":"#N/A"}},{"$f":"VLOOKUP(A464,'Chrono+Classement'!G:O,9,FALSE)","v":{"$error":"#N/A"}},{"$f":"IF(K464=17,Param!G464,IF(K464=28,Param!H464,IF(K464=45,Param!I464)))","v":"00:00:42"},{"$error":"#N/A"},null,1900,false,false]
[464,"-",null,null,null,null,115.40041067761807,null,null,null,28,{"$f":"VLOOKUP(A465,'Chrono+Classement'!G:O,5,FALSE)","v":{"$error":"#N/A"}},{"$f":"VLOOKUP(A465,'Chrono+Classement'!G:O,9,FALSE)","v":{"$error":"#N/A"}},{"$f":"IF(K465=17,Param!G465,IF(K465=28,Param!H465,IF(K465=45,Param!I465)))","v":"00:00:42"},{"$error":"#N/A"},null,1900,false,false]
[465,"-",null,null,null,null,115.40041067761807,null,null,null,28,{"$f":"VLOOKUP(A466,'Chrono+Classement'!G:O,5,FALSE)","v":{"$error":"#N/A"}},{"$f":"VLOOKUP(A466,'Chrono+Classement'!G:O,9,FALSE)","v":{"$error":"#N/A"}},{"$f":"IF(K466=17,Param!G466,IF(K466=28,Param!H466,IF(K466=45,Param!I466)))","v":"00:00:42"},{"$error":"#N/A"},null,1900,false,false]
[466,"-",null,null,null,null,115.40041067761807,null,null,null,28,{"$f":"VLOOKUP(A467,'Chrono+Classement'!G:O,5,FALSE)","v":{"$error":"#N/A"}},{"$f":"VLOOKUP(A467,'Chrono+Classement'!G:O,9,FALSE)","v":{"$error":"#N/A"}},{"$f":"IF(K467=17,Param!G467,IF(K467=28,Param!H467,IF(K467=45,Param!I467)))","v":"00:00:42"},{"$error":"#N/A"},null,1900,false,false]
[467,"-",null,null,null,null,115.40041067761807,null,null,null,28,{"$f":"VLOOKUP(A468,'Chrono+Classement'!G:O,5,FALSE)","v":{"$error":"#N/A"}},{"$f":"VLOOKUP(A468,'Chrono+Classement'!G:O,9,FALSE)","v":{"$error":"#N/A"}},{"$f":"IF(K468=17,Param!G468,IF(K468=28,Param!H468,IF(K468=45,Param!I468)))","v":"00:00:42"},{"$error":"#N/A"},null,1900,false,false]
[468,"-",null,null,null,null,115.40041067761807,null,null,null,28,{"$f":"VLOOKUP(A469,'Chrono+Classement'!G:O,5,FALSE)","v":{"$error":"#N/A"}},{"$f":"VLOOKUP(A469,'Chrono+Classement'!G:O,9,FALSE)","v":{"$error":"#N/A"}},{"$f":"IF(K469=17,Param!G469,IF(K469=28,Param!H469,IF(K469=45,Param!I469)))","v":"00:00:42"},{"$error":"#N/A"},null,1900,false,false]
[469,"-",null,null,null,null,115.40041067761807,null,null,null,28,{"$f":"VLOOKUP(A470,'Chrono+Classement'!G:O,5,FALSE)","v":{"$error":"#N/A"}},{"$f":"VLOOKUP(A470,'Chrono+Classement'!G:O,9,FALSE)","v":{"$error":"#N/A"}},{"$f":"IF(K470=17,Param!G470,IF(K470=28,Param!H470,IF(K470=45,Param!I470)))","v":"00:00:42"},{"$error":"#N/A"},null,1900,false,false]
[470,"-",null,null,null,null,115.40041067761807,null,null,null,28,{"$f":"VLOOKUP(A471,'Chrono+Classement'!G:O,5,FALSE)","v":{"$error":"#N/A"}},{"$f":"VLOOKUP(A471,'Chrono+Classement'!G:O,9,FALSE)","v":{"$error":"#N/A"}},{"$f":"IF(K471=17,Param!G471,IF(K471=28,Param!H471,IF(K471=45,Param!I471)))","v":"00:00:42"},{"$error":"#N/A"},null,1900,false,false]
[471,"-",null,null,null,null,115.40041067761807,null,null,null,28,{"$f":"VLOOKUP(A472,'Chrono+Classement'!G:O,5,FALSE)","v":{"$error":"#N/A"}},{"$f":"VLOOKUP(A472,'Chrono+Classement'!G:O,9,FALSE)","v":{"$error":"#N/A"}},{"$f":"IF(K472=17,Param!G472,IF(K472=28,Param!H472,IF(K472=45,Param!I472)))","v":"00:00:42"},{"$error":"#N/A"},null,1900,false,false]
[472,"-",null,null,null,null,115.40041067761807,null,null,null,28,{"$f":"VLOOKUP(A473,'Chrono+Classement'!G:O,5,FALSE)","v":{"$error":"#N/A"}},{"$f":"VLOOKUP(A473,'Chrono+Classement'!G:O,9,FALSE)","v":{"$error":"#N/A"}},{"$f":"IF(K473=17,Param!G473,IF(K473=28,Param!H473,IF(K473=45,Param!I473)))","v":"00:00:42"},{"$error":"#N/A"},null,1900,false,false]
[473,"-",null,null,null,null,115.40041067761807,null,null,null,28,{"$f":"VLOOKUP(A474,'Chrono+Classement'!G:O,5,FALSE)","v":{"$error":"#N/A"}},{"$f":"VLOOKUP(A474,'Chrono+Classement'!G:O,9,FALSE)","v":{"$error":"#N/A"}},{"$f":"IF(K474=17,Param!G474,IF(K474=28,Param!H474,IF(K474=45,Param!I474)))","v":"00:00:42"},{"$error":"#N/A"},null,1900,false,false]
[474,"-",null,null,null,null,115.40041067761807,null,null,null,28,{"$f":"VLOOKUP(A475,'Chrono+Classement'!G:O,5,FALSE)","v":{"$error":"#N/A"}},{"$f":"VLOOKUP(A475,'Chrono+Classement'!G:O,9,FALSE)","v":{"$error":"#N/A"}},{"$f":"IF(K475=17,Param!G475,IF(K475=28,Param!H475,IF(K475=45,Param!I475)))","v":"00:00:42"},{"$error":"#N/A"},null,1900,false,false]
[475,"-",null,null,null,null,115.40041067761807,null,null,null,28,{"$f":"VLOOKUP(A476,'Chrono+Classement'!G:O,5,FALSE)","v":{"$error":"#N/A"}},{"$f":"VLOOKUP(A476,'Chrono+Classement'!G:O,9,FALSE)","v":{"$error":"#N/A"}},{"$f":"IF(K476=17,Param!G476,IF(K476=28,Param!H476,IF(K476=45,Param!I476)))","v":"00:00:42"},{"$error":"#N/A"},null,1900,false,false]
[476,"-",null,null,null,null,115.40041067761807,null,null,null,28,{"$f":"VLOOKUP(A477,'Chrono+Classement'!G:O,5,FALSE)","v":{"$error":"#N/A"}},{"$f":"VLOOKUP(A477,'Chrono+Classement'!G:O,9,FALSE)","v":{"$error":"#N/A"}},{"$f":"IF(K477=17,Param!G477,IF(K477=28,Param!H477,IF(K477=45,Param!I477)))","v":"00:00:42"},{"$error":"#N/A"},null,1900,false,false]
[477,"-",null,null,null,null,115.40041067761807,null,null,null,28,{"$f":"VLOOKUP(A478,'Chrono+Classement'!G:O,5,FALSE)","v":{"$error":"#N/A"}},{"$f":"VLOOKUP(A478,'Chrono+Classement'!G:O,9,FALSE)","v":{"$error":"#N/A"}},{"$f":"IF(K478=17,Param!G478,IF(K478=28,Param!H478,IF(K478=45,Param!I478)))","v":"00:00:42"},{"$error":"#N/A"},null,1900,false,false]
[478,"-",null,null,null,null,115.40041067761807,null,null,null,28,{"$f":"VLOOKUP(A479,'Chrono+Classement'!G:O,5,FALSE)","v":{"$error":"#N/A"}},{"$f":"VLOOKUP(A479,'Chrono+Classement'!G:O,9,FALSE)","v":{"$error":"#N/A"}},{"$f":"IF(K479=17,Param!G479,IF(K479=28,Param!H479,IF(K479=45,Param!I479)))","v":"00:00:42"},{"$error":"#N/A"},null,1900,false,false]
[479,"-",null,null,null,null,115.40041067761807,null,null,null,28,{"$f":"VLOOKUP(A480,'Chrono+Classement'!G:O,5,FALSE)","v":{"$error":"#N/A"}},{"$f":"VLOOKUP(A480,'Chrono+Classement'!G:O,9,FALSE)","v":{"$error":"#N/A"}},{"$f":"IF(K480=17,Param!G480,IF(K480=28,Param!H480,IF(K480=45,Param!I480)))","v":"00:00:42"},{"$error":"#N/A"},null,1900,false,false]
[480,"-",null,null,null,null,115.40041067761807,null,null,null,28,{"$f":"VLOOKUP(A481,'Chrono+Classement'!G:O,5,FALSE)","v":{"$error":"#N/A"}},{"$f":"VLOOKUP(A481,'Chrono+Classement'!G:O,9,FALSE)","v":{"$error":"#N/A"}},{"$f":"IF(K481=17,Param!G481,IF(K481=28,Param!H481,IF(K481=45,Param!I481)))","v":"00:00:42"},{"$error":"#N/A"},null,1900,false,false]
[481,"-",null,null,null,null,115.40041067761807,null,null,null,28,{"$f":"VLOOKUP(A482,'Chrono+Classement'!G:O,5,FALSE)","v":{"$error":"#N/A"}},{"$f":"VLOOKUP(A482,'Chrono+Classement'!G:O,9,FALSE)","v":{"$error":"#N/A"}},{"$f":"IF(K482=17,Param!G482,IF(K482=28,Param!H482,IF(K482=45,Param!I482)))","v":"00:00:42"},{"$error":"#N/A"},null,1900,false,false]
[482,"-",null,null,null,null,115.40041067761807,null,null,null,28,{"$f":"VLOOKUP(A483,'Chrono+Classement'!G:O,5,FALSE)","v":{"$error":"#N/A"}},{"$f":"VLOOKUP(A483,'Chrono+Classement'!G:O,9,FALSE)","v":{"$error":"#N/A"}},{"$f":"IF(K483=17,Param!G483,IF(K483=28,Param!H483,IF(K483=45,Param!I483)))","v":"00:00:42"},{"$error":"#N/A"},null,1900,false,false]
[483,"-",null,null,null,null,115.40041067761807,null,null,null,28,{"$f":"VLOOKUP(A484,'Chrono+Classement'!G:O,5,FALSE)","v":{"$error":"#N/A"}},{"$f":"VLOOKUP(A484,'Chrono+Classement'!G:O,9,FALSE)","v":{"$error":"#N/A"}},{"$f":"IF(K484=17,Param!G484,IF(K484=28,Param!H484,IF(K484=45,Param!I484)))","v":"00:00:42"},{"$error":"#N/A"},null,1900,false,false]
[484,"-",null,null,null,null,115.40041067761807,null,null,null,28,{"$f":"VLOOKUP(A485,'Chrono+Classement'!G:O,5,FALSE)","v":{"$error":"#N/A"}},{"$f":"VLOOKUP(A485,'Chrono+Classement'!G:O,9,FALSE)","v":{"$error":"#N/A"}},{"$f":"IF(K485=17,Param!G485,IF(K485=28,Param!H485,IF(K485=45,Param!I485)))","v":"00:00:42"},{"$f":"M485-N485","v":{"$error":"#N/A"}},null,1900,false,false]
[485,"-",null,null,null,null,115.40041067761807,null,null,null,28,{"$f":"VLOOKUP(A486,'Chrono+Classement'!G:O,5,FALSE)","v":{"$error":"#N/A"}},{"$f":"VLOOKUP(A486,'Chrono+Classement'!G:O,9,FALSE)","v":{"$error":"#N/A"}},{"$f":"IF(K486=17,Param!G486,IF(K486=28,Param!H486,IF(K486=45,Param!I486)))","v":"00:00:42"},{"$error":"#N/A"},null,1900,false,false]
[486,"-",null,null,null,null,115.40041067761807,null,null,null,28,{"$f":"VLOOKUP(A487,'Chrono+Classement'!G:O,5,FALSE)","v":{"$error":"#N/A"}},{"$f":"VLOOKUP(A487,'Chrono+Classement'!G:O,9,FALSE)","v":{"$error":"#N/A"}},{"$f":"IF(K487=17,Param!G487,IF(K487=28,Param!H487,IF(K487=45,Param!I487)))","v":"00:00:42"},{"$error":"#N/A"},null,1900,false,false]
[487,"-",null,null,null,null,115.40041067761807,null,null,null,28,{"$f":"VLOOKUP(A488,'Chrono+Classement'!G:O,5,FALSE)","v":{"$error":"#N/A"}},{"$f":"VLOOKUP(A488,'Chrono+Classement'!G:O,9,FALSE)","v":{"$error":"#N/A"}},{"$f":"IF(K488=17,Param!G488,IF(K488=28,Param!H488,IF(K488=45,Param!I488)))","v":"00:00:42"},{"$error":"#N/A"},null,1900,false,false]
[488,"-",null,null,null,null,115.40041067761807,null,null,null,28,{"$f":"VLOOKUP(A489,'Chrono+Classement'!G:O,5,FALSE)","v":{"$error":"#N/A"}},{"$f":"VLOOKUP(A489,'Chrono+Classement'!G:O,9,FALSE)","v":{"$error":"#N/A"}},{"$f":"IF(K489=17,Param!G489,IF(K489=28,Param!H489,IF(K489=45,Param!I489)))","v":"00:00:42"},{"$error":"#N/A"},null,1900,false,false]
[489,"-",null,null,null,null,115.40041067761807,null,null,null,28,{"$f":"VLOOKUP(A490,'Chrono+Classement'!G:O,5,FALSE)","v":{"$error":"#N/A"}},{"$f":"VLOOKUP(A490,'Chrono+Classement'!G:O,9,FALSE)","v":{"$error":"#N/A"}},{"$f":"IF(K490=17,Param!G490,IF(K490=28,Param!H490,IF(K490=45,Param!I490)))","v":"00:00:42"},{"$error":"#N/A"},null,1900,false,false]
[490,"-",null,null,null,null,115.40041067761807,null,null,null,28,{"$f":"VLOOKUP(A491,'Chrono+Classement'!G:O,5,FALSE)","v":{"$error":"#N/A"}},{"$f":"VLOOKUP(A491,'Chrono+Classement'!G:O,9,FALSE)","v":{"$error":"#N/A"}},{"$f":"IF(K491=17,Param!G491,IF(K491=28,Param!H491,IF(K491=45,Param!I491)))","v":"00:00:42"},{"$error":"#N/A"},null,1900,false,false]
[491,"-",null,null,null,null,115.40041067761807,null,null,null,28,{"$f":"VLOOKUP(A492,'Chrono+Classement'!G:O,5,FALSE)","v":{"$error":"#N/A"}},{"$f":"VLOOKUP(A492,'Chrono+Classement'!G:O,9,FALSE)","v":{"$error":"#N/A"}},{"$f":"IF(K492=17,Param!G492,IF(K492=28,Param!H492,IF(K492=45,Param!I492)))","v":"00:00:42"},{"$error":"#N/A"},null,1900,false,false]
[492,"-",null,null,null,null,115.40041067761807,null,null,null,28,{"$f":"VLOOKUP(A493,'Chrono+Classement'!G:O,5,FALSE)","v":{"$error":"#N/A"}},{"$f":"VLOOKUP(A493,'Chrono+Classement'!G:O,9,FALSE)","v":{"$error":"#N/A"}},{"$f":"IF(K493=17,Param!G493,IF(K493=28,Param!H493,IF(K493=45,Param!I493)))","v":"00:00:42"},{"$error":"#N/A"},null,1900,false,false]
[493,"-",null,null,null,null,115.40041067761807,null,null,null,28,{"$f":"VLOOKUP(A494,'Chrono+Classement'!G:O,5,FALSE)","v":{"$error":"#N/A"}},{"$f":"VLOOKUP(A494,'Chrono+Classement'!G:O,9,FALSE)","v":{"$error":"#N/A"}},{"$f":"IF(K494=17,Param!G494,IF(K494=28,Param!H494,IF(K494=45,Param!I494)))","v":"00:00:42"},{"$error":"#N/A"},null,1900,false,false]
[494,"-",null,null,null,null,115.40041067761807,null,null,null,28,{"$f":"VLOOKUP(A495,'Chrono+Classement'!G:O,5,FALSE)","v":{"$error":"#N/A"}},{"$f":"VLOOKUP(A495,'Chrono+Classement'!G:O,9,FALSE)","v":{"$error":"#N/A"}},{"$f":"IF(K495=17,Param!G495,IF(K495=28,Param!H495,IF(K495=45,Param!I495)))","v":"00:00:42"},{"$error":"#N/A"},null,1900,false,false]
[495,"-",null,null,null,null,115.40041067761807,null,null,null,28,{"$f":"VLOOKUP(A496,'Chrono+Classement'!G:O,5,FALSE)","v":{"$error":"#N/A"}},{"$f":"VLOOKUP(A496,'Chrono+Classement'!G:O,9,FALSE)","v":{"$error":"#N/A"}},{"$f":"IF(K496=17,Param!G496,IF(K496=28,Param!H496,IF(K496=45,Param!I496)))","v":"00:00:42"},{"$error":"#N/A"},null,1900,false,false]
[496,"-",null,null,null,null,115.40041067761807,null,null,null,28,{"$f":"VLOOKUP(A497,'Chrono+Classement'!G:O,5,FALSE)","v":{"$error":"#N/A"}},{"$f":"VLOOKUP(A497,'Chrono+Classement'!G:O,9,FALSE)","v":{"$error":"#N/A"}},{"$f":"IF(K497=17,Param!G497,IF(K497=28,Param!H497,IF(K497=45,Param!I497)))","v":"00:00:42"},{"$error":"#N/A"},null,1900,false,false]
[497,"-",null,null,null,null,115.40041067761807,null,null,null,28,{"$f":"VLOOKUP(A498,'Chrono+Classement'!G:O,5,FALSE)","v":{"$error":"#N/A"}},{"$f":"VLOOKUP(A498,'Chrono+Classement'!G:O,9,FALSE)","v":{"$error":"#N/A"}},{"$f":"IF(K498=17,Param!G498,IF(K498=28,Param!H498,IF(K498=45,Param!I498)))","v":"00:00:42"},{"$error":"#N/A"},null,1900,false,false]
[498,"-",null,null,null,null,115.40041067761807,null,null,null,28,{"$f":"VLOOKUP(A499,'Chrono+Classement'!G:O,5,FALSE)","v":{"$error":"#N/A"}},{"$f":"VLOOKUP(A499,'Chrono+Classement'!G:O,9,FALSE)","v":{"$error":"#N/A"}},{"$f":"IF(K499=17,Param!G499,IF(K499=28,Param!H499,IF(K499=45,Param!I499)))","v":"00:00:42"},{"$error":"#N/A"},null,1900,false,false]
[499,"-",null,null,null,null,115.40041067761807,null,null,null,28,{"$f":"VLOOKUP(A500,'Chrono+Classement'!G:O,5,FALSE)","v":{"$error":"#N/A"}},{"$f":"VLOOKUP(A500,'Chrono+Classement'!G:O,9,FALSE)","v":{"$error":"#N/A"}},{"$f":"IF(K500=17,Param!G500,IF(K500=28,Param!H500,IF(K500=45,Param!I500)))","v":"00:00:42"},{"$error":"#N/A"},null,1900,false,false]
[500,"-",null,null,null,null,115.40041067761807,null,null,null,28,{"$f":"VLOOKUP(A501,'Chrono+Classement'!G:O,5,FALSE)","v":{"$error":"#N/A"}},{"$f":"VLOOKUP(A501,'Chrono+Classement'!G:O,9,FALSE)","v":{"$error":"#N/A"}},{"$f":"IF(K501=17,Param!G501,IF(K501=28,Param!H501,IF(K501=45,Param!I501)))","v":"00:00:42"},{"$error":"#N/A"},null,1900,false,false]
[501,"-",null,null,null,null,115.40041067761807,null,null,null,28,{"$f":"VLOOKUP(A502,'Chrono+Classement'!G:O,5,FALSE)","v":{"$error":"#N/A"}},{"$f":"VLOOKUP(A502,'Chrono+Classement'!G:O,9,FALSE)","v":{"$error":"#N/A"}},{"$f":"IF(K502=17,Param!G502,IF(K502=28,Param!H502,IF(K502=45,Param!I502)))","v":"00:00:42"},{"$error":"#N/A"},null,1900,false,false]
[502,"-",null,null,null,null,115.40041067761807,null,null,null,28,{"$f":"VLOOKUP(A503,'Chrono+Classement'!G:O,5,FALSE)","v":{"$error":"#N/A"}},{"$f":"VLOOKUP(A503,'Chrono+Classement'!G:O,9,FALSE)","v":{"$error":"#N/A"}},{"$f":"IF(K503=17,Param!G503,IF(K503=28,Param!H503,IF(K503=45,Param!I503)))","v":"00:00:42"},{"$error":"#N/A"},null,1900,false,false]
[503,"-",null,null,null,null,115.40041067761807,null,null,null,28,{"$f":"VLOOKUP(A504,'Chrono+Classement'!G:O,5,FALSE)","v":{"$error":"#N/A"}},{"$f":"VLOOKUP(A504,'Chrono+Classement'!G:O,9,FALSE)","v":{"$error":"#N/A"}},{"$f":"IF(K504=17,Param!G504,IF(K504=28,Param!H504,IF(K504=45,Param!I504)))","v":"00:00:42"},{"$error":"#N/A"},null,1900,false,false]
[504,"-",null,null,null,null,115.40041067761807,null,null,null,28,{"$f":"VLOOKUP(A505,'Chrono+Classement'!G:O,5,FALSE)","v":{"$error":"#N/A"}},{"$f":"VLOOKUP(A505,'Chrono+Classement'!G:O,9,FALSE)","v":{"$error":"#N/A"}},{"$f":"IF(K505=17,Param!G505,IF(K505=28,Param!H505,IF(K505=45,Param!I505)))","v":"00:00:42"},{"$error":"#N/A"},null,1900,false,false]
[505,"-",null,null,null,null,115.40041067761807,null,null,null,28,{"$f":"VLOOKUP(A506,'Chrono+Classement'!G:O,5,FALSE)","v":{"$error":"#N/A"}},{"$f":"VLOOKUP(A506,'Chrono+Classement'!G:O,9,FALSE)","v":{"$error":"#N/A"}},{"$f":"IF(K506=17,Param!G506,IF(K506=28,Param!H506,IF(K506=45,Param!I506)))","v":"00:00:42"},{"$error":"#N/A"},null,1900,false,false]
[506,"-",null,null,null,null,115.40041067761807,null,null,null,28,{"$f":"VLOOKUP(A507,'Chrono+Classement'!G:O,5,FALSE)","v":{"$error":"#N/A"}},{"$f":"VLOOKUP(A507,'Chrono+Classement'!G:O,9,FALSE)","v":{"$error":"#N/A"}},{"$f":"IF(K507=17,Param!G507,IF(K507=28,Param!H507,IF(K507=45,Param!I507)))","v":"00:00:42"},{"$error":"#N/A"},null,1900,false,false]
[507,"-",null,null,null,null,115.40041067761807,null,null,null,28,{"$f":"VLOOKUP(A508,'Chrono+Classement'!G:O,5,FALSE)","v":{"$error":"#N/A"}},{"$f":"VLOOKUP(A508,'Chrono+Classement'!G:O,9,FALSE)","v":{"$error":"#N/A"}},{"$f":"IF(K508=17,Param!G508,IF(K508=28,Param!H508,IF(K508=45,Param!I508)))","v":"00:00:42"},{"$error":"#N/A"},null,1900,false,false]
[508,"-",null,null,null,null,115.40041067761807,null,null,null,28,{"$f":"VLOOKUP(A509,'Chrono+Classement'!G:O,5,FALSE)","v":{"$error":"#N/A"}},{"$f":"VLOOKUP(A509,'Chrono+Classement'!G:O,9,FALSE)","v":{"$error":"#N/A"}},{"$f":"IF(K509=17,Param!G509,IF(K509=28,Param!H509,IF(K509=45,Param!I509)))","v":"00:00:42"},{"$error":"#N/A"},null,1900,false,false]
[509,"-",null,null,null,null,115.40041067761807,null,null,null,28,{"$f":"VLOOKUP(A510,'Chrono+Classement'!G:O,5,FALSE)","v":{"$error":"#N/A"}},{"$f":"VLOOKUP(A510,'Chrono+Classement'!G:O,9,FALSE)","v":{"$error":"#N/A"}},{"$f":"IF(K510=17,Param!G510,IF(K510=28,Param!H510,IF(K510=45,Param!I510)))","v":"00:00:42"},{"$error":"#N/A"},null,1900,false,false]
[510,"-",null,null,null,null,115.40041067761807,null,null,null,28,{"$f":"VLOOKUP(A511,'Chrono+Classement'!G:O,5,FALSE)","v":{"$error":"#N/A"}},{"$f":"VLOOKUP(A511,'Chrono+Classement'!G:O,9,FALSE)","v":{"$error":"#N/A"}},{"$f":"IF(K511=17,Param!G511,IF(K511=28,Param!H511,IF(K511=45,Param!I511)))","v":"00:00:42"},{"$error":"#N/A"},null,1900,false,false]
[511,"-",null,null,null,null,115.40041067761807,null,null,null,28,{"$f":"VLOOKUP(A512,'Chrono+Classement'!G:O,5,FALSE)","v":{"$error":"#N/A"}},{"$f":"VLOOKUP(A512,'Chrono+Classement'!G:O,9,FALSE)","v":{"$error":"#N/A"}},{"$f":"IF(K512=17,Param!G512,IF(K512=28,Param!H512,IF(K512=45,Param!I512)))","v":"00:00:42"},{"$error":"#N/A"},null,1900,false,false]
[512,"-",null,null,null,null,115.40041067761807,null,null,null,28,{"$f":"VLOOKUP(A513,'Chrono+Classement'!G:O,5,FALSE)","v":{"$error":"#N/A"}},{"$f":"VLOOKUP(A513,'Chrono+Classement'!G:O,9,FALSE)","v":{"$error":"#N/A"}},{"$f":"IF(K513=17,Param!G513,IF(K513=28,Param!H513,IF(K513=45,Param!I513)))","v":"00:00:42"},{"$error":"#N/A"},null,1900,false,false]
[513,{"$f":"CONCATENATE(C514,\"-\",D514)","v":"-"},null,null,null,null,{"$f":"(TODAY()-F514)/365.25","v":115.40041067761807},null,null,null,28,{"$f":"VLOOKUP(A514,'Chrono+Classement'!G:O,5,FALSE)","v":{"$error":"#N/A"}},{"$f":"VLOOKUP(A514,'Chrono+Classement'!G:O,9,FALSE)","v":{"$error":"#N/A"}},{"$f":"IF(K514=17,Param!G514,IF(K514=28,Param!H514,IF(K514=45,Param!I514)))","v":"00:00:42"},{"$error":"#N/A"},null,{"$f":"YEAR(F514)","v":1900},{"$f":"IF(E514=\"M\",IF(Q514<=1965,\"Masters 5\",IF(Q514<=1975,\"Masters 3/4\",IF(Q514<=1985,\"Masters 1/2\",IF(Q514<=1992,\"Hommes\",IF(Q514<=1996,\"Espoirs\",IF(Q514<=1998,\"Juniors\",IF(Q514<=2000,\"Cadets\",0))))))))","v":false},{"$f":"IF(E514=\"F\",IF(Q514<=1992,\"Dames\",IF(Q514<=1996,\"Espoirs Dames\",IF(Q514<=1998,\"Juniors Dames\",IF(Q514<=2000,\"Cadettes\",0)))))","v":false}]
[514,"-",null,null,null,null,115.40041067761807,null,null,null,28,{"$f":"VLOOKUP(A515,'Chrono+Classement'!G:O,5,FALSE)","v":{"$error":"#N/A"}},{"$f":"VLOOKUP(A515,'Chrono+Classement'!G:O,9,FALSE)","v":{"$error":"#N/A"}},{"$f":"IF(K515=17,Param!G515,IF(K515=28,Param!H515,IF(K515=45,Param!I515)))","v":"00:00:42"},{"$error":"#N/A"},null,1900,false,false]
[515,"-",null,null,null,null,115.40041067761807,null,null,null,28,{"$f":"VLOOKUP(A516,'Chrono+Classement'!G:O,5,FALSE)","v":{"$error":"#N/A"}},{"$f":"VLOOKUP(A516,'Chrono+Classement'!G:O,9,FALSE)","v":{"$error":"#N/A"}},{"$f":"IF(K516=17,Param!G516,IF(K516=28,Param!H516,IF(K516=45,Param!I516)))","v":"00:00:42"},{"$error":"#N/A"},null,1900,false,false]
[516,"-",null,null,null,null,115.40041067761807,null,null,null,28,{"$f":"VLOOKUP(A517,'Chrono+Classement'!G:O,5,FALSE)","v":{"$error":"#N/A"}},{"$f":"VLOOKUP(A517,'Chrono+Classement'!G:O,9,FALSE)","v":{"$error":"#N/A"}},{"$f":"IF(K517=17,Param!G517,IF(K517=28,Param!H517,IF(K517=45,Param!I517)))","v":"00:00:42"},{"$error":"#N/A"},null,1900,false,false]
[517,"-",null,null,null,null,115.40041067761807,null,null,null,28,{"$f":"VLOOKUP(A518,'Chrono+Classement'!G:O,5,FALSE)","v":{"$error":"#N/A"}},{"$f":"VLOOKUP(A518,'Chrono+Classement'!G:O,9,FALSE)","v":{"$error":"#N/A"}},{"$f":"IF(K518=17,Param!G518,IF(K518=28,Param!H518,IF(K518=45,Param!I518)))","v":"00:00:42"},{"$error":"#N/A"},null,1900,false,false]
[518,"-",null,null,null,null,115.40041067761807,null,null,null,28,{"$f":"VLOOKUP(A519,'Chrono+Classement'!G:O,5,FALSE)","v":{"$error":"#N/A"}},{"$f":"VLOOKUP(A519,'Chrono+Classement'!G:O,9,FALSE)","v":{"$error":"#N/A"}},{"$f":"IF(K519=17,Param!G519,IF(K519=28,Param!H519,IF(K519=45,Param!I519)))","v":"00:00:42"},{"$error":"#N/A"},null,1900,false,false]
[519,"-",null,null,null,null,115.40041067761807,null,null,null,28,{"$f":"VLOOKUP(A520,'Chrono+Classement'!G:O,5,FALSE)","v":{"$error":"#N/A"}},{"$f":"VLOOKUP(A520,'Chrono+Classement'!G:O,9,FALSE)","v":{"$error":"#N/A"}},{"$f":"IF(K520=17,Param!G520,IF(K520=28,Param!H520,IF(K520=45,Param!I520)))","v":"00:00:42"},{"$error":"#N/A"},null,1900,false,false]
[520,"-",null,null,null,null,115.40041067761807,null,null,null,28,{"$f":"VLOOKUP(A521,'Chrono+Classement'!G:O,5,FALSE)","v":{"$error":"#N/A"}},{"$f":"VLOOKUP(A521,'Chrono+Classement'!G:O,9,FALSE)","v":{"$error":"#N/A"}},{"$f":"IF(K521=17,Param!G521,IF(K521=28,Param!H521,IF(K521=45,Param!I521)))","v":"00:00:42"},{"$error":"#N/A"},null,1900,false,false]
[521,"-",null,null,null,null,115.40041067761807,null,null,null,28,{"$f":"VLOOKUP(A522,'Chrono+Classement'!G:O,5,FALSE)","v":{"$error":"#N/A"}},{"$f":"VLOOKUP(A522,'Chrono+Classement'!G:O,9,FALSE)","v":{"$error":"#N/A"}},{"$f":"IF(K522=17,Param!G522,IF(K522=28,Param!H522,IF(K522=45,Param!I522)))","v":"00:00:42"},{"$error":"#N/A"},null,1900,false,false]
[522,"-",null,null,null,null,115.40041067761807,null,null,null,28,{"$f":"VLOOKUP(A523,'Chrono+Classement'!G:O,5,FALSE)","v":{"$error":"#N/A"}},{"$f":"VLOOKUP(A523,'Chrono+Classement'!G:O,9,FALSE)","v":{"$error":"#N/A"}},{"$f":"IF(K523=17,Param!G523,IF(K523=28,Param!H523,IF(K523=45,Param!I523)))","v":"00:00:42"},{"$error":"#N/A"},null,1900,false,false]
[523,"-",null,null,null,null,115.40041067761807,null,null,null,28,{"$f":"VLOOKUP(A524,'Chrono+Classement'!G:O,5,FALSE)","v":{"$error":"#N/A"}},{"$f":"VLOOKUP(A524,'Chrono+Classement'!G:O,9,FALSE)","v":{"$error":"#N/A"}},{"$f":"IF(K524=17,Param!G524,IF(K524=28,Param!H524,IF(K524=45,Param!I524)))","v":"00:00:42"},{"$error":"#N/A"},null,1900,false,false]
[524,"-",null,null,null,null,115.40041067761807,null,null,null,28,{"$f":"VLOOKUP(A525,'Chrono+Classement'!G:O,5,FALSE)","v":{"$error":"#N/A"}},{"$f":"VLOOKUP(A525,'Chrono+Classement'!G:O,9,FALSE)","v":{"$error":"#N/A"}},{"$f":"IF(K525=17,Param!G525,IF(K525=28,Param!H525,IF(K525=45,Param!I525)))","v":"00:00:42"},{"$error":"#N/A"},null,1900,false,false]
[525,"-",null,null,null,null,115.40041067761807,null,null,null,28,{"$f":"VLOOKUP(A526,'Chrono+Classement'!G:O,5,FALSE)","v":{"$error":"#N/A"}},{"$f":"VLOOKUP(A526,'Chrono+Classement'!G:O,9,FALSE)","v":{"$error":"#N/A"}},{"$f":"IF(K526=17,Param!G526,IF(K526=28,Param!H526,IF(K526=45,Param!I526)))","v":"00:00:42"},{"$error":"#N/A"},null,1900,false,false]
[526,"-",null,null,null,null,115.40041067761807,null,null,null,28,{"$f":"VLOOKUP(A527,'Chrono+Classement'!G:O,5,FALSE)","v":{"$error":"#N/A"}},{"$f":"VLOOKUP(A527,'Chrono+Classement'!G:O,9,FALSE)","v":{"$error":"#N/A"}},{"$f":"IF(K527=17,Param!G527,IF(K527=28,Param!H527,IF(K527=45,Param!I527)))","v":"00:00:42"},{"$error":"#N/A"},null,1900,false,false]
[527,"-",null,null,null,null,115.40041067761807,null,null,null,28,{"$f":"VLOOKUP(A528,'Chrono+Classement'!G:O,5,FALSE)","v":{"$error":"#N/A"}},{"$f":"VLOOKUP(A528,'Chrono+Classement'!G:O,9,FALSE)","v":{"$error":"#N/A"}},{"$f":"IF(K528=17,Param!G528,IF(K528=28,Param!H528,IF(K528=45,Param!I528)))","v":"00:00:42"},{"$error":"#N/A"},null,1900,false,false]
[528,"-",null,null,null,null,115.40041067761807,null,null,null,28,{"$f":"VLOOKUP(A529,'Chrono+Classement'!G:O,5,FALSE)","v":{"$error":"#N/A"}},{"$f":"VLOOKUP(A529,'Chrono+Classement'!G:O,9,FALSE)","v":{"$error":"#N/A"}},{"$f":"IF(K529=17,Param!G529,IF(K529=28,Param!H529,IF(K529=45,Param!I529)))","v":"00:00:42"},{"$error":"#N/A"},null,1900,false,false]
[529,"-",null,null,null,null,115.40041067761807,null,null,null,28,{"$f":"VLOOKUP(A530,'Chrono+Classement'!G:O,5,FALSE)","v":{"$error":"#N/A"}},{"$f":"VLOOKUP(A530,'Chrono+Classement'!G:O,9,FALSE)","v":{"$error":"#N/A"}},{"$f":"IF(K530=17,Param!G530,IF(K530=28,Param!H530,IF(K530=45,Param!I530)))","v":"00:00:42"},{"$error":"#N/A"},null,1900,false,false]
[530,"-",null,null,null,null,115.40041067761807,null,null,null,28,{"$f":"VLOOKUP(A531,'Chrono+Classement'!G:O,5,FALSE)","v":{"$error":"#N/A"}},{"$f":"VLOOKUP(A531,'Chrono+Classement'!G:O,9,FALSE)","v":{"$error":"#N/A"}},{"$f":"IF(K531=17,Param!G531,IF(K531=28,Param!H531,IF(K531=45,Param!I531)))","v":"00:00:42"},{"$error":"#N/A"},null,1900,false,false]
[531,"-",null,null,null,null,115.40041067761807,null,null,null,28,{"$f":"VLOOKUP(A532,'Chrono+Classement'!G:O,5,FALSE)","v":{"$error":"#N/A"}},{"$f":"VLOOKUP(A532,'Chrono+Classement'!G:O,9,FALSE)","v":{"$error":"#N/A"}},{"$f":"IF(K532=17,Param!G532,IF(K532=28,Param!H532,IF(K532=45,Param!I532)))","v":"00:00:42"},{"$error":"#N/A"},null,1900,false,false]
[532,"-",null,null,null,null,115.40041067761807,null,null,null,28,{"$f":"VLOOKUP(A533,'Chrono+Classement'!G:O,5,FALSE)","v":{"$error":"#N/A"}},{"$f":"VLOOKUP(A533,'Chrono+Classement'!G:O,9,FALSE)","v":{"$error":"#N/A"}},{"$f":"IF(K533=17,Param!G533,IF(K533=28,Param!H533,IF(K533=45,Param!I533)))","v":"00:00:42"},{"$error":"#N/A"},null,1900,false,false]
[533,"-",null,null,null,null,115.40041067761807,null,null,null,28,{"$f":"VLOOKUP(A534,'Chrono+Classement'!G:O,5,FALSE)","v":{"$error":"#N/A"}},{"$f":"VLOOKUP(A534,'Chrono+Classement'!G:O,9,FALSE)","v":{"$error":"#N/A"}},{"$f":"IF(K534=17,Param!G534,IF(K534=28,Param!H534,IF(K534=45,Param!I534)))","v":"00:00:42"},{"$error":"#N/A"},null,1900,false,false]
[534,"-",null,null,null,null,115.40041067761807,null,null,null,28,{"$f":"VLOOKUP(A535,'Chrono+Classement'!G:O,5,FALSE)","v":{"$error":"#N/A"}},{"$f":"VLOOKUP(A535,'Chrono+Classement'!G:O,9,FALSE)","v":{"$error":"#N/A"}},{"$f":"IF(K535=17,Param!G535,IF(K535=28,Param!H535,IF(K535=45,Param!I535)))","v":"00:00:42"},{"$error":"#N/A"},null,1900,false,false]
[535,"-",null,null,null,null,115.40041067761807,null,null,null,28,{"$f":"VLOOKUP(A536,'Chrono+Classement'!G:O,5,FALSE)","v":{"$error":"#N/A"}},{"$f":"VLOOKUP(A536,'Chrono+Classement'!G:O,9,FALSE)","v":{"$error":"#N/A"}},{"$f":"IF(K536=17,Param!G536,IF(K536=28,Param!H536,IF(K536=45,Param!I536)))","v":"00:00:42"},{"$error":"#N/A"},null,1900,false,false]
[536,"-",null,null,null,null,115.40041067761807,null,null,null,28,{"$f":"VLOOKUP(A537,'Chrono+Classement'!G:O,5,FALSE)","v":{"$error":"#N/A"}},{"$f":"VLOOKUP(A537,'Chrono+Classement'!G:O,9,FALSE)","v":{"$error":"#N/A"}},{"$f":"IF(K537=17,Param!G537,IF(K537=28,Param!H537,IF(K537=45,Param!I537)))","v":"00:00:42"},{"$error":"#N/A"},null,1900,false,false]
[537,"-",null,null,null,null,115.40041067761807,null,null,null,28,{"$f":"VLOOKUP(A538,'Chrono+Classement'!G:O,5,FALSE)","v":{"$error":"#N/A"}},{"$f":"VLOOKUP(A538,'Chrono+Classement'!G:O,9,FALSE)","v":{"$error":"#N/A"}},{"$f":"IF(K538=17,Param!G538,IF(K538=28,Param!H538,IF(K538=45,Param!I538)))","v":"00:00:42"},{"$error":"#N/A"},null,1900,false,false]
[538,"-",null,null,null,null,115.40041067761807,null,null,null,28,{"$f":"VLOOKUP(A539,'Chrono+Classement'!G:O,5,FALSE)","v":{"$error":"#N/A"}},{"$f":"VLOOKUP(A539,'Chrono+Classement'!G:O,9,FALSE)","v":{"$error":"#N/A"}},{"$f":"IF(K539=17,Param!G539,IF(K539=28,Param!H539,IF(K539=45,Param!I539)))","v":"00:00:42"},{"$error":"#N/A"},null,1900,false,false]
[539,"-",null,null,null,null,115.40041067761807,null,null,null,28,{"$f":"VLOOKUP(A540,'Chrono+Classement'!G:O,5,FALSE)","v":{"$error":"#N/A"}},{"$f":"VLOOKUP(A540,'Chrono+Classement'!G:O,9,FALSE)","v":{"$error":"#N/A"}},{"$f":"IF(K540=17,Param!G540,IF(K540=28,Param!H540,IF(K540=45,Param!I540)))","v":"00:00:42"},{"$error":"#N/A"},null,1900,false,false]
[540,"-",null,null,null,null,115.40041067761807,null,null,null,28,{"$f":"VLOOKUP(A541,'Chrono+Classement'!G:O,5,FALSE)","v":{"$error":"#N/A"}},{"$f":"VLOOKUP(A541,'Chrono+Classement'!G:O,9,FALSE)","v":{"$error":"#N/A"}},{"$f":"IF(K541=17,Param!G541,IF(K541=28,Param!H541,IF(K541=45,Param!I541)))","v":"00:00:42"},{"$error":"#N/A"},null,1900,false,false]
[541,"-",null,null,null,null,115.40041067761807,null,null,null,28,{"$f":"VLOOKUP(A542,'Chrono+Classement'!G:O,5,FALSE)","v":{"$error":"#N/A"}},{"$f":"VLOOKUP(A542,'Chrono+Classement'!G:O,9,FALSE)","v":{"$error":"#N/A"}},{"$f":"IF(K542=17,Param!G542,IF(K542=28,Param!H542,IF(K542=45,Param!I542)))","v":"00:00:42"},{"$error":"#N/A"},null,1900,false,false]
[542,"-",null,null,null,null,115.40041067761807,null,null,null,28,{"$f":"VLOOKUP(A543,'Chrono+Classement'!G:O,5,FALSE)","v":{"$error":"#N/A"}},{"$f":"VLOOKUP(A543,'Chrono+Classement'!G:O,9,FALSE)","v":{"$error":"#N/A"}},{"$f":"IF(K543=17,Param!G543,IF(K543=28,Param!H543,IF(K543=45,Param!I543)))","v":"00:00:42"},{"$error":"#N/A"},null,1900,false,false]
[543,"-",null,null,null,null,115.40041067761807,null,null,null,28,{"$f":"VLOOKUP(A544,'Chrono+Classement'!G:O,5,FALSE)","v":{"$error":"#N/A"}},{"$f":"VLOOKUP(A544,'Chrono+Classement'!G:O,9,FALSE)","v":{"$error":"#N/A"}},{"$f":"IF(K544=17,Param!G544,IF(K544=28,Param!H544,IF(K544=45,Param!I544)))","v":"00:00:42"},{"$error":"#N/A"},null,1900,false,false]
[544,"-",null,null,null,null,115.40041067761807,null,null,null,28,{"$f":"VLOOKUP(A545,'Chrono+Classement'!G:O,5,FALSE)","v":{"$error":"#N/A"}},{"$f":"VLOOKUP(A545,'Chrono+Classement'!G:O,9,FALSE)","v":{"$error":"#N/A"}},{"$f":"IF(K545=17,Param!G545,IF(K545=28,Param!H545,IF(K545=45,Param!I545)))","v":"00:00:42"},{"$error":"#N/A"},null,1900,false,false]
[545,"-",null,null,null,null,115.40041067761807,null,null,null,28,{"$f":"VLOOKUP(A546,'Chrono+Classement'!G:O,5,FALSE)","v":{"$error":"#N/A"}},{"$f":"VLOOKUP(A546,'Chrono+Classement'!G:O,9,FALSE)","v":{"$error":"#N/A"}},{"$f":"IF(K546=17,Param!G546,IF(K546=28,Param!H546,IF(K546=45,Param!I546)))","v":"00:00:42"},{"$error":"#N/A"},null,1900,false,false]
[546,"-",null,null,null,null,115.40041067761807,null,null,null,28,{"$f":"VLOOKUP(A547,'Chrono+Classement'!G:O,5,FALSE)","v":{"$error":"#N/A"}},{"$f":"VLOOKUP(A547,'Chrono+Classement'!G:O,9,FALSE)","v":{"$error":"#N/A"}},{"$f":"IF(K547=17,Param!G547,IF(K547=28,Param!H547,IF(K547=45,Param!I547)))","v":"00:00:42"},{"$error":"#N/A"},null,1900,false,false]
[547,"-",null,null,null,null,115.40041067761807,null,null,null,28,{"$f":"VLOOKUP(A548,'Chrono+Classement'!G:O,5,FALSE)","v":{"$error":"#N/A"}},{"$f":"VLOOKUP(A548,'Chrono+Classement'!G:O,9,FALSE)","v":{"$error":"#N/A"}},{"$f":"IF(K548=17,Param!G548,IF(K548=28,Param!H548,IF(K548=45,Param!I548)))","v":"00:00:42"},{"$error":"#N/A"},null,1900,false,false]
[548,"-",null,null,null,null,115.40041067761807,null,null,null,28,{"$f":"VLOOKUP(A549,'Chrono+Classement'!G:O,5,FALSE)","v":{"$error":"#N/A"}},{"$f":"VLOOKUP(A549,'Chrono+Classement'!G:O,9,FALSE)","v":{"$error":"#N/A"}},{"$f":"IF(K549=17,Param!G549,IF(K549=28,Param!H549,IF(K549=45,Param!I549)))","v":"00:00:42"},{"$f":"M549-N549","v":{"$error":"#N/A"}},null,1900,false,false]
[549,"-",null,null,null,null,115.40041067761807,null,null,null,28,{"$f":"VLOOKUP(A550,'Chrono+Classement'!G:O,5,FALSE)","v":{"$error":"#N/A"}},{"$f":"VLOOKUP(A550,'Chrono+Classement'!G:O,9,FALSE)","v":{"$error":"#N/A"}},{"$f":"IF(K550=17,Param!G550,IF(K550=28,Param!H550,IF(K550=45,Param!I550)))","v":"00:00:42"},{"$error":"#N/A"},null,1900,false,false]
[550,"-",null,null,null,null,115.40041067761807,null,null,null,28,{"$f":"VLOOKUP(A551,'Chrono+Classement'!G:O,5,FALSE)","v":{"$error":"#N/A"}},{"$f":"VLOOKUP(A551,'Chrono+Classement'!G:O,9,FALSE)","v":{"$error":"#N/A"}},{"$f":"IF(K551=17,Param!G551,IF(K551=28,Param!H551,IF(K551=45,Param!I551)))","v":"00:00:42"},{"$error":"#N/A"},null,1900,false,false]
[551,"-",null,null,null,null,115.40041067761807,null,null,null,28,{"$f":"VLOOKUP(A552,'Chrono+Classement'!G:O,5,FALSE)","v":{"$error":"#N/A"}},{"$f":"VLOOKUP(A552,'Chrono+Classement'!G:O,9,FALSE)","v":{"$error":"#N/A"}},{"$f":"IF(K552=17,Param!G552,IF(K552=28,Param!H552,IF(K552=45,Param!I552)))","v":"00:00:42"},{"$error":"#N/A"},null,1900,false,false]
[552,"-",null,null,null,null,115.40041067761807,null,null,null,28,{"$f":"VLOOKUP(A553,'Chrono+Classement'!G:O,5,FALSE)","v":{"$error":"#N/A"}},{"$f":"VLOOKUP(A553,'Chrono+Classement'!G:O,9,FALSE)","v":{"$error":"#N/A"}},{"$f":"IF(K553=17,Param!G553,IF(K553=28,Param!H553,IF(K553=45,Param!I553)))","v":"00:00:42"},{"$error":"#N/A"},null,1900,false,false]
[553,"-",null,null,null,null,115.40041067761807,null,null,null,28,{"$f":"VLOOKUP(A554,'Chrono+Classement'!G:O,5,FALSE)","v":{"$error":"#N/A"}},{"$f":"VLOOKUP(A554,'Chrono+Classement'!G:O,9,FALSE)","v":{"$error":"#N/A"}},{"$f":"IF(K554=17,Param!G554,IF(K554=28,Param!H554,IF(K554=45,Param!I554)))","v":"00:00:42"},{"$error":"#N/A"},null,1900,false,false]
[554,"-",null,null,null,null,115.40041067761807,null,null,null,28,{"$f":"VLOOKUP(A555,'Chrono+Classement'!G:O,5,FALSE)","v":{"$error":"#N/A"}},{"$f":"VLOOKUP(A555,'Chrono+Classement'!G:O,9,FALSE)","v":{"$error":"#N/A"}},{"$f":"IF(K555=17,Param!G555,IF(K555=28,Param!H555,IF(K555=45,Param!I555)))","v":"00:00:42"},{"$error":"#N/A"},null,1900,false,false]
[555,"-",null,null,null,null,115.40041067761807,null,null,null,28,{"$f":"VLOOKUP(A556,'Chrono+Classement'!G:O,5,FALSE)","v":{"$error":"#N/A"}},{"$f":"VLOOKUP(A556,'Chrono+Classement'!G:O,9,FALSE)","v":{"$error":"#N/A"}},{"$f":"IF(K556=17,Param!G556,IF(K556=28,Param!H556,IF(K556=45,Param!I556)))","v":"00:00:42"},{"$error":"#N/A"},null,1900,false,false]
[556,"-",null,null,null,null,115.40041067761807,null,null,null,28,{"$f":"VLOOKUP(A557,'Chrono+Classement'!G:O,5,FALSE)","v":{"$error":"#N/A"}},{"$f":"VLOOKUP(A557,'Chrono+Classement'!G:O,9,FALSE)","v":{"$error":"#N/A"}},{"$f":"IF(K557=17,Param!G557,IF(K557=28,Param!H557,IF(K557=45,Param!I557)))","v":"00:00:42"},{"$error":"#N/A"},null,1900,false,false]
[557,"-",null,null,null,null,115.40041067761807,null,null,null,28,{"$f":"VLOOKUP(A558,'Chrono+Classement'!G:O,5,FALSE)","v":{"$error":"#N/A"}},{"$f":"VLOOKUP(A558,'Chrono+Classement'!G:O,9,FALSE)","v":{"$error":"#N/A"}},{"$f":"IF(K558=17,Param!G558,IF(K558=28,Param!H558,IF(K558=45,Param!I558)))","v":"00:00:42"},{"$error":"#N/A"},null,1900,false,false]
[558,"-",null,null,null,null,115.40041067761807,null,null,null,28,{"$f":"VLOOKUP(A559,'Chrono+Classement'!G:O,5,FALSE)","v":{"$error":"#N/A"}},{"$f":"VLOOKUP(A559,'Chrono+Classement'!G:O,9,FALSE)","v":{"$error":"#N/A"}},{"$f":"IF(K559=17,Param!G559,IF(K559=28,Param!H559,IF(K559=45,Param!I559)))","v":"00:00:42"},{"$error":"#N/A"},null,1900,false,false]
[559,"-",null,null,null,null,115.40041067761807,null,null,null,28,{"$f":"VLOOKUP(A560,'Chrono+Classement'!G:O,5,FALSE)","v":{"$error":"#N/A"}},{"$f":"VLOOKUP(A560,'Chrono+Classement'!G:O,9,FALSE)","v":{"$error":"#N/A"}},{"$f":"IF(K560=17,Param!G560,IF(K560=28,Param!H560,IF(K560=45,Param!I560)))","v":"00:00:42"},{"$error":"#N/A"},null,1900,false,false]
[560,"-",null,null,null,null,115.40041067761807,null,null,null,28,{"$f":"VLOOKUP(A561,'Chrono+Classement'!G:O,5,FALSE)","v":{"$error":"#N/A"}},{"$f":"VLOOKUP(A561,'Chrono+Classement'!G:O,9,FALSE)","v":{"$error":"#N/A"}},{"$f":"IF(K561=17,Param!G561,IF(K561=28,Param!H561,IF(K561=45,Param!I561)))","v":"00:00:42"},{"$error":"#N/A"},null,1900,false,false]
[561,"-",null,null,null,null,115.40041067761807,null,null,null,28,{"$f":"VLOOKUP(A562,'Chrono+Classement'!G:O,5,FALSE)","v":{"$error":"#N/A"}},{"$f":"VLOOKUP(A562,'Chrono+Classement'!G:O,9,FALSE)","v":{"$error":"#N/A"}},{"$f":"IF(K562=17,Param!G562,IF(K562=28,Param!H562,IF(K562=45,Param!I562)))","v":"00:00:42"},{"$error":"#N/A"},null,1900,false,false]
[562,"-",null,null,null,null,115.40041067761807,null,null,null,28,{"$f":"VLOOKUP(A563,'Chrono+Classement'!G:O,5,FALSE)","v":{"$error":"#N/A"}},{"$f":"VLOOKUP(A563,'Chrono+Classement'!G:O,9,FALSE)","v":{"$error":"#N/A"}},{"$f":"IF(K563=17,Param!G563,IF(K563=28,Param!H563,IF(K563=45,Param!I563)))","v":"00:00:42"},{"$error":"#N/A"},null,1900,false,false]
[563,"-",null,null,null,null,115.40041067761807,null,null,null,28,{"$f":"VLOOKUP(A564,'Chrono+Classement'!G:O,5,FALSE)","v":{"$error":"#N/A"}},{"$f":"VLOOKUP(A564,'Chrono+Classement'!G:O,9,FALSE)","v":{"$error":"#N/A"}},{"$f":"IF(K564=17,Param!G564,IF(K564=28,Param!H564,IF(K564=45,Param!I564)))","v":"00:00:42"},{"$error":"#N/A"},null,1900,false,false]
[564,"-",null,null,null,null,115.40041067761807,null,null,null,28,{"$f":"VLOOKUP(A565,'Chrono+Classement'!G:O,5,FALSE)","v":{"$error":"#N/A"}},{"$f":"VLOOKUP(A565,'Chrono+Classement'!G:O,9,FALSE)","v":{"$error":"#N/A"}},{"$f":"IF(K565=17,Param!G565,IF(K565=28,Param!H565,IF(K565=45,Param!I565)))","v":"00:00:42"},{"$error":"#N/A"},null,1900,false,false]
[565,"-",null,null,null,null,115.40041067761807,null,null,null,28,{"$f":"VLOOKUP(A566,'Chrono+Classement'!G:O,5,FALSE)","v":{"$error":"#N/A"}},{"$f":"VLOOKUP(A566,'Chrono+Classement'!G:O,9,FALSE)","v":{"$error":"#N/A"}},{"$f":"IF(K566=17,Param!G566,IF(K566=28,Param!H566,IF(K566=45,Param!I566)))","v":"00:00:42"},{"$error":"#N/A"},null,1900,false,false]
[566,"-",null,null,null,null,115.40041067761807,null,null,null,28,{"$f":"VLOOKUP(A567,'Chrono+Classement'!G:O,5,FALSE)","v":{"$error":"#N/A"}},{"$f":"VLOOKUP(A567,'Chrono+Classement'!G:O,9,FALSE)","v":{"$error":"#N/A"}},{"$f":"IF(K567=17,Param!G567,IF(K567=28,Param!H567,IF(K567=45,Param!I567)))","v":"00:00:42"},{"$error":"#N/A"},null,1900,false,false]
[567,"-",null,null,null,null,115.40041067761807,null,null,null,28,{"$f":"VLOOKUP(A568,'Chrono+Classement'!G:O,5,FALSE)","v":{"$error":"#N/A"}},{"$f":"VLOOKUP(A568,'Chrono+Classement'!G:O,9,FALSE)","v":{"$error":"#N/A"}},{"$f":"IF(K568=17,Param!G568,IF(K568=28,Param!H568,IF(K568=45,Param!I568)))","v":"00:00:42"},{"$error":"#N/A"},null,1900,false,false]
[568,"-",null,null,null,null,115.40041067761807,null,null,null,28,{"$f":"VLOOKUP(A569,'Chrono+Classement'!G:O,5,FALSE)","v":{"$error":"#N/A"}},{"$f":"VLOOKUP(A569,'Chrono+Classement'!G:O,9,FALSE)","v":{"$error":"#N/A"}},{"$f":"IF(K569=17,Param!G569,IF(K569=28,Param!H569,IF(K569=45,Param!I569)))","v":"00:00:42"},{"$error":"#N/A"},null,1900,false,false]
[569,"-",null,null,null,null,115.40041067761807,null,null,null,28,{"$f":"VLOOKUP(A570,'Chrono+Classement'!G:O,5,FALSE)","v":{"$error":"#N/A"}},{"$f":"VLOOKUP(A570,'Chrono+Classement'!G:O,9,FALSE)","v":{"$error":"#N/A"}},{"$f":"IF(K570=17,Param!G570,IF(K570=28,Param!H570,IF(K570=45,Param!I570)))","v":"00:00:42"},{"$error":"#N/A"},null,1900,false,false]
[570,"-",null,null,null,null,115.40041067761807,null,null,null,28,{"$f":"VLOOKUP(A571,'Chrono+Classement'!G:O,5,FALSE)","v":{"$error":"#N/A"}},{"$f":"VLOOKUP(A571,'Chrono+Classement'!G:O,9,FALSE)","v":{"$error":"#N/A"}},{"$f":"IF(K571=17,Param!G571,IF(K571=28,Param!H571,IF(K571=45,Param!I571)))","v":"00:00:42"},{"$error":"#N/A"},null,1900,false,false]
[571,"-",null,null,null,null,115.40041067761807,null,null,null,28,{"$f":"VLOOKUP(A572,'Chrono+Classement'!G:O,5,FALSE)","v":{"$error":"#N/A"}},{"$f":"VLOOKUP(A572,'Chrono+Classement'!G:O,9,FALSE)","v":{"$error":"#N/A"}},{"$f":"IF(K572=17,Param!G572,IF(K572=28,Param!H572,IF(K572=45,Param!I572)))","v":"00:00:42"},{"$error":"#N/A"},null,1900,false,false]
[572,"-",null,null,null,null,115.40041067761807,null,null,null,28,{"$f":"VLOOKUP(A573,'Chrono+Classement'!G:O,5,FALSE)","v":{"$error":"#N/A"}},{"$f":"VLOOKUP(A573,'Chrono+Classement'!G:O,9,FALSE)","v":{"$error":"#N/A"}},{"$f":"IF(K573=17,Param!G573,IF(K573=28,Param!H573,IF(K573=45,Param!I573)))","v":"00:00:42"},{"$error":"#N/A"},null,1900,false,false]
[573,"-",null,null,null,null,115.40041067761807,null,null,null,28,{"$f":"VLOOKUP(A574,'Chrono+Classement'!G:O,5,FALSE)","v":{"$error":"#N/A"}},{"$f":"VLOOKUP(A574,'Chrono+Classement'!G:O,9,FALSE)","v":{"$error":"#N/A"}},{"$f":"IF(K574=17,Param!G574,IF(K574=28,Param!H574,IF(K574=45,Param!I574)))","v":"00:00:42"},{"$error":"#N/A"},null,1900,false,false]
[574,"-",null,null,null,null,115.40041067761807,null,null,null,28,{"$f":"VLOOKUP(A575,'Chrono+Classement'!G:O,5,FALSE)","v":{"$error":"#N/A"}},{"$f":"VLOOKUP(A575,'Chrono+Classement'!G:O,9,FALSE)","v":{"$error":"#N/A"}},{"$f":"IF(K575=17,Param!G575,IF(K575=28,Param!H575,IF(K575=45,Param!I575)))","v":"00:00:42"},{"$error":"#N/A"},null,1900,false,false]
[575,"-",null,null,null,null,115.40041067761807,null,null,null,28,{"$f":"VLOOKUP(A576,'Chrono+Classement'!G:O,5,FALSE)","v":{"$error":"#N/A"}},{"$f":"VLOOKUP(A576,'Chrono+Classement'!G:O,9,FALSE)","v":{"$error":"#N/A"}},{"$f":"IF(K576=17,Param!G576,IF(K576=28,Param!H576,IF(K576=45,Param!I576)))","v":"00:00:42"},{"$error":"#N/A"},null,1900,false,false]
[576,"-",null,null,null,null,115.40041067761807,null,null,null,28,{"$f":"VLOOKUP(A577,'Chrono+Classement'!G:O,5,FALSE)","v":{"$error":"#N/A"}},{"$f":"VLOOKUP(A577,'Chrono+Classement'!G:O,9,FALSE)","v":{"$error":"#N/A"}},{"$f":"IF(K577=17,Param!G577,IF(K577=28,Param!H577,IF(K577=45,Param!I577)))","v":"00:00:42"},{"$error":"#N/A"},null,1900,false,false]
[577,{"$f":"CONCATENATE(C578,\"-\",D578)","v":"-"},null,null,null,null,{"$f":"(TODAY()-F578)/365.25","v":115.40041067761807},null,null,null,28,{"$f":"VLOOKUP(A578,'Chrono+Classement'!G:O,5,FALSE)","v":{"$error":"#N/A"}},{"$f":"VLOOKUP(A578,'Chrono+Classement'!G:O,9,FALSE)","v":{"$error":"#N/A"}},{"$f":"IF(K578=17,Param!G578,IF(K578=28,Param!H578,IF(K578=45,Param!I578)))","v":"00:00:42"},{"$error":"#N/A"},null,{"$f":"YEAR(F578)","v":1900},{"$f":"IF(E578=\"M\",IF(Q578<=1965,\"Masters 5\",IF(Q578<=1975,\"Masters 3/4\",IF(Q578<=1985,\"Masters 1/2\",IF(Q578<=1992,\"Hommes\",IF(Q578<=1996,\"Espoirs\",IF(Q578<=1998,\"Juniors\",IF(Q578<=2000,\"Cadets\",0))))))))","v":false},{"$f":"IF(E578=\"F\",IF(Q578<=1992,\"Dames\",IF(Q578<=1996,\"Espoirs Dames\",IF(Q578<=1998,\"Juniors Dames\",IF(Q578<=2000,\"Cadettes\",0)))))","v":false}]
[578,"-",null,null,null,null,115.40041067761807,null,null,null,28,{"$f":"VLOOKUP(A579,'Chrono+Classement'!G:O,5,FALSE)","v":{"$error":"#N/A"}},{"$f":"VLOOKUP(A579,'Chrono+Classement'!G:O,9,FALSE)","v":{"$error":"#N/A"}},{"$f":"IF(K579=17,Param!G579,IF(K579=28,Param!H579,IF(K579=45,Param!I579)))","v":"00:00:42"},{"$error":"#N/A"},null,1900,false,false]
[579,"-",null,null,null,null,115.40041067761807,null,null,null,28,{"$f":"VLOOKUP(A580,'Chrono+Classement'!G:O,5,FALSE)","v":{"$error":"#N/A"}},{"$f":"VLOOKUP(A580,'Chrono+Classement'!G:O,9,FALSE)","v":{"$error":"#N/A"}},{"$f":"IF(K580=17,Param!G580,IF(K580=28,Param!H580,IF(K580=45,Param!I580)))","v":"00:00:42"},{"$error":"#N/A"},null,1900,false,false]
[580,"-",null,null,null,null,115.40041067761807,null,null,null,28,{"$f":"VLOOKUP(A581,'Chrono+Classement'!G:O,5,FALSE)","v":{"$error":"#N/A"}},{"$f":"VLOOKUP(A581,'Chrono+Classement'!G:O,9,FALSE)","v":{"$error":"#N/A"}},{"$f":"IF(K581=17,Param!G581,IF(K581=28,Param!H581,IF(K581=45,Param!I581)))","v":"00:00:42"},{"$error":"#N/A"},null,1900,false,false]
[581,"-",null,null,null,null,115.40041067761807,null,null,null,28,{"$f":"VLOOKUP(A582,'Chrono+Classement'!G:O,5,FALSE)","v":{"$error":"#N/A"}},{"$f":"VLOOKUP(A582,'Chrono+Classement'!G:O,9,FALSE)","v":{"$error":"#N/A"}},{"$f":"IF(K582=17,Param!G582,IF(K582=28,Param!H582,IF(K582=45,Param!I582)))","v":"00:00:42"},{"$error":"#N/A"},null,1900,false,false]
[582,"-",null,null,null,null,115.40041067761807,null,null,null,28,{"$f":"VLOOKUP(A583,'Chrono+Classement'!G:O,5,FALSE)","v":{"$error":"#N/A"}},{"$f":"VLOOKUP(A583,'Chrono+Classement'!G:O,9,FALSE)","v":{"$error":"#N/A"}},{"$f":"IF(K583=17,Param!G583,IF(K583=28,Param!H583,IF(K583=45,Param!I583)))","v":"00:00:42"},{"$error":"#N/A"},null,1900,false,false]
[583,"-",null,null,null,null,115.40041067761807,null,null,null,28,{"$f":"VLOOKUP(A584,'Chrono+Classement'!G:O,5,FALSE)","v":{"$error":"#N/A"}},{"$f":"VLOOKUP(A584,'Chrono+Classement'!G:O,9,FALSE)","v":{"$error":"#N/A"}},{"$f":"IF(K584=17,Param!G584,IF(K584=28,Param!H584,IF(K584=45,Param!I584)))","v":"00:00:42"},{"$error":"#N/A"},null,1900,false,false]
[584,"-",null,null,null,null,115.40041067761807,null,null,null,28,{"$f":"VLOOKUP(A585,'Chrono+Classement'!G:O,5,FALSE)","v":{"$error":"#N/A"}},{"$f":"VLOOKUP(A585,'Chrono+Classement'!G:O,9,FALSE)","v":{"$error":"#N/A"}},{"$f":"IF(K585=17,Param!G585,IF(K585=28,Param!H585,IF(K585=45,Param!I585)))","v":"00:00:42"},{"$error":"#N/A"},null,1900,false,false]
[585,"-",null,null,null,null,115.40041067761807,null,null,null,28,{"$f":"VLOOKUP(A586,'Chrono+Classement'!G:O,5,FALSE)","v":{"$error":"#N/A"}},{"$f":"VLOOKUP(A586,'Chrono+Classement'!G:O,9,FALSE)","v":{"$error":"#N/A"}},{"$f":"IF(K586=17,Param!G586,IF(K586=28,Param!H586,IF(K586=45,Param!I586)))","v":"00:00:42"},{"$error":"#N/A"},null,1900,false,false]
[586,"-",null,null,null,null,115.40041067761807,null,null,null,28,{"$f":"VLOOKUP(A587,'Chrono+Classement'!G:O,5,FALSE)","v":{"$error":"#N/A"}},{"$f":"VLOOKUP(A587,'Chrono+Classement'!G:O,9,FALSE)","v":{"$error":"#N/A"}},{"$f":"IF(K587=17,Param!G587,IF(K587=28,Param!H587,IF(K587=45,Param!I587)))","v":"00:00:42"},{"$error":"#N/A"},null,1900,false,false]
[587,"-",null,null,null,null,115.40041067761807,null,null,null,28,{"$f":"VLOOKUP(A588,'Chrono+Classement'!G:O,5,FALSE)","v":{"$error":"#N/A"}},{"$f":"VLOOKUP(A588,'Chrono+Classement'!G:O,9,FALSE)","v":{"$error":"#N/A"}},{"$f":"IF(K588=17,Param!G588,IF(K588=28,Param!H588,IF(K588=45,Param!I588)))","v":"00:00:42"},{"$error":"#N/A"},null,1900,false,false]
[588,"-",null,null,null,null,115.40041067761807,null,null,null,28,{"$f":"VLOOKUP(A589,'Chrono+Classement'!G:O,5,FALSE)","v":{"$error":"#N/A"}},{"$f":"VLOOKUP(A589,'Chrono+Classement'!G:O,9,FALSE)","v":{"$error":"#N/A"}},{"$f":"IF(K589=17,Param!G589,IF(K589=28,Param!H589,IF(K589=45,Param!I589)))","v":"00:00:42"},{"$error":"#N/A"},null,1900,false,false]
[589,"-",null,null,null,null,115.40041067761807,null,null,null,28,{"$f":"VLOOKUP(A590,'Chrono+Classement'!G:O,5,FALSE)","v":{"$error":"#N/A"}},{"$f":"VLOOKUP(A590,'Chrono+Classement'!G:O,9,FALSE)","v":{"$error":"#N/A"}},{"$f":"IF(K590=17,Param!G590,IF(K590=28,Param!H590,IF(K590=45,Param!I590)))","v":"00:00:42"},{"$error":"#N/A"},null,1900,false,false]
[590,"-",null,null,null,null,115.40041067761807,null,null,null,28,{"$f":"VLOOKUP(A591,'Chrono+Classement'!G:O,5,FALSE)","v":{"$error":"#N/A"}},{"$f":"VLOOKUP(A591,'Chrono+Classement'!G:O,9,FALSE)","v":{"$error":"#N/A"}},{"$f":"IF(K591=17,Param!G591,IF(K591=28,Param!H591,IF(K591=45,Param!I591)))","v":"00:00:42"},{"$error":"#N/A"},null,1900,false,false]
[591,"-",null,null,null,null,115.40041067761807,null,null,null,28,{"$f":"VLOOKUP(A592,'Chrono+Classement'!G:O,5,FALSE)","v":{"$error":"#N/A"}},{"$f":"VLOOKUP(A592,'Chrono+Classement'!G:O,9,FALSE)","v":{"$error":"#N/A"}},{"$f":"IF(K592=17,Param!G592,IF(K592=28,Param!H592,IF(K592=45,Param!I592)))","v":"00:00:42"},{"$error":"#N/A"},null,1900,false,false]
[592,"-",null,null,null,null,115.40041067761807,null,null,null,28,{"$f":"VLOOKUP(A593,'Chrono+Classement'!G:O,5,FALSE)","v":{"$error":"#N/A"}},{"$f":"VLOOKUP(A593,'Chrono+Classement'!G:O,9,FALSE)","v":{"$error":"#N/A"}},{"$f":"IF(K593=17,Param!G593,IF(K593=28,Param!H593,IF(K593=45,Param!I593)))","v":"00:00:42"},{"$error":"#N/A"},null,1900,false,false]
[593,"-",null,null,null,null,115.40041067761807,null,null,null,28,{"$f":"VLOOKUP(A594,'Chrono+Classement'!G:O,5,FALSE)","v":{"$error":"#N/A"}},{"$f":"VLOOKUP(A594,'Chrono+Classement'!G:O,9,FALSE)","v":{"$error":"#N/A"}},{"$f":"IF(K594=17,Param!G594,IF(K594=28,Param!H594,IF(K594=45,Param!I594)))","v":"00:00:42"},{"$error":"#N/A"},null,1900,false,false]
[594,"-",null,null,null,null,115.40041067761807,null,null,null,28,{"$f":"VLOOKUP(A595,'Chrono+Classement'!G:O,5,FALSE)","v":{"$error":"#N/A"}},{"$f":"VLOOKUP(A595,'Chrono+Classement'!G:O,9,FALSE)","v":{"$error":"#N/A"}},{"$f":"IF(K595=17,Param!G595,IF(K595=28,Param!H595,IF(K595=45,Param!I595)))","v":"00:00:42"},{"$error":"#N/A"},null,1900,false,false]
[595,"-",null,null,null,null,115.40041067761807,null,null,null,28,{"$f":"VLOOKUP(A596,'Chrono+Classement'!G:O,5,FALSE)","v":{"$error":"#N/A"}},{"$f":"VLOOKUP(A596,'Chrono+Classement'!G:O,9,FALSE)","v":{"$error":"#N/A"}},{"$f":"IF(K596=17,Param!G596,IF(K596=28,Param!H596,IF(K596=45,Param!I596)))","v":"00:00:42"},{"$error":"#N/A"},null,1900,false,false]
[596,"-",null,null,null,null,115.40041067761807,null,null,null,28,{"$f":"VLOOKUP(A597,'Chrono+Classement'!G:O,5,FALSE)","v":{"$error":"#N/A"}},{"$f":"VLOOKUP(A597,'Chrono+Classement'!G:O,9,FALSE)","v":{"$error":"#N/A"}},{"$f":"IF(K597=17,Param!G597,IF(K597=28,Param!H597,IF(K597=45,Param!I597)))","v":"00:00:42"},{"$error":"#N/A"},null,1900,false,false]
[597,"-",null,null,null,null,115.40041067761807,null,null,null,28,{"$f":"VLOOKUP(A598,'Chrono+Classement'!G:O,5,FALSE)","v":{"$error":"#N/A"}},{"$f":"VLOOKUP(A598,'Chrono+Classement'!G:O,9,FALSE)","v":{"$error":"#N/A"}},{"$f":"IF(K598=17,Param!G598,IF(K598=28,Param!H598,IF(K598=45,Param!I598)))","v":"00:00:42"},{"$error":"#N/A"},null,1900,false,false]
[598,"-",null,null,null,null,115.40041067761807,null,null,null,28,{"$f":"VLOOKUP(A599,'Chrono+Classement'!G:O,5,FALSE)","v":{"$error":"#N/A"}},{"$f":"VLOOKUP(A599,'Chrono+Classement'!G:O,9,FALSE)","v":{"$error":"#N/A"}},{"$f":"IF(K599=17,Param!G599,IF(K599=28,Param!H599,IF(K599=45,Param!I599)))","v":"00:00:42"},{"$error":"#N/A"},null,1900,false,false]
[599,"-",null,null,null,null,115.40041067761807,null,null,null,28,{"$f":"VLOOKUP(A600,'Chrono+Classement'!G:O,5,FALSE)","v":{"$error":"#N/A"}},{"$f":"VLOOKUP(A600,'Chrono+Classement'!G:O,9,FALSE)","v":{"$error":"#N/A"}},{"$f":"IF(K600=17,Param!G600,IF(K600=28,Param!H600,IF(K600=45,Param!I600)))","v":"00:00:42"},{"$error":"#N/A"},null,1900,false,false]
[600,"-",null,null,null,null,115.40041067761807,null,null,null,28,{"$f":"VLOOKUP(A601,'Chrono+Classement'!G:O,5,FALSE)","v":{"$error":"#N/A"}},{"$f":"VLOOKUP(A601,'Chrono+Classement'!G:O,9,FALSE)","v":{"$error":"#N/A"}},{"$f":"IF(K601=17,Param!G601,IF(K601=28,Param!H601,IF(K601=45,Param!I601)))","v":"00:00:42"},{"$error":"#N/A"},null,1900,false,false]
[601,"-",null,null,null,null,115.40041067761807,null,null,null,28,{"$f":"VLOOKUP(A602,'Chrono+Classement'!G:O,5,FALSE)","v":{"$error":"#N/A"}},{"$f":"VLOOKUP(A602,'Chrono+Classement'!G:O,9,FALSE)","v":{"$error":"#N/A"}},{"$f":"IF(K602=17,Param!G602,IF(K602=28,Param!H602,IF(K602=45,Param!I602)))","v":"00:00:42"},{"$error":"#N/A"},null,1900,false,false]
[602,"-",null,null,null,null,115.40041067761807,null,null,null,28,{"$f":"VLOOKUP(A603,'Chrono+Classement'!G:O,5,FALSE)","v":{"$error":"#N/A"}},{"$f":"VLOOKUP(A603,'Chrono+Classement'!G:O,9,FALSE)","v":{"$error":"#N/A"}},{"$f":"IF(K603=17,Param!G603,IF(K603=28,Param!H603,IF(K603=45,Param!I603)))","v":"00:00:42"},{"$error":"#N/A"},null,1900,false,false]
[603,"-",null,null,null,null,115.40041067761807,null,null,null,28,{"$f":"VLOOKUP(A604,'Chrono+Classement'!G:O,5,FALSE)","v":{"$error":"#N/A"}},{"$f":"VLOOKUP(A604,'Chrono+Classement'!G:O,9,FALSE)","v":{"$error":"#N/A"}},{"$f":"IF(K604=17,Param!G604,IF(K604=28,Param!H604,IF(K604=45,Param!I604)))","v":"00:00:42"},{"$error":"#N/A"},null,1900,false,false]
[604,"-",null,null,null,null,115.40041067761807,null,null,null,28,{"$f":"VLOOKUP(A605,'Chrono+Classement'!G:O,5,FALSE)","v":{"$error":"#N/A"}},{"$f":"VLOOKUP(A605,'Chrono+Classement'!G:O,9,FALSE)","v":{"$error":"#N/A"}},{"$f":"IF(K605=17,Param!G605,IF(K605=28,Param!H605,IF(K605=45,Param!I605)))","v":"00:00:42"},{"$error":"#N/A"},null,1900,false,false]
[605,"-",null,null,null,null,115.40041067761807,null,null,null,28,{"$f":"VLOOKUP(A606,'Chrono+Classement'!G:O,5,FALSE)","v":{"$error":"#N/A"}},{"$f":"VLOOKUP(A606,'Chrono+Classement'!G:O,9,FALSE)","v":{"$error":"#N/A"}},{"$f":"IF(K606=17,Param!G606,IF(K606=28,Param!H606,IF(K606=45,Param!I606)))","v":"00:00:42"},{"$error":"#N/A"},null,1900,false,false]
[606,"-",null,null,null,null,115.40041067761807,null,null,null,28,{"$f":"VLOOKUP(A607,'Chrono+Classement'!G:O,5,FALSE)","v":{"$error":"#N/A"}},{"$f":"VLOOKUP(A607,'Chrono+Classement'!G:O,9,FALSE)","v":{"$error":"#N/A"}},{"$f":"IF(K607=17,Param!G607,IF(K607=28,Param!H607,IF(K607=45,Param!I607)))","v":"00:00:42"},{"$error":"#N/A"},null,1900,false,false]
[607,"-",null,null,null,null,115.40041067761807,null,null,null,28,{"$f":"VLOOKUP(A608,'Chrono+Classement'!G:O,5,FALSE)","v":{"$error":"#N/A"}},{"$f":"VLOOKUP(A608,'Chrono+Classement'!G:O,9,FALSE)","v":{"$error":"#N/A"}},{"$f":"IF(K608=17,Param!G608,IF(K608=28,Param!H608,IF(K608=45,Param!I608)))","v":"00:00:42"},{"$error":"#N/A"},null,1900,false,false]
[608,"-",null,null,null,null,115.40041067761807,null,null,null,28,{"$f":"VLOOKUP(A609,'Chrono+Classement'!G:O,5,FALSE)","v":{"$error":"#N/A"}},{"$f":"VLOOKUP(A609,'Chrono+Classement'!G:O,9,FALSE)","v":{"$error":"#N/A"}},{"$f":"IF(K609=17,Param!G609,IF(K609=28,Param!H609,IF(K609=45,Param!I609)))","v":"00:00:42"},{"$error":"#N/A"},null,1900,false,false]
[609,"-",null,null,null,null,115.40041067761807,null,null,null,28,{"$f":"VLOOKUP(A610,'Chrono+Classement'!G:O,5,FALSE)","v":{"$error":"#N/A"}},{"$f":"VLOOKUP(A610,'Chrono+Classement'!G:O,9,FALSE)","v":{"$error":"#N/A"}},{"$f":"IF(K610=17,Param!G610,IF(K610=28,Param!H610,IF(K610=45,Param!I610)))","v":"00:00:42"},{"$error":"#N/A"},null,1900,false,false]
[610,"-",null,null,null,null,115.40041067761807,null,null,null,28,{"$f":"VLOOKUP(A611,'Chrono+Classement'!G:O,5,FALSE)","v":{"$error":"#N/A"}},{"$f":"VLOOKUP(A611,'Chrono+Classement'!G:O,9,FALSE)","v":{"$error":"#N/A"}},{"$f":"IF(K611=17,Param!G611,IF(K611=28,Param!H611,IF(K611=45,Param!I611)))","v":"00:00:42"},{"$error":"#N/A"},null,1900,false,false]
[611,"-",null,null,null,null,115.40041067761807,null,null,null,28,{"$f":"VLOOKUP(A612,'Chrono+Classement'!G:O,5,FALSE)","v":{"$error":"#N/A"}},{"$f":"VLOOKUP(A612,'Chrono+Classement'!G:O,9,FALSE)","v":{"$error":"#N/A"}},{"$f":"IF(K612=17,Param!G612,IF(K612=28,Param!H612,IF(K612=45,Param!I612)))","v":"00:00:42"},{"$error":"#N/A"},null,1900,false,false]
[612,"-",null,null,null,null,115.40041067761807,null,null,null,28,{"$f":"VLOOKUP(A613,'Chrono+Classement'!G:O,5,FALSE)","v":{"$error":"#N/A"}},{"$f":"VLOOKUP(A613,'Chrono+Classement'!G:O,9,FALSE)","v":{"$error":"#N/A"}},{"$f":"IF(K613=17,Param!G613,IF(K613=28,Param!H613,IF(K613=45,Param!I613)))","v":"00:00:42"},{"$f":"M613-N613","v":{"$error":"#N/A"}},null,1900,false,false]
[613,"-",null,null,null,null,115.40041067761807,null,null,null,28,{"$f":"VLOOKUP(A614,'Chrono+Classement'!G:O,5,FALSE)","v":{"$error":"#N/A"}},{"$f":"VLOOKUP(A614,'Chrono+Classement'!G:O,9,FALSE)","v":{"$error":"#N/A"}},{"$f":"IF(K614=17,Param!G614,IF(K614=28,Param!H614,IF(K614=45,Param!I614)))","v":"00:00:42"},{"$error":"#N/A"},null,1900,false,false]
[614,"-",null,null,null,null,115.40041067761807,null,null,null,28,{"$f":"VLOOKUP(A615,'Chrono+Classement'!G:O,5,FALSE)","v":{"$error":"#N/A"}},{"$f":"VLOOKUP(A615,'Chrono+Classement'!G:O,9,FALSE)","v":{"$error":"#N/A"}},{"$f":"IF(K615=17,Param!G615,IF(K615=28,Param!H615,IF(K615=45,Param!I615)))","v":"00:00:42"},{"$error":"#N/A"},null,1900,false,false]
[615,"-",null,null,null,null,115.40041067761807,null,null,null,28,{"$f":"VLOOKUP(A616,'Chrono+Classement'!G:O,5,FALSE)","v":{"$error":"#N/A"}},{"$f":"VLOOKUP(A616,'Chrono+Classement'!G:O,9,FALSE)","v":{"$error":"#N/A"}},{"$f":"IF(K616=17,Param!G616,IF(K616=28,Param!H616,IF(K616=45,Param!I616)))","v":"00:00:42"},{"$error":"#N/A"},null,1900,false,false]
[616,"-",null,null,null,null,115.40041067761807,null,null,null,28,{"$f":"VLOOKUP(A617,'Chrono+Classement'!G:O,5,FALSE)","v":{"$error":"#N/A"}},{"$f":"VLOOKUP(A617,'Chrono+Classement'!G:O,9,FALSE)","v":{"$error":"#N/A"}},{"$f":"IF(K617=17,Param!G617,IF(K617=28,Param!H617,IF(K617=45,Param!I617)))","v":"00:00:42"},{"$error":"#N/A"},null,1900,false,false]
[617,"-",null,null,null,null,115.40041067761807,null,null,null,28,{"$f":"VLOOKUP(A618,'Chrono+Classement'!G:O,5,FALSE)","v":{"$error":"#N/A"}},{"$f":"VLOOKUP(A618,'Chrono+Classement'!G:O,9,FALSE)","v":{"$error":"#N/A"}},{"$f":"IF(K618=17,Param!G618,IF(K618=28,Param!H618,IF(K618=45,Param!I618)))","v":"00:00:42"},{"$error":"#N/A"},null,1900,false,false]
[618,"-",null,null,null,null,115.40041067761807,null,null,null,28,{"$f":"VLOOKUP(A619,'Chrono+Classement'!G:O,5,FALSE)","v":{"$error":"#N/A"}},{"$f":"VLOOKUP(A619,'Chrono+Classement'!G:O,9,FALSE)","v":{"$error":"#N/A"}},{"$f":"IF(K619=17,Param!G619,IF(K619=28,Param!H619,IF(K619=45,Param!I619)))","v":"00:00:42"},{"$error":"#N/A"},null,1900,false,false]
[619,"-",null,null,null,null,115.40041067761807,null,null,null,28,{"$f":"VLOOKUP(A620,'Chrono+Classement'!G:O,5,FALSE)","v":{"$error":"#N/A"}},{"$f":"VLOOKUP(A620,'Chrono+Classement'!G:O,9,FALSE)","v":{"$error":"#N/A"}},{"$f":"IF(K620=17,Param!G620,IF(K620=28,Param!H620,IF(K620=45,Param!I620)))","v":"00:00:42"},{"$error":"#N/A"},null,1900,false,false]
[620,"-",null,null,null,null,115.40041067761807,null,null,null,28,{"$f":"VLOOKUP(A621,'Chrono+Classement'!G:O,5,FALSE)","v":{"$error":"#N/A"}},{"$f":"VLOOKUP(A621,'Chrono+Classement'!G:O,9,FALSE)","v":{"$error":"#N/A"}},{"$f":"IF(K621=17,Param!G621,IF(K621=28,Param!H621,IF(K621=45,Param!I621)))","v":"00:00:42"},{"$error":"#N/A"},null,1900,false,false]
[621,"-",null,null,null,null,115.40041067761807,null,null,null,28,{"$f":"VLOOKUP(A622,'Chrono+Classement'!G:O,5,FALSE)","v":{"$error":"#N/A"}},{"$f":"VLOOKUP(A622,'Chrono+Classement'!G:O,9,FALSE)","v":{"$error":"#N/A"}},{"$f":"IF(K622=17,Param!G622,IF(K622=28,Param!H622,IF(K622=45,Param!I622)))","v":"00:00:42"},{"$error":"#N/A"},null,1900,false,false]
[622,"-",null,null,null,null,115.40041067761807,null,null,null,28,{"$f":"VLOOKUP(A623,'Chrono+Classement'!G:O,5,FALSE)","v":{"$error":"#N/A"}},{"$f":"VLOOKUP(A623,'Chrono+Classement'!G:O,9,FALSE)","v":{"$error":"#N/A"}},{"$f":"IF(K623=17,Param!G623,IF(K623=28,Param!H623,IF(K623=45,Param!I623)))","v":"00:00:42"},{"$error":"#N/A"},null,1900,false,false]
[623,"-",null,null,null,null,115.40041067761807,null,null,null,28,{"$f":"VLOOKUP(A624,'Chrono+Classement'!G:O,5,FALSE)","v":{"$error":"#N/A"}},{"$f":"VLOOKUP(A624,'Chrono+Classement'!G:O,9,FALSE)","v":{"$error":"#N/A"}},{"$f":"IF(K624=17,Param!G624,IF(K624=28,Param!H624,IF(K624=45,Param!I624)))","v":"00:00:42"},{"$error":"#N/A"},null,1900,false,false]
[624,"-",null,null,null,null,115.40041067761807,null,null,null,28,{"$f":"VLOOKUP(A625,'Chrono+Classement'!G:O,5,FALSE)","v":{"$error":"#N/A"}},{"$f":"VLOOKUP(A625,'Chrono+Classement'!G:O,9,FALSE)","v":{"$error":"#N/A"}},{"$f":"IF(K625=17,Param!G625,IF(K625=28,Param!H625,IF(K625=45,Param!I625)))","v":"00:00:42"},{"$error":"#N/A"},null,1900,false,false]
[625,"-",null,null,null,null,115.40041067761807,null,null,null,28,{"$f":"VLOOKUP(A626,'Chrono+Classement'!G:O,5,FALSE)","v":{"$error":"#N/A"}},{"$f":"VLOOKUP(A626,'Chrono+Classement'!G:O,9,FALSE)","v":{"$error":"#N/A"}},{"$f":"IF(K626=17,Param!G626,IF(K626=28,Param!H626,IF(K626=45,Param!I626)))","v":"00:00:42"},{"$error":"#N/A"},null,1900,false,false]
[626,"-",null,null,null,null,115.40041067761807,null,null,null,28,{"$f":"VLOOKUP(A627,'Chrono+Classement'!G:O,5,FALSE)","v":{"$error":"#N/A"}},{"$f":"VLOOKUP(A627,'Chrono+Classement'!G:O,9,FALSE)","v":{"$error":"#N/A"}},{"$f":"IF(K627=17,Param!G627,IF(K627=28,Param!H627,IF(K627=45,Param!I627)))","v":"00:00:42"},{"$error":"#N/A"},null,1900,false,false]
[627,"-",null,null,null,null,115.40041067761807,null,null,null,28,{"$f":"VLOOKUP(A628,'Chrono+Classement'!G:O,5,FALSE)","v":{"$error":"#N/A"}},{"$f":"VLOOKUP(A628,'Chrono+Classement'!G:O,9,FALSE)","v":{"$error":"#N/A"}},{"$f":"IF(K628=17,Param!G628,IF(K628=28,Param!H628,IF(K628=45,Param!I628)))","v":"00:00:42"},{"$error":"#N/A"},null,1900,false,false]
[628,"-",null,null,null,null,115.40041067761807,null,null,null,28,{"$f":"VLOOKUP(A629,'Chrono+Classement'!G:O,5,FALSE)","v":{"$error":"#N/A"}},{"$f":"VLOOKUP(A629,'Chrono+Classement'!G:O,9,FALSE)","v":{"$error":"#N/A"}},{"$f":"IF(K629=17,Param!G629,IF(K629=28,Param!H629,IF(K629=45,Param!I629)))","v":"00:00:42"},{"$error":"#N/A"},null,1900,false,false]
[629,"-",null,null,null,null,115.40041067761807,null,null,null,28,{"$f":"VLOOKUP(A630,'Chrono+Classement'!G:O,5,FALSE)","v":{"$error":"#N/A"}},{"$f":"VLOOKUP(A630,'Chrono+Classement'!G:O,9,FALSE)","v":{"$error":"#N/A"}},{"$f":"IF(K630=17,Param!G630,IF(K630=28,Param!H630,IF(K630=45,Param!I630)))","v":"00:00:42"},{"$error":"#N/A"},null,1900,false,false]
[630,"-",null,null,null,null,115.40041067761807,null,null,null,28,{"$f":"VLOOKUP(A631,'Chrono+Classement'!G:O,5,FALSE)","v":{"$error":"#N/A"}},{"$f":"VLOOKUP(A631,'Chrono+Classement'!G:O,9,FALSE)","v":{"$error":"#N/A"}},{"$f":"IF(K631=17,Param!G631,IF(K631=28,Param!H631,IF(K631=45,Param!I631)))","v":"00:00:42"},{"$error":"#N/A"},null,1900,false,false]
[631,"-",null,null,null,null,115.40041067761807,null,null,null,28,{"$f":"VLOOKUP(A632,'Chrono+Classement'!G:O,5,FALSE)","v":{"$error":"#N/A"}},{"$f":"VLOOKUP(A632,'Chrono+Classement'!G:O,9,FALSE)","v":{"$error":"#N/A"}},{"$f":"IF(K632=17,Param!G632,IF(K632=28,Param!H632,IF(K632=45,Param!I632)))","v":"00:00:42"},{"$error":"#N/A"},null,1900,false,false]
[632,"-",null,null,null,null,115.40041067761807,null,null,null,28,{"$f":"VLOOKUP(A633,'Chrono+Classement'!G:O,5,FALSE)","v":{"$error":"#N/A"}},{"$f":"VLOOKUP(A633,'Chrono+Classement'!G:O,9,FALSE)","v":{"$error":"#N/A"}},{"$f":"IF(K633=17,Param!G633,IF(K633=28,Param!H633,IF(K633=45,Param!I633)))","v":"00:00:42"},{"$error":"#N/A"},null,1900,false,false]
[633,"-",null,null,null,null,115.40041067761807,null,null,null,28,{"$f":"VLOOKUP(A634,'Chrono+Classement'!G:O,5,FALSE)","v":{"$error":"#N/A"}},{"$f":"VLOOKUP(A634,'Chrono+Classement'!G:O,9,FALSE)","v":{"$error":"#N/A"}},{"$f":"IF(K634=17,Param!G634,IF(K634=28,Param!H634,IF(K634=45,Param!I634)))","v":"00:00:42"},{"$error":"#N/A"},null,1900,false,false]
[634,"-",null,null,null,null,115.40041067761807,null,null,null,28,{"$f":"VLOOKUP(A635,'Chrono+Classement'!G:O,5,FALSE)","v":{"$error":"#N/A"}},{"$f":"VLOOKUP(A635,'Chrono+Classement'!G:O,9,FALSE)","v":{"$error":"#N/A"}},{"$f":"IF(K635=17,Param!G635,IF(K635=28,Param!H635,IF(K635=45,Param!I635)))","v":"00:00:42"},{"$error":"#N/A"},null,1900,false,false]
[635,"-",null,null,null,null,115.40041067761807,null,null,null,28,{"$f":"VLOOKUP(A636,'Chrono+Classement'!G:O,5,FALSE)","v":{"$error":"#N/A"}},{"$f":"VLOOKUP(A636,'Chrono+Classement'!G:O,9,FALSE)","v":{"$error":"#N/A"}},{"$f":"IF(K636=17,Param!G636,IF(K636=28,Param!H636,IF(K636=45,Param!I636)))","v":"00:00:42"},{"$error":"#N/A"},null,1900,false,false]
[636,"-",null,null,null,null,115.40041067761807,null,null,null,28,{"$f":"VLOOKUP(A637,'Chrono+Classement'!G:O,5,FALSE)","v":{"$error":"#N/A"}},{"$f":"VLOOKUP(A637,'Chrono+Classement'!G:O,9,FALSE)","v":{"$error":"#N/A"}},{"$f":"IF(K637=17,Param!G637,IF(K637=28,Param!H637,IF(K637=45,Param!I637)))","v":"00:00:42"},{"$error":"#N/A"},null,1900,false,false]
[637,"-",null,null,null,null,115.40041067761807,null,null,null,28,{"$f":"VLOOKUP(A638,'Chrono+Classement'!G:O,5,FALSE)","v":{"$error":"#N/A"}},{"$f":"VLOOKUP(A638,'Chrono+Classement'!G:O,9,FALSE)","v":{"$error":"#N/A"}},{"$f":"IF(K638=17,Param!G638,IF(K638=28,Param!H638,IF(K638=45,Param!I638)))","v":"00:00:42"},{"$error":"#N/A"},null,1900,false,false]
[638,"-",null,null,null,null,115.40041067761807,null,null,null,28,{"$f":"VLOOKUP(A639,'Chrono+Classement'!G:O,5,FALSE)","v":{"$error":"#N/A"}},{"$f":"VLOOKUP(A639,'Chrono+Classement'!G:O,9,FALSE)","v":{"$error":"#N/A"}},{"$f":"IF(K639=17,Param!G639,IF(K639=28,Param!H639,IF(K639=45,Param!I639)))","v":"00:00:42"},{"$error":"#N/A"},null,1900,false,false]
[639,"-",null,null,null,null,115.40041067761807,null,null,null,28,{"$f":"VLOOKUP(A640,'Chrono+Classement'!G:O,5,FALSE)","v":{"$error":"#N/A"}},{"$f":"VLOOKUP(A640,'Chrono+Classement'!G:O,9,FALSE)","v":{"$error":"#N/A"}},{"$f":"IF(K640=17,Param!G640,IF(K640=28,Param!H640,IF(K640=45,Param!I640)))","v":"00:00:42"},{"$error":"#N/A"},null,1900,false,false]
[640,"-",null,null,null,null,115.40041067761807,null,null,null,28,{"$f":"VLOOKUP(A641,'Chrono+Classement'!G:O,5,FALSE)","v":{"$error":"#N/A"}},{"$f":"VLOOKUP(A641,'Chrono+Classement'!G:O,9,FALSE)","v":{"$error":"#N/A"}},{"$f":"IF(K641=17,Param!G641,IF(K641=28,Param!H641,IF(K641=45,Param!I641)))","v":"00:00:42"},{"$error":"#N/A"},null,1900,false,false]
[641,{"$f":"CONCATENATE(C642,\"-\",D642)","v":"-"},null,null,null,null,{"$f":"(TODAY()-F642)/365.25","v":115.40041067761807},null,null,null,28,{"$f":"VLOOKUP(A642,'Chrono+Classement'!G:O,5,FALSE)","v":{"$error":"#N/A"}},{"$f":"VLOOKUP(A642,'Chrono+Classement'!G:O,9,FALSE)","v":{"$error":"#N/A"}},{"$f":"IF(K642=17,Param!G642,IF(K642=28,Param!H642,IF(K642=45,Param!I642)))","v":"00:00:42"},{"$error":"#N/A"},null,{"$f":"YEAR(F642)","v":1900},{"$f":"IF(E642=\"M\",IF(Q642<=1965,\"Masters 5\",IF(Q642<=1975,\"Masters 3/4\",IF(Q642<=1985,\"Masters 1/2\",IF(Q642<=1992,\"Hommes\",IF(Q642<=1996,\"Espoirs\",IF(Q642<=1998,\"Juniors\",IF(Q642<=2000,\"Cadets\",0))))))))","v":false},{"$f":"IF(E642=\"F\",IF(Q642<=1992,\"Dames\",IF(Q642<=1996,\"Espoirs Dames\",IF(Q642<=1998,\"Juniors Dames\",IF(Q642<=2000,\"Cadettes\",0)))))","v":false}]
[642,"-",null,null,null,null,115.40041067761807,null,null,null,28,{"$f":"VLOOKUP(A643,'Chrono+Classement'!G:O,5,FALSE)","v":{"$error":"#N/A"}},{"$f":"VLOOKUP(A643,'Chrono+Classement'!G:O,9,FALSE)","v":{"$error":"#N/A"}},{"$f":"IF(K643=17,Param!G643,IF(K643=28,Param!H643,IF(K643=45,Param!I643)))","v":"00:00:42"},{"$error":"#N/A"},null,1900,false,false]
[643,"-",null,null,null,null,115.40041067761807,null,null,null,28,{"$f":"VLOOKUP(A644,'Chrono+Classement'!G:O,5,FALSE)","v":{"$error":"#N/A"}},{"$f":"VLOOKUP(A644,'Chrono+Classement'!G:O,9,FALSE)","v":{"$error":"#N/A"}},{"$f":"IF(K644=17,Param!G644,IF(K644=28,Param!H644,IF(K644=45,Param!I644)))","v":"00:00:42"},{"$error":"#N/A"},null,1900,false,false]
[644,"-",null,null,null,null,115.40041067761807,null,null,null,28,{"$f":"VLOOKUP(A645,'Chrono+Classement'!G:O,5,FALSE)","v":{"$error":"#N/A"}},{"$f":"VLOOKUP(A645,'Chrono+Classement'!G:O,9,FALSE)","v":{"$error":"#N/A"}},{"$f":"IF(K645=17,Param!G645,IF(K645=28,Param!H645,IF(K645=45,Param!I645)))","v":"00:00:42"},{"$error":"#N/A"},null,1900,false,false]
[645,"-",null,null,null,null,115.40041067761807,null,null,null,28,{"$f":"VLOOKUP(A646,'Chrono+Classement'!G:O,5,FALSE)","v":{"$error":"#N/A"}},{"$f":"VLOOKUP(A646,'Chrono+Classement'!G:O,9,FALSE)","v":{"$error":"#N/A"}},{"$f":"IF(K646=17,Param!G646,IF(K646=28,Param!H646,IF(K646=45,Param!I646)))","v":"00:00:42"},{"$error":"#N/A"},null,1900,false,false]
[646,"-",null,null,null,null,115.40041067761807,null,null,null,28,{"$f":"VLOOKUP(A647,'Chrono+Classement'!G:O,5,FALSE)","v":{"$error":"#N/A"}},{"$f":"VLOOKUP(A647,'Chrono+Classement'!G:O,9,FALSE)","v":{"$error":"#N/A"}},{"$f":"IF(K647=17,Param!G647,IF(K647=28,Param!H647,IF(K647=45,Param!I647)))","v":"00:00:42"},{"$error":"#N/A"},null,1900,false,false]
[647,"-",null,null,null,null,115.40041067761807,null,null,null,28,{"$f":"VLOOKUP(A648,'Chrono+Classement'!G:O,5,FALSE)","v":{"$error":"#N/A"}},{"$f":"VLOOKUP(A648,'Chrono+Classement'!G:O,9,FALSE)","v":{"$error":"#N/A"}},{"$f":"IF(K648=17,Param!G648,IF(K648=28,Param!H648,IF(K648=45,Param!I648)))","v":"00:00:42"},{"$error":"#N/A"},null,1900,false,false]
[648,"-",null,null,null,null,115.40041067761807,null,null,null,28,{"$f":"VLOOKUP(A649,'Chrono+Classement'!G:O,5,FALSE)","v":{"$error":"#N/A"}},{"$f":"VLOOKUP(A649,'Chrono+Classement'!G:O,9,FALSE)","v":{"$error":"#N/A"}},{"$f":"IF(K649=17,Param!G649,IF(K649=28,Param!H649,IF(K649=45,Param!I649)))","v":"00:00:42"},{"$error":"#N/A"},null,1900,false,false]
[649,"-",null,null,null,null,115.40041067761807,null,null,null,28,{"$f":"VLOOKUP(A650,'Chrono+Classement'!G:O,5,FALSE)","v":{"$error":"#N/A"}},{"$f":"VLOOKUP(A650,'Chrono+Classement'!G:O,9,FALSE)","v":{"$error":"#N/A"}},{"$f":"IF(K650=17,Param!G650,IF(K650=28,Param!H650,IF(K650=45,Param!I650)))","v":"00:00:42"},{"$error":"#N/A"},null,1900,false,false]
[650,"-",null,null,null,null,115.40041067761807,null,null,null,28,{"$f":"VLOOKUP(A651,'Chrono+Classement'!G:O,5,FALSE)","v":{"$error":"#N/A"}},{"$f":"VLOOKUP(A651,'Chrono+Classement'!G:O,9,FALSE)","v":{"$error":"#N/A"}},{"$f":"IF(K651=17,Param!G651,IF(K651=28,Param!H651,IF(K651=45,Param!I651)))","v":"00:00:42"},{"$error":"#N/A"},null,1900,false,false]
[651,"-",null,null,null,null,115.40041067761807,null,null,null,28,{"$f":"VLOOKUP(A652,'Chrono+Classement'!G:O,5,FALSE)","v":{"$error":"#N/A"}},{"$f":"VLOOKUP(A652,'Chrono+Classement'!G:O,9,FALSE)","v":{"$error":"#N/A"}},{"$f":"IF(K652=17,Param!G652,IF(K652=28,Param!H652,IF(K652=45,Param!I652)))","v":"00:00:42"},{"$error":"#N/A"},null,1900,false,false]
[652,"-",null,null,null,null,115.40041067761807,null,null,null,28,{"$f":"VLOOKUP(A653,'Chrono+Classement'!G:O,5,FALSE)","v":{"$error":"#N/A"}},{"$f":"VLOOKUP(A653,'Chrono+Classement'!G:O,9,FALSE)","v":{"$error":"#N/A"}},{"$f":"IF(K653=17,Param!G653,IF(K653=28,Param!H653,IF(K653=45,Param!I653)))","v":"00:00:42"},{"$error":"#N/A"},null,1900,false,false]
[653,"-",null,null,null,null,115.40041067761807,null,null,null,28,{"$f":"VLOOKUP(A654,'Chrono+Classement'!G:O,5,FALSE)","v":{"$error":"#N/A"}},{"$f":"VLOOKUP(A654,'Chrono+Classement'!G:O,9,FALSE)","v":{"$error":"#N/A"}},{"$f":"IF(K654=17,Param!G654,IF(K654=28,Param!H654,IF(K654=45,Param!I654)))","v":"00:00:42"},{"$error":"#N/A"},null,1900,false,false]
[654,"-",null,null,null,null,115.40041067761807,null,null,null,28,{"$f":"VLOOKUP(A655,'Chrono+Classement'!G:O,5,FALSE)","v":{"$error":"#N/A"}},{"$f":"VLOOKUP(A655,'Chrono+Classement'!G:O,9,FALSE)","v":{"$error":"#N/A"}},{"$f":"IF(K655=17,Param!G655,IF(K655=28,Param!H655,IF(K655=45,Param!I655)))","v":"00:00:42"},{"$error":"#N/A"},null,1900,false,false]
[655,"-",null,null,null,null,115.40041067761807,null,null,null,28,{"$f":"VLOOKUP(A656,'Chrono+Classement'!G:O,5,FALSE)","v":{"$error":"#N/A"}},{"$f":"VLOOKUP(A656,'Chrono+Classement'!G:O,9,FALSE)","v":{"$error":"#N/A"}},{"$f":"IF(K656=17,Param!G656,IF(K656=28,Param!H656,IF(K656=45,Param!I656)))","v":"00:00:42"},{"$error":"#N/A"},null,1900,false,false]
[656,"-",null,null,null,null,115.40041067761807,null,null,null,28,{"$f":"VLOOKUP(A657,'Chrono+Classement'!G:O,5,FALSE)","v":{"$error":"#N/A"}},{"$f":"VLOOKUP(A657,'Chrono+Classement'!G:O,9,FALSE)","v":{"$error":"#N/A"}},{"$f":"IF(K657=17,Param!G657,IF(K657=28,Param!H657,IF(K657=45,Param!I657)))","v":"00:00:42"},{"$error":"#N/A"},null,1900,false,false]
[657,"-",null,null,null,null,115.40041067761807,null,null,null,28,{"$f":"VLOOKUP(A658,'Chrono+Classement'!G:O,5,FALSE)","v":{"$error":"#N/A"}},{"$f":"VLOOKUP(A658,'Chrono+Classement'!G:O,9,FALSE)","v":{"$error":"#N/A"}},{"$f":"IF(K658=17,Param!G658,IF(K658=28,Param!H658,IF(K658=45,Param!I658)))","v":"00:00:42"},{"$error":"#N/A"},null,1900,false,false]
[658,"-",null,null,null,null,115.40041067761807,null,null,null,28,{"$f":"VLOOKUP(A659,'Chrono+Classement'!G:O,5,FALSE)","v":{"$error":"#N/A"}},{"$f":"VLOOKUP(A659,'Chrono+Classement'!G:O,9,FALSE)","v":{"$error":"#N/A"}},{"$f":"IF(K659=17,Param!G659,IF(K659=28,Param!H659,IF(K659=45,Param!I659)))","v":"00:00:42"},{"$error":"#N/A"},null,1900,false,false]
[659,"-",null,null,null,null,115.40041067761807,null,null,null,28,{"$f":"VLOOKUP(A660,'Chrono+Classement'!G:O,5,FALSE)","v":{"$error":"#N/A"}},{"$f":"VLOOKUP(A660,'Chrono+Classement'!G:O,9,FALSE)","v":{"$error":"#N/A"}},{"$f":"IF(K660=17,Param!G660,IF(K660=28,Param!H660,IF(K660=45,Param!I660)))","v":"00:00:42"},{"$error":"#N/A"},null,1900,false,false]
[660,"-",null,null,null,null,115.40041067761807,null,null,null,28,{"$f":"VLOOKUP(A661,'Chrono+Classement'!G:O,5,FALSE)","v":{"$error":"#N/A"}},{"$f":"VLOOKUP(A661,'Chrono+Classement'!G:O,9,FALSE)","v":{"$error":"#N/A"}},{"$f":"IF(K661=17,Param!G661,IF(K661=28,Param!H661,IF(K661=45,Param!I661)))","v":"00:00:42"},{"$error":"#N/A"},null,1900,false,false]
[661,"-",null,null,null,null,115.40041067761807,null,null,null,28,{"$f":"VLOOKUP(A662,'Chrono+Classement'!G:O,5,FALSE)","v":{"$error":"#N/A"}},{"$f":"VLOOKUP(A662,'Chrono+Classement'!G:O,9,FALSE)","v":{"$error":"#N/A"}},{"$f":"IF(K662=17,Param!G662,IF(K662=28,Param!H662,IF(K662=45,Param!I662)))","v":"00:00:42"},{"$error":"#N/A"},null,1900,false,false]
[662,"-",null,null,null,null,115.40041067761807,null,null,null,28,{"$f":"VLOOKUP(A663,'Chrono+Classement'!G:O,5,FALSE)","v":{"$error":"#N/A"}},{"$f":"VLOOKUP(A663,'Chrono+Classement'!G:O,9,FALSE)","v":{"$error":"#N/A"}},{"$f":"IF(K663=17,Param!G663,IF(K663=28,Param!H663,IF(K663=45,Param!I663)))","v":"00:00:42"},{"$error":"#N/A"},null,1900,false,false]
[663,"-",null,null,null,null,115.40041067761807,null,null,null,28,{"$f":"VLOOKUP(A664,'Chrono+Classement'!G:O,5,FALSE)","v":{"$error":"#N/A"}},{"$f":"VLOOKUP(A664,'Chrono+Classement'!G:O,9,FALSE)","v":{"$error":"#N/A"}},{"$f":"IF(K664=17,Param!G664,IF(K664=28,Param!H664,IF(K664=45,Param!I664)))","v":"00:00:42"},{"$error":"#N/A"},null,1900,false,false]
[664,"-",null,null,null,null,115.40041067761807,null,null,null,28,{"$f":"VLOOKUP(A665,'Chrono+Classement'!G:O,5,FALSE)","v":{"$error":"#N/A"}},{"$f":"VLOOKUP(A665,'Chrono+Classement'!G:O,9,FALSE)","v":{"$error":"#N/A"}},{"$f":"IF(K665=17,Param!G665,IF(K665=28,Param!H665,IF(K665=45,Param!I665)))","v":"00:00:42"},{"$error":"#N/A"},null,1900,false,false]
[665,"-",null,null,null,null,115.40041067761807,null,null,null,28,{"$f":"VLOOKUP(A666,'Chrono+Classement'!G:O,5,FALSE)","v":{"$error":"#N/A"}},{"$f":"VLOOKUP(A666,'Chrono+Classement'!G:O,9,FALSE)","v":{"$error":"#N/A"}},{"$f":"IF(K666=17,Param!G666,IF(K666=28,Param!H666,IF(K666=45,Param!I666)))","v":"00:00:42"},{"$error":"#N/A"},null,1900,false,false]
[666,"-",null,null,null,null,115.40041067761807,null,null,null,28,{"$f":"VLOOKUP(A667,'Chrono+Classement'!G:O,5,FALSE)","v":{"$error":"#N/A"}},{"$f":"VLOOKUP(A667,'Chrono+Classement'!G:O,9,FALSE)","v":{"$error":"#N/A"}},{"$f":"IF(K667=17,Param!G667,IF(K667=28,Param!H667,IF(K667=45,Param!I667)))","v":"00:00:42"},{"$error":"#N/A"},null,1900,false,false]
[667,"-",null,null,null,null,115.40041067761807,null,null,null,28,{"$f":"VLOOKUP(A668,'Chrono+Classement'!G:O,5,FALSE)","v":{"$error":"#N/A"}},{"$f":"VLOOKUP(A668,'Chrono+Classement'!G:O,9,FALSE)","v":{"$error":"#N/A"}},{"$f":"IF(K668=17,Param!G668,IF(K668=28,Param!H668,IF(K668=45,Param!I668)))","v":"00:00:42"},{"$error":"#N/A"},null,1900,false,false]
[668,"-",null,null,null,null,115.40041067761807,null,null,null,28,{"$f":"VLOOKUP(A669,'Chrono+Classement'!G:O,5,FALSE)","v":{"$error":"#N/A"}},{"$f":"VLOOKUP(A669,'Chrono+Classement'!G:O,9,FALSE)","v":{"$error":"#N/A"}},{"$f":"IF(K669=17,Param!G669,IF(K669=28,Param!H669,IF(K669=45,Param!I669)))","v":"00:00:42"},{"$error":"#N/A"},null,1900,false,false]
[669,"-",null,null,null,null,115.40041067761807,null,null,null,28,{"$f":"VLOOKUP(A670,'Chrono+Classement'!G:O,5,FALSE)","v":{"$error":"#N/A"}},{"$f":"VLOOKUP(A670,'Chrono+Classement'!G:O,9,FALSE)","v":{"$error":"#N/A"}},{"$f":"IF(K670=17,Param!G670,IF(K670=28,Param!H670,IF(K670=45,Param!I670)))","v":"00:00:42"},{"$error":"#N/A"},null,1900,false,false]
[670,"-",null,null,null,null,115.40041067761807,null,null,null,28,{"$f":"VLOOKUP(A671,'Chrono+Classement'!G:O,5,FALSE)","v":{"$error":"#N/A"}},{"$f":"VLOOKUP(A671,'Chrono+Classement'!G:O,9,FALSE)","v":{"$error":"#N/A"}},{"$f":"IF(K671=17,Param!G671,IF(K671=28,Param!H671,IF(K671=45,Param!I671)))","v":"00:00:42"},{"$error":"#N/A"},null,1900,false,false]
[671,"-",null,null,null,null,115.40041067761807,null,null,null,28,{"$f":"VLOOKUP(A672,'Chrono+Classement'!G:O,5,FALSE)","v":{"$error":"#N/A"}},{"$f":"VLOOKUP(A672,'Chrono+Classement'!G:O,9,FALSE)","v":{"$error":"#N/A"}},{"$f":"IF(K672=17,Param!G672,IF(K672=28,Param!H672,IF(K672=45,Param!I672)))","v":"00:00:42"},{"$error":"#N/A"},null,1900,false,false]
[672,"-",null,null,null,null,115.40041067761807,null,null,null,28,{"$f":"VLOOKUP(A673,'Chrono+Classement'!G:O,5,FALSE)","v":{"$error":"#N/A"}},{"$f":"VLOOKUP(A673,'Chrono+Classement'!G:O,9,FALSE)","v":{"$error":"#N/A"}},{"$f":"IF(K673=17,Param!G673,IF(K673=28,Param!H673,IF(K673=45,Param!I673)))","v":"00:00:42"},{"$error":"#N/A"},null,1900,false,false]
[673,"-",null,null,null,null,115.40041067761807,null,null,null,28,{"$f":"VLOOKUP(A674,'Chrono+Classement'!G:O,5,FALSE)","v":{"$error":"#N/A"}},{"$f":"VLOOKUP(A674,'Chrono+Classement'!G:O,9,FALSE)","v":{"$error":"#N/A"}},{"$f":"IF(K674=17,Param!G674,IF(K674=28,Param!H674,IF(K674=45,Param!I674)))","v":"00:00:42"},{"$error":"#N/A"},null,1900,false,false]
[674,"-",null,null,null,null,115.40041067761807,null,null,null,28,{"$f":"VLOOKUP(A675,'Chrono+Classement'!G:O,5,FALSE)","v":{"$error":"#N/A"}},{"$f":"VLOOKUP(A675,'Chrono+Classement'!G:O,9,FALSE)","v":{"$error":"#N/A"}},{"$f":"IF(K675=17,Param!G675,IF(K675=28,Param!H675,IF(K675=45,Param!I675)))","v":"00:00:42"},{"$error":"#N/A"},null,1900,false,false]
[675,"-",null,null,null,null,115.40041067761807,null,null,null,28,{"$f":"VLOOKUP(A676,'Chrono+Classement'!G:O,5,FALSE)","v":{"$error":"#N/A"}},{"$f":"VLOOKUP(A676,'Chrono+Classement'!G:O,9,FALSE)","v":{"$error":"#N/A"}},{"$f":"IF(K676=17,Param!G676,IF(K676=28,Param!H676,IF(K676=45,Param!I676)))","v":"00:00:42"},{"$error":"#N/A"},null,1900,false,false]
[676,"-",null,null,null,null,115.40041067761807,null,null,null,28,{"$f":"VLOOKUP(A677,'Chrono+Classement'!G:O,5,FALSE)","v":{"$error":"#N/A"}},{"$f":"VLOOKUP(A677,'Chrono+Classement'!G:O,9,FALSE)","v":{"$error":"#N/A"}},{"$f":"IF(K677=17,Param!G677,IF(K677=28,Param!H677,IF(K677=45,Param!I677)))","v":"00:00:42"},{"$f":"M677-N677","v":{"$error":"#N/A"}},null,1900,false,false]
[677,"-",null,null,null,null,115.40041067761807,null,null,null,28,{"$f":"VLOOKUP(A678,'Chrono+Classement'!G:O,5,FALSE)","v":{"$error":"#N/A"}},{"$f":"VLOOKUP(A678,'Chrono+Classement'!G:O,9,FALSE)","v":{"$error":"#N/A"}},{"$f":"IF(K678=17,Param!G678,IF(K678=28,Param!H678,IF(K678=45,Param!I678)))","v":"00:00:42"},{"$error":"#N/A"},null,1900,false,false]
[678,"-",null,null,null,null,115.40041067761807,null,null,null,28,{"$f":"VLOOKUP(A679,'Chrono+Classement'!G:O,5,FALSE)","v":{"$error":"#N/A"}},{"$f":"VLOOKUP(A679,'Chrono+Classement'!G:O,9,FALSE)","v":{"$error":"#N/A"}},{"$f":"IF(K679=17,Param!G679,IF(K679=28,Param!H679,IF(K679=45,Param!I679)))","v":"00:00:42"},{"$error":"#N/A"},null,1900,false,false]
[679,"-",null,null,null,null,115.40041067761807,null,null,null,28,{"$f":"VLOOKUP(A680,'Chrono+Classement'!G:O,5,FALSE)","v":{"$error":"#N/A"}},{"$f":"VLOOKUP(A680,'Chrono+Classement'!G:O,9,FALSE)","v":{"$error":"#N/A"}},{"$f":"IF(K680=17,Param!G680,IF(K680=28,Param!H680,IF(K680=45,Param!I680)))","v":"00:00:42"},{"$error":"#N/A"},null,1900,false,false]
[680,"-",null,null,null,null,115.40041067761807,null,null,null,28,{"$f":"VLOOKUP(A681,'Chrono+Classement'!G:O,5,FALSE)","v":{"$error":"#N/A"}},{"$f":"VLOOKUP(A681,'Chrono+Classement'!G:O,9,FALSE)","v":{"$error":"#N/A"}},{"$f":"IF(K681=17,Param!G681,IF(K681=28,Param!H681,IF(K681=45,Param!I681)))","v":"00:00:42"},{"$error":"#N/A"},null,1900,false,false]
[681,"-",null,null,null,null,115.40041067761807,null,null,null,28,{"$f":"VLOOKUP(A682,'Chrono+Classement'!G:O,5,FALSE)","v":{"$error":"#N/A"}},{"$f":"VLOOKUP(A682,'Chrono+Classement'!G:O,9,FALSE)","v":{"$error":"#N/A"}},{"$f":"IF(K682=17,Param!G682,IF(K682=28,Param!H682,IF(K682=45,Param!I682)))","v":"00:00:42"},{"$error":"#N/A"},null,1900,false,false]
[682,"-",null,null,null,null,115.40041067761807,null,null,null,28,{"$f":"VLOOKUP(A683,'Chrono+Classement'!G:O,5,FALSE)","v":{"$error":"#N/A"}},{"$f":"VLOOKUP(A683,'Chrono+Classement'!G:O,9,FALSE)","v":{"$error":"#N/A"}},{"$f":"IF(K683=17,Param!G683,IF(K683=28,Param!H683,IF(K683=45,Param!I683)))","v":"00:00:42"},{"$error":"#N/A"},null,1900,false,false]
[683,"-",null,null,null,null,115.40041067761807,null,null,null,28,{"$f":"VLOOKUP(A684,'Chrono+Classement'!G:O,5,FALSE)","v":{"$error":"#N/A"}},{"$f":"VLOOKUP(A684,'Chrono+Classement'!G:O,9,FALSE)","v":{"$error":"#N/A"}},{"$f":"IF(K684=17,Param!G684,IF(K684=28,Param!H684,IF(K684=45,Param!I684)))","v":"00:00:42"},{"$error":"#N/A"},null,1900,false,false]
[684,"-",null,null,null,null,115.40041067761807,null,null,null,28,{"$f":"VLOOKUP(A685,'Chrono+Classement'!G:O,5,FALSE)","v":{"$error":"#N/A"}},{"$f":"VLOOKUP(A685,'Chrono+Classement'!G:O,9,FALSE)","v":{"$error":"#N/A"}},{"$f":"IF(K685=17,Param!G685,IF(K685=28,Param!H685,IF(K685=45,Param!I685)))","v":"00:00:42"},{"$error":"#N/A"},null,1900,false,false]
[685,"-",null,null,null,null,115.40041067761807,null,null,null,28,{"$f":"VLOOKUP(A686,'Chrono+Classement'!G:O,5,FALSE)","v":{"$error":"#N/A"}},{"$f":"VLOOKUP(A686,'Chrono+Classement'!G:O,9,FALSE)","v":{"$error":"#N/A"}},{"$f":"IF(K686=17,Param!G686,IF(K686=28,Param!H686,IF(K686=45,Param!I686)))","v":"00:00:42"},{"$error":"#N/A"},null,1900,false,false]
[686,"-",null,null,null,null,115.40041067761807,null,null,null,28,{"$f":"VLOOKUP(A687,'Chrono+Classement'!G:O,5,FALSE)","v":{"$error":"#N/A"}},{"$f":"VLOOKUP(A687,'Chrono+Classement'!G:O,9,FALSE)","v":{"$error":"#N/A"}},{"$f":"IF(K687=17,Param!G687,IF(K687=28,Param!H687,IF(K687=45,Param!I687)))","v":"00:00:42"},{"$error":"#N/A"},null,1900,false,false]
[687,"-",null,null,null,null,115.40041067761807,null,null,null,28,{"$f":"VLOOKUP(A688,'Chrono+Classement'!G:O,5,FALSE)","v":{"$error":"#N/A"}},{"$f":"VLOOKUP(A688,'Chrono+Classement'!G:O,9,FALSE)","v":{"$error":"#N/A"}},{"$f":"IF(K688=17,Param!G688,IF(K688=28,Param!H688,IF(K688=45,Param!I688)))","v":"00:00:42"},{"$error":"#N/A"},null,1900,false,false]
[688,"-",null,null,null,null,115.40041067761807,null,null,null,28,{"$f":"VLOOKUP(A689,'Chrono+Classement'!G:O,5,FALSE)","v":{"$error":"#N/A"}},{"$f":"VLOOKUP(A689,'Chrono+Classement'!G:O,9,FALSE)","v":{"$error":"#N/A"}},{"$f":"IF(K689=17,Param!G689,IF(K689=28,Param!H689,IF(K689=45,Param!I689)))","v":"00:00:42"},{"$error":"#N/A"},null,1900,false,false]
[689,"-",null,null,null,null,115.40041067761807,null,null,null,28,{"$f":"VLOOKUP(A690,'Chrono+Classement'!G:O,5,FALSE)","v":{"$error":"#N/A"}},{"$f":"VLOOKUP(A690,'Chrono+Classement'!G:O,9,FALSE)","v":{"$error":"#N/A"}},{"$f":"IF(K690=17,Param!G690,IF(K690=28,Param!H690,IF(K690=45,Param!I690)))","v":"00:00:42"},{"$error":"#N/A"},null,1900,false,false]
[690,"-",null,null,null,null,115.40041067761807,null,null,null,28,{"$f":"VLOOKUP(A691,'Chrono+Classement'!G:O,5,FALSE)","v":{"$error":"#N/A"}},{"$f":"VLOOKUP(A691,'Chrono+Classement'!G:O,9,FALSE)","v":{"$error":"#N/A"}},{"$f":"IF(K691=17,Param!G691,IF(K691=28,Param!H691,IF(K691=45,Param!I691)))","v":"00:00:42"},{"$error":"#N/A"},null,1900,false,false]
[691,"-",null,null,null,null,115.40041067761807,null,null,null,28,{"$f":"VLOOKUP(A692,'Chrono+Classement'!G:O,5,FALSE)","v":{"$error":"#N/A"}},{"$f":"VLOOKUP(A692,'Chrono+Classement'!G:O,9,FALSE)","v":{"$error":"#N/A"}},{"$f":"IF(K692=17,Param!G692,IF(K692=28,Param!H692,IF(K692=45,Param!I692)))","v":"00:00:42"},{"$error":"#N/A"},null,1900,false,false]
[692,"-",null,null,null,null,115.40041067761807,null,null,null,28,{"$f":"VLOOKUP(A693,'Chrono+Classement'!G:O,5,FALSE)","v":{"$error":"#N/A"}},{"$f":"VLOOKUP(A693,'Chrono+Classement'!G:O,9,FALSE)","v":{"$error":"#N/A"}},{"$f":"IF(K693=17,Param!G693,IF(K693=28,Param!H693,IF(K693=45,Param!I693)))","v":"00:00:42"},{"$error":"#N/A"},null,1900,false,false]
[693,"-",null,null,null,null,115.40041067761807,null,null,null,28,{"$f":"VLOOKUP(A694,'Chrono+Classement'!G:O,5,FALSE)","v":{"$error":"#N/A"}},{"$f":"VLOOKUP(A694,'Chrono+Classement'!G:O,9,FALSE)","v":{"$error":"#N/A"}},{"$f":"IF(K694=17,Param!G694,IF(K694=28,Param!H694,IF(K694=45,Param!I694)))","v":"00:00:42"},{"$error":"#N/A"},null,1900,false,false]
[694,"-",null,null,null,null,115.40041067761807,null,null,null,28,{"$f":"VLOOKUP(A695,'Chrono+Classement'!G:O,5,FALSE)","v":{"$error":"#N/A"}},{"$f":"VLOOKUP(A695,'Chrono+Classement'!G:O,9,FALSE)","v":{"$error":"#N/A"}},{"$f":"IF(K695=17,Param!G695,IF(K695=28,Param!H695,IF(K695=45,Param!I695)))","v":"00:00:42"},{"$error":"#N/A"},null,1900,false,false]
[695,"-",null,null,null,null,115.40041067761807,null,null,null,28,{"$f":"VLOOKUP(A696,'Chrono+Classement'!G:O,5,FALSE)","v":{"$error":"#N/A"}},{"$f":"VLOOKUP(A696,'Chrono+Classement'!G:O,9,FALSE)","v":{"$error":"#N/A"}},{"$f":"IF(K696=17,Param!G696,IF(K696=28,Param!H696,IF(K696=45,Param!I696)))","v":"00:00:42"},{"$error":"#N/A"},null,1900,false,false]
[696,"-",null,null,null,null,115.40041067761807,null,null,null,28,{"$f":"VLOOKUP(A697,'Chrono+Classement'!G:O,5,FALSE)","v":{"$error":"#N/A"}},{"$f":"VLOOKUP(A697,'Chrono+Classement'!G:O,9,FALSE)","v":{"$error":"#N/A"}},{"$f":"IF(K697=17,Param!G697,IF(K697=28,Param!H697,IF(K697=45,Param!I697)))","v":"00:00:42"},{"$error":"#N/A"},null,1900,false,false]
[697,"-",null,null,null,null,115.40041067761807,null,null,null,28,{"$f":"VLOOKUP(A698,'Chrono+Classement'!G:O,5,FALSE)","v":{"$error":"#N/A"}},{"$f":"VLOOKUP(A698,'Chrono+Classement'!G:O,9,FALSE)","v":{"$error":"#N/A"}},{"$f":"IF(K698=17,Param!G698,IF(K698=28,Param!H698,IF(K698=45,Param!I698)))","v":"00:00:42"},{"$error":"#N/A"},null,1900,false,false]
[698,"-",null,null,null,null,115.40041067761807,null,null,null,28,{"$f":"VLOOKUP(A699,'Chrono+Classement'!G:O,5,FALSE)","v":{"$error":"#N/A"}},{"$f":"VLOOKUP(A699,'Chrono+Classement'!G:O,9,FALSE)","v":{"$error":"#N/A"}},{"$f":"IF(K699=17,Param!G699,IF(K699=28,Param!H699,IF(K699=45,Param!I699)))","v":"00:00:42"},{"$error":"#N/A"},null,1900,false,false]
[699,"-",null,null,null,null,115.40041067761807,null,null,null,28,{"$f":"VLOOKUP(A700,'Chrono+Classement'!G:O,5,FALSE)","v":{"$error":"#N/A"}},{"$f":"VLOOKUP(A700,'Chrono+Classement'!G:O,9,FALSE)","v":{"$error":"#N/A"}},{"$f":"IF(K700=17,Param!G700,IF(K700=28,Param!H700,IF(K700=45,Param!I700)))","v":"00:00:42"},{"$error":"#N/A"},null,1900,false,false]
[700,"-",null,null,null,null,115.40041067761807,null,null,null,28,{"$f":"VLOOKUP(A701,'Chrono+Classement'!G:O,5,FALSE)","v":{"$error":"#N/A"}},{"$f":"VLOOKUP(A701,'Chrono+Classement'!G:O,9,FALSE)","v":{"$error":"#N/A"}},{"$f":"IF(K701=17,Param!G701,IF(K701=28,Param!H701,IF(K701=45,Param!I701)))","v":"00:00:42"},{"$error":"#N/A"},null,1900,false,false]
[701,"-",null,null,null,null,115.40041067761807,null,null,null,28,{"$f":"VLOOKUP(A702,'Chrono+Classement'!G:O,5,FALSE)","v":{"$error":"#N/A"}},{"$f":"VLOOKUP(A702,'Chrono+Classement'!G:O,9,FALSE)","v":{"$error":"#N/A"}},{"$f":"IF(K702=17,Param!G702,IF(K702=28,Param!H702,IF(K702=45,Param!I702)))","v":"00:00:42"},{"$error":"#N/A"},null,1900,false,false]
[702,"-",null,null,null,null,115.40041067761807,null,null,null,28,{"$f":"VLOOKUP(A703,'Chrono+Classement'!G:O,5,FALSE)","v":{"$error":"#N/A"}},{"$f":"VLOOKUP(A703,'Chrono+Classement'!G:O,9,FALSE)","v":{"$error":"#N/A"}},{"$f":"IF(K703=17,Param!G703,IF(K703=28,Param!H703,IF(K703=45,Param!I703)))","v":"00:00:42"},{"$error":"#N/A"},null,1900,false,false]
[703,"-",null,null,null,null,115.40041067761807,null,null,null,28,{"$f":"VLOOKUP(A704,'Chrono+Classement'!G:O,5,FALSE)","v":{"$error":"#N/A"}},{"$f":"VLOOKUP(A704,'Chrono+Classement'!G:O,9,FALSE)","v":{"$error":"#N/A"}},{"$f":"IF(K704=17,Param!G704,IF(K704=28,Param!H704,IF(K704=45,Param!I704)))","v":"00:00:42"},{"$error":"#N/A"},null,1900,false,false]
[704,"-",null,null,null,null,115.40041067761807,null,null,null,28,{"$f":"VLOOKUP(A705,'Chrono+Classement'!G:O,5,FALSE)","v":{"$error":"#N/A"}},{"$f":"VLOOKUP(A705,'Chrono+Classement'!G:O,9,FALSE)","v":{"$error":"#N/A"}},{"$f":"IF(K705=17,Param!G705,IF(K705=28,Param!H705,IF(K705=45,Param!I705)))","v":"00:00:42"},{"$error":"#N/A"},null,1900,false,false]
[705,{"$f":"CONCATENATE(C706,\"-\",D706)","v":"-"},null,null,null,null,{"$f":"(TODAY()-F706)/365.25","v":115.40041067761807},null,null,null,28,{"$f":"VLOOKUP(A706,'Chrono+Classement'!G:O,5,FALSE)","v":{"$error":"#N/A"}},{"$f":"VLOOKUP(A706,'Chrono+Classement'!G:O,9,FALSE)","v":{"$error":"#N/A"}},{"$f":"IF(K706=17,Param!G706,IF(K706=28,Param!H706,IF(K706=45,Param!I706)))","v":"00:00:42"},{"$error":"#N/A"},null,{"$f":"YEAR(F706)","v":1900},{"$f":"IF(E706=\"M\",IF(Q706<=1965,\"Masters 5\",IF(Q706<=1975,\"Masters 3/4\",IF(Q706<=1985,\"Masters 1/2\",IF(Q706<=1992,\"Hommes\",IF(Q706<=1996,\"Espoirs\",IF(Q706<=1998,\"Juniors\",IF(Q706<=2000,\"Cadets\",0))))))))","v":false},{"$f":"IF(E706=\"F\",IF(Q706<=1992,\"Dames\",IF(Q706<=1996,\"Espoirs Dames\",IF(Q706<=1998,\"Juniors Dames\",IF(Q706<=2000,\"Cadettes\",0)))))","v":false}]
[706,"-",null,null,null,null,115.40041067761807,null,null,null,28,{"$f":"VLOOKUP(A707,'Chrono+Classement'!G:O,5,FALSE)","v":{"$error":"#N/A"}},{"$f":"VLOOKUP(A707,'Chrono+Classement'!G:O,9,FALSE)","v":{"$error":"#N/A"}},{"$f":"IF(K707=17,Param!G707,IF(K707=28,Param!H707,IF(K707=45,Param!I707)))","v":"00:00:42"},{"$error":"#N/A"},null,1900,false,false]
[707,"-",null,null,null,null,115.40041067761807,null,null,null,28,{"$f":"VLOOKUP(A708,'Chrono+Classement'!G:O,5,FALSE)","v":{"$error":"#N/A"}},{"$f":"VLOOKUP(A708,'Chrono+Classement'!G:O,9,FALSE)","v":{"$error":"#N/A"}},{"$f":"IF(K708=17,Param!G708,IF(K708=28,Param!H708,IF(K708=45,Param!I708)))","v":"00:00:42"},{"$error":"#N/A"},null,1900,false,false]
[708,"-",null,null,null,null,115.40041067761807,null,null,null,28,{"$f":"VLOOKUP(A709,'Chrono+Classement'!G:O,5,FALSE)","v":{"$error":"#N/A"}},{"$f":"VLOOKUP(A709,'Chrono+Classement'!G:O,9,FALSE)","v":{"$error":"#N/A"}},{"$f":"IF(K709=17,Param!G709,IF(K709=28,Param!H709,IF(K709=45,Param!I709)))","v":"00:00:42"},{"$error":"#N/A"},null,1900,false,false]
[709,"-",null,null,null,null,115.40041067761807,null,null,null,28,{"$f":"VLOOKUP(A710,'Chrono+Classement'!G:O,5,FALSE)","v":{"$error":"#N/A"}},{"$f":"VLOOKUP(A710,'Chrono+Classement'!G:O,9,FALSE)","v":{"$error":"#N/A"}},{"$f":"IF(K710=17,Param!G710,IF(K710=28,Param!H710,IF(K710=45,Param!I710)))","v":"00:00:42"},{"$error":"#N/A"},null,1900,false,false]
[710,"-",null,null,null,null,115.40041067761807,null,null,null,28,{"$f":"VLOOKUP(A711,'Chrono+Classement'!G:O,5,FALSE)","v":{"$error":"#N/A"}},{"$f":"VLOOKUP(A711,'Chrono+Classement'!G:O,9,FALSE)","v":{"$error":"#N/A"}},{"$f":"IF(K711=17,Param!G711,IF(K711=28,Param!H711,IF(K711=45,Param!I711)))","v":"00:00:42"},{"$error":"#N/A"},null,1900,false,false]
[711,"-",null,null,null,null,115.40041067761807,null,null,null,28,{"$f":"VLOOKUP(A712,'Chrono+Classement'!G:O,5,FALSE)","v":{"$error":"#N/A"}},{"$f":"VLOOKUP(A712,'Chrono+Classement'!G:O,9,FALSE)","v":{"$error":"#N/A"}},{"$f":"IF(K712=17,Param!G712,IF(K712=28,Param!H712,IF(K712=45,Param!I712)))","v":"00:00:42"},{"$error":"#N/A"},null,1900,false,false]
[712,"-",null,null,null,null,115.40041067761807,null,null,null,28,{"$f":"VLOOKUP(A713,'Chrono+Classement'!G:O,5,FALSE)","v":{"$error":"#N/A"}},{"$f":"VLOOKUP(A713,'Chrono+Classement'!G:O,9,FALSE)","v":{"$error":"#N/A"}},{"$f":"IF(K713=17,Param!G713,IF(K713=28,Param!H713,IF(K713=45,Param!I713)))","v":"00:00:42"},{"$error":"#N/A"},null,1900,false,false]
[713,"-",null,null,null,null,115.40041067761807,null,null,null,28,{"$f":"VLOOKUP(A714,'Chrono+Classement'!G:O,5,FALSE)","v":{"$error":"#N/A"}},{"$f":"VLOOKUP(A714,'Chrono+Classement'!G:O,9,FALSE)","v":{"$error":"#N/A"}},{"$f":"IF(K714=17,Param!G714,IF(K714=28,Param!H714,IF(K714=45,Param!I714)))","v":"00:00:42"},{"$error":"#N/A"},null,1900,false,false]
[714,"-",null,null,null,null,115.40041067761807,null,null,null,28,{"$f":"VLOOKUP(A715,'Chrono+Classement'!G:O,5,FALSE)","v":{"$error":"#N/A"}},{"$f":"VLOOKUP(A715,'Chrono+Classement'!G:O,9,FALSE)","v":{"$error":"#N/A"}},{"$f":"IF(K715=17,Param!G715,IF(K715=28,Param!H715,IF(K715=45,Param!I715)))","v":"00:00:42"},{"$error":"#N/A"},null,1900,false,false]
[715,"-",null,null,null,null,115.40041067761807,null,null,null,28,{"$f":"VLOOKUP(A716,'Chrono+Classement'!G:O,5,FALSE)","v":{"$error":"#N/A"}},{"$f":"VLOOKUP(A716,'Chrono+Classement'!G:O,9,FALSE)","v":{"$error":"#N/A"}},{"$f":"IF(K716=17,Param!G716,IF(K716=28,Param!H716,IF(K716=45,Param!I716)))","v":"00:00:42"},{"$error":"#N/A"},null,1900,false,false]
[716,"-",null,null,null,null,115.40041067761807,null,null,null,28,{"$f":"VLOOKUP(A717,'Chrono+Classement'!G:O,5,FALSE)","v":{"$error":"#N/A"}},{"$f":"VLOOKUP(A717,'Chrono+Classement'!G:O,9,FALSE)","v":{"$error":"#N/A"}},{"$f":"IF(K717=17,Param!G717,IF(K717=28,Param!H717,IF(K717=45,Param!I717)))","v":"00:00:42"},{"$error":"#N/A"},null,1900,false,false]
[717,"-",null,null,null,null,115.40041067761807,null,null,null,28,{"$f":"VLOOKUP(A718,'Chrono+Classement'!G:O,5,FALSE)","v":{"$error":"#N/A"}},{"$f":"VLOOKUP(A718,'Chrono+Classement'!G:O,9,FALSE)","v":{"$error":"#N/A"}},{"$f":"IF(K718=17,Param!G718,IF(K718=28,Param!H718,IF(K718=45,Param!I718)))","v":"00:00:42"},{"$error":"#N/A"},null,1900,false,false]
[718,"-",null,null,null,null,115.40041067761807,null,null,null,28,{"$f":"VLOOKUP(A719,'Chrono+Classement'!G:O,5,FALSE)","v":{"$error":"#N/A"}},{"$f":"VLOOKUP(A719,'Chrono+Classement'!G:O,9,FALSE)","v":{"$error":"#N/A"}},{"$f":"IF(K719=17,Param!G719,IF(K719=28,Param!H719,IF(K719=45,Param!I719)))","v":"00:00:42"},{"$error":"#N/A"},null,1900,false,false]
[719,"-",null,null,null,null,115.40041067761807,null,null,null,28,{"$f":"VLOOKUP(A720,'Chrono+Classement'!G:O,5,FALSE)","v":{"$error":"#N/A"}},{"$f":"VLOOKUP(A720,'Chrono+Classement'!G:O,9,FALSE)","v":{"$error":"#N/A"}},{"$f":"IF(K720=17,Param!G720,IF(K720=28,Param!H720,IF(K720=45,Param!I720)))","v":"00:00:42"},{"$error":"#N/A"},null,1900,false,false]
[720,"-",null,null,null,null,115.40041067761807,null,null,null,28,{"$f":"VLOOKUP(A721,'Chrono+Classement'!G:O,5,FALSE)","v":{"$error":"#N/A"}},{"$f":"VLOOKUP(A721,'Chrono+Classement'!G:O,9,FALSE)","v":{"$error":"#N/A"}},{"$f":"IF(K721=17,Param!G721,IF(K721=28,Param!H721,IF(K721=45,Param!I721)))","v":"00:00:42"},{"$error":"#N/A"},null,1900,false,false]
[721,"-",null,null,null,null,115.40041067761807,null,null,null,28,{"$f":"VLOOKUP(A722,'Chrono+Classement'!G:O,5,FALSE)","v":{"$error":"#N/A"}},{"$f":"VLOOKUP(A722,'Chrono+Classement'!G:O,9,FALSE)","v":{"$error":"#N/A"}},{"$f":"IF(K722=17,Param!G722,IF(K722=28,Param!H722,IF(K722=45,Param!I722)))","v":"00:00:42"},{"$error":"#N/A"},null,1900,false,false]
[722,"-",null,null,null,null,115.40041067761807,null,null,null,28,{"$f":"VLOOKUP(A723,'Chrono+Classement'!G:O,5,FALSE)","v":{"$error":"#N/A"}},{"$f":"VLOOKUP(A723,'Chrono+Classement'!G:O,9,FALSE)","v":{"$error":"#N/A"}},{"$f":"IF(K723=17,Param!G723,IF(K723=28,Param!H723,IF(K723=45,Param!I723)))","v":"00:00:42"},{"$error":"#N/A"},null,1900,false,false]
[723,"-",null,null,null,null,115.40041067761807,null,null,null,28,{"$f":"VLOOKUP(A724,'Chrono+Classement'!G:O,5,FALSE)","v":{"$error":"#N/A"}},{"$f":"VLOOKUP(A724,'Chrono+Classement'!G:O,9,FALSE)","v":{"$error":"#N/A"}},{"$f":"IF(K724=17,Param!G724,IF(K724=28,Param!H724,IF(K724=45,Param!I724)))","v":"00:00:42"},{"$error":"#N/A"},null,1900,false,false]
[724,"-",null,null,null,null,115.40041067761807,null,null,null,28,{"$f":"VLOOKUP(A725,'Chrono+Classement'!G:O,5,FALSE)","v":{"$error":"#N/A"}},{"$f":"VLOOKUP(A725,'Chrono+Classement'!G:O,9,FALSE)","v":{"$error":"#N/A"}},{"$f":"IF(K725=17,Param!G725,IF(K725=28,Param!H725,IF(K725=45,Param!I725)))","v":"00:00:42"},{"$error":"#N/A"},null,1900,false,false]
[725,"-",null,null,null,null,115.40041067761807,null,null,null,28,{"$f":"VLOOKUP(A726,'Chrono+Classement'!G:O,5,FALSE)","v":{"$error":"#N/A"}},{"$f":"VLOOKUP(A726,'Chrono+Classement'!G:O,9,FALSE)","v":{"$error":"#N/A"}},{"$f":"IF(K726=17,Param!G726,IF(K726=28,Param!H726,IF(K726=45,Param!I726)))","v":"00:00:42"},{"$error":"#N/A"},null,1900,false,false]
[726,"-",null,null,null,null,115.40041067761807,null,null,null,28,{"$f":"VLOOKUP(A727,'Chrono+Classement'!G:O,5,FALSE)","v":{"$error":"#N/A"}},{"$f":"VLOOKUP(A727,'Chrono+Classement'!G:O,9,FALSE)","v":{"$error":"#N/A"}},{"$f":"IF(K727=17,Param!G727,IF(K727=28,Param!H727,IF(K727=45,Param!I727)))","v":"00:00:42"},{"$error":"#N/A"},null,1900,false,false]
[727,"-",null,null,null,null,115.40041067761807,null,null,null,28,{"$f":"VLOOKUP(A728,'Chrono+Classement'!G:O,5,FALSE)","v":{"$error":"#N/A"}},{"$f":"VLOOKUP(A728,'Chrono+Classement'!G:O,9,FALSE)","v":{"$error":"#N/A"}},{"$f":"IF(K728=17,Param!G728,IF(K728=28,Param!H728,IF(K728=45,Param!I728)))","v":"00:00:42"},{"$error":"#N/A"},null,1900,false,false]
[728,"-",null,null,null,null,115.40041067761807,null,null,null,28,{"$f":"VLOOKUP(A729,'Chrono+Classement'!G:O,5,FALSE)","v":{"$error":"#N/A"}},{"$f":"VLOOKUP(A729,'Chrono+Classement'!G:O,9,FALSE)","v":{"$error":"#N/A"}},{"$f":"IF(K729=17,Param!G729,IF(K729=28,Param!H729,IF(K729=45,Param!I729)))","v":"00:00:42"},{"$error":"#N/A"},null,1900,false,false]
[729,"-",null,null,null,null,115.40041067761807,null,null,null,28,{"$f":"VLOOKUP(A730,'Chrono+Classement'!G:O,5,FALSE)","v":{"$error":"#N/A"}},{"$f":"VLOOKUP(A730,'Chrono+Classement'!G:O,9,FALSE)","v":{"$error":"#N/A"}},{"$f":"IF(K730=17,Param!G730,IF(K730=28,Param!H730,IF(K730=45,Param!I730)))","v":"00:00:42"},{"$error":"#N/A"},null,1900,false,false]
[730,"-",null,null,null,null,115.40041067761807,null,null,null,28,{"$f":"VLOOKUP(A731,'Chrono+Classement'!G:O,5,FALSE)","v":{"$error":"#N/A"}},{"$f":"VLOOKUP(A731,'Chrono+Classement'!G:O,9,FALSE)","v":{"$error":"#N/A"}},{"$f":"IF(K731=17,Param!G731,IF(K731=28,Param!H731,IF(K731=45,Param!I731)))","v":"00:00:42"},{"$error":"#N/A"},null,1900,false,false]
[731,"-",null,null,null,null,115.40041067761807,null,null,null,28,{"$f":"VLOOKUP(A732,'Chrono+Classement'!G:O,5,FALSE)","v":{"$error":"#N/A"}},{"$f":"VLOOKUP(A732,'Chrono+Classement'!G:O,9,FALSE)","v":{"$error":"#N/A"}},{"$f":"IF(K732=17,Param!G732,IF(K732=28,Param!H732,IF(K732=45,Param!I732)))","v":"00:00:42"},{"$error":"#N/A"},null,1900,false,false]
[732,"-",null,null,null,null,115.40041067761807,null,null,null,28,{"$f":"VLOOKUP(A733,'Chrono+Classement'!G:O,5,FALSE)","v":{"$error":"#N/A"}},{"$f":"VLOOKUP(A733,'Chrono+Classement'!G:O,9,FALSE)","v":{"$error":"#N/A"}},{"$f":"IF(K733=17,Param!G733,IF(K733=28,Param!H733,IF(K733=45,Param!I733)))","v":"00:00:42"},{"$error":"#N/A"},null,1900,false,false]
[733,"-",null,null,null,null,115.40041067761807,null,null,null,28,{"$f":"VLOOKUP(A734,'Chrono+Classement'!G:O,5,FALSE)","v":{"$error":"#N/A"}},{"$f":"VLOOKUP(A734,'Chrono+Classement'!G:O,9,FALSE)","v":{"$error":"#N/A"}},{"$f":"IF(K734=17,Param!G734,IF(K734=28,Param!H734,IF(K734=45,Param!I734)))","v":"00:00:42"},{"$error":"#N/A"},null,1900,false,false]
[734,"-",null,null,null,null,115.40041067761807,null,null,null,28,{"$f":"VLOOKUP(A735,'Chrono+Classement'!G:O,5,FALSE)","v":{"$error":"#N/A"}},{"$f":"VLOOKUP(A735,'Chrono+Classement'!G:O,9,FALSE)","v":{"$error":"#N/A"}},{"$f":"IF(K735=17,Param!G735,IF(K735=28,Param!H735,IF(K735=45,Param!I735)))","v":"00:00:42"},{"$error":"#N/A"},null,1900,false,false]
[735,"-",null,null,null,null,115.40041067761807,null,null,null,28,{"$f":"VLOOKUP(A736,'Chrono+Classement'!G:O,5,FALSE)","v":{"$error":"#N/A"}},{"$f":"VLOOKUP(A736,'Chrono+Classement'!G:O,9,FALSE)","v":{"$error":"#N/A"}},{"$f":"IF(K736=17,Param!G736,IF(K736=28,Param!H736,IF(K736=45,Param!I736)))","v":"00:00:42"},{"$error":"#N/A"},null,1900,false,false]
[736,"-",null,null,null,null,115.40041067761807,null,null,null,28,{"$f":"VLOOKUP(A737,'Chrono+Classement'!G:O,5,FALSE)","v":{"$error":"#N/A"}},{"$f":"VLOOKUP(A737,'Chrono+Classement'!G:O,9,FALSE)","v":{"$error":"#N/A"}},{"$f":"IF(K737=17,Param!G737,IF(K737=28,Param!H737,IF(K737=45,Param!I737)))","v":"00:00:42"},{"$error":"#N/A"},null,1900,false,false]
[737,"-",null,null,null,null,115.40041067761807,null,null,null,28,{"$f":"VLOOKUP(A738,'Chrono+Classement'!G:O,5,FALSE)","v":{"$error":"#N/A"}},{"$f":"VLOOKUP(A738,'Chrono+Classement'!G:O,9,FALSE)","v":{"$error":"#N/A"}},{"$f":"IF(K738=17,Param!G738,IF(K738=28,Param!H738,IF(K738=45,Param!I738)))","v":"00:00:42"},{"$error":"#N/A"},null,1900,false,false]
[738,"-",null,null,null,null,115.40041067761807,null,null,null,28,{"$f":"VLOOKUP(A739,'Chrono+Classement'!G:O,5,FALSE)","v":{"$error":"#N/A"}},{"$f":"VLOOKUP(A739,'Chrono+Classement'!G:O,9,FALSE)","v":{"$error":"#N/A"}},{"$f":"IF(K739=17,Param!G739,IF(K739=28,Param!H739,IF(K739=45,Param!I739)))","v":"00:00:42"},{"$error":"#N/A"},null,1900,false,false]
[739,"-",null,null,null,null,115.40041067761807,null,null,null,28,{"$f":"VLOOKUP(A740,'Chrono+Classement'!G:O,5,FALSE)","v":{"$error":"#N/A"}},{"$f":"VLOOKUP(A740,'Chrono+Classement'!G:O,9,FALSE)","v":{"$error":"#N/A"}},{"$f":"IF(K740=17,Param!G740,IF(K740=28,Param!H740,IF(K740=45,Param!I740)))","v":"00:00:42"},{"$error":"#N/A"},null,1900,false,false]
[740,"-",null,null,null,null,115.40041067761807,null,null,null,28,{"$f":"VLOOKUP(A741,'Chrono+Classement'!G:O,5,FALSE)","v":{"$error":"#N/A"}},{"$f":"VLOOKUP(A741,'Chrono+Classement'!G:O,9,FALSE)","v":{"$error":"#N/A"}},{"$f":"IF(K741=17,Param!G741,IF(K741=28,Param!H741,IF(K741=45,Param!I741)))","v":"00:00:42"},{"$f":"M741-N741","v":{"$error":"#N/A"}},null,1900,false,false]
[741,"-",null,null,null,null,115.40041067761807,null,null,null,28,{"$f":"VLOOKUP(A742,'Chrono+Classement'!G:O,5,FALSE)","v":{"$error":"#N/A"}},{"$f":"VLOOKUP(A742,'Chrono+Classement'!G:O,9,FALSE)","v":{"$error":"#N/A"}},{"$f":"IF(K742=17,Param!G742,IF(K742=28,Param!H742,IF(K742=45,Param!I742)))","v":"00:00:42"},{"$error":"#N/A"},null,1900,false,false]
[742,"-",null,null,null,null,115.40041067761807,null,null,null,28,{"$f":"VLOOKUP(A743,'Chrono+Classement'!G:O,5,FALSE)","v":{"$error":"#N/A"}},{"$f":"VLOOKUP(A743,'Chrono+Classement'!G:O,9,FALSE)","v":{"$error":"#N/A"}},{"$f":"IF(K743=17,Param!G743,IF(K743=28,Param!H743,IF(K743=45,Param!I743)))","v":"00:00:42"},{"$error":"#N/A"},null,1900,false,false]
[743,"-",null,null,null,null,115.40041067761807,null,null,null,28,{"$f":"VLOOKUP(A744,'Chrono+Classement'!G:O,5,FALSE)","v":{"$error":"#N/A"}},{"$f":"VLOOKUP(A744,'Chrono+Classement'!G:O,9,FALSE)","v":{"$error":"#N/A"}},{"$f":"IF(K744=17,Param!G744,IF(K744=28,Param!H744,IF(K744=45,Param!I744)))","v":"00:00:42"},{"$error":"#N/A"},null,1900,false,false]
[744,"-",null,null,null,null,115.40041067761807,null,null,null,28,{"$f":"VLOOKUP(A745,'Chrono+Classement'!G:O,5,FALSE)","v":{"$error":"#N/A"}},{"$f":"VLOOKUP(A745,'Chrono+Classement'!G:O,9,FALSE)","v":{"$error":"#N/A"}},{"$f":"IF(K745=17,Param!G745,IF(K745=28,Param!H745,IF(K745=45,Param!I745)))","v":"00:00:42"},{"$error":"#N/A"},null,1900,false,false]
[745,"-",null,null,null,null,115.40041067761807,null,null,null,28,{"$f":"VLOOKUP(A746,'Chrono+Classement'!G:O,5,FALSE)","v":{"$error":"#N/A"}},{"$f":"VLOOKUP(A746,'Chrono+Classement'!G:O,9,FALSE)","v":{"$error":"#N/A"}},{"$f":"IF(K746=17,Param!G746,IF(K746=28,Param!H746,IF(K746=45,Param!I746)))","v":"00:00:42"},{"$error":"#N/A"},null,1900,false,false]
[746,"-",null,null,null,null,115.40041067761807,null,null,null,28,{"$f":"VLOOKUP(A747,'Chrono+Classement'!G:O,5,FALSE)","v":{"$error":"#N/A"}},{"$f":"VLOOKUP(A747,'Chrono+Classement'!G:O,9,FALSE)","v":{"$error":"#N/A"}},{"$f":"IF(K747=17,Param!G747,IF(K747=28,Param!H747,IF(K747=45,Param!I747)))","v":"00:00:42"},{"$error":"#N/A"},null,1900,false,false]
[747,"-",null,null,null,null,115.40041067761807,null,null,null,28,{"$f":"VLOOKUP(A748,'Chrono+Classement'!G:O,5,FALSE)","v":{"$error":"#N/A"}},{"$f":"VLOOKUP(A748,'Chrono+Classement'!G:O,9,FALSE)","v":{"$error":"#N/A"}},{"$f":"IF(K748=17,Param!G748,IF(K748=28,Param!H748,IF(K748=45,Param!I748)))","v":"00:00:42"},{"$error":"#N/A"},null,1900,false,false]
[748,"-",null,null,null,null,115.40041067761807,null,null,null,28,{"$f":"VLOOKUP(A749,'Chrono+Classement'!G:O,5,FALSE)","v":{"$error":"#N/A"}},{"$f":"VLOOKUP(A749,'Chrono+Classement'!G:O,9,FALSE)","v":{"$error":"#N/A"}},{"$f":"IF(K749=17,Param!G749,IF(K749=28,Param!H749,IF(K749=45,Param!I749)))","v":"00:00:42"},{"$error":"#N/A"},null,1900,false,false]
[749,"-",null,null,null,null,115.40041067761807,null,null,null,28,{"$f":"VLOOKUP(A750,'Chrono+Classement'!G:O,5,FALSE)","v":{"$error":"#N/A"}},{"$f":"VLOOKUP(A750,'Chrono+Classement'!G:O,9,FALSE)","v":{"$error":"#N/A"}},{"$f":"IF(K750=17,Param!G750,IF(K750=28,Param!H750,IF(K750=45,Param!I750)))","v":"00:00:42"},{"$error":"#N/A"},null,1900,false,false]
[750,"-",null,null,null,null,115.40041067761807,null,null,null,28,{"$f":"VLOOKUP(A751,'Chrono+Classement'!G:O,5,FALSE)","v":{"$error":"#N/A"}},{"$f":"VLOOKUP(A751,'Chrono+Classement'!G:O,9,FALSE)","v":{"$error":"#N/A"}},{"$f":"IF(K751=17,Param!G751,IF(K751=28,Param!H751,IF(K751=45,Param!I751)))","v":"00:00:42"},{"$error":"#N/A"},null,1900,false,false]
[751,"-",null,null,null,null,115.40041067761807,null,null,null,28,{"$f":"VLOOKUP(A752,'Chrono+Classement'!G:O,5,FALSE)","v":{"$error":"#N/A"}},{"$f":"VLOOKUP(A752,'Chrono+Classement'!G:O,9,FALSE)","v":{"$error":"#N/A"}},{"$f":"IF(K752=17,Param!G752,IF(K752=28,Param!H752,IF(K752=45,Param!I752)))","v":"00:00:42"},{"$error":"#N/A"},null,1900,false,false]
[752,"-",null,null,null,null,115.40041067761807,null,null,null,28,{"$f":"VLOOKUP(A753,'Chrono+Classement'!G:O,5,FALSE)","v":{"$error":"#N/A"}},{"$f":"VLOOKUP(A753,'Chrono+Classement'!G:O,9,FALSE)","v":{"$error":"#N/A"}},{"$f":"IF(K753=17,Param!G753,IF(K753=28,Param!H753,IF(K753=45,Param!I753)))","v":"00:00:42"},{"$error":"#N/A"},null,1900,false,false]
[753,"-",null,null,null,null,115.40041067761807,null,null,null,28,{"$f":"VLOOKUP(A754,'Chrono+Classement'!G:O,5,FALSE)","v":{"$error":"#N/A"}},{"$f":"VLOOKUP(A754,'Chrono+Classement'!G:O,9,FALSE)","v":{"$error":"#N/A"}},{"$f":"IF(K754=17,Param!G754,IF(K754=28,Param!H754,IF(K754=45,Param!I754)))","v":"00:00:42"},{"$error":"#N/A"},null,1900,false,false]
[754,"-",null,null,null,null,115.40041067761807,null,null,null,28,{"$f":"VLOOKUP(A755,'Chrono+Classement'!G:O,5,FALSE)","v":{"$error":"#N/A"}},{"$f":"VLOOKUP(A755,'Chrono+Classement'!G:O,9,FALSE)","v":{"$error":"#N/A"}},{"$f":"IF(K755=17,Param!G755,IF(K755=28,Param!H755,IF(K755=45,Param!I755)))","v":"00:00:42"},{"$error":"#N/A"},null,1900,false,false]
[755,"-",null,null,null,null,115.40041067761807,null,null,null,28,{"$f":"VLOOKUP(A756,'Chrono+Classement'!G:O,5,FALSE)","v":{"$error":"#N/A"}},{"$f":"VLOOKUP(A756,'Chrono+Classement'!G:O,9,FALSE)","v":{"$error":"#N/A"}},{"$f":"IF(K756=17,Param!G756,IF(K756=28,Param!H756,IF(K756=45,Param!I756)))","v":"00:00:42"},{"$error":"#N/A"},null,1900,false,false]
[756,"-",null,null,null,null,115.40041067761807,null,null,null,28,{"$f":"VLOOKUP(A757,'Chrono+Classement'!G:O,5,FALSE)","v":{"$error":"#N/A"}},{"$f":"VLOOKUP(A757,'Chrono+Classement'!G:O,9,FALSE)","v":{"$error":"#N/A"}},{"$f":"IF(K757=17,Param!G757,IF(K757=28,Param!H757,IF(K757=45,Param!I757)))","v":"00:00:42"},{"$error":"#N/A"},null,1900,false,false]
[757,"-",null,null,null,null,115.40041067761807,null,null,null,28,{"$f":"VLOOKUP(A758,'Chrono+Classement'!G:O,5,FALSE)","v":{"$error":"#N/A"}},{"$f":"VLOOKUP(A758,'Chrono+Classement'!G:O,9,FALSE)","v":{"$error":"#N/A"}},{"$f":"IF(K758=17,Param!G758,IF(K758=28,Param!H758,IF(K758=45,Param!I758)))","v":"00:00:42"},{"$error":"#N/A"},null,1900,false,false]
[758,"-",null,null,null,null,115.40041067761807,null,null,null,28,{"$f":"VLOOKUP(A759,'Chrono+Classement'!G:O,5,FALSE)","v":{"$error":"#N/A"}},{"$f":"VLOOKUP(A759,'Chrono+Classement'!G:O,9,FALSE)","v":{"$error":"#N/A"}},{"$f":"IF(K759=17,Param!G759,IF(K759=28,Param!H759,IF(K759=45,Param!I759)))","v":"00:00:42"},{"$error":"#N/A"},null,1900,false,false]
[759,"-",null,null,null,null,115.40041067761807,null,null,null,28,{"$f":"VLOOKUP(A760,'Chrono+Classement'!G:O,5,FALSE)","v":{"$error":"#N/A"}},{"$f":"VLOOKUP(A760,'Chrono+Classement'!G:O,9,FALSE)","v":{"$error":"#N/A"}},{"$f":"IF(K760=17,Param!G760,IF(K760=28,Param!H760,IF(K760=45,Param!I760)))","v":"00:00:42"},{"$error":"#N/A"},null,1900,false,false]
[760,"-",null,null,null,null,115.40041067761807,null,null,null,28,{"$f":"VLOOKUP(A761,'Chrono+Classement'!G:O,5,FALSE)","v":{"$error":"#N/A"}},{"$f":"VLOOKUP(A761,'Chrono+Classement'!G:O,9,FALSE)","v":{"$error":"#N/A"}},{"$f":"IF(K761=17,Param!G761,IF(K761=28,Param!H761,IF(K761=45,Param!I761)))","v":"00:00:42"},{"$error":"#N/A"},null,1900,false,false]
[761,"-",null,null,null,null,115.40041067761807,null,null,null,28,{"$f":"VLOOKUP(A762,'Chrono+Classement'!G:O,5,FALSE)","v":{"$error":"#N/A"}},{"$f":"VLOOKUP(A762,'Chrono+Classement'!G:O,9,FALSE)","v":{"$error":"#N/A"}},{"$f":"IF(K762=17,Param!G762,IF(K762=28,Param!H762,IF(K762=45,Param!I762)))","v":"00:00:42"},{"$error":"#N/A"},null,1900,false,false]
[762,"-",null,null,null,null,115.40041067761807,null,null,null,28,{"$f":"VLOOKUP(A763,'Chrono+Classement'!G:O,5,FALSE)","v":{"$error":"#N/A"}},{"$f":"VLOOKUP(A763,'Chrono+Classement'!G:O,9,FALSE)","v":{"$error":"#N/A"}},{"$f":"IF(K763=17,Param!G763,IF(K763=28,Param!H763,IF(K763=45,Param!I763)))","v":"00:00:42"},{"$error":"#N/A"},null,1900,false,false]
[763,"-",null,null,null,null,115.40041067761807,null,null,null,28,{"$f":"VLOOKUP(A764,'Chrono+Classement'!G:O,5,FALSE)","v":{"$error":"#N/A"}},{"$f":"VLOOKUP(A764,'Chrono+Classement'!G:O,9,FALSE)","v":{"$error":"#N/A"}},{"$f":"IF(K764=17,Param!G764,IF(K764=28,Param!H764,IF(K764=45,Param!I764)))","v":"00:00:42"},{"$error":"#N/A"},null,1900,false,false]
[764,"-",null,null,null,null,115.40041067761807,null,null,null,28,{"$f":"VLOOKUP(A765,'Chrono+Classement'!G:O,5,FALSE)","v":{"$error":"#N/A"}},{"$f":"VLOOKUP(A765,'Chrono+Classement'!G:O,9,FALSE)","v":{"$error":"#N/A"}},{"$f":"IF(K765=17,Param!G765,IF(K765=28,Param!H765,IF(K765=45,Param!I765)))","v":"00:00:42"},{"$error":"#N/A"},null,1900,false,false]
[765,"-",null,null,null,null,115.40041067761807,null,null,null,28,{"$f":"VLOOKUP(A766,'Chrono+Classement'!G:O,5,FALSE)","v":{"$error":"#N/A"}},{"$f":"VLOOKUP(A766,'Chrono+Classement'!G:O,9,FALSE)","v":{"$error":"#N/A"}},{"$f":"IF(K766=17,Param!G766,IF(K766=28,Param!H766,IF(K766=45,Param!I766)))","v":"00:00:42"},{"$error":"#N/A"},null,1900,false,false]
[766,"-",null,null,null,null,115.40041067761807,null,null,null,28,{"$f":"VLOOKUP(A767,'Chrono+Classement'!G:O,5,FALSE)","v":{"$error":"#N/A"}},{"$f":"VLOOKUP(A767,'Chrono+Classement'!G:O,9,FALSE)","v":{"$error":"#N/A"}},{"$f":"IF(K767=17,Param!G767,IF(K767=28,Param!H767,IF(K767=45,Param!I767)))","v":"00:00:42"},{"$error":"#N/A"},null,1900,false,false]
[767,"-",null,null,null,null,115.40041067761807,null,null,null,28,{"$f":"VLOOKUP(A768,'Chrono+Classement'!G:O,5,FALSE)","v":{"$error":"#N/A"}},{"$f":"VLOOKUP(A768,'Chrono+Classement'!G:O,9,FALSE)","v":{"$error":"#N/A"}},{"$f":"IF(K768=17,Param!G768,IF(K768=28,Param!H768,IF(K768=45,Param!I768)))","v":"00:00:42"},{"$error":"#N/A"},null,1900,false,false]
[768,"-",null,null,null,null,115.40041067761807,null,null,null,28,{"$f":"VLOOKUP(A769,'Chrono+Classement'!G:O,5,FALSE)","v":{"$error":"#N/A"}},{"$f":"VLOOKUP(A769,'Chrono+Classement'!G:O,9,FALSE)","v":{"$error":"#N/A"}},{"$f":"IF(K769=17,Param!G769,IF(K769=28,Param!H769,IF(K769=45,Param!I769)))","v":"00:00:42"},{"$error":"#N/A"},null,1900,false,false]
[769,{"$f":"CONCATENATE(C770,\"-\",D770)","v":"-"},null,null,null,null,{"$f":"(TODAY()-F770)/365.25","v":115.40041067761807},null,null,null,28,{"$f":"VLOOKUP(A770,'Chrono+Classement'!G:O,5,FALSE)","v":{"$error":"#N/A"}},{"$f":"VLOOKUP(A770,'Chrono+Classement'!G:O,9,FALSE)","v":{"$error":"#N/A"}},{"$f":"IF(K770=17,Param!G770,IF(K770=28,Param!H770,IF(K770=45,Param!I770)))","v":"00:00:42"},{"$error":"#N/A"},null,{"$f":"YEAR(F770)","v":1900},{"$f":"IF(E770=\"M\",IF(Q770<=1965,\"Masters 5\",IF(Q770<=1975,\"Masters 3/4\",IF(Q770<=1985,\"Masters 1/2\",IF(Q770<=1992,\"Hommes\",IF(Q770<=1996,\"Espoirs\",IF(Q770<=1998,\"Juniors\",IF(Q770<=2000,\"Cadets\",0))))))))","v":false},{"$f":"IF(E770=\"F\",IF(Q770<=1992,\"Dames\",IF(Q770<=1996,\"Espoirs Dames\",IF(Q770<=1998,\"Juniors Dames\",IF(Q770<=2000,\"Cadettes\",0)))))","v":false}]
[770,"-",null,null,null,null,115.40041067761807,null,null,null,28,{"$f":"VLOOKUP(A771,'Chrono+Classement'!G:O,5,FALSE)","v":{"$error":"#N/A"}},{"$f":"VLOOKUP(A771,'Chrono+Classement'!G:O,9,FALSE)","v":{"$error":"#N/A"}},{"$f":"IF(K771=17,Param!G771,IF(K771=28,Param!H771,IF(K771=45,Param!I771)))","v":"00:00:42"},{"$error":"#N/A"},null,1900,false,false]
[771,"-",null,null,null,null,115.40041067761807,null,null,null,28,{"$f":"VLOOKUP(A772,'Chrono+Classement'!G:O,5,FALSE)","v":{"$error":"#N/A"}},{"$f":"VLOOKUP(A772,'Chrono+Classement'!G:O,9,FALSE)","v":{"$error":"#N/A"}},{"$f":"IF(K772=17,Param!G772,IF(K772=28,Param!H772,IF(K772=45,Param!I772)))","v":"00:00:42"},{"$error":"#N/A"},null,1900,false,false]
[772,"-",null,null,null,null,115.40041067761807,null,null,null,28,{"$f":"VLOOKUP(A773,'Chrono+Classement'!G:O,5,FALSE)","v":{"$error":"#N/A"}},{"$f":"VLOOKUP(A773,'Chrono+Classement'!G:O,9,FALSE)","v":{"$error":"#N/A"}},{"$f":"IF(K773=17,Param!G773,IF(K773=28,Param!H773,IF(K773=45,Param!I773)))","v":"00:00:42"},{"$error":"#N/A"},null,1900,false,false]
[773,"-",null,null,null,null,115.40041067761807,null,null,null,28,{"$f":"VLOOKUP(A774,'Chrono+Classement'!G:O,5,FALSE)","v":{"$error":"#N/A"}},{"$f":"VLOOKUP(A774,'Chrono+Classement'!G:O,9,FALSE)","v":{"$error":"#N/A"}},{"$f":"IF(K774=17,Param!G774,IF(K774=28,Param!H774,IF(K774=45,Param!I774)))","v":"00:00:42"},{"$error":"#N/A"},null,1900,false,false]
[774,"-",null,null,null,null,115.40041067761807,null,null,null,28,{"$f":"VLOOKUP(A775,'Chrono+Classement'!G:O,5,FALSE)","v":{"$error":"#N/A"}},{"$f":"VLOOKUP(A775,'Chrono+Classement'!G:O,9,FALSE)","v":{"$error":"#N/A"}},{"$f":"IF(K775=17,Param!G775,IF(K775=28,Param!H775,IF(K775=45,Param!I775)))","v":"00:00:42"},{"$error":"#N/A"},null,1900,false,false]
[775,"-",null,null,null,null,115.40041067761807,null,null,null,28,{"$f":"VLOOKUP(A776,'Chrono+Classement'!G:O,5,FALSE)","v":{"$error":"#N/A"}},{"$f":"VLOOKUP(A776,'Chrono+Classement'!G:O,9,FALSE)","v":{"$error":"#N/A"}},{"$f":"IF(K776=17,Param!G776,IF(K776=28,Param!H776,IF(K776=45,Param!I776)))","v":"00:00:42"},{"$error":"#N/A"},null,1900,false,false]
[776,"-",null,null,null,null,115.40041067761807,null,null,null,28,{"$f":"VLOOKUP(A777,'Chrono+Classement'!G:O,5,FALSE)","v":{"$error":"#N/A"}},{"$f":"VLOOKUP(A777,'Chrono+Classement'!G:O,9,FALSE)","v":{"$error":"#N/A"}},{"$f":"IF(K777=17,Param!G777,IF(K777=28,Param!H777,IF(K777=45,Param!I777)))","v":"00:00:42"},{"$error":"#N/A"},null,1900,false,false]
[777,"-",null,null,null,null,115.40041067761807,null,null,null,28,{"$f":"VLOOKUP(A778,'Chrono+Classement'!G:O,5,FALSE)","v":{"$error":"#N/A"}},{"$f":"VLOOKUP(A778,'Chrono+Classement'!G:O,9,FALSE)","v":{"$error":"#N/A"}},{"$f":"IF(K778=17,Param!G778,IF(K778=28,Param!H778,IF(K778=45,Param!I778)))","v":"00:00:42"},{"$error":"#N/A"},null,1900,false,false]
[778,"-",null,null,null,null,115.40041067761807,null,null,null,28,{"$f":"VLOOKUP(A779,'Chrono+Classement'!G:O,5,FALSE)","v":{"$error":"#N/A"}},{"$f":"VLOOKUP(A779,'Chrono+Classement'!G:O,9,FALSE)","v":{"$error":"#N/A"}},{"$f":"IF(K779=17,Param!G779,IF(K779=28,Param!H779,IF(K779=45,Param!I779)))","v":"00:00:42"},{"$error":"#N/A"},null,1900,false,false]
[779,"-",null,null,null,null,115.40041067761807,null,null,null,28,{"$f":"VLOOKUP(A780,'Chrono+Classement'!G:O,5,FALSE)","v":{"$error":"#N/A"}},{"$f":"VLOOKUP(A780,'Chrono+Classement'!G:O,9,FALSE)","v":{"$error":"#N/A"}},{"$f":"IF(K780=17,Param!G780,IF(K780=28,Param!H780,IF(K780=45,Param!I780)))","v":"00:00:42"},{"$error":"#N/A"},null,1900,false,false]
[780,"-",null,null,null,null,115.40041067761807,null,null,null,28,{"$f":"VLOOKUP(A781,'Chrono+Classement'!G:O,5,FALSE)","v":{"$error":"#N/A"}},{"$f":"VLOOKUP(A781,'Chrono+Classement'!G:O,9,FALSE)","v":{"$error":"#N/A"}},{"$f":"IF(K781=17,Param!G781,IF(K781=28,Param!H781,IF(K781=45,Param!I781)))","v":"00:00:42"},{"$error":"#N/A"},null,1900,false,false]
[781,"-",null,null,null,null,115.40041067761807,null,null,null,28,{"$f":"VLOOKUP(A782,'Chrono+Classement'!G:O,5,FALSE)","v":{"$error":"#N/A"}},{"$f":"VLOOKUP(A782,'Chrono+Classement'!G:O,9,FALSE)","v":{"$error":"#N/A"}},{"$f":"IF(K782=17,Param!G782,IF(K782=28,Param!H782,IF(K782=45,Param!I782)))","v":"00:00:42"},{"$error":"#N/A"},null,1900,false,false]
[782,"-",null,null,null,null,115.40041067761807,null,null,null,28,{"$f":"VLOOKUP(A783,'Chrono+Classement'!G:O,5,FALSE)","v":{"$error":"#N/A"}},{"$f":"VLOOKUP(A783,'Chrono+Classement'!G:O,9,FALSE)","v":{"$error":"#N/A"}},{"$f":"IF(K783=17,Param!G783,IF(K783=28,Param!H783,IF(K783=45,Param!I783)))","v":"00:00:42"},{"$error":"#N/A"},null,1900,false,false]
[783,"-",null,null,null,null,115.40041067761807,null,null,null,28,{"$f":"VLOOKUP(A784,'Chrono+Classement'!G:O,5,FALSE)","v":{"$error":"#N/A"}},{"$f":"VLOOKUP(A784,'Chrono+Classement'!G:O,9,FALSE)","v":{"$error":"#N/A"}},{"$f":"IF(K784=17,Param!G784,IF(K784=28,Param!H784,IF(K784=45,Param!I784)))","v":"00:00:42"},{"$error":"#N/A"},null,1900,false,false]
[784,"-",null,null,null,null,115.40041067761807,null,null,null,28,{"$f":"VLOOKUP(A785,'Chrono+Classement'!G:O,5,FALSE)","v":{"$error":"#N/A"}},{"$f":"VLOOKUP(A785,'Chrono+Classement'!G:O,9,FALSE)","v":{"$error":"#N/A"}},{"$f":"IF(K785=17,Param!G785,IF(K785=28,Param!H785,IF(K785=45,Param!I785)))","v":"00:00:42"},{"$error":"#N/A"},null,1900,false,false]
[785,"-",null,null,null,null,115.40041067761807,null,null,null,28,{"$f":"VLOOKUP(A786,'Chrono+Classement'!G:O,5,FALSE)","v":{"$error":"#N/A"}},{"$f":"VLOOKUP(A786,'Chrono+Classement'!G:O,9,FALSE)","v":{"$error":"#N/A"}},{"$f":"IF(K786=17,Param!G786,IF(K786=28,Param!H786,IF(K786=45,Param!I786)))","v":"00:00:42"},{"$error":"#N/A"},null,1900,false,false]
[786,"-",null,null,null,null,115.40041067761807,null,null,null,28,{"$f":"VLOOKUP(A787,'Chrono+Classement'!G:O,5,FALSE)","v":{"$error":"#N/A"}},{"$f":"VLOOKUP(A787,'Chrono+Classement'!G:O,9,FALSE)","v":{"$error":"#N/A"}},{"$f":"IF(K787=17,Param!G787,IF(K787=28,Param!H787,IF(K787=45,Param!I787)))","v":"00:00:42"},{"$error":"#N/A"},null,1900,false,false]
[787,"-",null,null,null,null,115.40041067761807,null,null,null,28,{"$f":"VLOOKUP(A788,'Chrono+Classement'!G:O,5,FALSE)","v":{"$error":"#N/A"}},{"$f":"VLOOKUP(A788,'Chrono+Classement'!G:O,9,FALSE)","v":{"$error":"#N/A"}},{"$f":"IF(K788=17,Param!G788,IF(K788=28,Param!H788,IF(K788=45,Param!I788)))","v":"00:00:42"},{"$error":"#N/A"},null,1900,false,false]
[788,"-",null,null,null,null,115.40041067761807,null,null,null,28,{"$f":"VLOOKUP(A789,'Chrono+Classement'!G:O,5,FALSE)","v":{"$error":"#N/A"}},{"$f":"VLOOKUP(A789,'Chrono+Classement'!G:O,9,FALSE)","v":{"$error":"#N/A"}},{"$f":"IF(K789=17,Param!G789,IF(K789=28,Param!H789,IF(K789=45,Param!I789)))","v":"00:00:42"},{"$error":"#N/A"},null,1900,false,false]
[789,"-",null,null,null,null,115.40041067761807,null,null,null,28,{"$f":"VLOOKUP(A790,'Chrono+Classement'!G:O,5,FALSE)","v":{"$error":"#N/A"}},{"$f":"VLOOKUP(A790,'Chrono+Classement'!G:O,9,FALSE)","v":{"$error":"#N/A"}},{"$f":"IF(K790=17,Param!G790,IF(K790=28,Param!H790,IF(K790=45,Param!I790)))","v":"00:00:42"},{"$error":"#N/A"},null,1900,false,false]
[790,"-",null,null,null,null,115.40041067761807,null,null,null,28,{"$f":"VLOOKUP(A791,'Chrono+Classement'!G:O,5,FALSE)","v":{"$error":"#N/A"}},{"$f":"VLOOKUP(A791,'Chrono+Classement'!G:O,9,FALSE)","v":{"$error":"#N/A"}},{"$f":"IF(K791=17,Param!G791,IF(K791=28,Param!H791,IF(K791=45,Param!I791)))","v":"00:00:42"},{"$error":"#N/A"},null,1900,false,false]
[791,"-",null,null,null,null,115.40041067761807,null,null,null,28,{"$f":"VLOOKUP(A792,'Chrono+Classement'!G:O,5,FALSE)","v":{"$error":"#N/A"}},{"$f":"VLOOKUP(A792,'Chrono+Classement'!G:O,9,FALSE)","v":{"$error":"#N/A"}},{"$f":"IF(K792=17,Param!G792,IF(K792=28,Param!H792,IF(K792=45,Param!I792)))","v":"00:00:42"},{"$error":"#N/A"},null,1900,false,false]
[792,"-",null,null,null,null,115.40041067761807,null,null,null,28,{"$f":"VLOOKUP(A793,'Chrono+Classement'!G:O,5,FALSE)","v":{"$error":"#N/A"}},{"$f":"VLOOKUP(A793,'Chrono+Classement'!G:O,9,FALSE)","v":{"$error":"#N/A"}},{"$f":"IF(K793=17,Param!G793,IF(K793=28,Param!H793,IF(K793=45,Param!I793)))","v":"00:00:42"},{"$error":"#N/A"},null,1900,false,false]
[793,"-",null,null,null,null,115.40041067761807,null,null,null,28,{"$f":"VLOOKUP(A794,'Chrono+Classement'!G:O,5,FALSE)","v":{"$error":"#N/A"}},{"$f":"VLOOKUP(A794,'Chrono+Classement'!G:O,9,FALSE)","v":{"$error":"#N/A"}},{"$f":"IF(K794=17,Param!G794,IF(K794=28,Param!H794,IF(K794=45,Param!I794)))","v":"00:00:42"},{"$error":"#N/A"},null,1900,false,false]
[794,"-",null,null,null,null,115.40041067761807,null,null,null,28,{"$f":"VLOOKUP(A795,'Chrono+Classement'!G:O,5,FALSE)","v":{"$error":"#N/A"}},{"$f":"VLOOKUP(A795,'Chrono+Classement'!G:O,9,FALSE)","v":{"$error":"#N/A"}},{"$f":"IF(K795=17,Param!G795,IF(K795=28,Param!H795,IF(K795=45,Param!I795)))","v":"00:00:42"},{"$error":"#N/A"},null,1900,false,false]
[795,"-",null,null,null,null,115.40041067761807,null,null,null,28,{"$f":"VLOOKUP(A796,'Chrono+Classement'!G:O,5,FALSE)","v":{"$error":"#N/A"}},{"$f":"VLOOKUP(A796,'Chrono+Classement'!G:O,9,FALSE)","v":{"$error":"#N/A"}},{"$f":"IF(K796=17,Param!G796,IF(K796=28,Param!H796,IF(K796=45,Param!I796)))","v":"00:00:42"},{"$error":"#N/A"},null,1900,false,false]
[796,"-",null,null,null,null,115.40041067761807,null,null,null,28,{"$f":"VLOOKUP(A797,'Chrono+Classement'!G:O,5,FALSE)","v":{"$error":"#N/A"}},{"$f":"VLOOKUP(A797,'Chrono+Classement'!G:O,9,FALSE)","v":{"$error":"#N/A"}},{"$f":"IF(K797=17,Param!G797,IF(K797=28,Param!H797,IF(K797=45,Param!I797)))","v":"00:00:42"},{"$error":"#N/A"},null,1900,false,false]
[797,"-",null,null,null,null,115.40041067761807,null,null,null,28,{"$f":"VLOOKUP(A798,'Chrono+Classement'!G:O,5,FALSE)","v":{"$error":"#N/A"}},{"$f":"VLOOKUP(A798,'Chrono+Classement'!G:O,9,FALSE)","v":{"$error":"#N/A"}},{"$f":"IF(K798=17,Param!G798,IF(K798=28,Param!H798,IF(K798=45,Param!I798)))","v":"00:00:42"},{"$error":"#N/A"},null,1900,false,false]
[798,"-",null,null,null,null,115.40041067761807,null,null,null,28,{"$f":"VLOOKUP(A799,'Chrono+Classement'!G:O,5,FALSE)","v":{"$error":"#N/A"}},{"$f":"VLOOKUP(A799,'Chrono+Classement'!G:O,9,FALSE)","v":{"$error":"#N/A"}},{"$f":"IF(K799=17,Param!G799,IF(K799=28,Param!H799,IF(K799=45,Param!I799)))","v":"00:00:42"},{"$error":"#N/A"},null,1900,false,false]
[799,"-",null,null,null,null,115.40041067761807,null,null,null,28,{"$f":"VLOOKUP(A800,'Chrono+Classement'!G:O,5,FALSE)","v":{"$error":"#N/A"}},{"$f":"VLOOKUP(A800,'Chrono+Classement'!G:O,9,FALSE)","v":{"$error":"#N/A"}},{"$f":"IF(K800=17,Param!G800,IF(K800=28,Param!H800,IF(K800=45,Param!I800)))","v":"00:00:42"},{"$error":"#N/A"},null,1900,false,false]
[800,"-",null,null,null,null,115.40041067761807,null,null,null,17,{"$f":"VLOOKUP(A801,'Chrono+Classement'!G:O,5,FALSE)","v":{"$error":"#N/A"}},{"$f":"VLOOKUP(A801,'Chrono+Classement'!G:O,9,FALSE)","v":{"$error":"#N/A"}},{"$f":"IF(K801=17,Param!G801,IF(K801=28,Param!H801,IF(K801=45,Param!I801)))","v":"00:00:00"},{"$error":"#N/A"},null,1900,false,false]
[801,"-",null,null,null,null,115.40041067761807,null,null,null,17,{"$f":"VLOOKUP(A802,'Chrono+Classement'!G:O,5,FALSE)","v":{"$error":"#N/A"}},{"$f":"VLOOKUP(A802,'Chrono+Classement'!G:O,9,FALSE)","v":{"$error":"#N/A"}},{"$f":"IF(K802=17,Param!G802,IF(K802=28,Param!H802,IF(K802=45,Param!I802)))","v":"00:00:00"},{"$error":"#N/A"},null,1900,false,false]
[802,"-",null,null,null,null,115.40041067761807,null,null,null,17,{"$f":"VLOOKUP(A803,'Chrono+Classement'!G:O,5,FALSE)","v":{"$error":"#N/A"}},{"$f":"VLOOKUP(A803,'Chrono+Classement'!G:O,9,FALSE)","v":{"$error":"#N/A"}},{"$f":"IF(K803=17,Param!G803,IF(K803=28,Param!H803,IF(K803=45,Param!I803)))","v":"00:00:00"},{"$error":"#N/A"},null,1900,false,false]
[803,"-",null,null,null,null,115.40041067761807,null,null,null,17,{"$f":"VLOOKUP(A804,'Chrono+Classement'!G:O,5,FALSE)","v":{"$error":"#N/A"}},{"$f":"VLOOKUP(A804,'Chrono+Classement'!G:O,9,FALSE)","v":{"$error":"#N/A"}},{"$f":"IF(K804=17,Param!G804,IF(K804=28,Param!H804,IF(K804=45,Param!I804)))","v":"00:00:00"},{"$error":"#N/A"},null,1900,false,false]
[804,"-",null,null,null,null,115.40041067761807,null,null,null,17,{"$f":"VLOOKUP(A805,'Chrono+Classement'!G:O,5,FALSE)","v":{"$error":"#N/A"}},{"$f":"VLOOKUP(A805,'Chrono+Classement'!G:O,9,FALSE)","v":{"$error":"#N/A"}},{"$f":"IF(K805=17,Param!G805,IF(K805=28,Param!H805,IF(K805=45,Param!I805)))","v":"00:00:00"},{"$f":"M805-N805","v":{"$error":"#N/A"}},null,1900,false,false]
[805,"-",null,null,null,null,115.40041067761807,null,null,null,17,{"$f":"VLOOKUP(A806,'Chrono+Classement'!G:O,5,FALSE)","v":{"$error":"#N/A"}},{"$f":"VLOOKUP(A806,'Chrono+Classement'!G:O,9,FALSE)","v":{"$error":"#N/A"}},{"$f":"IF(K806=17,Param!G806,IF(K806=28,Param!H806,IF(K806=45,Param!I806)))","v":"00:00:00"},{"$error":"#N/A"},null,1900,false,false]
[806,"-",null,null,null,null,115.40041067761807,null,null,null,17,{"$f":"VLOOKUP(A807,'Chrono+Classement'!G:O,5,FALSE)","v":{"$error":"#N/A"}},{"$f":"VLOOKUP(A807,'Chrono+Classement'!G:O,9,FALSE)","v":{"$error":"#N/A"}},{"$f":"IF(K807=17,Param!G807,IF(K807=28,Param!H807,IF(K807=45,Param!I807)))","v":"00:00:00"},{"$error":"#N/A"},null,1900,false,false]
[807,"-",null,null,null,null,115.40041067761807,null,null,null,17,{"$f":"VLOOKUP(A808,'Chrono+Classement'!G:O,5,FALSE)","v":{"$error":"#N/A"}},{"$f":"VLOOKUP(A808,'Chrono+Classement'!G:O,9,FALSE)","v":{"$error":"#N/A"}},{"$f":"IF(K808=17,Param!G808,IF(K808=28,Param!H808,IF(K808=45,Param!I808)))","v":"00:00:00"},{"$error":"#N/A"},null,1900,false,false]
[808,"-",null,null,null,null,115.40041067761807,null,null,null,17,{"$f":"VLOOKUP(A809,'Chrono+Classement'!G:O,5,FALSE)","v":{"$error":"#N/A"}},{"$f":"VLOOKUP(A809,'Chrono+Classement'!G:O,9,FALSE)","v":{"$error":"#N/A"}},{"$f":"IF(K809=17,Param!G809,IF(K809=28,Param!H809,IF(K809=45,Param!I809)))","v":"00:00:00"},{"$error":"#N/A"},null,1900,false,false]
[809,"-",null,null,null,null,115.40041067761807,null,null,null,17,{"$f":"VLOOKUP(A810,'Chrono+Classement'!G:O,5,FALSE)","v":{"$error":"#N/A"}},{"$f":"VLOOKUP(A810,'Chrono+Classement'!G:O,9,FALSE)","v":{"$error":"#N/A"}},{"$f":"IF(K810=17,Param!G810,IF(K810=28,Param!H810,IF(K810=45,Param!I810)))","v":"00:00:00"},{"$error":"#N/A"},null,1900,false,false]
[810,"-",null,null,null,null,115.40041067761807,null,null,null,17,{"$f":"VLOOKUP(A811,'Chrono+Classement'!G:O,5,FALSE)","v":{"$error":"#N/A"}},{"$f":"VLOOKUP(A811,'Chrono+Classement'!G:O,9,FALSE)","v":{"$error":"#N/A"}},{"$f":"IF(K811=17,Param!G811,IF(K811=28,Param!H811,IF(K811=45,Param!I811)))","v":"00:00:00"},{"$error":"#N/A"},null,1900,false,false]
[811,"-",null,null,null,null,115.40041067761807,null,null,null,17,{"$f":"VLOOKUP(A812,'Chrono+Classement'!G:O,5,FALSE)","v":{"$error":"#N/A"}},{"$f":"VLOOKUP(A812,'Chrono+Classement'!G:O,9,FALSE)","v":{"$error":"#N/A"}},{"$f":"IF(K812=17,Param!G812,IF(K812=28,Param!H812,IF(K812=45,Param!I812)))","v":"00:00:00"},{"$error":"#N/A"},null,1900,false,false]
[812,"-",null,null,null,null,115.40041067761807,null,null,null,17,{"$f":"VLOOKUP(A813,'Chrono+Classement'!G:O,5,FALSE)","v":{"$error":"#N/A"}},{"$f":"VLOOKUP(A813,'Chrono+Classement'!G:O,9,FALSE)","v":{"$error":"#N/A"}},{"$f":"IF(K813=17,Param!G813,IF(K813=28,Param!H813,IF(K813=45,Param!I813)))","v":"00:00:00"},{"$error":"#N/A"},null,1900,false,false]
[813,"-",null,null,null,null,115.40041067761807,null,null,null,17,{"$f":"VLOOKUP(A814,'Chrono+Classement'!G:O,5,FALSE)","v":{"$error":"#N/A"}},{"$f":"VLOOKUP(A814,'Chrono+Classement'!G:O,9,FALSE)","v":{"$error":"#N/A"}},{"$f":"IF(K814=17,Param!G814,IF(K814=28,Param!H814,IF(K814=45,Param!I814)))","v":"00:00:00"},{"$error":"#N/A"},null,1900,false,false]
[814,"-",null,null,null,null,115.40041067761807,null,null,null,17,{"$f":"VLOOKUP(A815,'Chrono+Classement'!G:O,5,FALSE)","v":{"$error":"#N/A"}},{"$f":"VLOOKUP(A815,'Chrono+Classement'!G:O,9,FALSE)","v":{"$error":"#N/A"}},{"$f":"IF(K815=17,Param!G815,IF(K815=28,Param!H815,IF(K815=45,Param!I815)))","v":"00:00:00"},{"$error":"#N/A"},null,1900,false,false]
[815,"-",null,null,null,null,115.40041067761807,null,null,null,17,{"$f":"VLOOKUP(A816,'Chrono+Classement'!G:O,5,FALSE)","v":{"$error":"#N/A"}},{"$f":"VLOOKUP(A816,'Chrono+Classement'!G:O,9,FALSE)","v":{"$error":"#N/A"}},{"$f":"IF(K816=17,Param!G816,IF(K816=28,Param!H816,IF(K816=45,Param!I816)))","v":"00:00:00"},{"$error":"#N/A"},null,1900,false,false]
[816,"-",null,null,null,null,115.40041067761807,null,null,null,17,{"$f":"VLOOKUP(A817,'Chrono+Classement'!G:O,5,FALSE)","v":{"$error":"#N/A"}},{"$f":"VLOOKUP(A817,'Chrono+Classement'!G:O,9,FALSE)","v":{"$error":"#N/A"}},{"$f":"IF(K817=17,Param!G817,IF(K817=28,Param!H817,IF(K817=45,Param!I817)))","v":"00:00:00"},{"$error":"#N/A"},null,1900,false,false]
[817,"-",null,null,null,null,115.40041067761807,null,null,null,17,{"$f":"VLOOKUP(A818,'Chrono+Classement'!G:O,5,FALSE)","v":{"$error":"#N/A"}},{"$f":"VLOOKUP(A818,'Chrono+Classement'!G:O,9,FALSE)","v":{"$error":"#N/A"}},{"$f":"IF(K818=17,Param!G818,IF(K818=28,Param!H818,IF(K818=45,Param!I818)))","v":"00:00:00"},{"$error":"#N/A"},null,1900,false,false]
[818,"-",null,null,null,null,115.40041067761807,null,null,null,17,{"$f":"VLOOKUP(A819,'Chrono+Classement'!G:O,5,FALSE)","v":{"$error":"#N/A"}},{"$f":"VLOOKUP(A819,'Chrono+Classement'!G:O,9,FALSE)","v":{"$error":"#N/A"}},{"$f":"IF(K819=17,Param!G819,IF(K819=28,Param!H819,IF(K819=45,Param!I819)))","v":"00:00:00"},{"$error":"#N/A"},null,1900,false,false]
[819,"-",null,null,null,null,115.40041067761807,null,null,null,17,{"$f":"VLOOKUP(A820,'Chrono+Classement'!G:O,5,FALSE)","v":{"$error":"#N/A"}},{"$f":"VLOOKUP(A820,'Chrono+Classement'!G:O,9,FALSE)","v":{"$error":"#N/A"}},{"$f":"IF(K820=17,Param!G820,IF(K820=28,Param!H820,IF(K820=45,Param!I820)))","v":"00:00:00"},{"$error":"#N/A"},null,1900,false,false]
[820,"-",null,null,null,null,115.40041067761807,null,null,null,17,{"$f":"VLOOKUP(A821,'Chrono+Classement'!G:O,5,FALSE)","v":{"$error":"#N/A"}},{"$f":"VLOOKUP(A821,'Chrono+Classement'!G:O,9,FALSE)","v":{"$error":"#N/A"}},{"$f":"IF(K821=17,Param!G821,IF(K821=28,Param!H821,IF(K821=45,Param!I821)))","v":"00:00:00"},{"$error":"#N/A"},null,1900,false,false]
[821,"-",null,null,null,null,115.40041067761807,null,null,null,17,{"$f":"VLOOKUP(A822,'Chrono+Classement'!G:O,5,FALSE)","v":{"$error":"#N/A"}},{"$f":"VLOOKUP(A822,'Chrono+Classement'!G:O,9,FALSE)","v":{"$error":"#N/A"}},{"$f":"IF(K822=17,Param!G822,IF(K822=28,Param!H822,IF(K822=45,Param!I822)))","v":"00:00:00"},{"$error":"#N/A"},null,1900,false,false]
[822,"-",null,null,null,null,115.40041067761807,null,null,null,17,{"$f":"VLOOKUP(A823,'Chrono+Classement'!G:O,5,FALSE)","v":{"$error":"#N/A"}},{"$f":"VLOOKUP(A823,'Chrono+Classement'!G:O,9,FALSE)","v":{"$error":"#N/A"}},{"$f":"IF(K823=17,Param!G823,IF(K823=28,Param!H823,IF(K823=45,Param!I823)))","v":"00:00:00"},{"$error":"#N/A"},null,1900,false,false]
[823,"-",null,null,null,null,115.40041067761807,null,null,null,17,{"$f":"VLOOKUP(A824,'Chrono+Classement'!G:O,5,FALSE)","v":{"$error":"#N/A"}},{"$f":"VLOOKUP(A824,'Chrono+Classement'!G:O,9,FALSE)","v":{"$error":"#N/A"}},{"$f":"IF(K824=17,Param!G824,IF(K824=28,Param!H824,IF(K824=45,Param!I824)))","v":"00:00:00"},{"$error":"#N/A"},null,1900,false,false]
[824,"-",null,null,null,null,115.40041067761807,null,null,null,17,{"$f":"VLOOKUP(A825,'Chrono+Classement'!G:O,5,FALSE)","v":{"$error":"#N/A"}},{"$f":"VLOOKUP(A825,'Chrono+Classement'!G:O,9,FALSE)","v":{"$error":"#N/A"}},{"$f":"IF(K825=17,Param!G825,IF(K825=28,Param!H825,IF(K825=45,Param!I825)))","v":"00:00:00"},{"$error":"#N/A"},null,1900,false,false]
[825,"-",null,null,null,null,115.40041067761807,null,null,null,17,{"$f":"VLOOKUP(A826,'Chrono+Classement'!G:O,5,FALSE)","v":{"$error":"#N/A"}},{"$f":"VLOOKUP(A826,'Chrono+Classement'!G:O,9,FALSE)","v":{"$error":"#N/A"}},{"$f":"IF(K826=17,Param!G826,IF(K826=28,Param!H826,IF(K826=45,Param!I826)))","v":"00:00:00"},{"$error":"#N/A"},null,1900,false,false]
[826,"-",null,null,null,null,115.40041067761807,null,null,null,17,{"$f":"VLOOKUP(A827,'Chrono+Classement'!G:O,5,FALSE)","v":{"$error":"#N/A"}},{"$f":"VLOOKUP(A827,'Chrono+Classement'!G:O,9,FALSE)","v":{"$error":"#N/A"}},{"$f":"IF(K827=17,Param!G827,IF(K827=28,Param!H827,IF(K827=45,Param!I827)))","v":"00:00:00"},{"$error":"#N/A"},null,1900,false,false]
[827,"-",null,null,null,null,115.40041067761807,null,null,null,17,{"$f":"VLOOKUP(A828,'Chrono+Classement'!G:O,5,FALSE)","v":{"$error":"#N/A"}},{"$f":"VLOOKUP(A828,'Chrono+Classement'!G:O,9,FALSE)","v":{"$error":"#N/A"}},{"$f":"IF(K828=17,Param!G828,IF(K828=28,Param!H828,IF(K828=45,Param!I828)))","v":"00:00:00"},{"$error":"#N/A"},null,1900,false,false]
[828,"-",null,null,null,null,115.40041067761807,null,null,null,17,{"$f":"VLOOKUP(A829,'Chrono+Classement'!G:O,5,FALSE)","v":{"$error":"#N/A"}},{"$f":"VLOOKUP(A829,'Chrono+Classement'!G:O,9,FALSE)","v":{"$error":"#N/A"}},{"$f":"IF(K829=17,Param!G829,IF(K829=28,Param!H829,IF(K829=45,Param!I829)))","v":"00:00:00"},{"$error":"#N/A"},null,1900,false,false]
[829,"-",null,null,null,null,115.40041067761807,null,null,null,17,{"$f":"VLOOKUP(A830,'Chrono+Classement'!G:O,5,FALSE)","v":{"$error":"#N/A"}},{"$f":"VLOOKUP(A830,'Chrono+Classement'!G:O,9,FALSE)","v":{"$error":"#N/A"}},{"$f":"IF(K830=17,Param!G830,IF(K830=28,Param!H830,IF(K830=45,Param!I830)))","v":"00:00:00"},{"$error":"#N/A"},null,1900,false,false]
[830,"-",null,null,null,null,115.40041067761807,null,null,null,17,{"$f":"VLOOKUP(A831,'Chrono+Classement'!G:O,5,FALSE)","v":{"$error":"#N/A"}},{"$f":"VLOOKUP(A831,'Chrono+Classement'!G:O,9,FALSE)","v":{"$error":"#N/A"}},{"$f":"IF(K831=17,Param!G831,IF(K831=28,Param!H831,IF(K831=45,Param!I831)))","v":"00:00:00"},{"$error":"#N/A"},null,1900,false,false]
[831,"-",null,null,null,null,115.40041067761807,null,null,null,17,{"$f":"VLOOKUP(A832,'Chrono+Classement'!G:O,5,FALSE)","v":{"$error":"#N/A"}},{"$f":"VLOOKUP(A832,'Chrono+Classement'!G:O,9,FALSE)","v":{"$error":"#N/A"}},{"$f":"IF(K832=17,Param!G832,IF(K832=28,Param!H832,IF(K832=45,Param!I832)))","v":"00:00:00"},{"$error":"#N/A"},null,1900,false,false]
[832,"-",null,null,null,null,115.40041067761807,null,null,null,17,{"$f":"VLOOKUP(A833,'Chrono+Classement'!G:O,5,FALSE)","v":{"$error":"#N/A"}},{"$f":"VLOOKUP(A833,'Chrono+Classement'!G:O,9,FALSE)","v":{"$error":"#N/A"}},{"$f":"IF(K833=17,Param!G833,IF(K833=28,Param!H833,IF(K833=45,Param!I833)))","v":"00:00:00"},{"$error":"#N/A"},null,1900,false,false]
[833,{"$f":"CONCATENATE(C834,\"-\",D834)","v":"-"},null,null,null,null,{"$f":"(TODAY()-F834)/365.25","v":115.40041067761807},null,null,null,17,{"$f":"VLOOKUP(A834,'Chrono+Classement'!G:O,5,FALSE)","v":{"$error":"#N/A"}},{"$f":"VLOOKUP(A834,'Chrono+Classement'!G:O,9,FALSE)","v":{"$error":"#N/A"}},{"$f":"IF(K834=17,Param!G834,IF(K834=28,Param!H834,IF(K834=45,Param!I834)))","v":"00:00:00"},{"$error":"#N/A"},null,{"$f":"YEAR(F834)","v":1900},{"$f":"IF(E834=\"M\",IF(Q834<=1965,\"Masters 5\",IF(Q834<=1975,\"Masters 3/4\",IF(Q834<=1985,\"Masters 1/2\",IF(Q834<=1992,\"Hommes\",IF(Q834<=1996,\"Espoirs\",IF(Q834<=1998,\"Juniors\",IF(Q834<=2000,\"Cadets\",0))))))))","v":false},{"$f":"IF(E834=\"F\",IF(Q834<=1992,\"Dames\",IF(Q834<=1996,\"Espoirs Dames\",IF(Q834<=1998,\"Juniors Dames\",IF(Q834<=2000,\"Cadettes\",0)))))","v":false}]
[834,"-",null,null,null,null,115.40041067761807,null,null,null,17,{"$f":"VLOOKUP(A835,'Chrono+Classement'!G:O,5,FALSE)","v":{"$error":"#N/A"}},{"$f":"VLOOKUP(A835,'Chrono+Classement'!G:O,9,FALSE)","v":{"$error":"#N/A"}},{"$f":"IF(K835=17,Param!G835,IF(K835=28,Param!H835,IF(K835=45,Param!I835)))","v":"00:00:00"},{"$error":"#N/A"},null,1900,false,false]
[835,"-",null,null,null,null,115.40041067761807,null,null,null,17,{"$f":"VLOOKUP(A836,'Chrono+Classement'!G:O,5,FALSE)","v":{"$error":"#N/A"}},{"$f":"VLOOKUP(A836,'Chrono+Classement'!G:O,9,FALSE)","v":{"$error":"#N/A"}},{"$f":"IF(K836=17,Param!G836,IF(K836=28,Param!H836,IF(K836=45,Param!I836)))","v":"00:00:00"},{"$error":"#N/A"},null,1900,false,false]
[836,"-",null,null,null,null,115.40041067761807,null,null,null,17,{"$f":"VLOOKUP(A837,'Chrono+Classement'!G:O,5,FALSE)","v":{"$error":"#N/A"}},{"$f":"VLOOKUP(A837,'Chrono+Classement'!G:O,9,FALSE)","v":{"$error":"#N/A"}},{"$f":"IF(K837=17,Param!G837,IF(K837=28,Param!H837,IF(K837=45,Param!I837)))","v":"00:00:00"},{"$error":"#N/A"},null,1900,false,false]
[837,"-",null,null,null,null,115.40041067761807,null,null,null,17,{"$f":"VLOOKUP(A838,'Chrono+Classement'!G:O,5,FALSE)","v":{"$error":"#N/A"}},{"$f":"VLOOKUP(A838,'Chrono+Classement'!G:O,9,FALSE)","v":{"$error":"#N/A"}},{"$f":"IF(K838=17,Param!G838,IF(K838=28,Param!H838,IF(K838=45,Param!I838)))","v":"00:00:00"},{"$error":"#N/A"},null,1900,false,false]
[838,"-",null,null,null,null,115.40041067761807,null,null,null,17,{"$f":"VLOOKUP(A839,'Chrono+Classement'!G:O,5,FALSE)","v":{"$error":"#N/A"}},{"$f":"VLOOKUP(A839,'Chrono+Classement'!G:O,9,FALSE)","v":{"$error":"#N/A"}},{"$f":"IF(K839=17,Param!G839,IF(K839=28,Param!H839,IF(K839=45,Param!I839)))","v":"00:00:00"},{"$error":"#N/A"},null,1900,false,false]
[839,"-",null,null,null,null,115.40041067761807,null,null,null,17,{"$f":"VLOOKUP(A840,'Chrono+Classement'!G:O,5,FALSE)","v":{"$error":"#N/A"}},{"$f":"VLOOKUP(A840,'Chrono+Classement'!G:O,9,FALSE)","v":{"$error":"#N/A"}},{"$f":"IF(K840=17,Param!G840,IF(K840=28,Param!H840,IF(K840=45,Param!I840)))","v":"00:00:00"},{"$error":"#N/A"},null,1900,false,false]
[840,"-",null,null,null,null,115.40041067761807,null,null,null,17,{"$f":"VLOOKUP(A841,'Chrono+Classement'!G:O,5,FALSE)","v":{"$error":"#N/A"}},{"$f":"VLOOKUP(A841,'Chrono+Classement'!G:O,9,FALSE)","v":{"$error":"#N/A"}},{"$f":"IF(K841=17,Param!G841,IF(K841=28,Param!H841,IF(K841=45,Param!I841)))","v":"00:00:00"},{"$error":"#N/A"},null,1900,false,false]
[841,"-",null,null,null,null,115.40041067761807,null,null,null,17,{"$f":"VLOOKUP(A842,'Chrono+Classement'!G:O,5,FALSE)","v":{"$error":"#N/A"}},{"$f":"VLOOKUP(A842,'Chrono+Classement'!G:O,9,FALSE)","v":{"$error":"#N/A"}},{"$f":"IF(K842=17,Param!G842,IF(K842=28,Param!H842,IF(K842=45,Param!I842)))","v":"00:00:00"},{"$error":"#N/A"},null,1900,false,false]
[842,"-",null,null,null,null,115.40041067761807,null,null,null,17,{"$f":"VLOOKUP(A843,'Chrono+Classement'!G:O,5,FALSE)","v":{"$error":"#N/A"}},{"$f":"VLOOKUP(A843,'Chrono+Classement'!G:O,9,FALSE)","v":{"$error":"#N/A"}},{"$f":"IF(K843=17,Param!G843,IF(K843=28,Param!H843,IF(K843=45,Param!I843)))","v":"00:00:00"},{"$error":"#N/A"},null,1900,false,false]
[843,"-",null,null,null,null,115.40041067761807,null,null,null,17,{"$f":"VLOOKUP(A844,'Chrono+Classement'!G:O,5,FALSE)","v":{"$error":"#N/A"}},{"$f":"VLOOKUP(A844,'Chrono+Classement'!G:O,9,FALSE)","v":{"$error":"#N/A"}},{"$f":"IF(K844=17,Param!G844,IF(K844=28,Param!H844,IF(K844=45,Param!I844)))","v":"00:00:00"},{"$error":"#N/A"},null,1900,false,false]
[844,"-",null,null,null,null,115.40041067761807,null,null,null,17,{"$f":"VLOOKUP(A845,'Chrono+Classement'!G:O,5,FALSE)","v":{"$error":"#N/A"}},{"$f":"VLOOKUP(A845,'Chrono+Classement'!G:O,9,FALSE)","v":{"$error":"#N/A"}},{"$f":"IF(K845=17,Param!G845,IF(K845=28,Param!H845,IF(K845=45,Param!I845)))","v":"00:00:00"},{"$error":"#N/A"},null,1900,false,false]
[845,"-",null,null,null,null,115.40041067761807,null,null,null,17,{"$f":"VLOOKUP(A846,'Chrono+Classement'!G:O,5,FALSE)","v":{"$error":"#N/A"}},{"$f":"VLOOKUP(A846,'Chrono+Classement'!G:O,9,FALSE)","v":{"$error":"#N/A"}},{"$f":"IF(K846=17,Param!G846,IF(K846=28,Param!H846,IF(K846=45,Param!I846)))","v":"00:00:00"},{"$error":"#N/A"},null,1900,false,false]
[846,"-",null,null,null,null,115.40041067761807,null,null,null,17,{"$f":"VLOOKUP(A847,'Chrono+Classement'!G:O,5,FALSE)","v":{"$error":"#N/A"}},{"$f":"VLOOKUP(A847,'Chrono+Classement'!G:O,9,FALSE)","v":{"$error":"#N/A"}},{"$f":"IF(K847=17,Param!G847,IF(K847=28,Param!H847,IF(K847=45,Param!I847)))","v":"00:00:00"},{"$error":"#N/A"},null,1900,false,false]
[847,"-",null,null,null,null,115.40041067761807,null,null,null,17,{"$f":"VLOOKUP(A848,'Chrono+Classement'!G:O,5,FALSE)","v":{"$error":"#N/A"}},{"$f":"VLOOKUP(A848,'Chrono+Classement'!G:O,9,FALSE)","v":{"$error":"#N/A"}},{"$f":"IF(K848=17,Param!G848,IF(K848=28,Param!H848,IF(K848=45,Param!I848)))","v":"00:00:00"},{"$error":"#N/A"},null,1900,false,false]
[848,"-",null,null,null,null,115.40041067761807,null,null,null,17,{"$f":"VLOOKUP(A849,'Chrono+Classement'!G:O,5,FALSE)","v":{"$error":"#N/A"}},{"$f":"VLOOKUP(A849,'Chrono+Classement'!G:O,9,FALSE)","v":{"$error":"#N/A"}},{"$f":"IF(K849=17,Param!G849,IF(K849=28,Param!H849,IF(K849=45,Param!I849)))","v":"00:00:00"},{"$error":"#N/A"},null,1900,false,false]
[849,"-",null,null,null,null,115.40041067761807,null,null,null,17,{"$f":"VLOOKUP(A850,'Chrono+Classement'!G:O,5,FALSE)","v":{"$error":"#N/A"}},{"$f":"VLOOKUP(A850,'Chrono+Classement'!G:O,9,FALSE)","v":{"$error":"#N/A"}},{"$f":"IF(K850=17,Param!G850,IF(K850=28,Param!H850,IF(K850=45,Param!I850)))","v":"00:00:00"},{"$error":"#N/A"},null,1900,false,false]
[850,"-",null,null,null,null,115.40041067761807,null,null,null,17,{"$f":"VLOOKUP(A851,'Chrono+Classement'!G:O,5,FALSE)","v":{"$error":"#N/A"}},{"$f":"VLOOKUP(A851,'Chrono+Classement'!G:O,9,FALSE)","v":{"$error":"#N/A"}},{"$f":"IF(K851=17,Param!G851,IF(K851=28,Param!H851,IF(K851=45,Param!I851)))","v":"00:00:00"},{"$error":"#N/A"},null,1900,false,false]
[851,"-",null,null,null,null,115.40041067761807,null,null,null,17,{"$f":"VLOOKUP(A852,'Chrono+Classement'!G:O,5,FALSE)","v":{"$error":"#N/A"}},{"$f":"VLOOKUP(A852,'Chrono+Classement'!G:O,9,FALSE)","v":{"$error":"#N/A"}},{"$f":"IF(K852=17,Param!G852,IF(K852=28,Param!H852,IF(K852=45,Param!I852)))","v":"00:00:00"},{"$error":"#N/A"},null,1900,false,false]
[852,"-",null,null,null,null,115.40041067761807,null,null,null,17,{"$f":"VLOOKUP(A853,'Chrono+Classement'!G:O,5,FALSE)","v":{"$error":"#N/A"}},{"$f":"VLOOKUP(A853,'Chrono+Classement'!G:O,9,FALSE)","v":{"$error":"#N/A"}},{"$f":"IF(K853=17,Param!G853,IF(K853=28,Param!H853,IF(K853=45,Param!I853)))","v":"00:00:00"},{"$error":"#N/A"},null,1900,false,false]
[853,"-",null,null,null,null,115.40041067761807,null,null,null,17,{"$f":"VLOOKUP(A854,'Chrono+Classement'!G:O,5,FALSE)","v":{"$error":"#N/A"}},{"$f":"VLOOKUP(A854,'Chrono+Classement'!G:O,9,FALSE)","v":{"$error":"#N/A"}},{"$f":"IF(K854=17,Param!G854,IF(K854=28,Param!H854,IF(K854=45,Param!I854)))","v":"00:00:00"},{"$error":"#N/A"},null,1900,false,false]
[854,"-",null,null,null,null,115.40041067761807,null,null,null,17,{"$f":"VLOOKUP(A855,'Chrono+Classement'!G:O,5,FALSE)","v":{"$error":"#N/A"}},{"$f":"VLOOKUP(A855,'Chrono+Classement'!G:O,9,FALSE)","v":{"$error":"#N/A"}},{"$f":"IF(K855=17,Param!G855,IF(K855=28,Param!H855,IF(K855=45,Param!I855)))","v":"00:00:00"},{"$error":"#N/A"},null,1900,false,false]
[855,"-",null,null,null,null,115.40041067761807,null,null,null,17,{"$f":"VLOOKUP(A856,'Chrono+Classement'!G:O,5,FALSE)","v":{"$error":"#N/A"}},{"$f":"VLOOKUP(A856,'Chrono+Classement'!G:O,9,FALSE)","v":{"$error":"#N/A"}},{"$f":"IF(K856=17,Param!G856,IF(K856=28,Param!H856,IF(K856=45,Param!I856)))","v":"00:00:00"},{"$error":"#N/A"},null,1900,false,false]
[856,"-",null,null,null,null,115.40041067761807,null,null,null,17,{"$f":"VLOOKUP(A857,'Chrono+Classement'!G:O,5,FALSE)","v":{"$error":"#N/A"}},{"$f":"VLOOKUP(A857,'Chrono+Classement'!G:O,9,FALSE)","v":{"$error":"#N/A"}},{"$f":"IF(K857=17,Param!G857,IF(K857=28,Param!H857,IF(K857=45,Param!I857)))","v":"00:00:00"},{"$error":"#N/A"},null,1900,false,false]
[857,"-",null,null,null,null,115.40041067761807,null,null,null,17,{"$f":"VLOOKUP(A858,'Chrono+Classement'!G:O,5,FALSE)","v":{"$error":"#N/A"}},{"$f":"VLOOKUP(A858,'Chrono+Classement'!G:O,9,FALSE)","v":{"$error":"#N/A"}},{"$f":"IF(K858=17,Param!G858,IF(K858=28,Param!H858,IF(K858=45,Param!I858)))","v":"00:00:00"},{"$error":"#N/A"},null,1900,false,false]
[858,"-",null,null,null,null,115.40041067761807,null,null,null,17,{"$f":"VLOOKUP(A859,'Chrono+Classement'!G:O,5,FALSE)","v":{"$error":"#N/A"}},{"$f":"VLOOKUP(A859,'Chrono+Classement'!G:O,9,FALSE)","v":{"$error":"#N/A"}},{"$f":"IF(K859=17,Param!G859,IF(K859=28,Param!H859,IF(K859=45,Param!I859)))","v":"00:00:00"},{"$error":"#N/A"},null,1900,false,false]
[859,"-",null,null,null,null,115.40041067761807,null,null,null,17,{"$f":"VLOOKUP(A860,'Chrono+Classement'!G:O,5,FALSE)","v":{"$error":"#N/A"}},{"$f":"VLOOKUP(A860,'Chrono+Classement'!G:O,9,FALSE)","v":{"$error":"#N/A"}},{"$f":"IF(K860=17,Param!G860,IF(K860=28,Param!H860,IF(K860=45,Param!I860)))","v":"00:00:00"},{"$error":"#N/A"},null,1900,false,false]
[860,"-",null,null,null,null,115.40041067761807,null,null,null,17,{"$f":"VLOOKUP(A861,'Chrono+Classement'!G:O,5,FALSE)","v":{"$error":"#N/A"}},{"$f":"VLOOKUP(A861,'Chrono+Classement'!G:O,9,FALSE)","v":{"$error":"#N/A"}},{"$f":"IF(K861=17,Param!G861,IF(K861=28,Param!H861,IF(K861=45,Param!I861)))","v":"00:00:00"},{"$error":"#N/A"},null,1900,false,false]
[861,"-",null,null,null,null,115.40041067761807,null,null,null,17,{"$f":"VLOOKUP(A862,'Chrono+Classement'!G:O,5,FALSE)","v":{"$error":"#N/A"}},{"$f":"VLOOKUP(A862,'Chrono+Classement'!G:O,9,FALSE)","v":{"$error":"#N/A"}},{"$f":"IF(K862=17,Param!G862,IF(K862=28,Param!H862,IF(K862=45,Param!I862)))","v":"00:00:00"},{"$error":"#N/A"},null,1900,false,false]
[862,"-",null,null,null,null,115.40041067761807,null,null,null,17,{"$f":"VLOOKUP(A863,'Chrono+Classement'!G:O,5,FALSE)","v":{"$error":"#N/A"}},{"$f":"VLOOKUP(A863,'Chrono+Classement'!G:O,9,FALSE)","v":{"$error":"#N/A"}},{"$f":"IF(K863=17,Param!G863,IF(K863=28,Param!H863,IF(K863=45,Param!I863)))","v":"00:00:00"},{"$error":"#N/A"},null,1900,false,false]
[863,"-",null,null,null,null,115.40041067761807,null,null,null,17,{"$f":"VLOOKUP(A864,'Chrono+Classement'!G:O,5,FALSE)","v":{"$error":"#N/A"}},{"$f":"VLOOKUP(A864,'Chrono+Classement'!G:O,9,FALSE)","v":{"$error":"#N/A"}},{"$f":"IF(K864=17,Param!G864,IF(K864=28,Param!H864,IF(K864=45,Param!I864)))","v":"00:00:00"},{"$error":"#N/A"},null,1900,false,false]
[864,"-",null,null,null,null,115.40041067761807,null,null,null,17,{"$f":"VLOOKUP(A865,'Chrono+Classement'!G:O,5,FALSE)","v":{"$error":"#N/A"}},{"$f":"VLOOKUP(A865,'Chrono+Classement'!G:O,9,FALSE)","v":{"$error":"#N/A"}},{"$f":"IF(K865=17,Param!G865,IF(K865=28,Param!H865,IF(K865=45,Param!I865)))","v":"00:00:00"},{"$error":"#N/A"},null,1900,false,false]
[865,"-",null,null,null,null,115.40041067761807,null,null,null,17,{"$f":"VLOOKUP(A866,'Chrono+Classement'!G:O,5,FALSE)","v":{"$error":"#N/A"}},{"$f":"VLOOKUP(A866,'Chrono+Classement'!G:O,9,FALSE)","v":{"$error":"#N/A"}},{"$f":"IF(K866=17,Param!G866,IF(K866=28,Param!H866,IF(K866=45,Param!I866)))","v":"00:00:00"},{"$error":"#N/A"},null,1900,false,false]
[866,"-",null,null,null,null,115.40041067761807,null,null,null,17,{"$f":"VLOOKUP(A867,'Chrono+Classement'!G:O,5,FALSE)","v":{"$error":"#N/A"}},{"$f":"VLOOKUP(A867,'Chrono+Classement'!G:O,9,FALSE)","v":{"$error":"#N/A"}},{"$f":"IF(K867=17,Param!G867,IF(K867=28,Param!H867,IF(K867=45,Param!I867)))","v":"00:00:00"},{"$error":"#N/A"},null,1900,false,false]
[867,"-",null,null,null,null,115.40041067761807,null,null,null,17,{"$f":"VLOOKUP(A868,'Chrono+Classement'!G:O,5,FALSE)","v":{"$error":"#N/A"}},{"$f":"VLOOKUP(A868,'Chrono+Classement'!G:O,9,FALSE)","v":{"$error":"#N/A"}},{"$f":"IF(K868=17,Param!G868,IF(K868=28,Param!H868,IF(K868=45,Param!I868)))","v":"00:00:00"},{"$error":"#N/A"},null,1900,false,false]
[868,"-",null,null,null,null,115.40041067761807,null,null,null,17,{"$f":"VLOOKUP(A869,'Chrono+Classement'!G:O,5,FALSE)","v":{"$error":"#N/A"}},{"$f":"VLOOKUP(A869,'Chrono+Classement'!G:O,9,FALSE)","v":{"$error":"#N/A"}},{"$f":"IF(K869=17,Param!G869,IF(K869=28,Param!H869,IF(K869=45,Param!I869)))","v":"00:00:00"},{"$f":"M869-N869","v":{"$error":"#N/A"}},null,1900,false,false]
[869,"-",null,null,null,null,115.40041067761807,null,null,null,17,{"$f":"VLOOKUP(A870,'Chrono+Classement'!G:O,5,FALSE)","v":{"$error":"#N/A"}},{"$f":"VLOOKUP(A870,'Chrono+Classement'!G:O,9,FALSE)","v":{"$error":"#N/A"}},{"$f":"IF(K870=17,Param!G870,IF(K870=28,Param!H870,IF(K870=45,Param!I870)))","v":"00:00:00"},{"$error":"#N/A"},null,1900,false,false]
[870,"-",null,null,null,null,115.40041067761807,null,null,null,17,{"$f":"VLOOKUP(A871,'Chrono+Classement'!G:O,5,FALSE)","v":{"$error":"#N/A"}},{"$f":"VLOOKUP(A871,'Chrono+Classement'!G:O,9,FALSE)","v":{"$error":"#N/A"}},{"$f":"IF(K871=17,Param!G871,IF(K871=28,Param!H871,IF(K871=45,Param!I871)))","v":"00:00:00"},{"$error":"#N/A"},null,1900,false,false]
[871,"-",null,null,null,null,115.40041067761807,null,null,null,17,{"$f":"VLOOKUP(A872,'Chrono+Classement'!G:O,5,FALSE)","v":{"$error":"#N/A"}},{"$f":"VLOOKUP(A872,'Chrono+Classement'!G:O,9,FALSE)","v":{"$error":"#N/A"}},{"$f":"IF(K872=17,Param!G872,IF(K872=28,Param!H872,IF(K872=45,Param!I872)))","v":"00:00:00"},{"$error":"#N/A"},null,1900,false,false]
[872,"-",null,null,null,null,115.40041067761807,null,null,null,17,{"$f":"VLOOKUP(A873,'Chrono+Classement'!G:O,5,FALSE)","v":{"$error":"#N/A"}},{"$f":"VLOOKUP(A873,'Chrono+Classement'!G:O,9,FALSE)","v":{"$error":"#N/A"}},{"$f":"IF(K873=17,Param!G873,IF(K873=28,Param!H873,IF(K873=45,Param!I873)))","v":"00:00:00"},{"$error":"#N/A"},null,1900,false,false]
[873,"-",null,null,null,null,115.40041067761807,null,null,null,17,{"$f":"VLOOKUP(A874,'Chrono+Classement'!G:O,5,FALSE)","v":{"$error":"#N/A"}},{"$f":"VLOOKUP(A874,'Chrono+Classement'!G:O,9,FALSE)","v":{"$error":"#N/A"}},{"$f":"IF(K874=17,Param!G874,IF(K874=28,Param!H874,IF(K874=45,Param!I874)))","v":"00:00:00"},{"$error":"#N/A"},null,1900,false,false]
[874,"-",null,null,null,null,115.40041067761807,null,null,null,17,{"$f":"VLOOKUP(A875,'Chrono+Classement'!G:O,5,FALSE)","v":{"$error":"#N/A"}},{"$f":"VLOOKUP(A875,'Chrono+Classement'!G:O,9,FALSE)","v":{"$error":"#N/A"}},{"$f":"IF(K875=17,Param!G875,IF(K875=28,Param!H875,IF(K875=45,Param!I875)))","v":"00:00:00"},{"$error":"#N/A"},null,1900,false,false]
[875,"-",null,null,null,null,115.40041067761807,null,null,null,17,{"$f":"VLOOKUP(A876,'Chrono+Classement'!G:O,5,FALSE)","v":{"$error":"#N/A"}},{"$f":"VLOOKUP(A876,'Chrono+Classement'!G:O,9,FALSE)","v":{"$error":"#N/A"}},{"$f":"IF(K876=17,Param!G876,IF(K876=28,Param!H876,IF(K876=45,Param!I876)))","v":"00:00:00"},{"$error":"#N/A"},null,1900,false,false]
[876,"-",null,null,null,null,115.40041067761807,null,null,null,17,{"$f":"VLOOKUP(A877,'Chrono+Classement'!G:O,5,FALSE)","v":{"$error":"#N/A"}},{"$f":"VLOOKUP(A877,'Chrono+Classement'!G:O,9,FALSE)","v":{"$error":"#N/A"}},{"$f":"IF(K877=17,Param!G877,IF(K877=28,Param!H877,IF(K877=45,Param!I877)))","v":"00:00:00"},{"$error":"#N/A"},null,1900,false,false]
[877,"-",null,null,null,null,115.40041067761807,null,null,null,17,{"$f":"VLOOKUP(A878,'Chrono+Classement'!G:O,5,FALSE)","v":{"$error":"#N/A"}},{"$f":"VLOOKUP(A878,'Chrono+Classement'!G:O,9,FALSE)","v":{"$error":"#N/A"}},{"$f":"IF(K878=17,Param!G878,IF(K878=28,Param!H878,IF(K878=45,Param!I878)))","v":"00:00:00"},{"$error":"#N/A"},null,1900,false,false]
[878,"-",null,null,null,null,115.40041067761807,null,null,null,17,{"$f":"VLOOKUP(A879,'Chrono+Classement'!G:O,5,FALSE)","v":{"$error":"#N/A"}},{"$f":"VLOOKUP(A879,'Chrono+Classement'!G:O,9,FALSE)","v":{"$error":"#N/A"}},{"$f":"IF(K879=17,Param!G879,IF(K879=28,Param!H879,IF(K879=45,Param!I879)))","v":"00:00:00"},{"$error":"#N/A"},null,1900,false,false]
[879,"-",null,null,null,null,115.40041067761807,null,null,null,17,{"$f":"VLOOKUP(A880,'Chrono+Classement'!G:O,5,FALSE)","v":{"$error":"#N/A"}},{"$f":"VLOOKUP(A880,'Chrono+Classement'!G:O,9,FALSE)","v":{"$error":"#N/A"}},{"$f":"IF(K880=17,Param!G880,IF(K880=28,Param!H880,IF(K880=45,Param!I880)))","v":"00:00:00"},{"$error":"#N/A"},null,1900,false,false]
[880,"-",null,null,null,null,115.40041067761807,null,null,null,17,{"$f":"VLOOKUP(A881,'Chrono+Classement'!G:O,5,FALSE)","v":{"$error":"#N/A"}},{"$f":"VLOOKUP(A881,'Chrono+Classement'!G:O,9,FALSE)","v":{"$error":"#N/A"}},{"$f":"IF(K881=17,Param!G881,IF(K881=28,Param!H881,IF(K881=45,Param!I881)))","v":"00:00:00"},{"$error":"#N/A"},null,1900,false,false]
[881,"-",null,null,null,null,115.40041067761807,null,null,null,17,{"$f":"VLOOKUP(A882,'Chrono+Classement'!G:O,5,FALSE)","v":{"$error":"#N/A"}},{"$f":"VLOOKUP(A882,'Chrono+Classement'!G:O,9,FALSE)","v":{"$error":"#N/A"}},{"$f":"IF(K882=17,Param!G882,IF(K882=28,Param!H882,IF(K882=45,Param!I882)))","v":"00:00:00"},{"$error":"#N/A"},null,1900,false,false]
[882,"-",null,null,null,null,115.40041067761807,null,null,null,17,{"$f":"VLOOKUP(A883,'Chrono+Classement'!G:O,5,FALSE)","v":{"$error":"#N/A"}},{"$f":"VLOOKUP(A883,'Chrono+Classement'!G:O,9,FALSE)","v":{"$error":"#N/A"}},{"$f":"IF(K883=17,Param!G883,IF(K883=28,Param!H883,IF(K883=45,Param!I883)))","v":"00:00:00"},{"$error":"#N/A"},null,1900,false,false]
[883,"-",null,null,null,null,115.40041067761807,null,null,null,17,{"$f":"VLOOKUP(A884,'Chrono+Classement'!G:O,5,FALSE)","v":{"$error":"#N/A"}},{"$f":"VLOOKUP(A884,'Chrono+Classement'!G:O,9,FALSE)","v":{"$error":"#N/A"}},{"$f":"IF(K884=17,Param!G884,IF(K884=28,Param!H884,IF(K884=45,Param!I884)))","v":"00:00:00"},{"$error":"#N/A"},null,1900,false,false]
[884,"-",null,null,null,null,115.40041067761807,null,null,null,17,{"$f":"VLOOKUP(A885,'Chrono+Classement'!G:O,5,FALSE)","v":{"$error":"#N/A"}},{"$f":"VLOOKUP(A885,'Chrono+Classement'!G:O,9,FALSE)","v":{"$error":"#N/A"}},{"$f":"IF(K885=17,Param!G885,IF(K885=28,Param!H885,IF(K885=45,Param!I885)))","v":"00:00:00"},{"$error":"#N/A"},null,1900,false,false]
[885,"-",null,null,null,null,115.40041067761807,null,null,null,17,{"$f":"VLOOKUP(A886,'Chrono+Classement'!G:O,5,FALSE)","v":{"$error":"#N/A"}},{"$f":"VLOOKUP(A886,'Chrono+Classement'!G:O,9,FALSE)","v":{"$error":"#N/A"}},{"$f":"IF(K886=17,Param!G886,IF(K886=28,Param!H886,IF(K886=45,Param!I886)))","v":"00:00:00"},{"$error":"#N/A"},null,1900,false,false]
[886,"-",null,null,null,null,115.40041067761807,null,null,null,17,{"$f":"VLOOKUP(A887,'Chrono+Classement'!G:O,5,FALSE)","v":{"$error":"#N/A"}},{"$f":"VLOOKUP(A887,'Chrono+Classement'!G:O,9,FALSE)","v":{"$error":"#N/A"}},{"$f":"IF(K887=17,Param!G887,IF(K887=28,Param!H887,IF(K887=45,Param!I887)))","v":"00:00:00"},{"$error":"#N/A"},null,1900,false,false]
[887,"-",null,null,null,null,115.40041067761807,null,null,null,17,{"$f":"VLOOKUP(A888,'Chrono+Classement'!G:O,5,FALSE)","v":{"$error":"#N/A"}},{"$f":"VLOOKUP(A888,'Chrono+Classement'!G:O,9,FALSE)","v":{"$error":"#N/A"}},{"$f":"IF(K888=17,Param!G888,IF(K888=28,Param!H888,IF(K888=45,Param!I888)))","v":"00:00:00"},{"$error":"#N/A"},null,1900,false,false]
[888,"-",null,null,null,null,115.40041067761807,null,null,null,17,{"$f":"VLOOKUP(A889,'Chrono+Classement'!G:O,5,FALSE)","v":{"$error":"#N/A"}},{"$f":"VLOOKUP(A889,'Chrono+Classement'!G:O,9,FALSE)","v":{"$error":"#N/A"}},{"$f":"IF(K889=17,Param!G889,IF(K889=28,Param!H889,IF(K889=45,Param!I889)))","v":"00:00:00"},{"$error":"#N/A"},null,1900,false,false]
[889,"-",null,null,null,null,115.40041067761807,null,null,null,17,{"$f":"VLOOKUP(A890,'Chrono+Classement'!G:O,5,FALSE)","v":{"$error":"#N/A"}},{"$f":"VLOOKUP(A890,'Chrono+Classement'!G:O,9,FALSE)","v":{"$error":"#N/A"}},{"$f":"IF(K890=17,Param!G890,IF(K890=28,Param!H890,IF(K890=45,Param!I890)))","v":"00:00:00"},{"$error":"#N/A"},null,1900,false,false]
[890,"-",null,null,null,null,115.40041067761807,null,null,null,17,{"$f":"VLOOKUP(A891,'Chrono+Classement'!G:O,5,FALSE)","v":{"$error":"#N/A"}},{"$f":"VLOOKUP(A891,'Chrono+Classement'!G:O,9,FALSE)","v":{"$error":"#N/A"}},{"$f":"IF(K891=17,Param!G891,IF(K891=28,Param!H891,IF(K891=45,Param!I891)))","v":"00:00:00"},{"$error":"#N/A"},null,1900,false,false]
[891,"-",null,null,null,null,115.40041067761807,null,null,null,17,{"$f":"VLOOKUP(A892,'Chrono+Classement'!G:O,5,FALSE)","v":{"$error":"#N/A"}},{"$f":"VLOOKUP(A892,'Chrono+Classement'!G:O,9,FALSE)","v":{"$error":"#N/A"}},{"$f":"IF(K892=17,Param!G892,IF(K892=28,Param!H892,IF(K892=45,Param!I892)))","v":"00:00:00"},{"$error":"#N/A"},null,1900,false,false]
[892,"-",null,null,null,null,115.40041067761807,null,null,null,17,{"$f":"VLOOKUP(A893,'Chrono+Classement'!G:O,5,FALSE)","v":{"$error":"#N/A"}},{"$f":"VLOOKUP(A893,'Chrono+Classement'!G:O,9,FALSE)","v":{"$error":"#N/A"}},{"$f":"IF(K893=17,Param!G893,IF(K893=28,Param!H893,IF(K893=45,Param!I893)))","v":"00:00:00"},{"$error":"#N/A"},null,1900,false,false]
[893,"-",null,null,null,null,115.40041067761807,null,null,null,17,{"$f":"VLOOKUP(A894,'Chrono+Classement'!G:O,5,FALSE)","v":{"$error":"#N/A"}},{"$f":"VLOOKUP(A894,'Chrono+Classement'!G:O,9,FALSE)","v":{"$error":"#N/A"}},{"$f":"IF(K894=17,Param!G894,IF(K894=28,Param!H894,IF(K894=45,Param!I894)))","v":"00:00:00"},{"$error":"#N/A"},null,1900,false,false]
[894,"-",null,null,null,null,115.40041067761807,null,null,null,17,{"$f":"VLOOKUP(A895,'Chrono+Classement'!G:O,5,FALSE)","v":{"$error":"#N/A"}},{"$f":"VLOOKUP(A895,'Chrono+Classement'!G:O,9,FALSE)","v":{"$error":"#N/A"}},{"$f":"IF(K895=17,Param!G895,IF(K895=28,Param!H895,IF(K895=45,Param!I895)))","v":"00:00:00"},{"$error":"#N/A"},null,1900,false,false]
[895,"-",null,null,null,null,115.40041067761807,null,null,null,17,{"$f":"VLOOKUP(A896,'Chrono+Classement'!G:O,5,FALSE)","v":{"$error":"#N/A"}},{"$f":"VLOOKUP(A896,'Chrono+Classement'!G:O,9,FALSE)","v":{"$error":"#N/A"}},{"$f":"IF(K896=17,Param!G896,IF(K896=28,Param!H896,IF(K896=45,Param!I896)))","v":"00:00:00"},{"$error":"#N/A"},null,1900,false,false]
[896,"-",null,null,null,null,115.40041067761807,null,null,null,17,{"$f":"VLOOKUP(A897,'Chrono+Classement'!G:O,5,FALSE)","v":{"$error":"#N/A"}},{"$f":"VLOOKUP(A897,'Chrono+Classement'!G:O,9,FALSE)","v":{"$error":"#N/A"}},{"$f":"IF(K897=17,Param!G897,IF(K897=28,Param!H897,IF(K897=45,Param!I897)))","v":"00:00:00"},{"$error":"#N/A"},null,1900,false,false]
[897,{"$f":"CONCATENATE(C898,\"-\",D898)","v":"-"},null,null,null,null,{"$f":"(TODAY()-F898)/365.25","v":115.40041067761807},null,null,null,17,{"$f":"VLOOKUP(A898,'Chrono+Classement'!G:O,5,FALSE)","v":{"$error":"#N/A"}},{"$f":"VLOOKUP(A898,'Chrono+Classement'!G:O,9,FALSE)","v":{"$error":"#N/A"}},{"$f":"IF(K898=17,Param!G898,IF(K898=28,Param!H898,IF(K898=45,Param!I898)))","v":"00:00:00"},{"$error":"#N/A"},null,{"$f":"YEAR(F898)","v":1900},{"$f":"IF(E898=\"M\",IF(Q898<=1965,\"Masters 5\",IF(Q898<=1975,\"Masters 3/4\",IF(Q898<=1985,\"Masters 1/2\",IF(Q898<=1992,\"Hommes\",IF(Q898<=1996,\"Espoirs\",IF(Q898<=1998,\"Juniors\",IF(Q898<=2000,\"Cadets\",0))))))))","v":false},{"$f":"IF(E898=\"F\",IF(Q898<=1992,\"Dames\",IF(Q898<=1996,\"Espoirs Dames\",IF(Q898<=1998,\"Juniors Dames\",IF(Q898<=2000,\"Cadettes\",0)))))","v":false}]
[898,"-",null,null,null,null,115.40041067761807,null,null,null,17,{"$f":"VLOOKUP(A899,'Chrono+Classement'!G:O,5,FALSE)","v":{"$error":"#N/A"}},{"$f":"VLOOKUP(A899,'Chrono+Classement'!G:O,9,FALSE)","v":{"$error":"#N/A"}},{"$f":"IF(K899=17,Param!G899,IF(K899=28,Param!H899,IF(K899=45,Param!I899)))","v":"00:00:00"},{"$error":"#N/A"},null,1900,false,false]
[899,"-",null,null,null,null,115.40041067761807,null,null,null,17,{"$f":"VLOOKUP(A900,'Chrono+Classement'!G:O,5,FALSE)","v":{"$error":"#N/A"}},{"$f":"VLOOKUP(A900,'Chrono+Classement'!G:O,9,FALSE)","v":{"$error":"#N/A"}},{"$f":"IF(K900=17,Param!G900,IF(K900=28,Param!H900,IF(K900=45,Param!I900)))","v":"00:00:00"},{"$error":"#N/A"},null,1900,false,false]
[900,"-",null,null,null,null,115.40041067761807,null,null,null,17,{"$f":"VLOOKUP(A901,'Chrono+Classement'!G:O,5,FALSE)","v":{"$error":"#N/A"}},{"$f":"VLOOKUP(A901,'Chrono+Classement'!G:O,9,FALSE)","v":{"$error":"#N/A"}},{"$f":"IF(K901=17,Param!G901,IF(K901=28,Param!H901,IF(K901=45,Param!I901)))","v":"00:00:00"},{"$error":"#N/A"},null,1900,false,false]
[901,"-",null,null,null,null,115.40041067761807,null,null,null,17,{"$f":"VLOOKUP(A902,'Chrono+Classement'!G:O,5,FALSE)","v":{"$error":"#N/A"}},{"$f":"VLOOKUP(A902,'Chrono+Classement'!G:O,9,FALSE)","v":{"$error":"#N/A"}},{"$f":"IF(K902=17,Param!G902,IF(K902=28,Param!H902,IF(K902=45,Param!I902)))","v":"00:00:00"},{"$error":"#N/A"},null,1900,false,false]
[902,"-",null,null,null,null,115.40041067761807,null,null,null,17,{"$f":"VLOOKUP(A903,'Chrono+Classement'!G:O,5,FALSE)","v":{"$error":"#N/A"}},{"$f":"VLOOKUP(A903,'Chrono+Classement'!G:O,9,FALSE)","v":{"$error":"#N/A"}},{"$f":"IF(K903=17,Param!G903,IF(K903=28,Param!H903,IF(K903=45,Param!I903)))","v":"00:00:00"},{"$error":"#N/A"},null,1900,false,false]
[903,"-",null,null,null,null,115.40041067761807,null,null,null,17,{"$f":"VLOOKUP(A904,'Chrono+Classement'!G:O,5,FALSE)","v":{"$error":"#N/A"}},{"$f":"VLOOKUP(A904,'Chrono+Classement'!G:O,9,FALSE)","v":{"$error":"#N/A"}},{"$f":"IF(K904=17,Param!G904,IF(K904=28,Param!H904,IF(K904=45,Param!I904)))","v":"00:00:00"},{"$error":"#N/A"},null,1900,false,false]
[904,"-",null,null,null,null,115.40041067761807,null,null,null,17,{"$f":"VLOOKUP(A905,'Chrono+Classement'!G:O,5,FALSE)","v":{"$error":"#N/A"}},{"$f":"VLOOKUP(A905,'Chrono+Classement'!G:O,9,FALSE)","v":{"$error":"#N/A"}},{"$f":"IF(K905=17,Param!G905,IF(K905=28,Param!H905,IF(K905=45,Param!I905)))","v":"00:00:00"},{"$error":"#N/A"},null,1900,false,false]
[905,"-",null,null,null,null,115.40041067761807,null,null,null,17,{"$f":"VLOOKUP(A906,'Chrono+Classement'!G:O,5,FALSE)","v":{"$error":"#N/A"}},{"$f":"VLOOKUP(A906,'Chrono+Classement'!G:O,9,FALSE)","v":{"$error":"#N/A"}},{"$f":"IF(K906=17,Param!G906,IF(K906=28,Param!H906,IF(K906=45,Param!I906)))","v":"00:00:00"},{"$error":"#N/A"},null,1900,false,false]
[906,"-",null,null,null,null,115.40041067761807,null,null,null,17,{"$f":"VLOOKUP(A907,'Chrono+Classement'!G:O,5,FALSE)","v":{"$error":"#N/A"}},{"$f":"VLOOKUP(A907,'Chrono+Classement'!G:O,9,FALSE)","v":{"$error":"#N/A"}},{"$f":"IF(K907=17,Param!G907,IF(K907=28,Param!H907,IF(K907=45,Param!I907)))","v":"00:00:00"},{"$error":"#N/A"},null,1900,false,false]
[907,"-",null,null,null,null,115.40041067761807,null,null,null,17,{"$f":"VLOOKUP(A908,'Chrono+Classement'!G:O,5,FALSE)","v":{"$error":"#N/A"}},{"$f":"VLOOKUP(A908,'Chrono+Classement'!G:O,9,FALSE)","v":{"$error":"#N/A"}},{"$f":"IF(K908=17,Param!G908,IF(K908=28,Param!H908,IF(K908=45,Param!I908)))","v":"00:00:00"},{"$error":"#N/A"},null,1900,false,false]
[908,"-",null,null,null,null,115.40041067761807,null,null,null,17,{"$f":"VLOOKUP(A909,'Chrono+Classement'!G:O,5,FALSE)","v":{"$error":"#N/A"}},{"$f":"VLOOKUP(A909,'Chrono+Classement'!G:O,9,FALSE)","v":{"$error":"#N/A"}},{"$f":"IF(K909=17,Param!G909,IF(K909=28,Param!H909,IF(K909=45,Param!I909)))","v":"00:00:00"},{"$error":"#N/A"},null,1900,false,false]
[909,"-",null,null,null,null,115.40041067761807,null,null,null,17,{"$f":"VLOOKUP(A910,'Chrono+Classement'!G:O,5,FALSE)","v":{"$error":"#N/A"}},{"$f":"VLOOKUP(A910,'Chrono+Classement'!G:O,9,FALSE)","v":{"$error":"#N/A"}},{"$f":"IF(K910=17,Param!G910,IF(K910=28,Param!H910,IF(K910=45,Param!I910)))","v":"00:00:00"},{"$error":"#N/A"},null,1900,false,false]
[910,"-",null,null,null,null,115.40041067761807,null,null,null,17,{"$f":"VLOOKUP(A911,'Chrono+Classement'!G:O,5,FALSE)","v":{"$error":"#N/A"}},{"$f":"VLOOKUP(A911,'Chrono+Classement'!G:O,9,FALSE)","v":{"$error":"#N/A"}},{"$f":"IF(K911=17,Param!G911,IF(K911=28,Param!H911,IF(K911=45,Param!I911)))","v":"00:00:00"},{"$error":"#N/A"},null,1900,false,false]
[911,"-",null,null,null,null,115.40041067761807,null,null,null,17,{"$f":"VLOOKUP(A912,'Chrono+Classement'!G:O,5,FALSE)","v":{"$error":"#N/A"}},{"$f":"VLOOKUP(A912,'Chrono+Classement'!G:O,9,FALSE)","v":{"$error":"#N/A"}},{"$f":"IF(K912=17,Param!G912,IF(K912=28,Param!H912,IF(K912=45,Param!I912)))","v":"00:00:00"},{"$error":"#N/A"},null,1900,false,false]
[912,"-",null,null,null,null,115.40041067761807,null,null,null,17,{"$f":"VLOOKUP(A913,'Chrono+Classement'!G:O,5,FALSE)","v":{"$error":"#N/A"}},{"$f":"VLOOKUP(A913,'Chrono+Classement'!G:O,9,FALSE)","v":{"$error":"#N/A"}},{"$f":"IF(K913=17,Param!G913,IF(K913=28,Param!H913,IF(K913=45,Param!I913)))","v":"00:00:00"},{"$error":"#N/A"},null,1900,false,false]
[913,"-",null,null,null,null,115.40041067761807,null,null,null,17,{"$f":"VLOOKUP(A914,'Chrono+Classement'!G:O,5,FALSE)","v":{"$error":"#N/A"}},{"$f":"VLOOKUP(A914,'Chrono+Classement'!G:O,9,FALSE)","v":{"$error":"#N/A"}},{"$f":"IF(K914=17,Param!G914,IF(K914=28,Param!H914,IF(K914=45,Param!I914)))","v":"00:00:00"},{"$error":"#N/A"},null,1900,false,false]
[914,"-",null,null,null,null,115.40041067761807,null,null,null,17,{"$f":"VLOOKUP(A915,'Chrono+Classement'!G:O,5,FALSE)","v":{"$error":"#N/A"}},{"$f":"VLOOKUP(A915,'Chrono+Classement'!G:O,9,FALSE)","v":{"$error":"#N/A"}},{"$f":"IF(K915=17,Param!G915,IF(K915=28,Param!H915,IF(K915=45,Param!I915)))","v":"00:00:00"},{"$error":"#N/A"},null,1900,false,false]
[915,"-",null,null,null,null,115.40041067761807,null,null,null,17,{"$f":"VLOOKUP(A916,'Chrono+Classement'!G:O,5,FALSE)","v":{"$error":"#N/A"}},{"$f":"VLOOKUP(A916,'Chrono+Classement'!G:O,9,FALSE)","v":{"$error":"#N/A"}},{"$f":"IF(K916=17,Param!G916,IF(K916=28,Param!H916,IF(K916=45,Param!I916)))","v":"00:00:00"},{"$error":"#N/A"},null,1900,false,false]
[916,"-",null,null,null,null,115.40041067761807,null,null,null,17,{"$f":"VLOOKUP(A917,'Chrono+Classement'!G:O,5,FALSE)","v":{"$error":"#N/A"}},{"$f":"VLOOKUP(A917,'Chrono+Classement'!G:O,9,FALSE)","v":{"$error":"#N/A"}},{"$f":"IF(K917=17,Param!G917,IF(K917=28,Param!H917,IF(K917=45,Param!I917)))","v":"00:00:00"},{"$error":"#N/A"},null,1900,false,false]
[917,"-",null,null,null,null,115.40041067761807,null,null,null,17,{"$f":"VLOOKUP(A918,'Chrono+Classement'!G:O,5,FALSE)","v":{"$error":"#N/A"}},{"$f":"VLOOKUP(A918,'Chrono+Classement'!G:O,9,FALSE)","v":{"$error":"#N/A"}},{"$f":"IF(K918=17,Param!G918,IF(K918=28,Param!H918,IF(K918=45,Param!I918)))","v":"00:00:00"},{"$error":"#N/A"},null,1900,false,false]
[918,"-",null,null,null,null,115.40041067761807,null,null,null,17,{"$f":"VLOOKUP(A919,'Chrono+Classement'!G:O,5,FALSE)","v":{"$error":"#N/A"}},{"$f":"VLOOKUP(A919,'Chrono+Classement'!G:O,9,FALSE)","v":{"$error":"#N/A"}},{"$f":"IF(K919=17,Param!G919,IF(K919=28,Param!H919,IF(K919=45,Param!I919)))","v":"00:00:00"},{"$error":"#N/A"},null,1900,false,false]
[919,"-",null,null,null,null,115.40041067761807,null,null,null,17,{"$f":"VLOOKUP(A920,'Chrono+Classement'!G:O,5,FALSE)","v":{"$error":"#N/A"}},{"$f":"VLOOKUP(A920,'Chrono+Classement'!G:O,9,FALSE)","v":{"$error":"#N/A"}},{"$f":"IF(K920=17,Param!G920,IF(K920=28,Param!H920,IF(K920=45,Param!I920)))","v":"00:00:00"},{"$error":"#N/A"},null,1900,false,false]
[920,"-",null,null,null,null,115.40041067761807,null,null,null,17,{"$f":"VLOOKUP(A921,'Chrono+Classement'!G:O,5,FALSE)","v":{"$error":"#N/A"}},{"$f":"VLOOKUP(A921,'Chrono+Classement'!G:O,9,FALSE)","v":{"$error":"#N/A"}},{"$f":"IF(K921=17,Param!G921,IF(K921=28,Param!H921,IF(K921=45,Param!I921)))","v":"00:00:00"},{"$error":"#N/A"},null,1900,false,false]
[921,"-",null,null,null,null,115.40041067761807,null,null,null,17,{"$f":"VLOOKUP(A922,'Chrono+Classement'!G:O,5,FALSE)","v":{"$error":"#N/A"}},{"$f":"VLOOKUP(A922,'Chrono+Classement'!G:O,9,FALSE)","v":{"$error":"#N/A"}},{"$f":"IF(K922=17,Param!G922,IF(K922=28,Param!H922,IF(K922=45,Param!I922)))","v":"00:00:00"},{"$error":"#N/A"},null,1900,false,false]
[922,"-",null,null,null,null,115.40041067761807,null,null,null,17,{"$f":"VLOOKUP(A923,'Chrono+Classement'!G:O,5,FALSE)","v":{"$error":"#N/A"}},{"$f":"VLOOKUP(A923,'Chrono+Classement'!G:O,9,FALSE)","v":{"$error":"#N/A"}},{"$f":"IF(K923=17,Param!G923,IF(K923=28,Param!H923,IF(K923=45,Param!I923)))","v":"00:00:00"},{"$error":"#N/A"},null,1900,false,false]
[923,"-",null,null,null,null,115.40041067761807,null,null,null,17,{"$f":"VLOOKUP(A924,'Chrono+Classement'!G:O,5,FALSE)","v":{"$error":"#N/A"}},{"$f":"VLOOKUP(A924,'Chrono+Classement'!G:O,9,FALSE)","v":{"$error":"#N/A"}},{"$f":"IF(K924=17,Param!G924,IF(K924=28,Param!H924,IF(K924=45,Param!I924)))","v":"00:00:00"},{"$error":"#N/A"},null,1900,false,false]
[924,"-",null,null,null,null,115.40041067761807,null,null,null,17,{"$f":"VLOOKUP(A925,'Chrono+Classement'!G:O,5,FALSE)","v":{"$error":"#N/A"}},{"$f":"VLOOKUP(A925,'Chrono+Classement'!G:O,9,FALSE)","v":{"$error":"#N/A"}},{"$f":"IF(K925=17,Param!G925,IF(K925=28,Param!H925,IF(K925=45,Param!I925)))","v":"00:00:00"},{"$error":"#N/A"},null,1900,false,false]
[925,"-",null,null,null,null,115.40041067761807,null,null,null,17,{"$f":"VLOOKUP(A926,'Chrono+Classement'!G:O,5,FALSE)","v":{"$error":"#N/A"}},{"$f":"VLOOKUP(A926,'Chrono+Classement'!G:O,9,FALSE)","v":{"$error":"#N/A"}},{"$f":"IF(K926=17,Param!G926,IF(K926=28,Param!H926,IF(K926=45,Param!I926)))","v":"00:00:00"},{"$error":"#N/A"},null,1900,false,false]
[926,"-",null,null,null,null,115.40041067761807,null,null,null,17,{"$f":"VLOOKUP(A927,'Chrono+Classement'!G:O,5,FALSE)","v":{"$error":"#N/A"}},{"$f":"VLOOKUP(A927,'Chrono+Classement'!G:O,9,FALSE)","v":{"$error":"#N/A"}},{"$f":"IF(K927=17,Param!G927,IF(K927=28,Param!H927,IF(K927=45,Param!I927)))","v":"00:00:00"},{"$error":"#N/A"},null,1900,false,false]
[927,"-",null,null,null,null,115.40041067761807,null,null,null,17,{"$f":"VLOOKUP(A928,'Chrono+Classement'!G:O,5,FALSE)","v":{"$error":"#N/A"}},{"$f":"VLOOKUP(A928,'Chrono+Classement'!G:O,9,FALSE)","v":{"$error":"#N/A"}},{"$f":"IF(K928=17,Param!G928,IF(K928=28,Param!H928,IF(K928=45,Param!I928)))","v":"00:00:00"},{"$error":"#N/A"},null,1900,false,false]
[928,"-",null,null,null,null,115.40041067761807,null,null,null,17,{"$f":"VLOOKUP(A929,'Chrono+Classement'!G:O,5,FALSE)","v":{"$error":"#N/A"}},{"$f":"VLOOKUP(A929,'Chrono+Classement'!G:O,9,FALSE)","v":{"$error":"#N/A"}},{"$f":"IF(K929=17,Param!G929,IF(K929=28,Param!H929,IF(K929=45,Param!I929)))","v":"00:00:00"},{"$error":"#N/A"},null,1900,false,false]
[929,"-",null,null,null,null,115.40041067761807,null,null,null,17,{"$f":"VLOOKUP(A930,'Chrono+Classement'!G:O,5,FALSE)","v":{"$error":"#N/A"}},{"$f":"VLOOKUP(A930,'Chrono+Classement'!G:O,9,FALSE)","v":{"$error":"#N/A"}},{"$f":"IF(K930=17,Param!G930,IF(K930=28,Param!H930,IF(K930=45,Param!I930)))","v":"00:00:00"},{"$error":"#N/A"},null,1900,false,false]
[930,"-",null,null,null,null,115.40041067761807,null,null,null,17,{"$f":"VLOOKUP(A931,'Chrono+Classement'!G:O,5,FALSE)","v":{"$error":"#N/A"}},{"$f":"VLOOKUP(A931,'Chrono+Classement'!G:O,9,FALSE)","v":{"$error":"#N/A"}},{"$f":"IF(K931=17,Param!G931,IF(K931=28,Param!H931,IF(K931=45,Param!I931)))","v":"00:00:00"},{"$error":"#N/A"},null,1900,false,false]
[931,"-",null,null,null,null,115.40041067761807,null,null,null,17,{"$f":"VLOOKUP(A932,'Chrono+Classement'!G:O,5,FALSE)","v":{"$error":"#N/A"}},{"$f":"VLOOKUP(A932,'Chrono+Classement'!G:O,9,FALSE)","v":{"$error":"#N/A"}},{"$f":"IF(K932=17,Param!G932,IF(K932=28,Param!H932,IF(K932=45,Param!I932)))","v":"00:00:00"},{"$error":"#N/A"},null,1900,false,false]
[932,"-",null,null,null,null,115.40041067761807,null,null,null,17,{"$f":"VLOOKUP(A933,'Chrono+Classement'!G:O,5,FALSE)","v":{"$error":"#N/A"}},{"$f":"VLOOKUP(A933,'Chrono+Classement'!G:O,9,FALSE)","v":{"$error":"#N/A"}},{"$f":"IF(K933=17,Param!G933,IF(K933=28,Param!H933,IF(K933=45,Param!I933)))","v":"00:00:00"},{"$f":"M933-N933","v":{"$error":"#N/A"}},null,1900,false,false]
[933,"-",null,null,null,null,115.40041067761807,null,null,null,17,{"$f":"VLOOKUP(A934,'Chrono+Classement'!G:O,5,FALSE)","v":{"$error":"#N/A"}},{"$f":"VLOOKUP(A934,'Chrono+Classement'!G:O,9,FALSE)","v":{"$error":"#N/A"}},{"$f":"IF(K934=17,Param!G934,IF(K934=28,Param!H934,IF(K934=45,Param!I934)))","v":"00:00:00"},{"$error":"#N/A"},null,1900,false,false]
[934,"-",null,null,null,null,115.40041067761807,null,null,null,17,{"$f":"VLOOKUP(A935,'Chrono+Classement'!G:O,5,FALSE)","v":{"$error":"#N/A"}},{"$f":"VLOOKUP(A935,'Chrono+Classement'!G:O,9,FALSE)","v":{"$error":"#N/A"}},{"$f":"IF(K935=17,Param!G935,IF(K935=28,Param!H935,IF(K935=45,Param!I935)))","v":"00:00:00"},{"$error":"#N/A"},null,1900,false,false]
[935,"-",null,null,null,null,115.40041067761807,null,null,null,17,{"$f":"VLOOKUP(A936,'Chrono+Classement'!G:O,5,FALSE)","v":{"$error":"#N/A"}},{"$f":"VLOOKUP(A936,'Chrono+Classement'!G:O,9,FALSE)","v":{"$error":"#N/A"}},{"$f":"IF(K936=17,Param!G936,IF(K936=28,Param!H936,IF(K936=45,Param!I936)))","v":"00:00:00"},{"$error":"#N/A"},null,1900,false,false]
[936,"-",null,null,null,null,115.40041067761807,null,null,null,17,{"$f":"VLOOKUP(A937,'Chrono+Classement'!G:O,5,FALSE)","v":{"$error":"#N/A"}},{"$f":"VLOOKUP(A937,'Chrono+Classement'!G:O,9,FALSE)","v":{"$error":"#N/A"}},{"$f":"IF(K937=17,Param!G937,IF(K937=28,Param!H937,IF(K937=45,Param!I937)))","v":"00:00:00"},{"$error":"#N/A"},null,1900,false,false]
[937,"-",null,null,null,null,115.40041067761807,null,null,null,17,{"$f":"VLOOKUP(A938,'Chrono+Classement'!G:O,5,FALSE)","v":{"$error":"#N/A"}},{"$f":"VLOOKUP(A938,'Chrono+Classement'!G:O,9,FALSE)","v":{"$error":"#N/A"}},{"$f":"IF(K938=17,Param!G938,IF(K938=28,Param!H938,IF(K938=45,Param!I938)))","v":"00:00:00"},{"$error":"#N/A"},null,1900,false,false]
[938,"-",null,null,null,null,115.40041067761807,null,null,null,17,{"$f":"VLOOKUP(A939,'Chrono+Classement'!G:O,5,FALSE)","v":{"$error":"#N/A"}},{"$f":"VLOOKUP(A939,'Chrono+Classement'!G:O,9,FALSE)","v":{"$error":"#N/A"}},{"$f":"IF(K939=17,Param!G939,IF(K939=28,Param!H939,IF(K939=45,Param!I939)))","v":"00:00:00"},{"$error":"#N/A"},null,1900,false,false]
[939,"-",null,null,null,null,115.40041067761807,null,null,null,17,{"$f":"VLOOKUP(A940,'Chrono+Classement'!G:O,5,FALSE)","v":{"$error":"#N/A"}},{"$f":"VLOOKUP(A940,'Chrono+Classement'!G:O,9,FALSE)","v":{"$error":"#N/A"}},{"$f":"IF(K940=17,Param!G940,IF(K940=28,Param!H940,IF(K940=45,Param!I940)))","v":"00:00:00"},{"$error":"#N/A"},null,1900,false,false]
[940,"-",null,null,null,null,115.40041067761807,null,null,null,17,{"$f":"VLOOKUP(A941,'Chrono+Classement'!G:O,5,FALSE)","v":{"$error":"#N/A"}},{"$f":"VLOOKUP(A941,'Chrono+Classement'!G:O,9,FALSE)","v":{"$error":"#N/A"}},{"$f":"IF(K941=17,Param!G941,IF(K941=28,Param!H941,IF(K941=45,Param!I941)))","v":"00:00:00"},{"$error":"#N/A"},null,1900,false,false]
[941,"-",null,null,null,null,115.40041067761807,null,null,null,17,{"$f":"VLOOKUP(A942,'Chrono+Classement'!G:O,5,FALSE)","v":{"$error":"#N/A"}},{"$f":"VLOOKUP(A942,'Chrono+Classement'!G:O,9,FALSE)","v":{"$error":"#N/A"}},{"$f":"IF(K942=17,Param!G942,IF(K942=28,Param!H942,IF(K942=45,Param!I942)))","v":"00:00:00"},{"$error":"#N/A"},null,1900,false,false]
[942,"-",null,null,null,null,115.40041067761807,null,null,null,17,{"$f":"VLOOKUP(A943,'Chrono+Classement'!G:O,5,FALSE)","v":{"$error":"#N/A"}},{"$f":"VLOOKUP(A943,'Chrono+Classement'!G:O,9,FALSE)","v":{"$error":"#N/A"}},{"$f":"IF(K943=17,Param!G943,IF(K943=28,Param!H943,IF(K943=45,Param!I943)))","v":"00:00:00"},{"$error":"#N/A"},null,1900,false,false]
[943,"-",null,null,null,null,115.40041067761807,null,null,null,17,{"$f":"VLOOKUP(A944,'Chrono+Classement'!G:O,5,FALSE)","v":{"$error":"#N/A"}},{"$f":"VLOOKUP(A944,'Chrono+Classement'!G:O,9,FALSE)","v":{"$error":"#N/A"}},{"$f":"IF(K944=17,Param!G944,IF(K944=28,Param!H944,IF(K944=45,Param!I944)))","v":"00:00:00"},{"$error":"#N/A"},null,1900,false,false]
[944,"-",null,null,null,null,115.40041067761807,null,null,null,17,{"$f":"VLOOKUP(A945,'Chrono+Classement'!G:O,5,FALSE)","v":{"$error":"#N/A"}},{"$f":"VLOOKUP(A945,'Chrono+Classement'!G:O,9,FALSE)","v":{"$error":"#N/A"}},{"$f":"IF(K945=17,Param!G945,IF(K945=28,Param!H945,IF(K945=45,Param!I945)))","v":"00:00:00"},{"$error":"#N/A"},null,1900,false,false]
[945,"-",null,null,null,null,115.40041067761807,null,null,null,17,{"$f":"VLOOKUP(A946,'Chrono+Classement'!G:O,5,FALSE)","v":{"$error":"#N/A"}},{"$f":"VLOOKUP(A946,'Chrono+Classement'!G:O,9,FALSE)","v":{"$error":"#N/A"}},{"$f":"IF(K946=17,Param!G946,IF(K946=28,Param!H946,IF(K946=45,Param!I946)))","v":"00:00:00"},{"$error":"#N/A"},null,1900,false,false]
[946,"-",null,null,null,null,115.40041067761807,null,null,null,17,{"$f":"VLOOKUP(A947,'Chrono+Classement'!G:O,5,FALSE)","v":{"$error":"#N/A"}},{"$f":"VLOOKUP(A947,'Chrono+Classement'!G:O,9,FALSE)","v":{"$error":"#N/A"}},{"$f":"IF(K947=17,Param!G947,IF(K947=28,Param!H947,IF(K947=45,Param!I947)))","v":"00:00:00"},{"$error":"#N/A"},null,1900,false,false]
[947,"-",null,null,null,null,115.40041067761807,null,null,null,17,{"$f":"VLOOKUP(A948,'Chrono+Classement'!G:O,5,FALSE)","v":{"$error":"#N/A"}},{"$f":"VLOOKUP(A948,'Chrono+Classement'!G:O,9,FALSE)","v":{"$error":"#N/A"}},{"$f":"IF(K948=17,Param!G948,IF(K948=28,Param!H948,IF(K948=45,Param!I948)))","v":"00:00:00"},{"$error":"#N/A"},null,1900,false,false]
[948,"-",null,null,null,null,115.40041067761807,null,null,null,17,{"$f":"VLOOKUP(A949,'Chrono+Classement'!G:O,5,FALSE)","v":{"$error":"#N/A"}},{"$f":"VLOOKUP(A949,'Chrono+Classement'!G:O,9,FALSE)","v":{"$error":"#N/A"}},{"$f":"IF(K949=17,Param!G949,IF(K949=28,Param!H949,IF(K949=45,Param!I949)))","v":"00:00:00"},{"$error":"#N/A"},null,1900,false,false]
[949,"-",null,null,null,null,115.40041067761807,null,null,null,17,{"$f":"VLOOKUP(A950,'Chrono+Classement'!G:O,5,FALSE)","v":{"$error":"#N/A"}},{"$f":"VLOOKUP(A950,'Chrono+Classement'!G:O,9,FALSE)","v":{"$error":"#N/A"}},{"$f":"IF(K950=17,Param!G950,IF(K950=28,Param!H950,IF(K950=45,Param!I950)))","v":"00:00:00"},{"$error":"#N/A"},null,1900,false,false]
[950,"-",null,null,null,null,115.40041067761807,null,null,null,17,{"$f":"VLOOKUP(A951,'Chrono+Classement'!G:O,5,FALSE)","v":{"$error":"#N/A"}},{"$f":"VLOOKUP(A951,'Chrono+Classement'!G:O,9,FALSE)","v":{"$error":"#N/A"}},{"$f":"IF(K951=17,Param!G951,IF(K951=28,Param!H951,IF(K951=45,Param!I951)))","v":"00:00:00"},{"$error":"#N/A"},null,1900,false,false]
[951,"-",null,null,null,null,115.40041067761807,null,null,null,17,{"$f":"VLOOKUP(A952,'Chrono+Classement'!G:O,5,FALSE)","v":{"$error":"#N/A"}},{"$f":"VLOOKUP(A952,'Chrono+Classement'!G:O,9,FALSE)","v":{"$error":"#N/A"}},{"$f":"IF(K952=17,Param!G952,IF(K952=28,Param!H952,IF(K952=45,Param!I952)))","v":"00:00:00"},{"$error":"#N/A"},null,1900,false,false]
[952,"-",null,null,null,null,115.40041067761807,null,null,null,17,{"$f":"VLOOKUP(A953,'Chrono+Classement'!G:O,5,FALSE)","v":{"$error":"#N/A"}},{"$f":"VLOOKUP(A953,'Chrono+Classement'!G:O,9,FALSE)","v":{"$error":"#N/A"}},{"$f":"IF(K953=17,Param!G953,IF(K953=28,Param!H953,IF(K953=45,Param!I953)))","v":"00:00:00"},{"$error":"#N/A"},null,1900,false,false]
[953,"-",null,null,null,null,115.40041067761807,null,null,null,17,{"$f":"VLOOKUP(A954,'Chrono+Classement'!G:O,5,FALSE)","v":{"$error":"#N/A"}},{"$f":"VLOOKUP(A954,'Chrono+Classement'!G:O,9,FALSE)","v":{"$error":"#N/A"}},{"$f":"IF(K954=17,Param!G954,IF(K954=28,Param!H954,IF(K954=45,Param!I954)))","v":"00:00:00"},{"$error":"#N/A"},null,1900,false,false]
[954,"-",null,null,null,null,115.40041067761807,null,null,null,17,{"$f":"VLOOKUP(A955,'Chrono+Classement'!G:O,5,FALSE)","v":{"$error":"#N/A"}},{"$f":"VLOOKUP(A955,'Chrono+Classement'!G:O,9,FALSE)","v":{"$error":"#N/A"}},{"$f":"IF(K955=17,Param!G955,IF(K955=28,Param!H955,IF(K955=45,Param!I955)))","v":"00:00:00"},{"$error":"#N/A"},null,1900,false,false]
[955,"-",null,null,null,null,115.40041067761807,null,null,null,17,{"$f":"VLOOKUP(A956,'Chrono+Classement'!G:O,5,FALSE)","v":{"$error":"#N/A"}},{"$f":"VLOOKUP(A956,'Chrono+Classement'!G:O,9,FALSE)","v":{"$error":"#N/A"}},{"$f":"IF(K956=17,Param!G956,IF(K956=28,Param!H956,IF(K956=45,Param!I956)))","v":"00:00:00"},{"$error":"#N/A"},null,1900,false,false]
[956,"-",null,null,null,null,115.40041067761807,null,null,null,17,{"$f":"VLOOKUP(A957,'Chrono+Classement'!G:O,5,FALSE)","v":{"$error":"#N/A"}},{"$f":"VLOOKUP(A957,'Chrono+Classement'!G:O,9,FALSE)","v":{"$error":"#N/A"}},{"$f":"IF(K957=17,Param!G957,IF(K957=28,Param!H957,IF(K957=45,Param!I957)))","v":"00:00:00"},{"$error":"#N/A"},null,1900,false,false]
[957,"-",null,null,null,null,115.40041067761807,null,null,null,17,{"$f":"VLOOKUP(A958,'Chrono+Classement'!G:O,5,FALSE)","v":{"$error":"#N/A"}},{"$f":"VLOOKUP(A958,'Chrono+Classement'!G:O,9,FALSE)","v":{"$error":"#N/A"}},{"$f":"IF(K958=17,Param!G958,IF(K958=28,Param!H958,IF(K958=45,Param!I958)))","v":"00:00:00"},{"$error":"#N/A"},null,1900,false,false]
[958,"-",null,null,null,null,115.40041067761807,null,null,null,17,{"$f":"VLOOKUP(A959,'Chrono+Classement'!G:O,5,FALSE)","v":{"$error":"#N/A"}},{"$f":"VLOOKUP(A959,'Chrono+Classement'!G:O,9,FALSE)","v":{"$error":"#N/A"}},{"$f":"IF(K959=17,Param!G959,IF(K959=28,Param!H959,IF(K959=45,Param!I959)))","v":"00:00:00"},{"$error":"#N/A"},null,1900,false,false]
[959,"-",null,null,null,null,115.40041067761807,null,null,null,17,{"$f":"VLOOKUP(A960,'Chrono+Classement'!G:O,5,FALSE)","v":{"$error":"#N/A"}},{"$f":"VLOOKUP(A960,'Chrono+Classement'!G:O,9,FALSE)","v":{"$error":"#N/A"}},{"$f":"IF(K960=17,Param!G960,IF(K960=28,Param!H960,IF(K960=45,Param!I960)))","v":"00:00:00"},{"$error":"#N/A"},null,1900,false,false]
[960,"-",null,null,null,null,115.40041067761807,null,null,null,17,{"$f":"VLOOKUP(A961,'Chrono+Classement'!G:O,5,FALSE)","v":{"$error":"#N/A"}},{"$f":"VLOOKUP(A961,'Chrono+Classement'!G:O,9,FALSE)","v":{"$error":"#N/A"}},{"$f":"IF(K961=17,Param!G961,IF(K961=28,Param!H961,IF(K961=45,Param!I961)))","v":"00:00:00"},{"$error":"#N/A"},null,1900,false,false]
[961,{"$f":"CONCATENATE(C962,\"-\",D962)","v":"-"},null,null,null,null,{"$f":"(TODAY()-F962)/365.25","v":115.40041067761807},null,null,null,17,{"$f":"VLOOKUP(A962,'Chrono+Classement'!G:O,5,FALSE)","v":{"$error":"#N/A"}},{"$f":"VLOOKUP(A962,'Chrono+Classement'!G:O,9,FALSE)","v":{"$error":"#N/A"}},{"$f":"IF(K962=17,Param!G962,IF(K962=28,Param!H962,IF(K962=45,Param!I962)))","v":"00:00:00"},{"$error":"#N/A"},null,{"$f":"YEAR(F962)","v":1900},{"$f":"IF(E962=\"M\",IF(Q962<=1965,\"Masters 5\",IF(Q962<=1975,\"Masters 3/4\",IF(Q962<=1985,\"Masters 1/2\",IF(Q962<=1992,\"Hommes\",IF(Q962<=1996,\"Espoirs\",IF(Q962<=1998,\"Juniors\",IF(Q962<=2000,\"Cadets\",0))))))))","v":false},{"$f":"IF(E962=\"F\",IF(Q962<=1992,\"Dames\",IF(Q962<=1996,\"Espoirs Dames\",IF(Q962<=1998,\"Juniors Dames\",IF(Q962<=2000,\"Cadettes\",0)))))","v":false}]
[962,"-",null,null,null,null,115.40041067761807,null,null,null,17,{"$f":"VLOOKUP(A963,'Chrono+Classement'!G:O,5,FALSE)","v":{"$error":"#N/A"}},{"$f":"VLOOKUP(A963,'Chrono+Classement'!G:O,9,FALSE)","v":{"$error":"#N/A"}},{"$f":"IF(K963=17,Param!G963,IF(K963=28,Param!H963,IF(K963=45,Param!I963)))","v":"00:00:00"},{"$error":"#N/A"},null,1900,false,false]
[963,"-",null,null,null,null,115.40041067761807,null,null,null,17,{"$f":"VLOOKUP(A964,'Chrono+Classement'!G:O,5,FALSE)","v":{"$error":"#N/A"}},{"$f":"VLOOKUP(A964,'Chrono+Classement'!G:O,9,FALSE)","v":{"$error":"#N/A"}},{"$f":"IF(K964=17,Param!G964,IF(K964=28,Param!H964,IF(K964=45,Param!I964)))","v":"00:00:00"},{"$error":"#N/A"},null,1900,false,false]
[964,"-",null,null,null,null,115.40041067761807,null,null,null,17,{"$f":"VLOOKUP(A965,'Chrono+Classement'!G:O,5,FALSE)","v":{"$error":"#N/A"}},{"$f":"VLOOKUP(A965,'Chrono+Classement'!G:O,9,FALSE)","v":{"$error":"#N/A"}},{"$f":"IF(K965=17,Param!G965,IF(K965=28,Param!H965,IF(K965=45,Param!I965)))","v":"00:00:00"},{"$error":"#N/A"},null,1900,false,false]
[965,"-",null,null,null,null,115.40041067761807,null,null,null,17,{"$f":"VLOOKUP(A966,'Chrono+Classement'!G:O,5,FALSE)","v":{"$error":"#N/A"}},{"$f":"VLOOKUP(A966,'Chrono+Classement'!G:O,9,FALSE)","v":{"$error":"#N/A"}},{"$f":"IF(K966=17,Param!G966,IF(K966=28,Param!H966,IF(K966=45,Param!I966)))","v":"00:00:00"},{"$error":"#N/A"},null,1900,false,false]
[966,"-",null,null,null,null,115.40041067761807,null,null,null,17,{"$f":"VLOOKUP(A967,'Chrono+Classement'!G:O,5,FALSE)","v":{"$error":"#N/A"}},{"$f":"VLOOKUP(A967,'Chrono+Classement'!G:O,9,FALSE)","v":{"$error":"#N/A"}},{"$f":"IF(K967=17,Param!G967,IF(K967=28,Param!H967,IF(K967=45,Param!I967)))","v":"00:00:00"},{"$error":"#N/A"},null,1900,false,false]
[967,"-",null,null,null,null,115.40041067761807,null,null,null,17,{"$f":"VLOOKUP(A968,'Chrono+Classement'!G:O,5,FALSE)","v":{"$error":"#N/A"}},{"$f":"VLOOKUP(A968,'Chrono+Classement'!G:O,9,FALSE)","v":{"$error":"#N/A"}},{"$f":"IF(K968=17,Param!G968,IF(K968=28,Param!H968,IF(K968=45,Param!I968)))","v":"00:00:00"},{"$error":"#N/A"},null,1900,false,false]
[968,"-",null,null,null,null,115.40041067761807,null,null,null,17,{"$f":"VLOOKUP(A969,'Chrono+Classement'!G:O,5,FALSE)","v":{"$error":"#N/A"}},{"$f":"VLOOKUP(A969,'Chrono+Classement'!G:O,9,FALSE)","v":{"$error":"#N/A"}},{"$f":"IF(K969=17,Param!G969,IF(K969=28,Param!H969,IF(K969=45,Param!I969)))","v":"00:00:00"},{"$error":"#N/A"},null,1900,false,false]
[969,"-",null,null,null,null,115.40041067761807,null,null,null,17,{"$f":"VLOOKUP(A970,'Chrono+Classement'!G:O,5,FALSE)","v":{"$error":"#N/A"}},{"$f":"VLOOKUP(A970,'Chrono+Classement'!G:O,9,FALSE)","v":{"$error":"#N/A"}},{"$f":"IF(K970=17,Param!G970,IF(K970=28,Param!H970,IF(K970=45,Param!I970)))","v":"00:00:00"},{"$error":"#N/A"},null,1900,false,false]
[970,"-",null,null,null,null,115.40041067761807,null,null,null,17,{"$f":"VLOOKUP(A971,'Chrono+Classement'!G:O,5,FALSE)","v":{"$error":"#N/A"}},{"$f":"VLOOKUP(A971,'Chrono+Classement'!G:O,9,FALSE)","v":{"$error":"#N/A"}},{"$f":"IF(K971=17,Param!G971,IF(K971=28,Param!H971,IF(K971=45,Param!I971)))","v":"00:00:00"},{"$error":"#N/A"},null,1900,false,false]
[971,"-",null,null,null,null,115.40041067761807,null,null,null,17,{"$f":"VLOOKUP(A972,'Chrono+Classement'!G:O,5,FALSE)","v":{"$error":"#N/A"}},{"$f":"VLOOKUP(A972,'Chrono+Classement'!G:O,9,FALSE)","v":{"$error":"#N/A"}},{"$f":"IF(K972=17,Param!G972,IF(K972=28,Param!H972,IF(K972=45,Param!I972)))","v":"00:00:00"},{"$error":"#N/A"},null,1900,false,false]
[972,"-",null,null,null,null,115.40041067761807,null,null,null,17,{"$f":"VLOOKUP(A973,'Chrono+Classement'!G:O,5,FALSE)","v":{"$error":"#N/A"}},{"$f":"VLOOKUP(A973,'Chrono+Classement'!G:O,9,FALSE)","v":{"$error":"#N/A"}},{"$f":"IF(K973=17,Param!G973,IF(K973=28,Param!H973,IF(K973=45,Param!I973)))","v":"00:00:00"},{"$error":"#N/A"},null,1900,false,false]
[973,"-",null,null,null,null,115.40041067761807,null,null,null,17,{"$f":"VLOOKUP(A974,'Chrono+Classement'!G:O,5,FALSE)","v":{"$error":"#N/A"}},{"$f":"VLOOKUP(A974,'Chrono+Classement'!G:O,9,FALSE)","v":{"$error":"#N/A"}},{"$f":"IF(K974=17,Param!G974,IF(K974=28,Param!H974,IF(K974=45,Param!I974)))","v":"00:00:00"},{"$error":"#N/A"},null,1900,false,false]
[974,"-",null,null,null,null,115.40041067761807,null,null,null,17,{"$f":"VLOOKUP(A975,'Chrono+Classement'!G:O,5,FALSE)","v":{"$error":"#N/A"}},{"$f":"VLOOKUP(A975,'Chrono+Classement'!G:O,9,FALSE)","v":{"$error":"#N/A"}},{"$f":"IF(K975=17,Param!G975,IF(K975=28,Param!H975,IF(K975=45,Param!I975)))","v":"00:00:00"},{"$error":"#N/A"},null,1900,false,false]
[975,"-",null,null,null,null,115.40041067761807,null,null,null,17,{"$f":"VLOOKUP(A976,'Chrono+Classement'!G:O,5,FALSE)","v":{"$error":"#N/A"}},{"$f":"VLOOKUP(A976,'Chrono+Classement'!G:O,9,FALSE)","v":{"$error":"#N/A"}},{"$f":"IF(K976=17,Param!G976,IF(K976=28,Param!H976,IF(K976=45,Param!I976)))","v":"00:00:00"},{"$error":"#N/A"},null,1900,false,false]
[976,"-",null,null,null,null,115.40041067761807,null,null,null,17,{"$f":"VLOOKUP(A977,'Chrono+Classement'!G:O,5,FALSE)","v":{"$error":"#N/A"}},{"$f":"VLOOKUP(A977,'Chrono+Classement'!G:O,9,FALSE)","v":{"$error":"#N/A"}},{"$f":"IF(K977=17,Param!G977,IF(K977=28,Param!H977,IF(K977=45,Param!I977)))","v":"00:00:00"},{"$error":"#N/A"},null,1900,false,false]
[977,"-",null,null,null,null,115.40041067761807,null,null,null,17,{"$f":"VLOOKUP(A978,'Chrono+Classement'!G:O,5,FALSE)","v":{"$error":"#N/A"}},{"$f":"VLOOKUP(A978,'Chrono+Classement'!G:O,9,FALSE)","v":{"$error":"#N/A"}},{"$f":"IF(K978=17,Param!G978,IF(K978=28,Param!H978,IF(K978=45,Param!I978)))","v":"00:00:00"},{"$error":"#N/A"},null,1900,false,false]
[978,"-",null,null,null,null,115.40041067761807,null,null,null,17,{"$f":"VLOOKUP(A979,'Chrono+Classement'!G:O,5,FALSE)","v":{"$error":"#N/A"}},{"$f":"VLOOKUP(A979,'Chrono+Classement'!G:O,9,FALSE)","v":{"$error":"#N/A"}},{"$f":"IF(K979=17,Param!G979,IF(K979=28,Param!H979,IF(K979=45,Param!I979)))","v":"00:00:00"},{"$error":"#N/A"},null,1900,false,false]
[979,"-",null,null,null,null,115.40041067761807,null,null,null,17,{"$f":"VLOOKUP(A980,'Chrono+Classement'!G:O,5,FALSE)","v":{"$error":"#N/A"}},{"$f":"VLOOKUP(A980,'Chrono+Classement'!G:O,9,FALSE)","v":{"$error":"#N/A"}},{"$f":"IF(K980=17,Param!G980,IF(K980=28,Param!H980,IF(K980=45,Param!I980)))","v":"00:00:00"},{"$error":"#N/A"},null,1900,false,false]
[980,"-",null,null,null,null,115.40041067761807,null,null,null,17,{"$f":"VLOOKUP(A981,'Chrono+Classement'!G:O,5,FALSE)","v":{"$error":"#N/A"}},{"$f":"VLOOKUP(A981,'Chrono+Classement'!G:O,9,FALSE)","v":{"$error":"#N/A"}},{"$f":"IF(K981=17,Param!G981,IF(K981=28,Param!H981,IF(K981=45,Param!I981)))","v":"00:00:00"},{"$error":"#N/A"},null,1900,false,false]
[981,"-",null,null,null,null,115.40041067761807,null,null,null,17,{"$f":"VLOOKUP(A982,'Chrono+Classement'!G:O,5,FALSE)","v":{"$error":"#N/A"}},{"$f":"VLOOKUP(A982,'Chrono+Classement'!G:O,9,FALSE)","v":{"$error":"#N/A"}},{"$f":"IF(K982=17,Param!G982,IF(K982=28,Param!H982,IF(K982=45,Param!I982)))","v":"00:00:00"},{"$error":"#N/A"},null,1900,false,false]
[982,"-",null,null,null,null,115.40041067761807,null,null,null,17,{"$f":"VLOOKUP(A983,'Chrono+Classement'!G:O,5,FALSE)","v":{"$error":"#N/A"}},{"$f":"VLOOKUP(A983,'Chrono+Classement'!G:O,9,FALSE)","v":{"$error":"#N/A"}},{"$f":"IF(K983=17,Param!G983,IF(K983=28,Param!H983,IF(K983=45,Param!I983)))","v":"00:00:00"},{"$error":"#N/A"},null,1900,false,false]
[983,"-",null,null,null,null,115.40041067761807,null,null,null,17,{"$f":"VLOOKUP(A984,'Chrono+Classement'!G:O,5,FALSE)","v":{"$error":"#N/A"}},{"$f":"VLOOKUP(A984,'Chrono+Classement'!G:O,9,FALSE)","v":{"$error":"#N/A"}},{"$f":"IF(K984=17,Param!G984,IF(K984=28,Param!H984,IF(K984=45,Param!I984)))","v":"00:00:00"},{"$error":"#N/A"},null,1900,false,false]
[984,"-",null,null,null,null,115.40041067761807,null,null,null,17,{"$f":"VLOOKUP(A985,'Chrono+Classement'!G:O,5,FALSE)","v":{"$error":"#N/A"}},{"$f":"VLOOKUP(A985,'Chrono+Classement'!G:O,9,FALSE)","v":{"$error":"#N/A"}},{"$f":"IF(K985=17,Param!G985,IF(K985=28,Param!H985,IF(K985=45,Param!I985)))","v":"00:00:00"},{"$error":"#N/A"},null,1900,false,false]
[985,"-",null,null,null,null,115.40041067761807,null,null,null,17,{"$f":"VLOOKUP(A986,'Chrono+Classement'!G:O,5,FALSE)","v":{"$error":"#N/A"}},{"$f":"VLOOKUP(A986,'Chrono+Classement'!G:O,9,FALSE)","v":{"$error":"#N/A"}},{"$f":"IF(K986=17,Param!G986,IF(K986=28,Param!H986,IF(K986=45,Param!I986)))","v":"00:00:00"},{"$error":"#N/A"},null,1900,false,false]
[986,"-",null,null,null,null,115.40041067761807,null,null,null,17,{"$f":"VLOOKUP(A987,'Chrono+Classement'!G:O,5,FALSE)","v":{"$error":"#N/A"}},{"$f":"VLOOKUP(A987,'Chrono+Classement'!G:O,9,FALSE)","v":{"$error":"#N/A"}},{"$f":"IF(K987=17,Param!G987,IF(K987=28,Param!H987,IF(K987=45,Param!I987)))","v":"00:00:00"},{"$error":"#N/A"},null,1900,false,false]
[987,"-",null,null,null,null,115.40041067761807,null,null,null,17,{"$f":"VLOOKUP(A988,'Chrono+Classement'!G:O,5,FALSE)","v":{"$error":"#N/A"}},{"$f":"VLOOKUP(A988,'Chrono+Classement'!G:O,9,FALSE)","v":{"$error":"#N/A"}},{"$f":"IF(K988=17,Param!G988,IF(K988=28,Param!H988,IF(K988=45,Param!I988)))","v":"00:00:00"},{"$error":"#N/A"},null,1900,false,false]
[988,"-",null,null,null,null,115.40041067761807,null,null,null,17,{"$f":"VLOOKUP(A989,'Chrono+Classement'!G:O,5,FALSE)","v":{"$error":"#N/A"}},{"$f":"VLOOKUP(A989,'Chrono+Classement'!G:O,9,FALSE)","v":{"$error":"#N/A"}},{"$f":"IF(K989=17,Param!G989,IF(K989=28,Param!H989,IF(K989=45,Param!I989)))","v":"00:00:00"},{"$error":"#N/A"},null,1900,false,false]
[989,"-",null,null,null,null,115.40041067761807,null,null,null,17,{"$f":"VLOOKUP(A990,'Chrono+Classement'!G:O,5,FALSE)","v":{"$error":"#N/A"}},{"$f":"VLOOKUP(A990,'Chrono+Classement'!G:O,9,FALSE)","v":{"$error":"#N/A"}},{"$f":"IF(K990=17,Param!G990,IF(K990=28,Param!H990,IF(K990=45,Param!I990)))","v":"00:00:00"},{"$error":"#N/A"},null,1900,false,false]
[990,"-",null,null,null,null,115.40041067761807,null,null,null,17,{"$f":"VLOOKUP(A991,'Chrono+Classement'!G:O,5,FALSE)","v":{"$error":"#N/A"}},{"$f":"VLOOKUP(A991,'Chrono+Classement'!G:O,9,FALSE)","v":{"$error":"#N/A"}},{"$f":"IF(K991=17,Param!G991,IF(K991=28,Param!H991,IF(K991=45,Param!I991)))","v":"00:00:00"},{"$error":"#N/A"},null,1900,false,false]
[991,"-",null,null,null,null,115.40041067761807,null,null,null,17,{"$f":"VLOOKUP(A992,'Chrono+Classement'!G:O,5,FALSE)","v":{"$error":"#N/A"}},{"$f":"VLOOKUP(A992,'Chrono+Classement'!G:O,9,FALSE)","v":{"$error":"#N/A"}},{"$f":"IF(K992=17,Param!G992,IF(K992=28,Param!H992,IF(K992=45,Param!I992)))","v":"00:00:00"},{"$error":"#N/A"},null,1900,false,false]
[992,"-",null,null,null,null,115.40041067761807,null,null,null,17,{"$f":"VLOOKUP(A993,'Chrono+Classement'!G:O,5,FALSE)","v":{"$error":"#N/A"}},{"$f":"VLOOKUP(A993,'Chrono+Classement'!G:O,9,FALSE)","v":{"$error":"#N/A"}},{"$f":"IF(K993=17,Param!G993,IF(K993=28,Param!H993,IF(K993=45,Param!I993)))","v":"00:00:00"},{"$error":"#N/A"},null,1900,false,false]
[993,"-",null,null,null,null,115.40041067761807,null,null,null,17,{"$f":"VLOOKUP(A994,'Chrono+Classement'!G:O,5,FALSE)","v":{"$error":"#N/A"}},{"$f":"VLOOKUP(A994,'Chrono+Classement'!G:O,9,FALSE)","v":{"$error":"#N/A"}},{"$f":"IF(K994=17,Param!G994,IF(K994=28,Param!H994,IF(K994=45,Param!I994)))","v":"00:00:00"},{"$error":"#N/A"},null,1900,false,false]
[994,"-",null,null,null,null,115.40041067761807,null,null,null,17,{"$f":"VLOOKUP(A995,'Chrono+Classement'!G:O,5,FALSE)","v":{"$error":"#N/A"}},{"$f":"VLOOKUP(A995,'Chrono+Classement'!G:O,9,FALSE)","v":{"$error":"#N/A"}},{"$f":"IF(K995=17,Param!G995,IF(K995=28,Param!H995,IF(K995=45,Param!I995)))","v":"00:00:00"},{"$error":"#N/A"},null,1900,false,false]
[995,"-",null,null,null,null,115.40041067761807,null,null,null,17,{"$f":"VLOOKUP(A996,'Chrono+Classement'!G:O,5,FALSE)","v":{"$error":"#N/A"}},{"$f":"VLOOKUP(A996,'Chrono+Classement'!G:O,9,FALSE)","v":{"$error":"#N/A"}},{"$f":"IF(K996=17,Param!G996,IF(K996=28,Param!H996,IF(K996=45,Param!I996)))","v":"00:00:00"},{"$error":"#N/A"},null,1900,false,false]
[996,"-",null,null,null,null,115.40041067761807,null,null,null,17,{"$f":"VLOOKUP(A997,'Chrono+Classement'!G:O,5,FALSE)","v":{"$error":"#N/A"}},{"$f":"VLOOKUP(A997,'Chrono+Classement'!G:O,9,FALSE)","v":{"$error":"#N/A"}},{"$f":"IF(K997=17,Param!G997,IF(K997=28,Param!H997,IF(K997=45,Param!I997)))","v":"00:00:00"},{"$f":"M997-N997","v":{"$error":"#N/A"}},null,1900,false,false]
[997,"-",null,null,null,null,115.40041067761807,null,null,null,17,{"$f":"VLOOKUP(A998,'Chrono+Classement'!G:O,5,FALSE)","v":{"$error":"#N/A"}},{"$f":"VLOOKUP(A998,'Chrono+Classement'!G:O,9,FALSE)","v":{"$error":"#N/A"}},{"$f":"IF(K998=17,Param!G998,IF(K998=28,Param!H998,IF(K998=45,Param!I998)))","v":"00:00:00"},{"$error":"#N/A"},null,1900,false,false]
[998,"-",null,null,null,null,115.40041067761807,null,null,null,17,{"$f":"VLOOKUP(A999,'Chrono+Classement'!G:O,5,FALSE)","v":{"$error":"#N/A"}},{"$f":"VLOOKUP(A999,'Chrono+Classement'!G:O,9,FALSE)","v":{"$error":"#N/A"}},{"$f":"IF(K999=17,Param!G999,IF(K999=28,Param!H999,IF(K999=45,Param!I999)))","v":"00:00:00"},{"$error":"#N/A"},null,1900,false,false]
[999,"-",null,null,null,null,115.40041067761807,null,null,null,17,{"$f":"VLOOKUP(A1000,'Chrono+Classement'!G:O,5,FALSE)","v":{"$error":"#N/A"}},{"$f":"VLOOKUP(A1000,'Chrono+Classement'!G:O,9,FALSE)","v":{"$error":"#N/A"}},{"$f":"IF(K1000=17,Param!G1000,IF(K1000=28,Param!H1000,IF(K1000=45,Param!I1000)))","v":"00:00:00"},{"$error":"#N/A"},null,1900,false,false]

{"sheet":"45 Scratch","index":4,"n_rows":48,"n_cols":18,"rows_kept":48,"cut":false,"hidden":false,"merged":[]}
["Classement","Plaque","NOM","Prénom","Sexe","Age fin année","Club","Licence","Categorie","Circuit","Classement","Temps","Ecart Départ","Temps Réel",null,"Année","H","F"]
[1,1,"VASSAL","Thibaut","M",40.353182751540039,"UV Mazamet","FFC","Masters 3/4",45,11,"02:11:41","00:00:40","02:11:01",null,1975,"Masters 3/4",false]
[2,47,"BORN","Vivian","M",19.096509240246405,"VILLENEUVE Cycliste","FFC","Espoirs",45,13,"02:13:47","00:00:40","02:13:07",null,1996,"Espoirs",false]
[3,20,"FALOPPA","Christophe","M",33.555099247091036,"TOAC","FFC","Masters 1/2",45,14,"02:16:59","00:00:40","02:16:19",null,1981,"Masters 1/2",false]
[4,26,"COUSTILLERES","Christophe","M",43.446954140999317,"VC Castelmayran","UFOLEP","Masters 3/4",45,15,"02:19:11","00:00:40","02:18:31",null,1971,"Masters 3/4",false]
[5,15,"METRO","Alex","M",17.475701574264203,"VILLENEUVE Cycliste","FFC","Juniors",45,16,"02:20:41","00:00:40","02:20:01",null,1997,"Juniors",false]
[6,21,"RIVALS","Eric","M",32.019164955509922,"TOAC","FFC","Masters 1/2",45,17,"02:23:08","00:00:40","02:22:28",null,1983,"Masters 1/2",false]
[7,2,"PERUSIN","Benjamin","M",29.289527720739219,"UVAGG","FFC","Hommes",45,18,"02:23:43","00:00:40","02:23:03",null,1986,"Hommes",false]
[8,44,"MATHIEU","Sebastien","M",33.639972621492127,"VC Laissac","FFC","Masters 1/2",45,19,"02:25:57","00:00:40","02:25:17",null,1981,"Masters 1/2",false]
[9,11,"FOURNALES","Olivier","M",34.809034907597535,"CAC","FFC","Masters 1/2",45,20,"02:26:23","00:00:40","02:25:43",null,1980,"Masters 1/2",false]
[10,42,"JOULIE","Nicolas","M",41.451060917180016,"Muret","FFC","Masters 3/4",45,21,"02:27:52","00:00:40","02:27:12",null,1973,"Masters 3/4",false]
[11,17,"PECHBERRY","Laurent","M",45.308692676249144,"LOURDES VTT","FFC","Masters 3/4",45,22,"02:28:21","00:00:40","02:27:41",null,1970,"Masters 3/4",false]
[12,23,"SERRES","Benoit","M",44.520191649555102,"Velo Club Naucelle","UFOLEP","Masters 3/4",45,23,"02:28:31","00:00:40","02:27:51",null,1970,"Masters 3/4",false]
[13,34,"GAYRAL","Michael","M",22.740588637919235,"VSM","FFC","Hommes",45,24,"02:29:56","00:00:40","02:29:16",null,1992,"Hommes",false]
[14,39,"BARCELO","Thierry","M",52.084873374401099,"CPRS Pins Justaret","FSGT","Masters 5",45,25,"02:32:30","00:00:40","02:31:50",null,1963,"Masters 5",false]
[15,28,"FENASSE","Damien","M",20.542094455852155,"TOAC","FFC","Espoirs",45,26,"02:33:02","00:00:40","02:32:22",null,1994,"Espoirs",false]
[16,22,"ROUANET","Xavier","M",39.247091033538673,"Albi Velo Sport","FFC","Masters 1/2",45,27,"02:34:17","00:00:40","02:33:37",null,1976,"Masters 1/2",false]
[17,32,"DIAS SOEIRO","Eric","M",37.541409993155376,"Cahors Cyclisme","FFC","Masters 1/2",45,28,"02:34:32","00:00:40","02:33:52",null,1977,"Masters 1/2",false]
[18,38,"PAGES","Yves","M",47.616700889801507,"VTT Cornebarieu","NL","Masters 3/4",45,29,"02:34:47","00:00:40","02:34:07",null,1967,"Masters 3/4",false]
[19,40,"GAYRAUD","Cédric","M",32.177960301163587,"APC","UFOLEP","Masters 1/2",45,30,"02:35:53","00:00:40","02:35:13",null,1983,"Masters 1/2",false]
[20,14,"NADEAU","Frédéric","M",30.453114305270361,"CHEVREUILS VTT","FFC","Masters 1/2",45,31,"02:36:14","00:00:40","02:35:34",null,1984,"Masters 1/2",false]
[21,18,"DUPIN","Damien","M",21.722108145106091,"Guidons Quercynois","UFOLEP","Espoirs",45,32,"02:36:58","00:00:40","02:36:18",null,1993,"Espoirs",false]
[22,8,"REMY","Julien","M",30.151950718685832,"CA Castelsarasin","FFC","Masters 1/2",45,33,"02:37:01","00:00:40","02:36:21",null,1985,"Masters 1/2",false]
[23,6,"DELFINO","Benjamin","M",24.073921971252567,"Vélo Club  Moyenne Durance","FFC","Hommes",45,34,"02:39:56","00:00:40","02:39:16",null,1991,"Hommes",false]
[24,13,"BLOT","Jean-Baptiste","M",30.921286789869953,"VTT Cornebarieu","NL","Masters 1/2",45,35,"02:44:45","00:00:40","02:44:05",null,1984,"Masters 1/2",false]
[25,43,"SIGOT","François","M",50.767967145790557,"Muret","FFC","Masters 5",45,36,"02:44:53","00:00:40","02:44:13",null,1964,"Masters 5",false]
[26,9,"RAMOUSSE","Arnaud","M",42.822724161533195,"CPRS Pins Justaret","FSGT","Masters 3/4",45,37,"02:51:06","00:00:40","02:50:26",null,1972,"Masters 3/4",false]
[27,27,"FENASSE","Frederic","M",50.455852156057496,"TOAC","FFC","Masters 5",45,38,"02:51:16","00:00:40","02:50:36",null,1964,"Masters 5",false]
[28,16,"VILA","Sébastien","M",33.691991786447637,"TOAC","FFC","Masters 1/2",45,39,"02:52:28","00:00:40","02:51:48",null,1981,"Masters 1/2",false]
[29,12,"PERRIE","Mathieu","M",28.05201916495551,"TOAC","FSGT","Hommes",45,41,"03:05:32","00:00:40","03:04:52",null,1987,"Hommes",false]
[30,30,"GINESTE","Antony","M",23.950718685831621,"VC Montauban","FFC","Hommes",45,42,"03:12:48","00:00:40","03:12:08",null,1991,"Hommes",false]
[31,3,"TAILLEFER","Loïc","M",24.459958932238195,"TOAC","FFC","Hommes",45,44,"03:14:25","00:00:40","03:13:45",null,1990,"Hommes",false]
[32,10,"XIMENES","Thibaut","M",26.521560574948666,null,"NL","Hommes",45,45,"03:14:50","00:00:40","03:14:10",null,1988,"Hommes",false]
[33,37,"CARTRON","Jacques","M",47.88227241615332,"Maillons Libres","NL","Masters 3/4",45,46,"03:15:54","00:00:40","03:15:14",null,1967,"Masters 3/4",false]
[34,45,"SIRGUE","Jérome","M",42.119096509240244,"VC Laissac","FFC","Masters 3/4",45,47,"03:19:02","00:00:40","03:18:22",null,1973,"Masters 3/4",false]
[35,33,"VIGROOX","Gaetan","M",28.016427104722794,"VTT Evasion","FFC","Hommes",45,48,"03:19:11","00:00:40","03:18:31",null,1987,"Hommes",false]
[36,29,"LARRIPA","Bruno","M",49.464750171115675,"JURANCON","UFOLEP","Masters 5",45,49,"03:22:24","00:00:40","03:21:44",null,1965,"Masters 5",false]
[37,7,"PETIT","François","M",57.894592744695416,"Les Renardeaux du bas Quercy","FFCT","Masters 5",45,50,"03:23:07","00:00:40","03:22:27",null,1957,"Masters 5",false]
[38,4,"LAPEYRE","Martin","M",30.532511978097194,"TOAC","FSGT","Masters 1/2",45,51,"03:23:41","00:00:40","03:23:01",null,1984,"Masters 1/2",false]
[39,5,"PENDERIES","Frédéric","M",39.400410677618069,"Team Racing Stephanois","NL","Masters 3/4",45,52,"03:27:23","00:00:40","03:26:43",null,1975,"Masters 3/4",false]
[40,36,"RALECHE","Jean-Michel","M",44.087611225188226,null,"NL","Masters 3/4",45,53,"03:31:07","00:00:40","03:30:27",null,1971,"Masters 3/4",false]
[41,19,"MONCASSIN","Jonathan","M",30.715947980835043,"Tarbes Pyrennées Cuyclisme","FSGT","Masters 1/2",45,54,"03:33:39","00:00:40","03:32:59",null,1984,"Masters 1/2",false]
[42,46,"JOUVE","Dominique","M",53.746748802190282,null,"NL","Masters 5",45,55,"03:35:57","00:00:40","03:35:17",null,1961,"Masters 5",false]
[43,41,"NICE","Stephane","M",34.047912388774812,null,"NL","Masters 1/2",45,56,"03:45:41","00:00:40","03:45:01",null,1981,"Masters 1/2",false]
[44,24,"TACHON","Bruno","M",48.167008898015055,"Vélo Club Villefranchois","FSGT","Masters 3/4",45,57,"03:53:11","00:00:40","03:52:31",null,1967,"Masters 3/4",false]
[45,25,"AUMAGY","Nicolas","M",30.299794661190965,null,"NL","Masters 1/2",45,"ABD","ABD","00:00:40","ABD",null,1985,"Masters 1/2",false]
[46,31,"ROCHE","Damien","M",34.450376454483234,"Cahors Cyclisme","FFC","Masters 1/2",45,"ABD","ABD","00:00:40","ABD",null,1980,"Masters 1/2",false]
[47,35,"BARBANSON","Xavier","M",35.657768651608485,"TOAC","FSGT","Masters 1/2",45,"ABD","ABD","00:00:40","ABD",null,1979,"Masters 1/2",false]

{"sheet":"45 Espoirs","index":5,"n_rows":4,"n_cols":18,"rows_kept":4,"cut":false,"hidden":false,"merged":[]}
["Classement","Plaque","NOM","Prénom","Sexe","Age fin année","Club","Licence","Categorie","Circuit","Classement","Temps","Ecart Départ","Temps Réel",null,"Année","H","F"]
[1,47,"BORN","Vivian","M",19.096509240246405,"VILLENEUVE Cycliste","FFC","Espoirs",45,13,"02:13:47","00:00:40","02:13:07",null,1996,"Espoirs",false]
[2,28,"FENASSE","Damien","M",20.542094455852155,"TOAC","FFC","Espoirs",45,26,"02:33:02","00:00:40","02:32:22",null,1994,"Espoirs",false]
[3,18,"DUPIN","Damien","M",21.722108145106091,"Guidons Quercynois","UFOLEP","Espoirs",45,32,"02:36:58","00:00:40","02:36:18",null,1993,"Espoirs",false]

{"sheet":"45 Hommes","index":6,"n_rows":9,"n_cols":18,"rows_kept":9,"cut":false,"hidden":false,"merged":[]}
["Classement","Plaque","NOM","Prénom","Sexe","Age fin année","Club","Licence","Categorie","Circuit","Classement","Temps","Ecart Départ","Temps Réel",null,"Année","H","F"]
[1,2,"PERUSIN","Benjamin","M",29.289527720739219,"UVAGG","FFC","Hommes",45,18,"02:23:43","00:00:40","02:23:03",null,1986,"Hommes",false]
[2,34,"GAYRAL","Michael","M",22.740588637919235,"VSM","FFC","Hommes",45,24,"02:29:56","00:00:40","02:29:16",null,1992,"Hommes",false]
[3,6,"DELFINO","Benjamin","M",24.073921971252567,"Vélo Club  Moyenne Durance","FFC","Hommes",45,34,"02:39:56","00:00:40","02:39:16",null,1991,"Hommes",false]
[4,12,"PERRIE","Mathieu","M",28.05201916495551,"TOAC","FSGT","Hommes",45,41,"03:05:32","00:00:40","03:04:52",null,1987,"Hommes",false]
[5,30,"GINESTE","Antony","M",23.950718685831621,"VC Montauban","FFC","Hommes",45,42,"03:12:48","00:00:40","03:12:08",null,1991,"Hommes",false]
[6,3,"TAILLEFER","Loïc","M",24.459958932238195,"TOAC","FFC","Hommes",45,44,"03:14:25","00:00:40","03:13:45",null,1990,"Hommes",false]
[7,10,"XIMENES","Thibaut","M",26.521560574948666,null,"NL","Hommes",45,45,"03:14:50","00:00:40","03:14:10",null,1988,"Hommes",false]
[8,33,"VIGROOX","Gaetan","M",28.016427104722794,"VTT Evasion","FFC","Hommes",45,48,"03:19:11","00:00:40","03:18:31",null,1987,"Hommes",false]

{"sheet":"45 Juniors","index":7,"n_rows":2,"n_cols":18,"rows_kept":2,"cut":false,"hidden":false,"merged":[]}
["Classement","Plaque","NOM","Prénom","Sexe","Age fin année","Club","Licence","Categorie","Circuit","Classement","Temps","Ecart Départ","Temps Réel",null,"Année","H","F"]
[1,15,"METRO","Alex","M",17.475701574264203,"VILLENEUVE Cycliste","FFC","Juniors",45,16,"02:20:41","00:00:40","02:20:01",null,1997,"Juniors",false]

{"sheet":"45 Masters1-2","index":8,"n_rows":18,"n_cols":18,"rows_kept":18,"cut":false,"hidden":false,"merged":[]}
["Classement","Plaque","NOM","Prénom","Sexe","Age fin année","Club","Licence","Categorie","Circuit","Classement","Temps","Ecart Départ","Temps Réel",null,"Année","H","F"]
[1,20,"FALOPPA","Christophe","M",33.555099247091036,"TOAC","FFC","Masters 1/2",45,14,"02:16:59","00:00:40","02:16:19",null,1981,"Masters 1/2",false]
[2,21,"RIVALS","Eric","M",32.019164955509922,"TOAC","FFC","Masters 1/2",45,17,"02:23:08","00:00:40","02:22:28",null,1983,"Masters 1/2",false]
[3,44,"MATHIEU","Sebastien","M",33.639972621492127,"VC Laissac","FFC","Masters 1/2",45,19,"02:25:57","00:00:40","02:25:17",null,1981,"Masters 1/2",false]
[4,11,"FOURNALES","Olivier","M",34.809034907597535,"CAC","FFC","Masters 1/2",45,20,"02:26:23","00:00:40","02:25:43",null,1980,"Masters 1/2",false]
[5,22,"ROUANET","Xavier","M",39.247091033538673,"Albi Velo Sport","FFC","Masters 1/2",45,27,"02:34:17","00:00:40","02:33:37",null,1976,"Masters 1/2",false]
[6,32,"DIAS SOEIRO","Eric","M",37.541409993155376,"Cahors Cyclisme","FFC","Masters 1/2",45,28,"02:34:32","00:00:40","02:33:52",null,1977,"Masters 1/2",false]
[7,40,"GAYRAUD","Cédric","M",32.177960301163587,"APC","UFOLEP","Masters 1/2",45,30,"02:35:53","00:00:40","02:35:13",null,1983,"Masters 1/2",false]
[8,14,"NADEAU","Frédéric","M",30.453114305270361,"CHEVREUILS VTT","FFC","Masters 1/2",45,31,"02:36:14","00:00:40","02:35:34",null,1984,"Masters 1/2",false]
[9,8,"REMY","Julien","M",30.151950718685832,"CA Castelsarasin","FFC","Masters 1/2",45,33,"02:37:01","00:00:40","02:36:21",null,1985,"Masters 1/2",false]
[10,13,"BLOT","Jean-Baptiste","M",30.921286789869953,"VTT Cornebarieu","NL","Masters 1/2",45,35,"02:44:45","00:00:40","02:44:05",null,1984,"Masters 1/2",false]
[11,16,"VILA","Sébastien","M",33.691991786447637,"TOAC","FFC","Masters 1/2",45,39,"02:52:28","00:00:40","02:51:48",null,1981,"Masters 1/2",false]
[12,4,"LAPEYRE","Martin","M",30.532511978097194,"TOAC","FSGT","Masters 1/2",45,51,"03:23:41","00:00:40","03:23:01",null,1984,"Masters 1/2",false]
[13,19,"MONCASSIN","Jonathan","M",30.715947980835043,"Tarbes Pyrennées Cuyclisme","FSGT","Masters 1/2",45,54,"03:33:39","00:00:40","03:32:59",null,1984,"Masters 1/2",false]
[14,41,"NICE","Stephane","M",34.047912388774812,null,"NL","Masters 1/2",45,56,"03:45:41","00:00:40","03:45:01",null,1981,"Masters 1/2",false]
[15,25,"AUMAGY","Nicolas","M",30.299794661190965,null,"NL","Masters 1/2",45,"ABD","ABD","00:00:40","ABD",null,1985,"Masters 1/2",false]
[16,31,"ROCHE","Damien","M",34.450376454483234,"Cahors Cyclisme","FFC","Masters 1/2",45,"ABD","ABD","00:00:40","ABD",null,1980,"Masters 1/2",false]
[17,35,"BARBANSON","Xavier","M",35.657768651608485,"TOAC","FFC","Masters 1/2",45,"ABD","ABD","00:00:40","ABD",null,1979,"Masters 1/2",false]

{"sheet":"45 Master3-4","index":9,"n_rows":13,"n_cols":18,"rows_kept":13,"cut":false,"hidden":false,"merged":[]}
["Classement","Plaque","NOM","Prénom","Sexe","Age fin année","Club","Licence","Categorie","Circuit","Classement","Temps","Ecart Départ","Temps Réel",null,"Année","H","F"]
[1,1,"VASSAL","Thibaut","M",40.353182751540039,"UV Mazamet","FFC","Masters 3/4",45,11,"02:11:41","00:00:40","02:11:01",null,1975,"Masters 3/4",false]
[2,26,"COUSTILLERES","Christophe","M",43.446954140999317,"VC Castelmayran","UFOLEP","Masters 3/4",45,15,"02:19:11","00:00:40","02:18:31",null,1971,"Masters 3/4",false]
[3,42,"JOULIE","Nicolas","M",41.451060917180016,"Muret","FFC","Masters 3/4",45,21,"02:27:52","00:00:40","02:27:12",null,1973,"Masters 3/4",false]
[4,17,"PECHBERRY","Laurent","M",45.308692676249144,"LOURDES VTT","FFC","Masters 3/4",45,22,"02:28:21","00:00:40","02:27:41",null,1970,"Masters 3/4",false]
[5,23,"SERRES","Benoit","M",44.520191649555102,"Velo Club Naucelle","UFOLEP","Masters 3/4",45,23,"02:28:31","00:00:40","02:27:51",null,1970,"Masters 3/4",false]
[6,38,"PAGES","Yves","M",47.616700889801507,"VTT Cornebarieu","NL","Masters 3/4",45,29,"02:34:47","00:00:40","02:34:07",null,1967,"Masters 3/4",false]
[7,9,"RAMOUSSE","Arnaud","M",42.822724161533195,"CPRS Pins Justaret","FSGT","Masters 3/4",45,37,"02:51:06","00:00:40","02:50:26",null,1972,"Masters 3/4",false]
[8,37,"CARTRON","Jacques","M",47.88227241615332,"Maillons Libres","NL","Masters 3/4",45,46,"03:15:54","00:00:40","03:15:14",null,1967,"Masters 3/4",false]
[9,45,"SIRGUE","Jérome","M",42.119096509240244,"VC Laissac","FFC","Masters 3/4",45,47,"03:19:02","00:00:40","03:18:22",null,1973,"Masters 3/4",false]
[10,5,"PENDERIES","Frédéric","M",39.400410677618069,"Team Racing Stephanois","NL","Masters 3/4",45,52,"03:27:23","00:00:40","03:26:43",null,1975,"Masters 3/4",false]
[11,36,"RALECHE","Jean-Michel","M",44.087611225188226,null,"NL","Masters 3/4",45,53,"03:31:07","00:00:40","03:30:27",null,1971,"Masters 3/4",false]
[12,24,"TACHON","Bruno","M",48.167008898015055,"Vélo Club Villefranchois","FSGT","Masters 3/4",45,57,"03:53:11","00:00:40","03:52:31",null,1967,"Masters 3/4",false]

{"sheet":"45 Master5","index":10,"n_rows":7,"n_cols":18,"rows_kept":7,"cut":false,"hidden":false,"merged":[]}
["Classement","Plaque","NOM","Prénom","Sexe","Age fin année","Club","Licence","Categorie","Circuit","Classement","Temps","Ecart Départ","Temps Réel",null,"Année","H","F"]
[1,39,"BARCELO","Thierry","M",52.084873374401099,"CPRS Pins Justaret","FSGT","Masters 5",45,25,"02:32:30","00:00:40","02:31:50",null,1963,"Masters 5",false]
[2,43,"SIGOT","François","M",50.767967145790557,"Muret","FFC","Masters 5",45,36,"02:44:53","00:00:40","02:44:13",null,1964,"Masters 5",false]
[3,27,"FENASSE","Frederic","M",50.455852156057496,"TOAC","FFC","Masters 5",45,38,"02:51:16","00:00:40","02:50:36",null,1964,"Masters 5",false]
[4,29,"LARRIPA","Bruno","M",49.464750171115675,"JURANCON","UFOLEP","Masters 5",45,49,"03:22:24","00:00:40","03:21:44",null,1965,"Masters 5",false]
[5,7,"PETIT","François","M",57.894592744695416,"Les Renardeaux du bas Quercy","FFCT","Masters 5",45,50,"03:23:07","00:00:40","03:22:27",null,1957,"Masters 5",false]
[6,46,"JOUVE","Dominique","M",53.746748802190282,null,"NL","Masters 5",45,55,"03:35:57","00:00:40","03:35:17",null,1961,"Masters 5",false]

{"sheet":"28 Scratch","index":11,"n_rows":14,"n_cols":18,"rows_kept":14,"cut":false,"hidden":false,"merged":[]}
["Classement","Plaque","NOM","Prénom","Sexe","Age fin année","Club","Licence","Categorie","Circuit","Classement","Temps","Ecart Départ","Temps Réel",null,"Année","H","F"]
[1,403,"BIBET","Laurent","M",42.502395619438744,"ALBI Velo Sport","FFC","Masters 3/4",28,1,"01:26:55","00:00:42","01:26:13",null,1972,"Masters 3/4",false]
[2,407,"PASQUET","Daniel","M",50.732375085557834,"Les ZACCROS","FFC","Masters 5",28,2,"01:28:32","00:00:42","01:27:50",null,1964,"Masters 5",false]
[3,402,"CONFOLENS","Eric","M",43.123887748117724,"CHEVREUILS VTT","FFC","Masters 3/4",28,3,"01:31:55","00:00:42","01:31:13",null,1972,"Masters 3/4",false]
[4,413,"DELAHAYE","Fabrice","M",39.583846680355919,"VCRO","FSGT","Masters 3/4",28,4,"01:31:57","00:00:42","01:31:15",null,1975,"Masters 3/4",false]
[5,411,"LIABAT","Stéphane","M",41.932922655715267,"VC Graulhet","FFC","Masters 3/4",28,5,"01:41:04","00:00:42","01:40:22",null,1973,"Masters 3/4",false]
[6,408,"COSTES","Joel","M",49.995893223819301,"Marssac Aventure","FFC","Masters 5",28,6,"01:43:05","00:00:42","01:42:23",null,1965,"Masters 5",false]
[7,410,"CUBURY","Thierry","M",49.445585215605746,"TOAC","FFC","Masters 5",28,7,"01:49:06","00:00:42","01:48:24",null,1965,"Masters 5",false]
[8,409,"TEYSSIER","Eric","M",47.696098562628336,null,"NL","Masters 3/4",28,8,"01:50:53","00:00:42","01:50:11",null,1967,"Masters 3/4",false]
[9,406,"FAGEDET","Pascal","M",49.735797399041751,"CASTELNAU Cyclo  Club","FSGT","Masters 5",28,9,"01:53:18","00:00:42","01:52:36",null,1965,"Masters 5",false]
[10,400,"SANCHEZ","Mathias","M",17.43189596167009,"US Fronton","FFC","Juniors",28,10,"02:07:38","00:00:42","02:06:56",null,1997,"Juniors",false]
[11,401,"CHAUVET","Clara","F",26.250513347022586,null,"NL","Dames",28,12,"02:11:47","00:00:42","02:11:05",null,1989,false,"Dames"]
[12,412,"TURON","David","M",41.043121149897331,null,"NL","Masters 3/4",28,40,"03:03:34","00:00:42","03:02:52",null,1974,"Masters 3/4",false]
[13,404,"SIRVEN","Patrick","M",51.455167693360714,null,"NL","Masters 5",28,43,"03:14:19","00:00:42","03:13:37",null,1963,"Masters 5",false]

{"sheet":"28 Juniors","index":12,"n_rows":2,"n_cols":18,"rows_kept":2,"cut":false,"hidden":false,"merged":[]}
["Classement","Plaque","NOM","Prénom","Sexe","Age fin année","Club","Licence","Categorie","Circuit","Classement","Temps","Ecart Départ","Temps Réel",null,"Année","H","F"]
[1,400,"SANCHEZ","Mathias","M",17.43189596167009,"US Fronton","FFC","Juniors",28,10,"02:07:38","00:00:42","02:06:56",null,1997,"Juniors",false]

{"sheet":"28 Dames","index":13,"n_rows":2,"n_cols":18,"rows_kept":2,"cut":false,"hidden":false,"merged":[]}
["Classement","Plaque","NOM","Prénom","Sexe","Age fin année","Club","Licence","Categorie","Circuit","Classement","Temps","Ecart Départ","Temps Réel",null,"Année","H","F"]
[1,401,"CHAUVET","Clara","F",26.250513347022586,null,"NL","Dames",28,12,"02:11:47","00:00:42","02:11:05",null,1989,false,"Dames"]

{"sheet":"28 Masters3-4","index":14,"n_rows":7,"n_cols":17,"rows_kept":7,"cut":false,"hidden":false,"merged":[]}
["Classement","Plaque","NOM","Prénom","Sexe","Club","Licence","Categorie","Circuit","Classement","Temps","Ecart Départ","Temps Réel",null,"Année","H","F"]
[1,403,"BIBET","Laurent","M","ALBI Velo Sport","FFC","Masters 3/4",28,1,"01:26:55","00:00:42","01:26:13",null,1972,"Masters 3/4",false]
[2,402,"CONFOLENS","Eric","M","CHEVREUILS VTT","FFC","Masters 3/4",28,3,"01:31:55","00:00:42","01:31:13",null,1972,"Masters 3/4",false]
[3,413,"DELAHAYE","Fabrice","M","VCRO","FSGT","Masters 3/4",28,4,"01:31:57","00:00:42","01:31:15",null,1975,"Masters 3/4",false]
[4,411,"LIABAT","Stéphane","M","VC Graulhet","FFC","Masters 3/4",28,5,"01:41:04","00:00:42","01:40:22",null,1973,"Masters 3/4",false]
[5,409,"TEYSSIER","Eric","M",null,"NL","Masters 3/4",28,8,"01:50:53","00:00:42","01:50:11",null,1967,"Masters 3/4",false]
[6,412,"TURON","David","M",null,"NL","Masters 3/4",28,40,"03:03:34","00:00:42","03:02:52",null,1974,"Masters 3/4",false]

{"sheet":"28 Masters5","index":15,"n_rows":6,"n_cols":18,"rows_kept":6,"cut":false,"hidden":false,"merged":[]}
["Classement","Plaque","NOM","Prénom","Sexe","Age fin année","Club","Licence","Categorie","Circuit","Classement","Temps","Ecart Départ","Temps Réel",null,"Année","H","F"]
[1,407,"PASQUET","Daniel","M",50.732375085557834,"Les ZACCROS","FFC","Masters 5",28,2,"01:28:32","00:00:42","01:27:50",null,1964,"Masters 5",false]
[2,408,"COSTES","Joel","M",49.995893223819301,"Marssac Aventure","FFC","Masters 5",28,6,"01:43:05","00:00:42","01:42:23",null,1965,"Masters 5",false]
[3,410,"CUBURY","Thierry","M",49.445585215605746,"TOAC","FFC","Masters 5",28,7,"01:49:06","00:00:42","01:48:24",null,1965,"Masters 5",false]
[4,406,"FAGEDET","Pascal","M",49.735797399041751,"CASTELNAU Cyclo  Club","FSGT","Masters 5",28,9,"01:53:18","00:00:42","01:52:36",null,1965,"Masters 5",false]
[5,404,"SIRVEN","Patrick","M",51.455167693360714,null,"NL","Masters 5",28,43,"03:14:19","00:00:42","03:13:37",null,1963,"Masters 5",false]